{"text_format":"1","workbook":"xlsx","n_sheets":12,"sheets":["HOME","GETTING STARTED","BUILD ASSESSMENT","DATA COLLECTION","FULL ASSESSMENT","CRITICAL ROLES SUMMARY","CENTRAL DATA","CENTRAL ANALYSIS","DHRM ADMIN","IMPORTED DATA","TRANSFORMED DATA","DATA EXPORT"],"not_rendered":{"charts":4,"images":36,"macros":1,"external_links":0,"defined_names":21,"comments":0,"pivot_tables":0},"unopened":[],"bounds":{"document_bytes":16777216,"sheet_cells":100000,"rows_first":2000,"rows_last":500,"rows_between":2000,"halvings":0,"cell_chars":16384,"cell_head_chars":4096},"cells_cut":0,"cells_raw":0,"read":"whole","date_system":"1900"}

{"sheet":"HOME","index":0,"n_rows":38,"n_cols":30,"rows_kept":38,"cut":false,"hidden":false,"merged":[[37,4,37,19],[0,24,3,27],[32,2,34,4],[23,1,31,4],[23,7,34,10],[23,13,34,16],[23,19,34,22],[10,10,11,21],[12,15,12,21],[15,7,15,10],[15,13,15,16],[19,1,21,4],[19,7,21,10],[19,13,21,16],[19,19,21,22],[4,25,5,27]]}
[null,null,null,null,null,null,null,null,null,null,null,null,null,null,null,null,null,null,null,null,null,null,null,null,"DHRM ADMIN"]
[]
[]
[]
[null,null,null,null,null,null,null,null,null,null,null,null,null,null,null,null,null,null,null,null,null,null,null,null,null,{"$f":"AD6","v":"LOCKED"}]
[null,null,null,null,null,null,null,null,null,null,null,null,null,null,null,null,null,null,null,null,null,null,null,null,null,null,null,null,null,"LOCKED"]
[]
[]
[]
[]
[null,null,null,null,null,null,null,null,null,null,{"$f":"IF('BUILD ASSESSMENT'!J22=\"\",\"\",'BUILD ASSESSMENT'!J22)","v":""}]
[]
[null,null,null,null,null,null,null,null,null,null,null,null,null,null,null,{"$f":"IF(K11=\"\",\"\",CONCATENATE(\"Fiscal Year: \",'DHRM ADMIN'!P15))","v":""}]
[]
[]
[null,null,null,null,null,null,null,"STEP % COMPLETION",null,null,null,null,null,"STEP % COMPLETION"]
[]
[]
[]
[null,"GETTING STARTED",null,null,null,null,null,"BUILD THE ASSESSMENT",null,null,null,null,null,"ASSESSMENT DATA COLLECTION",null,null,null,null,null,"CRITICAL ROLES SUMMARY"]
[]
[]
[]
[null,"It is highly recommended first time users start here. \n\n\n reviews important features, setup, and instructions for using this tool to its full potential. \n\n\n",null,null,null,null,null,"\nidentifies agency information, specific questions to be included in the assessment for varying areas of criticality, and the assessment parameters for identifying criticality.\n\nCustom questions and parameters can also be identified on the build assessment tab.\n",null,null,null,null,null,"\nprovides instructions for two pathways to collect data: either individually or from others. The tab identifies which positions are assessed and serves as a tracker if data is collected for others. \n\n\nThe Full Assessment tab is the assessment that is used to either enter data or be shared with others. \n\n",null,null,null,null,null,"\nprovides a brief workforce insights summary of the critical roles assessments, with options to filter by position.\n\nAdditional custom filters can be identified on the Data Collection tab to further filter assessment data, to include internal departments, locations, EEO code, or employee classifications. "]
[]
[]
[]
[]
[]
[]
[]
[]
[null,null,"Users can also import data from other tools on the Getting Started Tab."]
[]
[]
[]
[]
[null,null,null,null,"For questions using this tool, please contact DHRM Workforce Planning at dhrm.wfp@dhrm.virginia.gov.",null,null,null,null,null,null,null,null,null,null,null,null,null,null,null,null,null,"Version 2023.2"]

{"sheet":"GETTING STARTED","index":1,"n_rows":158,"n_cols":16,"rows_kept":158,"cut":false,"hidden":false,"merged":[[39,1,40,15],[5,2,7,14],[8,2,11,14],[12,1,13,15],[14,1,16,15],[37,1,38,15],[63,5,68,13],[70,5,78,13],[91,1,92,15],[93,1,95,15],[42,3,47,7],[42,11,47,15],[49,3,54,7],[49,11,54,15],[56,3,61,7],[56,11,61,15],[80,5,88,13],[104,1,105,15],[106,1,110,15],[121,1,122,15],[123,1,124,15],[119,10,119,15],[120,1,120,9],[120,10,120,14],[134,10,134,15],[135,1,135,9],[135,10,135,14],[156,10,156,15],[157,1,157,9],[157,10,157,14],[145,10,145,15],[146,1,146,9],[146,10,146,14]]}
[]
[]
[]
[]
[]
[null,null,"GETTING STARTED"]
[]
[]
[null,null,"This tab reviews key features of this tool and steps required in order to utilize all features. Taking the time to review each section will significantly enhance your understanding of the design and your ability to use the tool efficiently.\nIt is highly recommended first time users review this tab."]
[]
[]
[]
[null,"Step 1: Review Overall Setup"]
[]
[null,"To use this tool, it is recommended to follow the tabs in order from left to right, completing each step in order. For each step, instructions are included underneath. Some steps also provide sub-steps with additional instructions. Information required to be entered is noted by a yellow color and labeled either to the left or above the cell."]
[]
[]
[]
[]
[]
[]
[]
[]
[]
[]
[]
[]
[]
[]
[]
[]
[]
[]
[]
[]
[]
[]
[null,"Step 2: Review Important Features of This Tool"]
[]
[null,"This tool utilizes various features to assist with entering and interpreting workforce information. Below are descriptions of the tool's key features and design. "]
[]
[]
[null,null,null,"USE OF EXCEL MACROS\nThis tool utilizes a series of excel macros, which are custom actions used to automate specific tasks. This tool performs best when using Excel 2016 or later.  \nNOTE: MACROS MUST BE ENABLED TO USE THEM. SEE BELOW TO LEARN HOW.",null,null,null,null,null,null,null,"EASY FILE NAVIGATION\nEach excel worksheet, or tab, houses related information which is compiled together into a single report. Links to each are frozen at the top of each tab. See the HOME tab for descriptions of each."]
[]
[]
[]
[]
[]
[]
[null,null,null,"COLOR GUIDED DATA ENTRY\nColors are used to identify what data should be entered and where. Yellow indicates required information, Green indicates optional information, and Gray indicates information that is not required",null,null,null,null,null,null,null,"BUILT-IN HELP FEATURE\nThis tool has a built-in help feature, noted by a question mark in a blue circle. Simply click on the question mark to gain additional information, definitions, and steps to complete each section. (NOTE: Cannot edit template while a help box is open)"]
[]
[]
[]
[]
[]
[]
[null,null,null,"PROGRESS INDICATORS\nThe home tab shows the overall progress for each stage of developing this tool. Each tab also has indicators for each specific step to show if they are complete or incomplete. ",null,null,null,null,null,null,null,"ONLINE INSTRUCTIONS\nA full step by step guide and data definitions can be found on the DHRM Workforce Planning website. "]
[]
[]
[]
[]
[]
[]
[null,null,null,null,null,"ADVANCED FEATURE: DATA IMPORT\nThis template is part of an suite of integrated workforce planning and development tools. Using these tools allows for information to easily be imported from one tool to the next. Data cannot be imported unless using a specific template, provided by DHRM upon request.\n MACROS MUST BE ENABLED TO UTILIZE THIS FEATURE."]
[]
[]
[]
[]
[]
[]
[null,null,null,null,null,"TOOL VERSIONS\nAs we continue to enhance this tool, integrate it with other elements of workforce planning and development, or as changes to any mandates or guidance occurs, new versions of this tool may be released. The version number is located on the home tab in the bottom right corner. \n\nIt is important to be using the most up to date version, which will be noted on the DHRM Workforce Planning Website. As new versions are released, the prior version data can be imported so that no progress is lost."]
[]
[]
[]
[]
[]
[]
[]
[]
[]
[null,null,null,null,null,"INCREASING LEVELS OF ANALYSIS\nTo better assist with navigating the landscape of workforce planning and development, the suite of integrated tools and templates provide indicators for three levels of analysis: foundational, in-depth, and comprehensive. These levels are used to better identify why information is collected and how it can be used throughout the tools and templates.\n\nAll foundational level elements are required and both the in-depth and comprehensive elements are highly encouraged, but optional."]
[]
[]
[]
[]
[]
[]
[]
[]
[]
[]
[null,"Step 3: Enable Macros to Utilize Full Functionality"]
[]
[null,"When first opening the file, or anytime the filename changes, you will see a \"Security Warning\" at the top (shown in the picture below) indicating Macros have been disabled. Click the \"Enable Content\" button to enable macros for the file."]
[]
[]
[]
[]
[]
[]
[]
[]
[]
[]
[null,"(Optional) Step 4: Import Data from a Previous Version of the Identifying Critical Roles Tool"]
[]
[null,"If using the Identifying Critical Roles Tool for the first time or using the current version, this step can be skipped. For efficiency and integration, data from prior versions of the Identifying Critical Roles Tool can be imported. Imported data will automatically enter the information into the respective cells. Agencies are encouraged to still review the data for accuracy. Complete this step first to ensure no progress is lost. Importing data from other sources before a prior version of the Identifying Critical Roles Tool may result in data being overwritten."]
[]
[]
[]
[]
[]
[]
[]
[]
[]
[]
[]
[]
[null,"Last Uploaded Date and Time",null,null,null,null,null,null,null,null,"Upload Status"]
[null,null,null,null,null,null,null,null,null,null,null,null,null,null,null,{"$f":"IF(K121=\"upload complete\",3,IF(K121=\"pending\",0,IF(K121=\"upload incomplete\",-1,\"\")))","v":""}]
[null,"(Optional) Step 5: Import Data from Other Sources"]
[]
[null,"For efficiency and integration, data from other workforce planning and development tools or templates can be imported. Imported data will automatically enter the information into the respective cells. Agencies are encouraged to still review the data for accuracy."]
[]
[]
[]
[]
[]
[]
[]
[]
[]
[]
[null,"Last Uploaded Date and Time",null,null,null,null,null,null,null,null,"Upload Status"]
[null,null,null,null,null,null,null,null,null,null,null,null,null,null,null,{"$f":"IF(K136=\"upload complete\",3,IF(K136=\"pending\",0,IF(K136=\"upload incomplete\",-1,\"\")))","v":""}]
[]
[]
[]
[]
[]
[]
[]
[]
[]
[null,"Last Uploaded Date and Time",null,null,null,null,null,null,null,null,"Upload Status"]
[null,null,null,null,null,null,null,null,null,null,null,null,null,null,null,{"$f":"IF(K147=\"upload complete\",3,IF(K147=\"pending\",0,IF(K147=\"upload incomplete\",-1,\"\")))","v":""}]
[]
[]
[]
[]
[]
[]
[]
[]
[]
[null,"Last Uploaded Date and Time",null,null,null,null,null,null,null,null,"Upload Status"]
[null,null,null,null,null,null,null,null,null,null,null,null,null,null,null,{"$f":"IF(K158=\"upload complete\",3,IF(K158=\"pending\",0,IF(K158=\"upload incomplete\",-1,\"\")))","v":""}]

{"sheet":"BUILD ASSESSMENT","index":2,"n_rows":607,"n_cols":23,"rows_kept":607,"cut":false,"hidden":false,"merged":[[594,3,596,9],[599,2,600,12],[599,13,600,15],[601,2,604,15],[560,11,560,12],[561,11,561,12],[562,11,562,12],[563,11,563,12],[564,11,564,12],[565,11,565,12],[566,11,566,12],[580,1,581,12],[580,13,581,15],[582,1,583,15],[571,1,572,12],[571,13,572,15],[573,1,574,15],[534,10,539,12],[533,10,533,12],[544,2,545,12],[544,13,545,15],[546,2,547,15],[552,3,553,15],[554,3,557,15],[567,11,567,12],[568,11,568,12],[550,3,551,5],[524,4,524,5],[524,14,524,15],[522,8,522,9],[522,10,522,11],[522,14,522,15],[523,4,523,5],[523,6,523,7],[523,8,523,9],[523,10,523,11],[491,14,492,15],[493,4,493,5],[493,6,493,7],[493,8,493,9],[493,10,493,11],[493,12,493,13],[493,14,493,15],[494,4,494,5],[494,6,494,7],[494,14,494,15],[526,12,526,13],[526,14,526,15],[525,12,525,13],[525,14,525,15],[523,12,523,13],[521,6,521,7],[521,8,521,9],[521,10,521,11],[523,14,523,15],[486,3,487,15],[488,3,489,15],[521,12,521,13],[521,14,521,15],[519,4,520,5],[521,4,521,5],[529,1,531,15],[522,12,522,13],[522,2,522,3],[523,2,523,3],[524,2,524,3],[526,2,526,3],[525,2,525,3],[526,4,526,5],[526,6,526,7],[526,8,526,9],[526,10,526,11],[525,4,525,5],[525,6,525,7],[525,8,525,9],[525,10,525,11],[522,4,522,5],[522,6,522,7],[527,14,527,15],[435,2,436,12],[524,6,524,7],[524,8,524,9],[524,10,524,11],[524,12,524,13],[527,2,527,3],[527,4,527,5],[527,6,527,7],[527,8,527,9],[527,10,527,11],[521,2,521,3],[494,8,494,9],[494,10,494,11],[494,12,494,13],[527,12,527,13],[497,1,498,12],[497,13,498,15],[499,1,500,15],[502,2,505,15],[491,4,492,5],[491,6,492,7],[491,8,492,9],[491,10,492,11],[491,12,492,13],[392,15,394,15],[404,6,406,14],[404,15,406,15],[519,14,520,15],[519,12,520,13],[519,10,520,11],[519,8,520,9],[519,6,520,7],[516,1,517,15],[466,14,466,15],[467,14,467,15],[468,14,468,15],[469,14,469,15],[470,14,470,15],[471,14,471,15],[472,14,472,15],[476,2,476,13],[473,14,473,15],[474,14,474,15],[475,14,475,15],[476,14,476,15],[474,2,474,13],[475,2,475,13],[453,3,453,14],[435,13,436,15],[379,6,381,14],[379,15,381,15],[382,6,384,14],[382,15,384,15],[385,6,387,14],[385,15,387,15],[370,4,372,14],[370,15,372,15],[373,6,375,14],[373,15,375,15],[376,6,378,14],[376,15,378,15],[409,3,410,13],[395,6,397,14],[395,15,397,15],[398,6,400,14],[398,15,400,15],[401,6,403,14],[401,15,403,15],[388,3,388,14],[389,4,391,14],[389,15,391,15],[392,6,394,14],[363,6,365,14],[363,15,365,15],[366,6,368,14],[366,15,368,15],[369,3,369,14],[354,6,356,14],[354,15,356,15],[357,6,359,14],[357,15,359,15],[360,6,362,14],[360,15,362,15],[347,6,349,14],[347,15,349,15],[350,3,350,14],[351,4,353,14],[351,15,353,15],[338,6,340,14],[338,15,340,15],[341,6,343,14],[341,15,343,15],[344,6,346,14],[344,15,346,15],[236,3,236,14],[255,3,255,14],[274,3,274,14],[293,3,293,14],[312,3,312,14],[328,6,330,14],[328,15,330,15],[297,15,299,15],[300,6,302,14],[300,15,302,15],[284,6,286,14],[284,15,286,15],[287,6,289,14],[287,15,289,15],[290,6,292,14],[290,15,292,15],[275,4,277,14],[275,15,277,15],[278,6,280,14],[278,15,280,15],[237,15,239,15],[240,6,242,14],[240,15,242,15],[294,4,296,14],[331,3,331,14],[332,4,334,14],[332,15,334,15],[335,6,337,14],[335,15,337,15],[303,6,305,14],[303,15,305,15],[306,6,308,14],[306,15,308,15],[309,6,311,14],[309,15,311,15],[262,15,264,15],[252,6,254,14],[252,15,254,15],[294,15,296,15],[297,6,299,14],[322,6,324,14],[322,15,324,15],[325,6,327,14],[325,15,327,15],[313,4,315,14],[313,15,315,15],[316,6,318,14],[316,15,318,15],[319,6,321,14],[319,15,321,15],[473,2,473,13],[589,1,590,12],[589,13,590,15],[591,1,592,15],[100,3,100,14],[102,3,102,14],[466,2,466,13],[467,2,467,13],[468,2,468,13],[469,2,469,13],[470,2,470,13],[471,2,471,13],[472,2,472,13],[510,1,511,12],[510,13,511,15],[512,1,514,15],[440,3,440,14],[441,3,441,14],[442,3,442,14],[443,3,443,14],[444,3,444,14],[459,2,461,15],[452,3,452,14],[243,6,245,14],[457,2,458,12],[457,13,458,15],[72,3,72,14],[71,3,71,14],[126,6,128,14],[129,6,131,14],[132,6,134,14],[135,6,137,14],[138,6,140,14],[449,2,450,15],[123,4,125,14],[142,15,144,15],[145,6,147,14],[145,15,147,15],[202,6,204,14],[208,6,210,14],[208,15,210,15],[211,6,213,14],[211,15,213,15],[214,6,216,14],[214,15,216,15],[218,4,220,14],[164,6,166,14],[164,15,166,15],[447,2,448,12],[447,13,448,15],[135,15,137,15],[138,15,140,15],[122,3,122,14],[81,3,81,14],[87,3,87,14],[86,3,86,14],[85,3,85,14],[84,3,84,14],[83,3,83,14],[82,3,82,14],[117,3,120,15],[95,3,95,14],[96,3,96,14],[97,3,97,14],[98,3,98,14],[99,3,99,14],[101,3,101,14],[148,15,150,15],[151,6,153,14],[160,3,160,14],[179,3,179,14],[167,6,169,14],[167,15,169,15],[180,4,182,14],[180,15,182,15],[183,6,185,14],[183,15,185,15],[218,15,220,15],[227,6,229,14],[227,15,229,15],[230,6,232,14],[230,15,232,15],[221,6,223,14],[221,15,223,15],[224,6,226,14],[224,15,226,15],[186,15,188,15],[170,6,172,14],[217,3,217,14],[173,15,175,15],[176,6,178,14],[176,15,178,15],[199,4,201,14],[199,15,201,15],[186,6,188,14],[202,15,204,15],[198,3,198,14],[437,2,438,15],[233,6,235,14],[233,15,235,15],[246,6,248,14],[246,15,248,15],[249,6,251,14],[249,15,251,15],[237,4,239,14],[243,15,245,15],[281,6,283,14],[281,15,283,15],[265,6,267,14],[265,15,267,15],[268,6,270,14],[268,15,270,15],[271,6,273,14],[205,15,207,15],[271,15,273,15],[256,4,258,14],[256,15,258,15],[259,6,261,14],[259,15,261,15],[262,6,264,14],[189,6,191,14],[189,15,191,15],[192,6,194,14],[192,15,194,15],[195,6,197,14],[195,15,197,15],[21,9,21,15],[22,9,22,15],[24,4,28,15],[154,6,156,14],[154,15,156,15],[105,2,106,12],[105,13,106,15],[107,2,108,15],[90,2,91,12],[90,13,91,15],[92,2,93,15],[148,6,150,14],[141,3,141,14],[126,15,128,15],[129,15,131,15],[170,15,172,15],[173,6,175,14],[64,13,65,15],[5,2,7,14],[8,2,11,14],[33,1,34,12],[33,13,34,15],[35,1,37,15],[39,2,40,12],[39,13,40,15],[41,2,42,15],[47,3,47,14],[46,3,46,14],[45,3,45,14],[455,2,456,4],[508,1,509,3],[411,3,415,15],[478,3,479,14],[480,3,483,15],[59,3,59,14],[75,2,76,12],[75,13,76,15],[77,2,78,15],[70,3,70,14],[69,3,69,14],[61,3,61,14],[60,3,60,14],[161,4,163,14],[161,15,163,15],[151,15,153,15],[64,2,65,12],[132,15,134,15],[110,3,110,14],[111,3,111,14],[80,3,80,14],[142,4,144,14],[205,6,207,14],[66,2,67,15],[123,15,125,15],[157,6,159,14],[157,15,159,15],[13,1,14,3],[31,1,32,3],[44,3,44,14],[15,1,16,12],[15,13,16,15],[17,1,19,15],[113,3,114,5],[58,3,58,14],[50,3,50,14],[49,3,49,14],[48,3,48,14],[55,2,56,15],[53,2,54,12],[53,13,54,15],[115,3,116,15]]}
[null,null,null,null,null,null,null,null,null,null,null,null,null,null,null,null,null,null,null,null,null,null,0]
[null,null,null,null,null,null,null,null,null,null,null,null,null,null,null,null,null,null,null,null,null,null,1]
[null,null,null,null,null,null,null,null,null,null,null,null,null,null,null,null,null,null,null,null,null,null,1]
[null,null,null,null,null,null,null,null,null,null,null,null,null,null,null,null,null,null,null,null,null,null,1]
[null,null,null,null,null,null,null,null,null,null,null,null,null,null,null,null,null,null,null,null,null,null,1]
[null,null,"BUILDING THE ASSESSMENT",null,null,null,null,null,null,null,null,null,null,null,null,null,null,null,null,null,null,null,1]
[null,null,null,null,null,null,null,null,null,null,null,null,null,null,null,null,null,null,null,null,null,null,1]
[null,null,null,null,null,null,null,null,null,null,null,null,null,null,null,null,null,null,null,null,null,null,1]
[null,null,"This tab provides a list of questions to be included in a custom critical roles assessment and the threshold for determining role criticality. The assessment focuses on the areas of vacancy risk, knowledge management, impact to operations, recruitment challenges, learning and development challenges, impact to strategic initiatives, environmental (both internal and external factors), position specific aspects, or additional custom questions. ",null,null,null,null,null,null,null,null,null,null,null,null,null,null,null,null,null,null,null,1]
[null,null,null,null,null,null,null,null,null,null,null,null,null,null,null,null,null,null,null,null,null,null,1]
[null,null,null,null,null,null,null,null,null,null,null,null,null,null,null,null,null,null,null,null,null,null,1]
[null,null,null,null,null,null,null,null,null,null,null,null,null,null,null,null,null,null,null,null,null,null,1]
[null,null,null,null,null,null,null,null,null,null,null,null,null,null,null,null,null,null,null,null,null,null,1]
[null,null,null,null,null,null,null,null,null,null,null,null,null,null,null,null,null,null,null,null,null,null,1]
[null,null,null,null,null,null,null,null,null,null,null,null,null,null,null,null,null,null,null,null,null,null,1]
[null,"Step 1: Enter Agency Information",null,null,null,null,null,null,null,null,null,null,null,{"$f":"IF(AND(J22<>\"\",E25<>\"\"),\"Complete\",\"Incomplete\")","v":"Incomplete"},null,null,null,null,null,null,null,null,1]
[null,null,null,null,null,null,null,null,null,null,null,null,null,null,null,null,null,null,null,null,null,null,1]
[null,"INSTRUCTIONS: Please select the agency name from the drop down menu in the yellow box. The secretary and agency number will be displayed. Please also enter a brief description of the agency mission in the respective yellow box below. ",null,null,null,null,null,null,null,null,null,null,null,null,null,null,null,null,null,null,null,null,1]
[null,null,null,null,null,null,null,null,null,null,null,null,null,null,null,null,null,null,null,null,null,null,1]
[null,null,null,null,null,null,null,null,null,null,null,null,null,null,null,null,null,null,null,null,null,null,1]
[null,null,null,null,null,null,null,null,null,null,null,null,null,null,null,null,null,null,null,null,null,null,1]
[null,null,null,null,null,null,null,null," Agency Name:",null,null,null,null,null,null,null,null,null,null,null,null,null,1]
[null,null,null,null,null,null,null,null," Secretariat:",{"$f":"IFERROR(VLOOKUP($J$22,'CENTRAL DATA'!$A$12:$C$140,2,FALSE),\"\")","v":""},null,null,null,null,null,null,null,null,null,null,null,null,1]
[null,null,null,null,null,null,null,null,null,null,null,null,null,null," Agency Number:",{"$f":"IFERROR(VLOOKUP($J$22,'CENTRAL DATA'!$A$12:$C$140,3,FALSE),\"\")","v":""},null,null,null,null,null,null,1]
[null,null,null,"Agency Mission:",null,null,null,null,null,null,null,null,null,null,null,null,null,null,null,null,null,null,1]
[null,null,null,null,null,null,null,null,null,null,null,null,null,null,null,null,null,null,null,null,null,null,1]
[null,null,null,null,null,null,null,null,null,null,null,null,null,null,null,null,null,null,null,null,null,null,1]
[null,null,null,null,null,null,null,null,null,null,null,null,null,null,null,null,null,null,null,null,null,null,1]
[null,null,null,null,null,null,null,null,null,null,null,null,null,null,null,null,null,null,null,null,null,null,1]
[null,null,null,null,null,null,null,null,null,null,null,null,null,null,null,null,null,null,null,null,null,null,1]
[null,null,null,null,null,null,null,null,null,null,null,null,null,null,null,null,null,null,null,null,null,null,1]
[null,null,null,null,null,null,null,null,null,null,null,null,null,null,null,null,null,null,null,null,null,null,1]
[null,null,null,null,null,null,null,null,null,null,null,null,null,null,null,null,null,null,null,null,null,null,1]
[null,"Step 2: Identify Questions to be Included in the Critical Roles Assessment",null,null,null,null,null,null,null,null,null,null,null,{"$f":"IF(COUNTIFS(N40,\"incomplete\",N54,\"incomplete\",N65,\"incomplete\",N76,\"incomplete\",N91,\"incomplete\",N106,\"incomplete\",N436,\"incomplete\",N448,\"incomplete\")=0,\"Complete\",\"Incomplete\")","v":"Incomplete"},null,null,null,null,null,null,null,null,1]
[null,null,null,null,null,null,null,null,null,null,null,null,null,null,null,null,null,null,null,null,null,null,1]
[null,"INSTRUCTIONS: Please select the questions to be included in the critical roles assessment for the areas of vacancy risk, recruitment, knowledge management, learning and development, operational impact, strategic impacts, environmental, and position specifics items. Additional questions may be added but are not required. ",null,null,null,null,null,null,null,null,null,null,null,null,null,null,null,null,null,null,null,null,1]
[null,null,null,null,null,null,null,null,null,null,null,null,null,null,null,null,null,null,null,null,null,null,1]
[null,null,null,null,null,null,null,null,null,null,null,null,null,null,null,null,null,null,null,null,null,null,1]
[null,null,null,null,null,null,null,null,null,null,null,null,null,null,null,null,null,null,null,null,null,null,1]
[null,null,"Step 2(a): Select Vacancy Risk Questions",null,null,null,null,null,null,null,null,null,null,{"$f":"IF(COUNTBLANK(P46:P51)=0,\"Complete\",\"Incomplete\")","v":"Incomplete"},null,null,null,null,null,null,null,null,1]
[null,null,null,null,null,null,null,null,null,null,null,null,null,null,null,null,null,null,null,null,null,null,1]
[null,null,"INSTRUCTIONS: Please indicate which questions below should be included in the assessment by selecting \"yes\" or \"no\" from the dropdown menu in the yellow boxes in the Include column.",null,null,null,null,null,null,null,null,null,null,null,null,null,null,null,null,null,null,null,1]
[null,null,null,null,null,null,null,null,null,null,null,null,null,null,null,null,null,null,null,null,null,null,1]
[null,null,null,null,null,null,null,null,null,null,null,null,null,null,null,null,null,null,null,null,null,null,1]
[null,null,null,"Question",null,null,null,null,null,null,null,null,null,null,null,"Include",null,null,null,null,null,null,1]
[null,null,null,"What is the likelihood the position will become vacant within 1 year?",null,null,null,null,null,null,null,null,null,null,null,null,null,null,null,null,null,null,1]
[null,null,null,"What is the likelihood the position will become vacant within 5 years?",null,null,null,null,null,null,null,null,null,null,null,null,null,null,null,null,null,null,1]
[null,null,null,"Is the incumbent currently eligible to retire? ",null,null,null,null,null,null,null,null,null,null,null,null,null,null,null,null,null,null,1]
[null,null,null,"Will the incumbent be eligible to retire within 5 years?",null,null,null,null,null,null,null,null,null,null,null,null,null,null,null,null,null,null,1]
[null,null,null,"Is this a single incumbent position?",null,null,null,null,null,null,null,null,null,null,null,null,null,null,null,null,null,null,1]
[null,null,null,"What is the degree of turnover this position has experienced in the past?",null,null,null,null,null,null,null,null,null,null,null,null,null,null,null,null,null,null,1]
[null,null,null,null,null,null,null,null,null,null,null,null,null,null,null,null,null,null,null,null,null,null,1]
[null,null,null,null,null,null,null,null,null,null,null,null,null,null,null,null,null,null,null,null,null,null,1]
[null,null,"Step 2(b): Select Recruitment Questions",null,null,null,null,null,null,null,null,null,null,{"$f":"IF(COUNTBLANK(P60:P62)=0,\"Complete\",\"Incomplete\")","v":"Incomplete"},null,null,null,null,null,null,null,null,1]
[null,null,null,null,null,null,null,null,null,null,null,null,null,null,null,null,null,null,null,null,null,null,1]
[null,null,"INSTRUCTIONS: Please indicate which questions below should be included in the assessment by selecting \"yes\" or \"no\" from the dropdown menu in the yellow boxes in the Include column.",null,null,null,null,null,null,null,null,null,null,null,null,null,null,null,null,null,null,null,1]
[null,null,null,null,null,null,null,null,null,null,null,null,null,null,null,null,null,null,null,null,null,null,1]
[null,null,null,null,null,null,null,null,null,null,null,null,null,null,null,null,null,null,null,null,null,null,1]
[null,null,null,"Question",null,null,null,null,null,null,null,null,null,null,null,"Include",null,null,null,null,null,null,1]
[null,null,null,"What is the degree of external candidate availability for this position?",null,null,null,null,null,null,null,null,null,null,null,null,null,null,null,null,null,null,1]
[null,null,null,"What is the degree of recruitment challenges for this position in the past?",null,null,null,null,null,null,null,null,null,null,null,null,null,null,null,null,null,null,1]
[null,null,null,"What is the degree of competition for qualified candidates for this position?",null,null,null,null,null,null,null,null,null,null,null,null,null,null,null,null,null,null,1]
[null,null,null,null,null,null,null,null,null,null,null,null,null,null,null,null,null,null,null,null,null,null,1]
[null,null,null,null,null,null,null,null,null,null,null,null,null,null,null,null,null,null,null,null,null,null,1]
[null,null,"Step 2(c): Select Knowledge Management Questions",null,null,null,null,null,null,null,null,null,null,{"$f":"IF(COUNTBLANK(P71:P73)=0,\"Complete\",\"Incomplete\")","v":"Incomplete"},null,null,null,null,null,null,null,null,1]
[null,null,null,null,null,null,null,null,null,null,null,null,null,null,null,null,null,null,null,null,null,null,1]
[null,null,"INSTRUCTIONS: Please indicate which questions below should be included in the assessment by selecting \"yes\" or \"no\" from the dropdown menu in the yellow boxes in the Include column.",null,null,null,null,null,null,null,null,null,null,null,null,null,null,null,null,null,null,null,1]
[null,null,null,null,null,null,null,null,null,null,null,null,null,null,null,null,null,null,null,null,null,null,1]
[null,null,null,null,null,null,null,null,null,null,null,null,null,null,null,null,null,null,null,null,null,null,1]
[null,null,null,"Question",null,null,null,null,null,null,null,null,null,null,null,"Include",null,null,null,null,null,null,1]
[null,null,null,"What is the degree this position requires unique skills or knowledge?",null,null,null,null,null,null,null,null,null,null,null,null,null,null,null,null,null,null,1]
[null,null,null,"What is the degree specialized knowledge or expertise is required?",null,null,null,null,null,null,null,null,null,null,null,null,null,null,null,null,null,null,1]
[null,null,null,"What is the degree specialized experience is required?",null,null,null,null,null,null,null,null,null,null,null,null,null,null,null,null,null,null,1]
[null,null,null,null,null,null,null,null,null,null,null,null,null,null,null,null,null,null,null,null,null,null,1]
[null,null,null,null,null,null,null,null,null,null,null,null,null,null,null,null,null,null,null,null,null,null,1]
[null,null,"Step 2(d): Select Learning and Development Questions",null,null,null,null,null,null,null,null,null,null,{"$f":"IF(COUNTBLANK(P82:P88)=0,\"Complete\",\"Incomplete\")","v":"Incomplete"},null,null,null,null,null,null,null,null,1]
[null,null,null,null,null,null,null,null,null,null,null,null,null,null,null,null,null,null,null,null,null,null,1]
[null,null,"INSTRUCTIONS: Please indicate which questions below should be included in the assessment by selecting \"yes\" or \"no\" from the dropdown menu in the yellow boxes in the Include column.",null,null,null,null,null,null,null,null,null,null,null,null,null,null,null,null,null,null,null,1]
[null,null,null,null,null,null,null,null,null,null,null,null,null,null,null,null,null,null,null,null,null,null,1]
[null,null,null,null,null,null,null,null,null,null,null,null,null,null,null,null,null,null,null,null,null,null,1]
[null,null,null,"Question",null,null,null,null,null,null,null,null,null,null,null,"Include",null,null,null,null,null,null,1]
[null,null,null,"What is the degree of difficulty for developing internal talent for this position?",null,null,null,null,null,null,null,null,null,null,null,null,null,null,null,null,null,null,1]
[null,null,null,"What is the level of current bench strength within the agency for this position?",null,null,null,null,null,null,null,null,null,null,null,null,null,null,null,null,null,null,1]
[null,null,null,"To what degree does the agency have development plans/programs for internal talent?",null,null,null,null,null,null,null,null,null,null,null,null,null,null,null,null,null,null,1]
[null,null,null,"What is the degree the agency can prepare individuals for this role internally?",null,null,null,null,null,null,null,null,null,null,null,null,null,null,null,null,null,null,1]
[null,null,null,"What is the degree external sources are used to develop internal talent for this position?",null,null,null,null,null,null,null,null,null,null,null,null,null,null,null,null,null,null,1]
[null,null,null,"What is the likelihood internal candidates will be prepared for this role within 1 year?",null,null,null,null,null,null,null,null,null,null,null,null,null,null,null,null,null,null,1]
[null,null,null,"What is the likelihood internal candidates will be prepared for this role within 5 years?",null,null,null,null,null,null,null,null,null,null,null,null,null,null,null,null,null,null,1]
[null,null,null,null,null,null,null,null,null,null,null,null,null,null,null,null,null,null,null,null,null,null,1]
[null,null,null,null,null,null,null,null,null,null,null,null,null,null,null,null,null,null,null,null,null,null,1]
[null,null,"Step 2(e): Select Operational Impact Questions",null,null,null,null,null,null,null,null,null,null,{"$f":"IF(COUNTBLANK(P97:P103)=0,\"Complete\",\"Incomplete\")","v":"Incomplete"},null,null,null,null,null,null,null,null,1]
[null,null,null,null,null,null,null,null,null,null,null,null,null,null,null,null,null,null,null,null,null,null,1]
[null,null,"INSTRUCTIONS: Please indicate which questions below should be included in the assessment by selecting \"yes\" or \"no\" from the dropdown menu in the yellow boxes in the Include column.",null,null,null,null,null,null,null,null,null,null,null,null,null,null,null,null,null,null,null,1]
[null,null,null,null,null,null,null,null,null,null,null,null,null,null,null,null,null,null,null,null,null,null,1]
[null,null,null,null,null,null,null,null,null,null,null,null,null,null,null,null,null,null,null,null,null,null,1]
[null,null,null,"Question",null,null,null,null,null,null,null,null,null,null,null,"Include",null,null,null,null,null,null,1]
[null,null,null,"What is the degree the agency would experience operational challenges or potential risks if this position was vacant?",null,null,null,null,null,null,null,null,null,null,null,null,null,null,null,null,null,null,1]
[null,null,null,"To what degree would the agency experience challenges meeting legislative/regulatory requirements if this position was vacant?",null,null,null,null,null,null,null,null,null,null,null,null,null,null,null,null,null,null,1]
[null,null,null,"To what degree would the agency experience challenges providing their services to customers if this position was vacant?",null,null,null,null,null,null,null,null,null,null,null,null,null,null,null,null,null,null,1]
[null,null,null,"To what degree would the agency experience challenges to workplace health, safety, and security if this position was vacant?",null,null,null,null,null,null,null,null,null,null,null,null,null,null,null,null,null,null,1]
[null,null,null,"What is the likelihood this position would be deemed \"essential\" for emergency situations?",null,null,null,null,null,null,null,null,null,null,null,null,null,null,null,null,null,null,1]
[null,null,null,"What is the degree this position is limited to specific agency geographic locations?",null,null,null,null,null,null,null,null,null,null,null,null,null,null,null,null,null,null,1]
[null,null,null,"What is the likelihood the agency could be susceptible to other risks if this position was vacant?",null,null,null,null,null,null,null,null,null,null,null,null,null,null,null,null,null,null,1]
[null,null,null,null,null,null,null,null,null,null,null,null,null,null,null,null,null,null,null,null,null,null,1]
[null,null,null,null,null,null,null,null,null,null,null,null,null,null,null,null,null,null,null,null,null,null,1]
[null,null,"Step 2(f): Select Strategic Objectives Impact Questions",null,null,null,null,null,null,null,null,null,null,{"$f":"IF(COUNTBLANK(P112:P112)=0,\"Complete\",\"Incomplete\")","v":"Incomplete"},null,null,null,null,null,null,null,null,1]
[null,null,null,null,null,null,null,null,null,null,null,null,null,null,null,null,null,null,null,null,null,null,1]
[null,null,"INSTRUCTIONS: Please indicate which questions below should be included in the assessment by selecting \"yes\" or \"no\" from the dropdown menu in the yellow boxes in the Include column.",null,null,null,null,null,null,null,null,null,null,null,null,null,null,null,null,null,null,null,1]
[null,null,null,null,null,null,null,null,null,null,null,null,null,null,null,null,null,null,null,null,null,null,1]
[null,null,null,null,null,null,null,null,null,null,null,null,null,null,null,null,null,null,null,null,null,null,1]
[null,null,null,"Question",null,null,null,null,null,null,null,null,null,null,null,"Include",null,null,null,null,null,null,1]
[null,null,null,"What is the degree the agency would experience challenges in achieving strategic objectives if this position was vacant?",null,null,null,null,null,null,null,null,null,null,null,null,null,null,null,null,null,null,1]
[null,null,null,null,null,null,null,null,null,null,null,null,null,null,null,null,null,null,null,null,null,null,1]
[null,null,null,null,null,null,null,null,null,null,null,null,null,null,null,null,null,null,null,null,null,null,1]
[null,null,null,null,null,null,null,null,null,null,null,null,null,null,null,null,null,null,null,null,null,null,1]
[null,null,null,"(Optional) Step 2(f-i): Select Specific Strategic Objectives and Action Items from Agency Profile",null,null,null,null,null,null,null,null,null,null,null,null,null,null,null,null,null,null,1]
[null,null,null,null,null,null,null,null,null,null,null,null,null,null,null,null,null,null,null,null,null,null,1]
[null,null,null,"Positions can be assessed for their impact to specific strategic plan objectives and action items from the Agency Profile. To include the specific objective or action item select the objective and/or any corresponding action items to be included. The question on the assessment will be worded as: What is the degree the agency would experience challenges in achieving the following strategic objectives and action items:",null,null,null,null,null,null,null,null,null,null,null,null,null,null,null,null,null,null,1]
[null,null,null,null,null,null,null,null,null,null,null,null,null,null,null,null,null,null,null,null,null,null,1]
[null,null,null,null,null,null,null,null,null,null,null,null,null,null,null,null,null,null,null,null,null,null,1]
[null,null,null,null,null,null,null,null,null,null,null,null,null,null,null,null,null,null,null,null,null,null,1]
[null,null,null,null,null,null,null,null,null,null,null,null,null,null,null,null,null,null,null,null,null,null,1]
[null,null,null,"Strategic Element",null,null,null,null,null,null,null,null,null,null,null,"Include",null,null,null,null,null,null,{"$f":"IF(OR(E124<>\"\",$P$418>=1),1,0)","v":0}]
[null,null,null,"Objective",null,null,null,null,null,null,null,null,null,null,null,null,null,null,null,null,null,null,{"$f":"IF(OR(E124<>\"\",$P$418>=1),1,0)","v":0}]
[null,null,null,null,null,null,null,null,null,null,null,null,null,null,null,null,null,null,null,null,null,null,{"$f":"IF(OR(E124<>\"\",$P$418>=1),1,0)","v":0}]
[null,null,null,null,null,null,null,null,null,null,null,null,null,null,null,null,null,null,null,null,null,null,{"$f":"IF(OR(E124<>\"\",$P$418>=1),1,0)","v":0}]
[null,null,null,null,null,"Action Item",null,null,null,null,null,null,null,null,null,null,null,null,null,null,null,null,{"$f":"IF(OR(G127<>\"\",$P$419>=1),1,0)","v":0}]
[null,null,null,null,null,null,null,null,null,null,null,null,null,null,null,null,null,null,null,null,null,null,{"$f":"IF(OR(G127<>\"\",$P$419>=1),1,0)","v":0}]
[null,null,null,null,null,null,null,null,null,null,null,null,null,null,null,null,null,null,null,null,null,null,{"$f":"IF(OR(G127<>\"\",$P$419>=1),1,0)","v":0}]
[null,null,null,null,null,"Action Item",null,null,null,null,null,null,null,null,null,null,null,null,null,null,null,null,{"$f":"IF(OR(G130<>\"\",$P$419>=2),1,0)","v":0}]
[null,null,null,null,null,null,null,null,null,null,null,null,null,null,null,null,null,null,null,null,null,null,{"$f":"IF(OR(G130<>\"\",$P$419>=2),1,0)","v":0}]
[null,null,null,null,null,null,null,null,null,null,null,null,null,null,null,null,null,null,null,null,null,null,{"$f":"IF(OR(G130<>\"\",$P$419>=2),1,0)","v":0}]
[null,null,null,null,null,"Action Item",null,null,null,null,null,null,null,null,null,null,null,null,null,null,null,null,{"$f":"IF(OR(G133<>\"\",$P$419>=3),1,0)","v":0}]
[null,null,null,null,null,null,null,null,null,null,null,null,null,null,null,null,null,null,null,null,null,null,{"$f":"IF(OR(G133<>\"\",$P$419>=3),1,0)","v":0}]
[null,null,null,null,null,null,null,null,null,null,null,null,null,null,null,null,null,null,null,null,null,null,{"$f":"IF(OR(G133<>\"\",$P$419>=3),1,0)","v":0}]
[null,null,null,null,null,"Action Item",null,null,null,null,null,null,null,null,null,null,null,null,null,null,null,null,{"$f":"IF(OR(G136<>\"\",$P$419>=4),1,0)","v":0}]
[null,null,null,null,null,null,null,null,null,null,null,null,null,null,null,null,null,null,null,null,null,null,{"$f":"IF(OR(G136<>\"\",$P$419>=4),1,0)","v":0}]
[null,null,null,null,null,null,null,null,null,null,null,null,null,null,null,null,null,null,null,null,null,null,{"$f":"IF(OR(G136<>\"\",$P$419>=4),1,0)","v":0}]
[null,null,null,null,null,"Action Item",null,null,null,null,null,null,null,null,null,null,null,null,null,null,null,null,{"$f":"IF(OR(G139<>\"\",$P$419>=5),1,0)","v":0}]
[null,null,null,null,null,null,null,null,null,null,null,null,null,null,null,null,null,null,null,null,null,null,{"$f":"IF(OR(G139<>\"\",$P$419>=5),1,0)","v":0}]
[null,null,null,null,null,null,null,null,null,null,null,null,null,null,null,null,null,null,null,null,null,null,{"$f":"IF(OR(G139<>\"\",$P$419>=5),1,0)","v":0}]
[null,null,null,"Strategic Element",null,null,null,null,null,null,null,null,null,null,null,null,null,null,null,null,null,null,{"$f":"IF(OR(E143<>\"\",$P$418>=2),1,0)","v":0}]
[null,null,null,"Objective",null,null,null,null,null,null,null,null,null,null,null,null,null,null,null,null,null,null,{"$f":"IF(OR(E143<>\"\",$P$418>=2),1,0)","v":0}]
[null,null,null,null,null,null,null,null,null,null,null,null,null,null,null,null,null,null,null,null,null,null,{"$f":"IF(OR(E143<>\"\",$P$418>=2),1,0)","v":0}]
[null,null,null,null,null,null,null,null,null,null,null,null,null,null,null,null,null,null,null,null,null,null,{"$f":"IF(OR(E143<>\"\",$P$418>=2),1,0)","v":0}]
[null,null,null,null,null,"Action Item",null,null,null,null,null,null,null,null,null,null,null,null,null,null,null,null,{"$f":"IF(OR(G146<>\"\",$P$420>=1),1,0)","v":0}]
[null,null,null,null,null,null,null,null,null,null,null,null,null,null,null,null,null,null,null,null,null,null,{"$f":"IF(OR(G146<>\"\",$P$420>=1),1,0)","v":0}]
[null,null,null,null,null,null,null,null,null,null,null,null,null,null,null,null,null,null,null,null,null,null,{"$f":"IF(OR(G146<>\"\",$P$420>=1),1,0)","v":0}]
[null,null,null,null,null,"Action Item",null,null,null,null,null,null,null,null,null,null,null,null,null,null,null,null,{"$f":"IF(OR(G149<>\"\",$P$420>=2),1,0)","v":0}]
[null,null,null,null,null,null,null,null,null,null,null,null,null,null,null,null,null,null,null,null,null,null,{"$f":"IF(OR(G149<>\"\",$P$420>=2),1,0)","v":0}]
[null,null,null,null,null,null,null,null,null,null,null,null,null,null,null,null,null,null,null,null,null,null,{"$f":"IF(OR(G149<>\"\",$P$420>=2),1,0)","v":0}]
[null,null,null,null,null,"Action Item",null,null,null,null,null,null,null,null,null,null,null,null,null,null,null,null,{"$f":"IF(OR(G152<>\"\",$P$420>=3),1,0)","v":0}]
[null,null,null,null,null,null,null,null,null,null,null,null,null,null,null,null,null,null,null,null,null,null,{"$f":"IF(OR(G152<>\"\",$P$420>=3),1,0)","v":0}]
[null,null,null,null,null,null,null,null,null,null,null,null,null,null,null,null,null,null,null,null,null,null,{"$f":"IF(OR(G152<>\"\",$P$420>=3),1,0)","v":0}]
[null,null,null,null,null,"Action Item",null,null,null,null,null,null,null,null,null,null,null,null,null,null,null,null,{"$f":"IF(OR(G155<>\"\",$P$420>=4),1,0)","v":0}]
[null,null,null,null,null,null,null,null,null,null,null,null,null,null,null,null,null,null,null,null,null,null,{"$f":"IF(OR(G155<>\"\",$P$420>=4),1,0)","v":0}]
[null,null,null,null,null,null,null,null,null,null,null,null,null,null,null,null,null,null,null,null,null,null,{"$f":"IF(OR(G155<>\"\",$P$420>=4),1,0)","v":0}]
[null,null,null,null,null,"Action Item",null,null,null,null,null,null,null,null,null,null,null,null,null,null,null,null,{"$f":"IF(OR(G158<>\"\",$P$420>=5),1,0)","v":0}]
[null,null,null,null,null,null,null,null,null,null,null,null,null,null,null,null,null,null,null,null,null,null,{"$f":"IF(OR(G158<>\"\",$P$420>=5),1,0)","v":0}]
[null,null,null,null,null,null,null,null,null,null,null,null,null,null,null,null,null,null,null,null,null,null,{"$f":"IF(OR(G158<>\"\",$P$420>=5),1,0)","v":0}]
[null,null,null,"Strategic Element",null,null,null,null,null,null,null,null,null,null,null,"Include",null,null,null,null,null,null,{"$f":"IF(OR(E162<>\"\",$P$418>=3),1,0)","v":0}]
[null,null,null,"Objective",null,null,null,null,null,null,null,null,null,null,null,null,null,null,null,null,null,null,{"$f":"IF(OR(E162<>\"\",$P$418>=3),1,0)","v":0}]
[null,null,null,null,null,null,null,null,null,null,null,null,null,null,null,null,null,null,null,null,null,null,{"$f":"IF(OR(E162<>\"\",$P$418>=3),1,0)","v":0}]
[null,null,null,null,null,null,null,null,null,null,null,null,null,null,null,null,null,null,null,null,null,null,{"$f":"IF(OR(E162<>\"\",$P$418>=3),1,0)","v":0}]
[null,null,null,null,null,"Action Item",null,null,null,null,null,null,null,null,null,null,null,null,null,null,null,null,{"$f":"IF(OR(G165<>\"\",$P$421>=1),1,0)","v":0}]
[null,null,null,null,null,null,null,null,null,null,null,null,null,null,null,null,null,null,null,null,null,null,{"$f":"IF(OR(G165<>\"\",$P$421>=1),1,0)","v":0}]
[null,null,null,null,null,null,null,null,null,null,null,null,null,null,null,null,null,null,null,null,null,null,{"$f":"IF(OR(G165<>\"\",$P$421>=1),1,0)","v":0}]
[null,null,null,null,null,"Action Item",null,null,null,null,null,null,null,null,null,null,null,null,null,null,null,null,{"$f":"IF(OR(G168<>\"\",$P$421>=2),1,0)","v":0}]
[null,null,null,null,null,null,null,null,null,null,null,null,null,null,null,null,null,null,null,null,null,null,{"$f":"IF(OR(G168<>\"\",$P$421>=2),1,0)","v":0}]
[null,null,null,null,null,null,null,null,null,null,null,null,null,null,null,null,null,null,null,null,null,null,{"$f":"IF(OR(G168<>\"\",$P$421>=2),1,0)","v":0}]
[null,null,null,null,null,"Action Item",null,null,null,null,null,null,null,null,null,null,null,null,null,null,null,null,{"$f":"IF(OR(G171<>\"\",$P$421>=3),1,0)","v":0}]
[null,null,null,null,null,null,null,null,null,null,null,null,null,null,null,null,null,null,null,null,null,null,{"$f":"IF(OR(G171<>\"\",$P$421>=3),1,0)","v":0}]
[null,null,null,null,null,null,null,null,null,null,null,null,null,null,null,null,null,null,null,null,null,null,{"$f":"IF(OR(G171<>\"\",$P$421>=3),1,0)","v":0}]
[null,null,null,null,null,"Action Item",null,null,null,null,null,null,null,null,null,null,null,null,null,null,null,null,{"$f":"IF(OR(G174<>\"\",$P$421>=4),1,0)","v":0}]
[null,null,null,null,null,null,null,null,null,null,null,null,null,null,null,null,null,null,null,null,null,null,{"$f":"IF(OR(G174<>\"\",$P$421>=4),1,0)","v":0}]
[null,null,null,null,null,null,null,null,null,null,null,null,null,null,null,null,null,null,null,null,null,null,{"$f":"IF(OR(G174<>\"\",$P$421>=4),1,0)","v":0}]
[null,null,null,null,null,"Action Item",null,null,null,null,null,null,null,null,null,null,null,null,null,null,null,null,{"$f":"IF(OR(G177<>\"\",$P$421>=5),1,0)","v":0}]
[null,null,null,null,null,null,null,null,null,null,null,null,null,null,null,null,null,null,null,null,null,null,{"$f":"IF(OR(G177<>\"\",$P$421>=5),1,0)","v":0}]
[null,null,null,null,null,null,null,null,null,null,null,null,null,null,null,null,null,null,null,null,null,null,{"$f":"IF(OR(G177<>\"\",$P$421>=5),1,0)","v":0}]
[null,null,null,"Strategic Element",null,null,null,null,null,null,null,null,null,null,null,"Include",null,null,null,null,null,null,{"$f":"IF(OR(E181<>\"\",$P$418>=4),1,0)","v":0}]
[null,null,null,"Objective",null,null,null,null,null,null,null,null,null,null,null,null,null,null,null,null,null,null,{"$f":"IF(OR(E181<>\"\",$P$418>=4),1,0)","v":0}]
[null,null,null,null,null,null,null,null,null,null,null,null,null,null,null,null,null,null,null,null,null,null,{"$f":"IF(OR(E181<>\"\",$P$418>=4),1,0)","v":0}]
[null,null,null,null,null,null,null,null,null,null,null,null,null,null,null,null,null,null,null,null,null,null,{"$f":"IF(OR(E181<>\"\",$P$418>=4),1,0)","v":0}]
[null,null,null,null,null,"Action Item",null,null,null,null,null,null,null,null,null,null,null,null,null,null,null,null,{"$f":"IF(OR(G184<>\"\",$P$422>=1),1,0)","v":0}]
[null,null,null,null,null,null,null,null,null,null,null,null,null,null,null,null,null,null,null,null,null,null,{"$f":"IF(OR(G184<>\"\",$P$422>=1),1,0)","v":0}]
[null,null,null,null,null,null,null,null,null,null,null,null,null,null,null,null,null,null,null,null,null,null,{"$f":"IF(OR(G184<>\"\",$P$422>=1),1,0)","v":0}]
[null,null,null,null,null,"Action Item",null,null,null,null,null,null,null,null,null,null,null,null,null,null,null,null,{"$f":"IF(OR(G187<>\"\",$P$422>=2),1,0)","v":0}]
[null,null,null,null,null,null,null,null,null,null,null,null,null,null,null,null,null,null,null,null,null,null,{"$f":"IF(OR(G187<>\"\",$P$422>=2),1,0)","v":0}]
[null,null,null,null,null,null,null,null,null,null,null,null,null,null,null,null,null,null,null,null,null,null,{"$f":"IF(OR(G187<>\"\",$P$422>=2),1,0)","v":0}]
[null,null,null,null,null,"Action Item",null,null,null,null,null,null,null,null,null,null,null,null,null,null,null,null,{"$f":"IF(OR(G190<>\"\",$P$422>=3),1,0)","v":0}]
[null,null,null,null,null,null,null,null,null,null,null,null,null,null,null,null,null,null,null,null,null,null,{"$f":"IF(OR(G190<>\"\",$P$422>=3),1,0)","v":0}]
[null,null,null,null,null,null,null,null,null,null,null,null,null,null,null,null,null,null,null,null,null,null,{"$f":"IF(OR(G190<>\"\",$P$422>=3),1,0)","v":0}]
[null,null,null,null,null,"Action Item",null,null,null,null,null,null,null,null,null,null,null,null,null,null,null,null,{"$f":"IF(OR(G193<>\"\",$P$422>=4),1,0)","v":0}]
[null,null,null,null,null,null,null,null,null,null,null,null,null,null,null,null,null,null,null,null,null,null,{"$f":"IF(OR(G193<>\"\",$P$422>=4),1,0)","v":0}]
[null,null,null,null,null,null,null,null,null,null,null,null,null,null,null,null,null,null,null,null,null,null,{"$f":"IF(OR(G193<>\"\",$P$422>=4),1,0)","v":0}]
[null,null,null,null,null,"Action Item",null,null,null,null,null,null,null,null,null,null,null,null,null,null,null,null,{"$f":"IF(OR(G196<>\"\",$P$422>=5),1,0)","v":0}]
[null,null,null,null,null,null,null,null,null,null,null,null,null,null,null,null,null,null,null,null,null,null,{"$f":"IF(OR(G196<>\"\",$P$422>=5),1,0)","v":0}]
[null,null,null,null,null,null,null,null,null,null,null,null,null,null,null,null,null,null,null,null,null,null,{"$f":"IF(OR(G196<>\"\",$P$422>=5),1,0)","v":0}]
[null,null,null,"Strategic Element",null,null,null,null,null,null,null,null,null,null,null,"Include",null,null,null,null,null,null,{"$f":"IF(OR(E200<>\"\",$P$418>=5),1,0)","v":0}]
[null,null,null,"Objective",null,null,null,null,null,null,null,null,null,null,null,null,null,null,null,null,null,null,{"$f":"IF(OR(E200<>\"\",$P$418>=5),1,0)","v":0}]
[null,null,null,null,null,null,null,null,null,null,null,null,null,null,null,null,null,null,null,null,null,null,{"$f":"IF(OR(E200<>\"\",$P$418>=5),1,0)","v":0}]
[null,null,null,null,null,null,null,null,null,null,null,null,null,null,null,null,null,null,null,null,null,null,{"$f":"IF(OR(E200<>\"\",$P$418>=5),1,0)","v":0}]
[null,null,null,null,null,"Action Item",null,null,null,null,null,null,null,null,null,null,null,null,null,null,null,null,{"$f":"IF(OR(G203<>\"\",$P$423>=1),1,0)","v":0}]
[null,null,null,null,null,null,null,null,null,null,null,null,null,null,null,null,null,null,null,null,null,null,{"$f":"IF(OR(G203<>\"\",$P$423>=1),1,0)","v":0}]
[null,null,null,null,null,null,null,null,null,null,null,null,null,null,null,null,null,null,null,null,null,null,{"$f":"IF(OR(G203<>\"\",$P$423>=1),1,0)","v":0}]
[null,null,null,null,null,"Action Item",null,null,null,null,null,null,null,null,null,null,null,null,null,null,null,null,{"$f":"IF(OR(G206<>\"\",$P$423>=2),1,0)","v":0}]
[null,null,null,null,null,null,null,null,null,null,null,null,null,null,null,null,null,null,null,null,null,null,{"$f":"IF(OR(G206<>\"\",$P$423>=2),1,0)","v":0}]
[null,null,null,null,null,null,null,null,null,null,null,null,null,null,null,null,null,null,null,null,null,null,{"$f":"IF(OR(G206<>\"\",$P$423>=2),1,0)","v":0}]
[null,null,null,null,null,"Action Item",null,null,null,null,null,null,null,null,null,null,null,null,null,null,null,null,{"$f":"IF(OR(G209<>\"\",$P$423>=3),1,0)","v":0}]
[null,null,null,null,null,null,null,null,null,null,null,null,null,null,null,null,null,null,null,null,null,null,{"$f":"IF(OR(G209<>\"\",$P$423>=3),1,0)","v":0}]
[null,null,null,null,null,null,null,null,null,null,null,null,null,null,null,null,null,null,null,null,null,null,{"$f":"IF(OR(G209<>\"\",$P$423>=3),1,0)","v":0}]
[null,null,null,null,null,"Action Item",null,null,null,null,null,null,null,null,null,null,null,null,null,null,null,null,{"$f":"IF(OR(G212<>\"\",$P$423>=4),1,0)","v":0}]
[null,null,null,null,null,null,null,null,null,null,null,null,null,null,null,null,null,null,null,null,null,null,{"$f":"IF(OR(G212<>\"\",$P$423>=4),1,0)","v":0}]
[null,null,null,null,null,null,null,null,null,null,null,null,null,null,null,null,null,null,null,null,null,null,{"$f":"IF(OR(G212<>\"\",$P$423>=4),1,0)","v":0}]
[null,null,null,null,null,"Action Item",null,null,null,null,null,null,null,null,null,null,null,null,null,null,null,null,{"$f":"IF(OR(G215<>\"\",$P$423>=5),1,0)","v":0}]
[null,null,null,null,null,null,null,null,null,null,null,null,null,null,null,null,null,null,null,null,null,null,{"$f":"IF(OR(G215<>\"\",$P$423>=5),1,0)","v":0}]
[null,null,null,null,null,null,null,null,null,null,null,null,null,null,null,null,null,null,null,null,null,null,{"$f":"IF(OR(G215<>\"\",$P$423>=5),1,0)","v":0}]
[null,null,null,"Strategic Element",null,null,null,null,null,null,null,null,null,null,null,"Include",null,null,null,null,null,null,{"$f":"IF(OR(E219<>\"\",$P$418>=6),1,0)","v":0}]
[null,null,null,"Objective",null,null,null,null,null,null,null,null,null,null,null,null,null,null,null,null,null,null,{"$f":"IF(OR(E219<>\"\",$P$418>=6),1,0)","v":0}]
[null,null,null,null,null,null,null,null,null,null,null,null,null,null,null,null,null,null,null,null,null,null,{"$f":"IF(OR(E219<>\"\",$P$418>=6),1,0)","v":0}]
[null,null,null,null,null,null,null,null,null,null,null,null,null,null,null,null,null,null,null,null,null,null,{"$f":"IF(OR(E219<>\"\",$P$418>=6),1,0)","v":0}]
[null,null,null,null,null,"Action Item",null,null,null,null,null,null,null,null,null,null,null,null,null,null,null,null,{"$f":"IF(OR(G222<>\"\",$P$424>=1),1,0)","v":0}]
[null,null,null,null,null,null,null,null,null,null,null,null,null,null,null,null,null,null,null,null,null,null,{"$f":"IF(OR(G222<>\"\",$P$424>=1),1,0)","v":0}]
[null,null,null,null,null,null,null,null,null,null,null,null,null,null,null,null,null,null,null,null,null,null,{"$f":"IF(OR(G222<>\"\",$P$424>=1),1,0)","v":0}]
[null,null,null,null,null,"Action Item",null,null,null,null,null,null,null,null,null,null,null,null,null,null,null,null,{"$f":"IF(OR(G225<>\"\",$P$424>=2),1,0)","v":0}]
[null,null,null,null,null,null,null,null,null,null,null,null,null,null,null,null,null,null,null,null,null,null,{"$f":"IF(OR(G225<>\"\",$P$424>=2),1,0)","v":0}]
[null,null,null,null,null,null,null,null,null,null,null,null,null,null,null,null,null,null,null,null,null,null,{"$f":"IF(OR(G225<>\"\",$P$424>=2),1,0)","v":0}]
[null,null,null,null,null,"Action Item",null,null,null,null,null,null,null,null,null,null,null,null,null,null,null,null,{"$f":"IF(OR(G228<>\"\",$P$424>=3),1,0)","v":0}]
[null,null,null,null,null,null,null,null,null,null,null,null,null,null,null,null,null,null,null,null,null,null,{"$f":"IF(OR(G228<>\"\",$P$424>=3),1,0)","v":0}]
[null,null,null,null,null,null,null,null,null,null,null,null,null,null,null,null,null,null,null,null,null,null,{"$f":"IF(OR(G228<>\"\",$P$424>=3),1,0)","v":0}]
[null,null,null,null,null,"Action Item",null,null,null,null,null,null,null,null,null,null,null,null,null,null,null,null,{"$f":"IF(OR(G231<>\"\",$P$424>=4),1,0)","v":0}]
[null,null,null,null,null,null,null,null,null,null,null,null,null,null,null,null,null,null,null,null,null,null,{"$f":"IF(OR(G231<>\"\",$P$424>=4),1,0)","v":0}]
[null,null,null,null,null,null,null,null,null,null,null,null,null,null,null,null,null,null,null,null,null,null,{"$f":"IF(OR(G231<>\"\",$P$424>=4),1,0)","v":0}]
[null,null,null,null,null,"Action Item",null,null,null,null,null,null,null,null,null,null,null,null,null,null,null,null,{"$f":"IF(OR(G234<>\"\",$P$424>=5),1,0)","v":0}]
[null,null,null,null,null,null,null,null,null,null,null,null,null,null,null,null,null,null,null,null,null,null,{"$f":"IF(OR(G234<>\"\",$P$424>=5),1,0)","v":0}]
[null,null,null,null,null,null,null,null,null,null,null,null,null,null,null,null,null,null,null,null,null,null,{"$f":"IF(OR(G234<>\"\",$P$424>=5),1,0)","v":0}]
[null,null,null,"Strategic Element",null,null,null,null,null,null,null,null,null,null,null,"Include",null,null,null,null,null,null,{"$f":"IF(OR(E238<>\"\",$P$418>=7),1,0)","v":0}]
[null,null,null,"Objective",null,null,null,null,null,null,null,null,null,null,null,null,null,null,null,null,null,null,{"$f":"IF(OR(E238<>\"\",$P$418>=7),1,0)","v":0}]
[null,null,null,null,null,null,null,null,null,null,null,null,null,null,null,null,null,null,null,null,null,null,{"$f":"IF(OR(E238<>\"\",$P$418>=7),1,0)","v":0}]
[null,null,null,null,null,null,null,null,null,null,null,null,null,null,null,null,null,null,null,null,null,null,{"$f":"IF(OR(E238<>\"\",$P$418>=7),1,0)","v":0}]
[null,null,null,null,null,"Action Item",null,null,null,null,null,null,null,null,null,null,null,null,null,null,null,null,{"$f":"IF(OR(G241<>\"\",$P$425>=1),1,0)","v":0}]
[null,null,null,null,null,null,null,null,null,null,null,null,null,null,null,null,null,null,null,null,null,null,{"$f":"IF(OR(G241<>\"\",$P$425>=1),1,0)","v":0}]
[null,null,null,null,null,null,null,null,null,null,null,null,null,null,null,null,null,null,null,null,null,null,{"$f":"IF(OR(G241<>\"\",$P$425>=1),1,0)","v":0}]
[null,null,null,null,null,"Action Item",null,null,null,null,null,null,null,null,null,null,null,null,null,null,null,null,{"$f":"IF(OR(G244<>\"\",$P$425>=2),1,0)","v":0}]
[null,null,null,null,null,null,null,null,null,null,null,null,null,null,null,null,null,null,null,null,null,null,{"$f":"IF(OR(G244<>\"\",$P$425>=2),1,0)","v":0}]
[null,null,null,null,null,null,null,null,null,null,null,null,null,null,null,null,null,null,null,null,null,null,{"$f":"IF(OR(G244<>\"\",$P$425>=2),1,0)","v":0}]
[null,null,null,null,null,"Action Item",null,null,null,null,null,null,null,null,null,null,null,null,null,null,null,null,{"$f":"IF(OR(G247<>\"\",$P$425>=3),1,0)","v":0}]
[null,null,null,null,null,null,null,null,null,null,null,null,null,null,null,null,null,null,null,null,null,null,{"$f":"IF(OR(G247<>\"\",$P$425>=3),1,0)","v":0}]
[null,null,null,null,null,null,null,null,null,null,null,null,null,null,null,null,null,null,null,null,null,null,{"$f":"IF(OR(G247<>\"\",$P$425>=3),1,0)","v":0}]
[null,null,null,null,null,"Action Item",null,null,null,null,null,null,null,null,null,null,null,null,null,null,null,null,{"$f":"IF(OR(G250<>\"\",$P$425>=4),1,0)","v":0}]
[null,null,null,null,null,null,null,null,null,null,null,null,null,null,null,null,null,null,null,null,null,null,{"$f":"IF(OR(G250<>\"\",$P$425>=4),1,0)","v":0}]
[null,null,null,null,null,null,null,null,null,null,null,null,null,null,null,null,null,null,null,null,null,null,{"$f":"IF(OR(G250<>\"\",$P$425>=4),1,0)","v":0}]
[null,null,null,null,null,"Action Item",null,null,null,null,null,null,null,null,null,null,null,null,null,null,null,null,{"$f":"IF(OR(G253<>\"\",$P$425>=5),1,0)","v":0}]
[null,null,null,null,null,null,null,null,null,null,null,null,null,null,null,null,null,null,null,null,null,null,{"$f":"IF(OR(G253<>\"\",$P$425>=5),1,0)","v":0}]
[null,null,null,null,null,null,null,null,null,null,null,null,null,null,null,null,null,null,null,null,null,null,{"$f":"IF(OR(G253<>\"\",$P$425>=5),1,0)","v":0}]
[null,null,null,"Strategic Element",null,null,null,null,null,null,null,null,null,null,null,"Include",null,null,null,null,null,null,{"$f":"IF(OR(E257<>\"\",$P$418>=8),1,0)","v":0}]
[null,null,null,"Objective",null,null,null,null,null,null,null,null,null,null,null,null,null,null,null,null,null,null,{"$f":"IF(OR(E257<>\"\",$P$418>=8),1,0)","v":0}]
[null,null,null,null,null,null,null,null,null,null,null,null,null,null,null,null,null,null,null,null,null,null,{"$f":"IF(OR(E257<>\"\",$P$418>=8),1,0)","v":0}]
[null,null,null,null,null,null,null,null,null,null,null,null,null,null,null,null,null,null,null,null,null,null,{"$f":"IF(OR(E257<>\"\",$P$418>=8),1,0)","v":0}]
[null,null,null,null,null,"Action Item",null,null,null,null,null,null,null,null,null,null,null,null,null,null,null,null,{"$f":"IF(OR(G260<>\"\",$P$426>=1),1,0)","v":0}]
[null,null,null,null,null,null,null,null,null,null,null,null,null,null,null,null,null,null,null,null,null,null,{"$f":"IF(OR(G260<>\"\",$P$426>=1),1,0)","v":0}]
[null,null,null,null,null,null,null,null,null,null,null,null,null,null,null,null,null,null,null,null,null,null,{"$f":"IF(OR(G260<>\"\",$P$426>=1),1,0)","v":0}]
[null,null,null,null,null,"Action Item",null,null,null,null,null,null,null,null,null,null,null,null,null,null,null,null,{"$f":"IF(OR(G263<>\"\",$P$426>=2),1,0)","v":0}]
[null,null,null,null,null,null,null,null,null,null,null,null,null,null,null,null,null,null,null,null,null,null,{"$f":"IF(OR(G263<>\"\",$P$426>=2),1,0)","v":0}]
[null,null,null,null,null,null,null,null,null,null,null,null,null,null,null,null,null,null,null,null,null,null,{"$f":"IF(OR(G263<>\"\",$P$426>=2),1,0)","v":0}]
[null,null,null,null,null,"Action Item",null,null,null,null,null,null,null,null,null,null,null,null,null,null,null,null,{"$f":"IF(OR(G266<>\"\",$P$426>=3),1,0)","v":0}]
[null,null,null,null,null,null,null,null,null,null,null,null,null,null,null,null,null,null,null,null,null,null,{"$f":"IF(OR(G266<>\"\",$P$426>=3),1,0)","v":0}]
[null,null,null,null,null,null,null,null,null,null,null,null,null,null,null,null,null,null,null,null,null,null,{"$f":"IF(OR(G266<>\"\",$P$426>=3),1,0)","v":0}]
[null,null,null,null,null,"Action Item",null,null,null,null,null,null,null,null,null,null,null,null,null,null,null,null,{"$f":"IF(OR(G269<>\"\",$P$426>=4),1,0)","v":0}]
[null,null,null,null,null,null,null,null,null,null,null,null,null,null,null,null,null,null,null,null,null,null,{"$f":"IF(OR(G269<>\"\",$P$426>=4),1,0)","v":0}]
[null,null,null,null,null,null,null,null,null,null,null,null,null,null,null,null,null,null,null,null,null,null,{"$f":"IF(OR(G269<>\"\",$P$426>=4),1,0)","v":0}]
[null,null,null,null,null,"Action Item",null,null,null,null,null,null,null,null,null,null,null,null,null,null,null,null,{"$f":"IF(OR(G272<>\"\",$P$426>=5),1,0)","v":0}]
[null,null,null,null,null,null,null,null,null,null,null,null,null,null,null,null,null,null,null,null,null,null,{"$f":"IF(OR(G272<>\"\",$P$426>=5),1,0)","v":0}]
[null,null,null,null,null,null,null,null,null,null,null,null,null,null,null,null,null,null,null,null,null,null,{"$f":"IF(OR(G272<>\"\",$P$426>=5),1,0)","v":0}]
[null,null,null,"Strategic Element",null,null,null,null,null,null,null,null,null,null,null,"Include",null,null,null,null,null,null,{"$f":"IF(OR(E276<>\"\",$P$418>=9),1,0)","v":0}]
[null,null,null,"Objective",null,null,null,null,null,null,null,null,null,null,null,null,null,null,null,null,null,null,{"$f":"IF(OR(E276<>\"\",$P$418>=9),1,0)","v":0}]
[null,null,null,null,null,null,null,null,null,null,null,null,null,null,null,null,null,null,null,null,null,null,{"$f":"IF(OR(E276<>\"\",$P$418>=9),1,0)","v":0}]
[null,null,null,null,null,null,null,null,null,null,null,null,null,null,null,null,null,null,null,null,null,null,{"$f":"IF(OR(E276<>\"\",$P$418>=9),1,0)","v":0}]
[null,null,null,null,null,"Action Item",null,null,null,null,null,null,null,null,null,null,null,null,null,null,null,null,{"$f":"IF(OR(G279<>\"\",$P$427>=1),1,0)","v":0}]
[null,null,null,null,null,null,null,null,null,null,null,null,null,null,null,null,null,null,null,null,null,null,{"$f":"IF(OR(G279<>\"\",$P$427>=1),1,0)","v":0}]
[null,null,null,null,null,null,null,null,null,null,null,null,null,null,null,null,null,null,null,null,null,null,{"$f":"IF(OR(G279<>\"\",$P$427>=1),1,0)","v":0}]
[null,null,null,null,null,"Action Item",null,null,null,null,null,null,null,null,null,null,null,null,null,null,null,null,{"$f":"IF(OR(G282<>\"\",$P$427>=2),1,0)","v":0}]
[null,null,null,null,null,null,null,null,null,null,null,null,null,null,null,null,null,null,null,null,null,null,{"$f":"IF(OR(G282<>\"\",$P$427>=2),1,0)","v":0}]
[null,null,null,null,null,null,null,null,null,null,null,null,null,null,null,null,null,null,null,null,null,null,{"$f":"IF(OR(G282<>\"\",$P$427>=2),1,0)","v":0}]
[null,null,null,null,null,"Action Item",null,null,null,null,null,null,null,null,null,null,null,null,null,null,null,null,{"$f":"IF(OR(G285<>\"\",$P$427>=3),1,0)","v":0}]
[null,null,null,null,null,null,null,null,null,null,null,null,null,null,null,null,null,null,null,null,null,null,{"$f":"IF(OR(G285<>\"\",$P$427>=3),1,0)","v":0}]
[null,null,null,null,null,null,null,null,null,null,null,null,null,null,null,null,null,null,null,null,null,null,{"$f":"IF(OR(G285<>\"\",$P$427>=3),1,0)","v":0}]
[null,null,null,null,null,"Action Item",null,null,null,null,null,null,null,null,null,null,null,null,null,null,null,null,{"$f":"IF(OR(G288<>\"\",$P$427>=4),1,0)","v":0}]
[null,null,null,null,null,null,null,null,null,null,null,null,null,null,null,null,null,null,null,null,null,null,{"$f":"IF(OR(G288<>\"\",$P$427>=4),1,0)","v":0}]
[null,null,null,null,null,null,null,null,null,null,null,null,null,null,null,null,null,null,null,null,null,null,{"$f":"IF(OR(G288<>\"\",$P$427>=4),1,0)","v":0}]
[null,null,null,null,null,"Action Item",null,null,null,null,null,null,null,null,null,null,null,null,null,null,null,null,{"$f":"IF(OR(G291<>\"\",$P$427>=5),1,0)","v":0}]
[null,null,null,null,null,null,null,null,null,null,null,null,null,null,null,null,null,null,null,null,null,null,{"$f":"IF(OR(G291<>\"\",$P$427>=5),1,0)","v":0}]
[null,null,null,null,null,null,null,null,null,null,null,null,null,null,null,null,null,null,null,null,null,null,{"$f":"IF(OR(G291<>\"\",$P$427>=5),1,0)","v":0}]
[null,null,null,"Strategic Element",null,null,null,null,null,null,null,null,null,null,null,"Include",null,null,null,null,null,null,{"$f":"IF(OR(E295<>\"\",$P$418>=10),1,0)","v":0}]
[null,null,null,"Objective",null,null,null,null,null,null,null,null,null,null,null,null,null,null,null,null,null,null,{"$f":"IF(OR(E295<>\"\",$P$418>=10),1,0)","v":0}]
[null,null,null,null,null,null,null,null,null,null,null,null,null,null,null,null,null,null,null,null,null,null,{"$f":"IF(OR(E295<>\"\",$P$418>=10),1,0)","v":0}]
[null,null,null,null,null,null,null,null,null,null,null,null,null,null,null,null,null,null,null,null,null,null,{"$f":"IF(OR(E295<>\"\",$P$418>=10),1,0)","v":0}]
[null,null,null,null,null,"Action Item",null,null,null,null,null,null,null,null,null,null,null,null,null,null,null,null,{"$f":"IF(OR(G298<>\"\",$P$428>=1),1,0)","v":0}]
[null,null,null,null,null,null,null,null,null,null,null,null,null,null,null,null,null,null,null,null,null,null,{"$f":"IF(OR(G298<>\"\",$P$428>=1),1,0)","v":0}]
[null,null,null,null,null,null,null,null,null,null,null,null,null,null,null,null,null,null,null,null,null,null,{"$f":"IF(OR(G298<>\"\",$P$428>=1),1,0)","v":0}]
[null,null,null,null,null,"Action Item",null,null,null,null,null,null,null,null,null,null,null,null,null,null,null,null,{"$f":"IF(OR(G301<>\"\",$P$428>=2),1,0)","v":0}]
[null,null,null,null,null,null,null,null,null,null,null,null,null,null,null,null,null,null,null,null,null,null,{"$f":"IF(OR(G301<>\"\",$P$428>=2),1,0)","v":0}]
[null,null,null,null,null,null,null,null,null,null,null,null,null,null,null,null,null,null,null,null,null,null,{"$f":"IF(OR(G301<>\"\",$P$428>=2),1,0)","v":0}]
[null,null,null,null,null,"Action Item",null,null,null,null,null,null,null,null,null,null,null,null,null,null,null,null,{"$f":"IF(OR(G304<>\"\",$P$428>=3),1,0)","v":0}]
[null,null,null,null,null,null,null,null,null,null,null,null,null,null,null,null,null,null,null,null,null,null,{"$f":"IF(OR(G304<>\"\",$P$428>=3),1,0)","v":0}]
[null,null,null,null,null,null,null,null,null,null,null,null,null,null,null,null,null,null,null,null,null,null,{"$f":"IF(OR(G304<>\"\",$P$428>=3),1,0)","v":0}]
[null,null,null,null,null,"Action Item",null,null,null,null,null,null,null,null,null,null,null,null,null,null,null,null,{"$f":"IF(OR(G307<>\"\",$P$428>=4),1,0)","v":0}]
[null,null,null,null,null,null,null,null,null,null,null,null,null,null,null,null,null,null,null,null,null,null,{"$f":"IF(OR(G307<>\"\",$P$428>=4),1,0)","v":0}]
[null,null,null,null,null,null,null,null,null,null,null,null,null,null,null,null,null,null,null,null,null,null,{"$f":"IF(OR(G307<>\"\",$P$428>=4),1,0)","v":0}]
[null,null,null,null,null,"Action Item",null,null,null,null,null,null,null,null,null,null,null,null,null,null,null,null,{"$f":"IF(OR(G310<>\"\",$P$428>=5),1,0)","v":0}]
[null,null,null,null,null,null,null,null,null,null,null,null,null,null,null,null,null,null,null,null,null,null,{"$f":"IF(OR(G310<>\"\",$P$428>=5),1,0)","v":0}]
[null,null,null,null,null,null,null,null,null,null,null,null,null,null,null,null,null,null,null,null,null,null,{"$f":"IF(OR(G310<>\"\",$P$428>=5),1,0)","v":0}]
[null,null,null,"Strategic Element",null,null,null,null,null,null,null,null,null,null,null,"Include",null,null,null,null,null,null,{"$f":"IF(OR(E314<>\"\",$P$418>=11),1,0)","v":0}]
[null,null,null,"Objective",null,null,null,null,null,null,null,null,null,null,null,null,null,null,null,null,null,null,{"$f":"IF(OR(E314<>\"\",$P$418>=11),1,0)","v":0}]
[null,null,null,null,null,null,null,null,null,null,null,null,null,null,null,null,null,null,null,null,null,null,{"$f":"IF(OR(E314<>\"\",$P$418>=11),1,0)","v":0}]
[null,null,null,null,null,null,null,null,null,null,null,null,null,null,null,null,null,null,null,null,null,null,{"$f":"IF(OR(E314<>\"\",$P$418>=11),1,0)","v":0}]
[null,null,null,null,null,"Action Item",null,null,null,null,null,null,null,null,null,null,null,null,null,null,null,null,{"$f":"IF(OR(G317<>\"\",$P$429>=1),1,0)","v":0}]
[null,null,null,null,null,null,null,null,null,null,null,null,null,null,null,null,null,null,null,null,null,null,{"$f":"IF(OR(G317<>\"\",$P$429>=1),1,0)","v":0}]
[null,null,null,null,null,null,null,null,null,null,null,null,null,null,null,null,null,null,null,null,null,null,{"$f":"IF(OR(G317<>\"\",$P$429>=1),1,0)","v":0}]
[null,null,null,null,null,"Action Item",null,null,null,null,null,null,null,null,null,null,null,null,null,null,null,null,{"$f":"IF(OR(G320<>\"\",$P$429>=2),1,0)","v":0}]
[null,null,null,null,null,null,null,null,null,null,null,null,null,null,null,null,null,null,null,null,null,null,{"$f":"IF(OR(G320<>\"\",$P$429>=2),1,0)","v":0}]
[null,null,null,null,null,null,null,null,null,null,null,null,null,null,null,null,null,null,null,null,null,null,{"$f":"IF(OR(G320<>\"\",$P$429>=2),1,0)","v":0}]
[null,null,null,null,null,"Action Item",null,null,null,null,null,null,null,null,null,null,null,null,null,null,null,null,{"$f":"IF(OR(G323<>\"\",$P$429>=3),1,0)","v":0}]
[null,null,null,null,null,null,null,null,null,null,null,null,null,null,null,null,null,null,null,null,null,null,{"$f":"IF(OR(G323<>\"\",$P$429>=3),1,0)","v":0}]
[null,null,null,null,null,null,null,null,null,null,null,null,null,null,null,null,null,null,null,null,null,null,{"$f":"IF(OR(G323<>\"\",$P$429>=3),1,0)","v":0}]
[null,null,null,null,null,"Action Item",null,null,null,null,null,null,null,null,null,null,null,null,null,null,null,null,{"$f":"IF(OR(G326<>\"\",$P$429>=4),1,0)","v":0}]
[null,null,null,null,null,null,null,null,null,null,null,null,null,null,null,null,null,null,null,null,null,null,{"$f":"IF(OR(G326<>\"\",$P$429>=4),1,0)","v":0}]
[null,null,null,null,null,null,null,null,null,null,null,null,null,null,null,null,null,null,null,null,null,null,{"$f":"IF(OR(G326<>\"\",$P$429>=4),1,0)","v":0}]
[null,null,null,null,null,"Action Item",null,null,null,null,null,null,null,null,null,null,null,null,null,null,null,null,{"$f":"IF(OR(G329<>\"\",$P$429>=5),1,0)","v":0}]
[null,null,null,null,null,null,null,null,null,null,null,null,null,null,null,null,null,null,null,null,null,null,{"$f":"IF(OR(G329<>\"\",$P$429>=5),1,0)","v":0}]
[null,null,null,null,null,null,null,null,null,null,null,null,null,null,null,null,null,null,null,null,null,null,{"$f":"IF(OR(G329<>\"\",$P$429>=5),1,0)","v":0}]
[null,null,null,"Strategic Element",null,null,null,null,null,null,null,null,null,null,null,"Include",null,null,null,null,null,null,{"$f":"IF(OR(E333<>\"\",$P$418>=12),1,0)","v":0}]
[null,null,null,"Objective",null,null,null,null,null,null,null,null,null,null,null,null,null,null,null,null,null,null,{"$f":"IF(OR(E333<>\"\",$P$418>=12),1,0)","v":0}]
[null,null,null,null,null,null,null,null,null,null,null,null,null,null,null,null,null,null,null,null,null,null,{"$f":"IF(OR(E333<>\"\",$P$418>=12),1,0)","v":0}]
[null,null,null,null,null,null,null,null,null,null,null,null,null,null,null,null,null,null,null,null,null,null,{"$f":"IF(OR(E333<>\"\",$P$418>=12),1,0)","v":0}]
[null,null,null,null,null,"Action Item",null,null,null,null,null,null,null,null,null,null,null,null,null,null,null,null,{"$f":"IF(OR(G336<>\"\",$P$430>=1),1,0)","v":0}]
[null,null,null,null,null,null,null,null,null,null,null,null,null,null,null,null,null,null,null,null,null,null,{"$f":"IF(OR(G336<>\"\",$P$430>=1),1,0)","v":0}]
[null,null,null,null,null,null,null,null,null,null,null,null,null,null,null,null,null,null,null,null,null,null,{"$f":"IF(OR(G336<>\"\",$P$430>=1),1,0)","v":0}]
[null,null,null,null,null,"Action Item",null,null,null,null,null,null,null,null,null,null,null,null,null,null,null,null,{"$f":"IF(OR(G339<>\"\",$P$430>=2),1,0)","v":0}]
[null,null,null,null,null,null,null,null,null,null,null,null,null,null,null,null,null,null,null,null,null,null,{"$f":"IF(OR(G339<>\"\",$P$430>=2),1,0)","v":0}]
[null,null,null,null,null,null,null,null,null,null,null,null,null,null,null,null,null,null,null,null,null,null,{"$f":"IF(OR(G339<>\"\",$P$430>=2),1,0)","v":0}]
[null,null,null,null,null,"Action Item",null,null,null,null,null,null,null,null,null,null,null,null,null,null,null,null,{"$f":"IF(OR(G342<>\"\",$P$430>=3),1,0)","v":0}]
[null,null,null,null,null,null,null,null,null,null,null,null,null,null,null,null,null,null,null,null,null,null,{"$f":"IF(OR(G342<>\"\",$P$430>=3),1,0)","v":0}]
[null,null,null,null,null,null,null,null,null,null,null,null,null,null,null,null,null,null,null,null,null,null,{"$f":"IF(OR(G342<>\"\",$P$430>=3),1,0)","v":0}]
[null,null,null,null,null,"Action Item",null,null,null,null,null,null,null,null,null,null,null,null,null,null,null,null,{"$f":"IF(OR(G345<>\"\",$P$430>=4),1,0)","v":0}]
[null,null,null,null,null,null,null,null,null,null,null,null,null,null,null,null,null,null,null,null,null,null,{"$f":"IF(OR(G345<>\"\",$P$430>=4),1,0)","v":0}]
[null,null,null,null,null,null,null,null,null,null,null,null,null,null,null,null,null,null,null,null,null,null,{"$f":"IF(OR(G345<>\"\",$P$430>=4),1,0)","v":0}]
[null,null,null,null,null,"Action Item",null,null,null,null,null,null,null,null,null,null,null,null,null,null,null,null,{"$f":"IF(OR(G348<>\"\",$P$430>=5),1,0)","v":0}]
[null,null,null,null,null,null,null,null,null,null,null,null,null,null,null,null,null,null,null,null,null,null,{"$f":"IF(OR(G348<>\"\",$P$430>=5),1,0)","v":0}]
[null,null,null,null,null,null,null,null,null,null,null,null,null,null,null,null,null,null,null,null,null,null,{"$f":"IF(OR(G348<>\"\",$P$430>=5),1,0)","v":0}]
[null,null,null,"Strategic Element",null,null,null,null,null,null,null,null,null,null,null,"Include",null,null,null,null,null,null,{"$f":"IF(OR(E352<>\"\",$P$418>=13),1,0)","v":0}]
[null,null,null,"Objective",null,null,null,null,null,null,null,null,null,null,null,null,null,null,null,null,null,null,{"$f":"IF(OR(E352<>\"\",$P$418>=13),1,0)","v":0}]
[null,null,null,null,null,null,null,null,null,null,null,null,null,null,null,null,null,null,null,null,null,null,{"$f":"IF(OR(E352<>\"\",$P$418>=13),1,0)","v":0}]
[null,null,null,null,null,null,null,null,null,null,null,null,null,null,null,null,null,null,null,null,null,null,{"$f":"IF(OR(E352<>\"\",$P$418>=13),1,0)","v":0}]
[null,null,null,null,null,"Action Item",null,null,null,null,null,null,null,null,null,null,null,null,null,null,null,null,{"$f":"IF(OR(G355<>\"\",$P$431>=1),1,0)","v":0}]
[null,null,null,null,null,null,null,null,null,null,null,null,null,null,null,null,null,null,null,null,null,null,{"$f":"IF(OR(G355<>\"\",$P$431>=1),1,0)","v":0}]
[null,null,null,null,null,null,null,null,null,null,null,null,null,null,null,null,null,null,null,null,null,null,{"$f":"IF(OR(G355<>\"\",$P$431>=1),1,0)","v":0}]
[null,null,null,null,null,"Action Item",null,null,null,null,null,null,null,null,null,null,null,null,null,null,null,null,{"$f":"IF(OR(G358<>\"\",$P$431>=2),1,0)","v":0}]
[null,null,null,null,null,null,null,null,null,null,null,null,null,null,null,null,null,null,null,null,null,null,{"$f":"IF(OR(G358<>\"\",$P$431>=2),1,0)","v":0}]
[null,null,null,null,null,null,null,null,null,null,null,null,null,null,null,null,null,null,null,null,null,null,{"$f":"IF(OR(G358<>\"\",$P$431>=2),1,0)","v":0}]
[null,null,null,null,null,"Action Item",null,null,null,null,null,null,null,null,null,null,null,null,null,null,null,null,{"$f":"IF(OR(G361<>\"\",$P$431>=3),1,0)","v":0}]
[null,null,null,null,null,null,null,null,null,null,null,null,null,null,null,null,null,null,null,null,null,null,{"$f":"IF(OR(G361<>\"\",$P$431>=3),1,0)","v":0}]
[null,null,null,null,null,null,null,null,null,null,null,null,null,null,null,null,null,null,null,null,null,null,{"$f":"IF(OR(G361<>\"\",$P$431>=3),1,0)","v":0}]
[null,null,null,null,null,"Action Item",null,null,null,null,null,null,null,null,null,null,null,null,null,null,null,null,{"$f":"IF(OR(G364<>\"\",$P$431>=4),1,0)","v":0}]
[null,null,null,null,null,null,null,null,null,null,null,null,null,null,null,null,null,null,null,null,null,null,{"$f":"IF(OR(G364<>\"\",$P$431>=4),1,0)","v":0}]
[null,null,null,null,null,null,null,null,null,null,null,null,null,null,null,null,null,null,null,null,null,null,{"$f":"IF(OR(G364<>\"\",$P$431>=4),1,0)","v":0}]
[null,null,null,null,null,"Action Item",null,null,null,null,null,null,null,null,null,null,null,null,null,null,null,null,{"$f":"IF(OR(G367<>\"\",$P$431>=5),1,0)","v":0}]
[null,null,null,null,null,null,null,null,null,null,null,null,null,null,null,null,null,null,null,null,null,null,{"$f":"IF(OR(G367<>\"\",$P$431>=5),1,0)","v":0}]
[null,null,null,null,null,null,null,null,null,null,null,null,null,null,null,null,null,null,null,null,null,null,{"$f":"IF(OR(G367<>\"\",$P$431>=5),1,0)","v":0}]
[null,null,null,"Strategic Element",null,null,null,null,null,null,null,null,null,null,null,"Include",null,null,null,null,null,null,{"$f":"IF(OR(E371<>\"\",$P$418>=14),1,0)","v":0}]
[null,null,null,"Objective",null,null,null,null,null,null,null,null,null,null,null,null,null,null,null,null,null,null,{"$f":"IF(OR(E371<>\"\",$P$418>=14),1,0)","v":0}]
[null,null,null,null,null,null,null,null,null,null,null,null,null,null,null,null,null,null,null,null,null,null,{"$f":"IF(OR(E371<>\"\",$P$418>=14),1,0)","v":0}]
[null,null,null,null,null,null,null,null,null,null,null,null,null,null,null,null,null,null,null,null,null,null,{"$f":"IF(OR(E371<>\"\",$P$418>=14),1,0)","v":0}]
[null,null,null,null,null,"Action Item",null,null,null,null,null,null,null,null,null,null,null,null,null,null,null,null,{"$f":"IF(OR(G374<>\"\",$P$432>=1),1,0)","v":0}]
[null,null,null,null,null,null,null,null,null,null,null,null,null,null,null,null,null,null,null,null,null,null,{"$f":"IF(OR(G374<>\"\",$P$432>=1),1,0)","v":0}]
[null,null,null,null,null,null,null,null,null,null,null,null,null,null,null,null,null,null,null,null,null,null,{"$f":"IF(OR(G374<>\"\",$P$432>=1),1,0)","v":0}]
[null,null,null,null,null,"Action Item",null,null,null,null,null,null,null,null,null,null,null,null,null,null,null,null,{"$f":"IF(OR(G377<>\"\",$P$432>=2),1,0)","v":0}]
[null,null,null,null,null,null,null,null,null,null,null,null,null,null,null,null,null,null,null,null,null,null,{"$f":"IF(OR(G377<>\"\",$P$432>=2),1,0)","v":0}]
[null,null,null,null,null,null,null,null,null,null,null,null,null,null,null,null,null,null,null,null,null,null,{"$f":"IF(OR(G377<>\"\",$P$432>=2),1,0)","v":0}]
[null,null,null,null,null,"Action Item",null,null,null,null,null,null,null,null,null,null,null,null,null,null,null,null,{"$f":"IF(OR(G380<>\"\",$P$432>=3),1,0)","v":0}]
[null,null,null,null,null,null,null,null,null,null,null,null,null,null,null,null,null,null,null,null,null,null,{"$f":"IF(OR(G380<>\"\",$P$432>=3),1,0)","v":0}]
[null,null,null,null,null,null,null,null,null,null,null,null,null,null,null,null,null,null,null,null,null,null,{"$f":"IF(OR(G380<>\"\",$P$432>=3),1,0)","v":0}]
[null,null,null,null,null,"Action Item",null,null,null,null,null,null,null,null,null,null,null,null,null,null,null,null,{"$f":"IF(OR(G383<>\"\",$P$432>=4),1,0)","v":0}]
[null,null,null,null,null,null,null,null,null,null,null,null,null,null,null,null,null,null,null,null,null,null,{"$f":"IF(OR(G383<>\"\",$P$432>=4),1,0)","v":0}]
[null,null,null,null,null,null,null,null,null,null,null,null,null,null,null,null,null,null,null,null,null,null,{"$f":"IF(OR(G383<>\"\",$P$432>=4),1,0)","v":0}]
[null,null,null,null,null,"Action Item",null,null,null,null,null,null,null,null,null,null,null,null,null,null,null,null,{"$f":"IF(OR(G386<>\"\",$P$432>=5),1,0)","v":0}]
[null,null,null,null,null,null,null,null,null,null,null,null,null,null,null,null,null,null,null,null,null,null,{"$f":"IF(OR(G386<>\"\",$P$432>=5),1,0)","v":0}]
[null,null,null,null,null,null,null,null,null,null,null,null,null,null,null,null,null,null,null,null,null,null,{"$f":"IF(OR(G386<>\"\",$P$432>=5),1,0)","v":0}]
[null,null,null,"Strategic Element",null,null,null,null,null,null,null,null,null,null,null,"Include",null,null,null,null,null,null,{"$f":"IF(OR(E390<>\"\",$P$418>=15),1,0)","v":0}]
[null,null,null,"Objective",null,null,null,null,null,null,null,null,null,null,null,null,null,null,null,null,null,null,{"$f":"IF(OR(E390<>\"\",$P$418>=15),1,0)","v":0}]
[null,null,null,null,null,null,null,null,null,null,null,null,null,null,null,null,null,null,null,null,null,null,{"$f":"IF(OR(E390<>\"\",$P$418>=15),1,0)","v":0}]
[null,null,null,null,null,null,null,null,null,null,null,null,null,null,null,null,null,null,null,null,null,null,{"$f":"IF(OR(E390<>\"\",$P$418>=15),1,0)","v":0}]
[null,null,null,null,null,"Action Item",null,null,null,null,null,null,null,null,null,null,null,null,null,null,null,null,{"$f":"IF(OR(G393<>\"\",$P$433>=1),1,0)","v":0}]
[null,null,null,null,null,null,null,null,null,null,null,null,null,null,null,null,null,null,null,null,null,null,{"$f":"IF(OR(G393<>\"\",$P$433>=1),1,0)","v":0}]
[null,null,null,null,null,null,null,null,null,null,null,null,null,null,null,null,null,null,null,null,null,null,{"$f":"IF(OR(G393<>\"\",$P$433>=1),1,0)","v":0}]
[null,null,null,null,null,"Action Item",null,null,null,null,null,null,null,null,null,null,null,null,null,null,null,null,{"$f":"IF(OR(G396<>\"\",$P$433>=2),1,0)","v":0}]
[null,null,null,null,null,null,null,null,null,null,null,null,null,null,null,null,null,null,null,null,null,null,{"$f":"IF(OR(G396<>\"\",$P$433>=2),1,0)","v":0}]
[null,null,null,null,null,null,null,null,null,null,null,null,null,null,null,null,null,null,null,null,null,null,{"$f":"IF(OR(G396<>\"\",$P$433>=2),1,0)","v":0}]
[null,null,null,null,null,"Action Item",null,null,null,null,null,null,null,null,null,null,null,null,null,null,null,null,{"$f":"IF(OR(G399<>\"\",$P$433>=3),1,0)","v":0}]
[null,null,null,null,null,null,null,null,null,null,null,null,null,null,null,null,null,null,null,null,null,null,{"$f":"IF(OR(G399<>\"\",$P$433>=3),1,0)","v":0}]
[null,null,null,null,null,null,null,null,null,null,null,null,null,null,null,null,null,null,null,null,null,null,{"$f":"IF(OR(G399<>\"\",$P$433>=3),1,0)","v":0}]
[null,null,null,null,null,"Action Item",null,null,null,null,null,null,null,null,null,null,null,null,null,null,null,null,{"$f":"IF(OR(G402<>\"\",$P$433>=4),1,0)","v":0}]
[null,null,null,null,null,null,null,null,null,null,null,null,null,null,null,null,null,null,null,null,null,null,{"$f":"IF(OR(G402<>\"\",$P$433>=4),1,0)","v":0}]
[null,null,null,null,null,null,null,null,null,null,null,null,null,null,null,null,null,null,null,null,null,null,{"$f":"IF(OR(G402<>\"\",$P$433>=4),1,0)","v":0}]
[null,null,null,null,null,"Action Item",null,null,null,null,null,null,null,null,null,null,null,null,null,null,null,null,{"$f":"IF(OR(G405<>\"\",$P$433>=5),1,0)","v":0}]
[null,null,null,null,null,null,null,null,null,null,null,null,null,null,null,null,null,null,null,null,null,null,{"$f":"IF(OR(G405<>\"\",$P$433>=5),1,0)","v":0}]
[null,null,null,null,null,null,null,null,null,null,null,null,null,null,null,null,null,null,null,null,null,null,{"$f":"IF(OR(G405<>\"\",$P$433>=5),1,0)","v":0}]
[null,null,null,null,null,null,null,null,null,null,null,null,null,null,null,null,null,null,null,null,null,null,1]
[null,null,null,null,null,null,null,null,null,null,null,null,null,null,null,null,null,null,null,null,null,null,1]
[null,null,null,"(Optional) Step 2(f-ii): Add Strategic Objectives or Action Items if not Using Macros",null,null,null,null,null,null,null,null,null,null,null,null,null,null,null,null,null,null,1]
[null,null,null,null,null,null,null,null,null,null,null,null,null,null,null,null,null,null,null,null,null,null,1]
[null,null,null,"If chosen not to use Macros or the data import process, please enter the total number of objectives and the total number of action items for each objective below for any items to be included in the assessment. The worksheet will then need to be filtered manually by going to cell \"W1\" and clicking the Filter Icon. This will display a menu where the checkbox next to \"0\" should be empty. If it is, click the \"OK\" button to display the objective and action item entry cells above. Enter the objective and action item information in the respective cells above.",null,null,null,null,null,null,null,null,null,null,null,null,null,null,null,null,null,null,1]
[null,null,null,null,null,null,null,null,null,null,null,null,null,null,null,null,null,null,null,null,null,null,1]
[null,null,null,null,null,null,null,null,null,null,null,null,null,null,null,null,null,null,null,null,null,null,1]
[null,null,null,null,null,null,null,null,null,null,null,null,null,null,null,null,null,null,null,null,null,null,1]
[null,null,null,null,null,null,null,null,null,null,null,null,null,null,null,null,null,null,null,null,null,null,1]
[null,null,null,null,null,null,null,null,null,null,null,null,null,null,null,null,null,null,null,null,null,null,1]
[null,null,null,null,null,null,null,null,null,null,null,null,null,null,"Total Objectives",null,null,null,null,null,null,null,1]
[null,null,null,null,null,null,null,null,null,null,null,null,null,null,"Total Objective 1 Action Items",null,null,null,null,null,null,null,1]
[null,null,null,null,null,null,null,null,null,null,null,null,null,null,"Total Objective 2 Action Items",null,null,null,null,null,null,null,1]
[null,null,null,null,null,null,null,null,null,null,null,null,null,null,"Total Objective 3 Action Items",null,null,null,null,null,null,null,1]
[null,null,null,null,null,null,null,null,null,null,null,null,null,null,"Total Objective 4 Action Items",null,null,null,null,null,null,null,1]
[null,null,null,null,null,null,null,null,null,null,null,null,null,null,"Total Objective 5 Action Items",null,null,null,null,null,null,null,1]
[null,null,null,null,null,null,null,null,null,null,null,null,null,null,"Total Objective 6 Action Items",null,null,null,null,null,null,null,1]
[null,null,null,null,null,null,null,null,null,null,null,null,null,null,"Total Objective 7 Action Items",null,null,null,null,null,null,null,1]
[null,null,null,null,null,null,null,null,null,null,null,null,null,null,"Total Objective 8 Action Items",null,null,null,null,null,null,null,1]
[null,null,null,null,null,null,null,null,null,null,null,null,null,null,"Total Objective 9 Action Items",null,null,null,null,null,null,null,1]
[null,null,null,null,null,null,null,null,null,null,null,null,null,null,"Total Objective 10 Action Items",null,null,null,null,null,null,null,1]
[null,null,null,null,null,null,null,null,null,null,null,null,null,null,"Total Objective 11 Action Items",null,null,null,null,null,null,null,1]
[null,null,null,null,null,null,null,null,null,null,null,null,null,null,"Total Objective 12 Action Items",null,null,null,null,null,null,null,1]
[null,null,null,null,null,null,null,null,null,null,null,null,null,null,"Total Objective 13 Action Items",null,null,null,null,null,null,null,1]
[null,null,null,null,null,null,null,null,null,null,null,null,null,null,"Total Objective 14 Action Items",null,null,null,null,null,null,null,1]
[null,null,null,null,null,null,null,null,null,null,null,null,null,null,"Total Objective 15 Action Items",null,null,null,null,null,null,null,1]
[null,null,null,null,null,null,null,null,null,null,null,null,null,null,null,null,null,null,null,null,null,null,1]
[null,null,null,null,null,null,null,null,null,null,null,null,null,null,null,null,null,null,null,null,null,null,1]
[null,null,"Step 2(g): Environment Questions",null,null,null,null,null,null,null,null,null,null,{"$f":"IF(COUNTBLANK(P442:P445)=0,\"Complete\",\"Incomplete\")","v":"Incomplete"},null,null,null,null,null,null,null,null,1]
[null,null,null,null,null,null,null,null,null,null,null,null,null,null,null,null,null,null,null,null,null,null,1]
[null,null,"INSTRUCTIONS: Please indicate which questions below should be included in the assessment by selecting \"yes\" or \"no\" from the dropdown menu in the yellow boxes in the Include column.",null,null,null,null,null,null,null,null,null,null,null,null,null,null,null,null,null,null,null,1]
[null,null,null,null,null,null,null,null,null,null,null,null,null,null,null,null,null,null,null,null,null,null,1]
[null,null,null,null,null,null,null,null,null,null,null,null,null,null,null,null,null,null,null,null,null,null,1]
[null,null,null,"Question",null,null,null,null,null,null,null,null,null,null,null,"Include",null,null,null,null,null,null,1]
[null,null,null,"What is the degree potential social or demographic shifts could impact recruitment, retention, or development of this position?",null,null,null,null,null,null,null,null,null,null,null,null,null,null,null,null,null,null,1]
[null,null,null,"What is the degree potential new technology or innovations could impact recruitment, retention, or development of this position?",null,null,null,null,null,null,null,null,null,null,null,null,null,null,null,null,null,null,1]
[null,null,null,"What is the degree potential economic shifts could impact recruitment, retention, or development of this position?",null,null,null,null,null,null,null,null,null,null,null,null,null,null,null,null,null,null,1]
[null,null,null,"What is the degree potential political or regulatory shifts could impact recruitment, retention, or development of this position?",null,null,null,null,null,null,null,null,null,null,null,null,null,null,null,null,null,null,1]
[null,null,null,null,null,null,null,null,null,null,null,null,null,null,null,null,null,null,null,null,null,null,1]
[null,null,null,null,null,null,null,null,null,null,null,null,null,null,null,null,null,null,null,null,null,null,1]
[null,null,"Step 2(h): Position Specific Questions",null,null,null,null,null,null,null,null,null,null,{"$f":"IF(COUNTBLANK(P454:P454)=0,\"Complete\",\"Incomplete\")","v":"Incomplete"},null,null,null,null,null,null,null,null,1]
[null,null,null,null,null,null,null,null,null,null,null,null,null,null,null,null,null,null,null,null,null,null,1]
[null,null,"INSTRUCTIONS: Please indicate which questions below should be included in the assessment by selecting \"yes\" or \"no\" from the dropdown menu in the yellow boxes in the Include column.",null,null,null,null,null,null,null,null,null,null,null,null,null,null,null,null,null,null,null,1]
[null,null,null,null,null,null,null,null,null,null,null,null,null,null,null,null,null,null,null,null,null,null,1]
[null,null,null,null,null,null,null,null,null,null,null,null,null,null,null,null,null,null,null,null,null,null,1]
[null,null,null,"Question",null,null,null,null,null,null,null,null,null,null,null,"Include",null,null,null,null,null,null,1]
[null,null,null,"What is the degree this position performs specialized responsibilities? ",null,null,null,null,null,null,null,null,null,null,null,null,null,null,null,null,null,null,1]
[null,null,null,null,null,null,null,null,null,null,null,null,null,null,null,null,null,null,null,null,null,null,1]
[null,null,null,null,null,null,null,null,null,null,null,null,null,null,null,null,null,null,null,null,null,null,1]
[null,null,null,null,null,null,null,null,null,null,null,null,null,null,null,null,null,null,null,null,null,null,1]
[null,null,"(Optional) Step 2(i): Add Additional Questions",null,null,null,null,null,null,null,null,null,null,null,null,null,null,null,null,null,null,null,1]
[null,null,null,null,null,null,null,null,null,null,null,null,null,null,null,null,null,null,null,null,null,null,1]
[null,null,"INSTRUCTIONS: To add optional additional questions, click on the \"Add Question\" blue button and enter the question in the respective green box below. After entering the question, identify the type of scale for the question. More details on each scale can be found in Step 3. Up to 10 additional questions can be added.",null,null,null,null,null,null,null,null,null,null,null,null,null,null,null,null,null,null,null,1]
[null,null,null,null,null,null,null,null,null,null,null,null,null,null,null,null,null,null,null,null,null,null,1]
[null,null,null,null,null,null,null,null,null,null,null,null,null,null,null,null,null,null,null,null,null,null,1]
[null,null,null,null,null,null,null,null,null,null,null,null,null,null,null,null,null,null,null,null,null,null,1]
[null,null,null,null,null,null,null,null,null,null,null,null,null,null,null,null,null,null,null,null,null,null,1]
[null,null,null,null,null,null,null,null,null,null,null,null,null,null,null,null,null,null,null,null,null,null,1]
[null,null,null,null,null,null,null,null,null,null,null,null,null,null,null,null,null,null,null,null,null,null,1]
[null,null,"Question",null,null,null,null,null,null,null,null,null,null,null,"Scale Type",null,null,null,null,null,null,null,{"$f":"IF('CENTRAL ANALYSIS'!$B$24>=1,1,0)","v":0}]
[null,null,null,null,null,null,null,null,null,null,null,null,null,null,null,null,null,null,null,null,null,null,{"$f":"IF('CENTRAL ANALYSIS'!$B$24>=1,1,0)","v":0}]
[null,null,null,null,null,null,null,null,null,null,null,null,null,null,null,null,null,null,null,null,null,null,{"$f":"IF('CENTRAL ANALYSIS'!$B$24>=2,1,0)","v":0}]
[null,null,null,null,null,null,null,null,null,null,null,null,null,null,null,null,null,null,null,null,null,null,{"$f":"IF('CENTRAL ANALYSIS'!$B$24>=3,1,0)","v":0}]
[null,null,null,null,null,null,null,null,null,null,null,null,null,null,null,null,null,null,null,null,null,null,{"$f":"IF('CENTRAL ANALYSIS'!$B$24>=4,1,0)","v":0}]
[null,null,null,null,null,null,null,null,null,null,null,null,null,null,null,null,null,null,null,null,null,null,{"$f":"IF('CENTRAL ANALYSIS'!$B$24>=5,1,0)","v":0}]
[null,null,null,null,null,null,null,null,null,null,null,null,null,null,null,null,null,null,null,null,null,null,{"$f":"IF('CENTRAL ANALYSIS'!$B$24>=6,1,0)","v":0}]
[null,null,null,null,null,null,null,null,null,null,null,null,null,null,null,null,null,null,null,null,null,null,{"$f":"IF('CENTRAL ANALYSIS'!$B$24>=7,1,0)","v":0}]
[null,null,null,null,null,null,null,null,null,null,null,null,null,null,null,null,null,null,null,null,null,null,{"$f":"IF('CENTRAL ANALYSIS'!$B$24>=8,1,0)","v":0}]
[null,null,null,null,null,null,null,null,null,null,null,null,null,null,null,null,null,null,null,null,null,null,{"$f":"IF('CENTRAL ANALYSIS'!$B$24>=9,1,0)","v":0}]
[null,null,null,null,null,null,null,null,null,null,null,null,null,null,null,null,null,null,null,null,null,null,{"$f":"IF('CENTRAL ANALYSIS'!$B$24>=10,1,0)","v":0}]
[null,null,null,null,null,null,null,null,null,null,null,null,null,null,null,null,null,null,null,null,null,null,1]
[null,null,null,"(Optional) Step 2(i-i): Enter Additional Questions if Not Using Macros",null,null,null,null,null,null,null,null,null,null,null,null,null,null,null,null,null,null,1]
[null,null,null,null,null,null,null,null,null,null,null,null,null,null,null,null,null,null,null,null,null,null,1]
[null,null,null,"If chosen not to use Macros, please enter the total number of agency locations below. The worksheet will then need to be filtered manually by going to cell \"W1\" and clicking the Filter Icon. This will display a menu where the checkbox next to \"0\" should be empty. If it is, click the \"OK\" button to display the objective and action item entry cells above. Enter the agency location information in the cells above.",null,null,null,null,null,null,null,null,null,null,null,null,null,null,null,null,null,null,1]
[null,null,null,null,null,null,null,null,null,null,null,null,null,null,null,null,null,null,null,null,null,null,1]
[null,null,null,null,null,null,null,null,null,null,null,null,null,null,null,null,null,null,null,null,null,null,1]
[null,null,null,null,null,null,null,null,null,null,null,null,null,null,null,null,null,null,null,null,null,null,1]
[null,null,null,null,null,null,null,null,null,null,null,null,null,null,"Total Number of Additional Questions (Max of 10)",null,null,null,null,null,null,null,1]
[null,null,null,null,null,null,null,null,null,null,null,null,null,null,null,null,null,null,null,null,null,null,1]
[null,null,null,"(Optional) Step 2(i-ii): Create an Additional Scale",null,null,null,null,null,null,null,null,null,null,null,null,null,null,null,null,null,null,1]
[null,null,null,null,null,null,null,null,null,null,null,null,null,null,null,null,null,null,null,null,null,null,1]
[null,null,null,"INSTRUCTIONS: To create a new scale for the additional questions, enter the data labels for each corresponding value (1 though 6) in the green boxes below. To utilize this scale for the question, ensure \"other\" is selected for the scale type above.",null,null,null,null,null,null,null,null,null,null,null,null,null,null,null,null,null,null,1]
[null,null,null,null,null,null,null,null,null,null,null,null,null,null,null,null,null,null,null,null,null,null,1]
[null,null,null,null,null,null,null,null,null,null,null,null,null,null,null,null,null,null,null,null,null,null,1]
[null,null,null,null,1,null,2,null,3,null,4,null,5,null,6,null,null,null,null,null,null,null,1]
[null,null,null,null,null,null,null,null,null,null,null,null,null,null,null,null,null,null,null,null,null,null,1]
[null,null,null,null,"Data Labels",null,"Data Labels",null,"Data Labels",null,"Data Labels",null,"Data Labels",null,"Data Labels",null,null,null,null,null,null,null,1]
[null,null,null,{"$f":"COUNTIF(O468:P477,\"other\")","v":0},null,null,null,null,null,null,null,null,null,null,null,null,null,null,null,null,null,null,1]
[null,null,null,null,null,null,null,null,null,null,null,null,null,null,null,null,null,null,null,null,null,null,1]
[null,null,null,null,null,null,null,null,null,null,null,null,null,null,null,null,null,null,null,null,null,null,1]
[null,"(Optional) Step 3: Add Closing Remarks or Additional Instructions",null,null,null,null,null,null,null,null,null,null,null,null,null,null,null,null,null,null,null,null,1]
[null,null,null,null,null,null,null,null,null,null,null,null,null,null,null,null,null,null,null,null,null,null,1]
[null,"INSTRUCTIONS: Additional instructions, next steps, or other remarks can be added at the end of the assessment by entering the information into the green box below. It is highly encouraged if the assessment is being shared with others to complete this section. ",null,null,null,null,null,null,null,null,null,null,null,null,null,null,null,null,null,null,null,null,1]
[null,null,null,null,null,null,null,null,null,null,null,null,null,null,null,null,null,null,null,null,null,null,1]
[null,null,null,null,null,null,null,null,null,null,null,null,null,null,null,null,null,null,null,null,null,null,1]
[null,null,null,null,null,null,null,null,null,null,null,null,null,null,null,null,null,null,null,null,null,null,1]
[null,null,null,null,null,null,null,null,null,null,null,null,null,null,null,null,null,null,null,null,null,null,1]
[null,null,null,null,null,null,null,null,null,null,null,null,null,null,null,null,null,null,null,null,null,null,1]
[null,null,null,null,null,null,null,null,null,null,null,null,null,null,null,null,null,null,null,null,null,null,1]
[null,null,null,null,null,null,null,null,null,null,null,null,null,null,null,null,null,null,null,null,null,null,1]
[null,null,null,null,null,null,null,null,null,null,null,null,null,null,null,null,null,null,null,null,null,null,1]
[null,null,null,null,null,null,null,null,null,null,null,null,null,null,null,null,null,null,null,null,null,null,1]
[null,null,null,null,null,null,null,null,null,null,null,null,null,null,null,null,null,null,null,null,null,null,1]
[null,"Step 4: Set Assessment Parameters",null,null,null,null,null,null,null,null,null,null,null,{"$f":"IF(N545=\"complete\",\"Complete\",\"Incomplete\")","v":"Incomplete"},null,null,null,null,null,null,null,null,1]
[null,null,null,null,null,null,null,null,null,null,null,null,null,null,null,null,null,null,null,null,null,null,1]
[null,"INSTRUCTIONS: Review how the assessment calculates a score for the questions and then identify an overall score for a position to be identified as a critical roles. Parameters can also be set for each category to be either in addition to (assessment has to meet both) or alongside (assessment has to meet one or the other the overall score. ",null,null,null,null,null,null,null,null,null,null,null,null,null,null,null,null,null,null,null,null,1]
[null,null,null,null,null,null,null,null,null,null,null,null,null,null,null,null,null,null,null,null,null,null,1]
[null,null,null,null,null,null,null,null,null,null,null,null,null,null,null,null,null,null,null,null,null,null,1]
[null,null,null,null,null,null,null,null,null,null,null,null,null,null,null,null,null,null,null,null,null,null,1]
[null,"Most questions utilize a 6 point scale, which each label assigned a numerical value of 1 through 6. Some questions are a \"Yes\"/\"No\" answer, which correspond to a 1 (No) and 6 (Yes). ",null,null,null,null,null,null,null,null,null,null,null,null,null,null,null,null,null,null,null,null,1]
[null,null,null,null,null,null,null,null,null,null,null,null,null,null,null,null,null,null,null,null,null,null,1]
[null,null,null,null,null,null,null,null,null,null,null,null,null,null,null,null,null,null,null,null,null,null,1]
[null,null,null,null,1,null,2,null,3,null,4,null,5,null,6,null,null,null,null,null,null,null,1]
[null,null,null,null,null,null,null,null,null,null,null,null,null,null,null,null,null,null,null,null,null,null,1]
[null,null,"Question Type",null,"Data Labels",null,"Data Labels",null,"Data Labels",null,"Data Labels",null,"Data Labels",null,"Data Labels",null,null,null,null,null,null,null,1]
[null,null,"Likelihood…",null,"Very Unlikely",null,"Unlikely",null,"Somewhat Unlikely",null,"Somewhat Likely",null,"Likely",null,"Very Likely",null,null,null,null,null,null,null,1]
[null,null,"Degree…",null,"Very Low",null,"Low",null,"Medium-Low",null,"Medium-High",null,"High",null,"Very High",null,null,null,null,null,null,null,1]
[null,null,"Strength…",null,"Very Weak",null,"Weak",null,"Somewhat Weak",null,"Somewhat Strong",null,"Strong",null,"Very Strong",null,null,null,null,null,null,null,1]
[null,null,"Agree/Disagree",null,"Strongly Disagree",null,"Disagree",null,"Somewhat Disagree",null,"Somewhat Agree",null,"Agree",null,"Strongly Agree",null,null,null,null,null,null,null,1]
[null,null,"Yes/No",null,"No",null,null,null,null,null,null,null,null,null,"Yes",null,null,null,null,null,null,null,1]
[null,null,"Other",null,{"$f":"IF(E495<>\"\",E495,\"\")","v":""},null,{"$f":"IF(G495<>\"\",G495,\"\")","v":""},null,{"$f":"IF(I495<>\"\",I495,\"\")","v":""},null,{"$f":"IF(K495<>\"\",K495,\"\")","v":""},null,{"$f":"IF(M495<>\"\",M495,\"\")","v":""},null,{"$f":"IF(O495<>\"\",O495,\"\")","v":""},null,null,null,null,null,null,null,1]
[null,null,null,null,null,null,null,null,null,null,null,null,null,null,null,null,null,null,null,null,null,null,1]
[null,"A score for each category is calculated by adding the scores of all questions within the category. An overall score is then calculated by adding all scores for each category together. ",null,null,null,null,null,null,null,null,null,null,null,null,null,null,null,null,null,null,null,null,1]
[null,null,null,null,null,null,null,null,null,null,null,null,null,null,null,null,null,null,null,null,null,null,1]
[null,null,null,null,null,null,null,null,null,null,null,null,null,null,null,null,null,null,null,null,null,null,1]
[null,null,null,null,null,null,"Score",null,null,null,null,null,null,null,null,null,null,null,null,null,null,null,1]
[null,null,null,null,null,"Vacancy Risk Score",5,null,null,null,"Overall Score",null,null,null,null,null,null,null,null,null,null,null,1]
[null,null,null,null,null,"Recruitment Score",4,null,null,null,{"$f":"SUM(G534:G542)","v":36},null,null,null,null,null,null,null,null,null,null,null,1]
[null,null,null,null,null,"Knowledge Management Score",3,null,null,null,null,null,null,null,null,null,null,null,null,null,null,null,1]
[null,null,null,null,null,"Learning and Development Score",6,null,null,null,null,null,null,null,null,null,null,null,null,null,null,null,1]
[null,null,null,null,null,"Operational Impact Score",1,null,null,null,null,null,null,null,null,null,null,null,null,null,null,null,1]
[null,null,null,null,null,"Strategic Objectives Impact Score",5,null,null,null,null,null,null,null,null,null,null,null,null,null,null,null,1]
[null,null,null,null,null,"Impact from Environment Score",6,null,null,null,null,null,null,null,null,null,null,null,null,null,null,null,1]
[null,null,null,null,null,"Position Specific Elements Score",4,null,null,null,null,null,null,null,null,null,null,null,null,null,null,null,1]
[null,null,null,null,null,"Additional Questions Score",2,null,null,null,null,null,null,null,null,null,null,null,null,null,null,null,1]
[null,null,null,null,null,null,null,null,null,null,null,null,null,null,null,null,null,null,null,null,null,null,1]
[null,null,null,null,null,null,null,null,null,null,null,null,null,null,null,null,null,null,null,null,null,null,1]
[null,null,"Step 4(a): Identify Overall Minimum Score for Critical Roles",null,null,null,null,null,null,null,null,null,null,{"$f":"IF(COUNTBLANK(P551)=0,\"Complete\",\"Incomplete\")","v":"Incomplete"},null,null,null,null,null,null,null,null,1]
[null,null,null,null,null,null,null,null,null,null,null,null,null,null,null,null,null,null,null,null,null,null,1]
[null,null,"INSTRUCTIONS: Please indicate a minimum score for a role to be identified as critical by entering the number in the yellow box below. A calculation of the maximum number based on the selected questions is provided. ",null,null,null,null,null,null,null,null,null,null,null,null,null,null,null,null,null,null,null,1]
[null,null,null,null,null,null,null,null,null,null,null,null,null,null,null,null,null,null,null,null,null,null,1]
[null,null,null,null,null,null,null,null,null,null,null,null,null,null,null,null,null,null,null,null,null,null,1]
[null,null,null,null,null,null,null,null,null,null,null,null,null,null,"Max score based on the questions selected",{"$f":"(COUNTIF(P46:P51,\"yes\")+COUNTIF(P60:P62,\"yes\")+COUNTIF(P71:P73,\"yes\")+COUNTIF(P82:P88,\"yes\")+COUNTIF(P97:P103,\"yes\")+COUNTIF(P112:P112,\"yes\")+COUNTIF(P124:P407,\"yes\")+COUNTIF(P442:P445,\"yes\")+COUNTIF(P454:P454,\"yes\")+COUNTA(O468:P477))*6","v":0},null,null,null,null,null,null,1]
[null,null,null,null,null,null,null,null,null,null,null,null,null,null,"Total Minimum Score to be identified as Critical Role",null,null,null,null,null,null,null,1]
[null,null,null,null,null,null,null,null,null,null,null,null,null,null,null,null,null,null,null,null,null,null,1]
[null,null,null,"(Optional) Step 4(a-i): Identify Criticality by Category",null,null,null,null,null,null,null,null,null,null,null,null,null,null,null,null,null,null,1]
[null,null,null,null,null,null,null,null,null,null,null,null,null,null,null,null,null,null,null,null,null,null,1]
[null,null,null,"INSTRUCTIONS: In addition to the minimum overall score, critically can also be assessed based on scores for each respective category. To include the category score in the criticality calculation, identify if it is in addition to (and) or alongside (or) the minimum overall score then add the minimum score for the category in the green boxes below. A calculation of the maximum score based on the selected questions is provided for each category.",null,null,null,null,null,null,null,null,null,null,null,null,null,null,null,null,null,null,1]
[null,null,null,null,null,null,null,null,null,null,null,null,null,null,null,null,null,null,null,null,null,null,1]
[null,null,null,null,null,null,null,null,null,null,null,null,null,null,null,null,null,null,null,null,null,null,1]
[null,null,null,null,null,null,null,null,null,null,null,null,null,null,null,null,null,null,null,null,null,null,1]
[null,null,null,null,null,null,null,null,null,null,null,null,null,null,null,null,null,null,null,null,null,null,1]
[null,null,null,null,null,null,null,null,null,null,null,null,null,null,"Positions are identified as critical if they have an overall score greater than or equal to ",{"$f":"P551","v":0},null,null,null,null,null,null,1]
[null,null,null,null,"Vacancy Risk Max Score",{"$f":"IF(((COUNTIF(P46:P51,\"Yes\")-1)*6)<0,0,(COUNTIF(P46:P51,\"Yes\"))*6)","v":0},null,null,null,null,null,"a score of at least",null,null,"for Vacancy Risk",null,null,null,null,null,null,null,1]
[null,null,null,null,"Recruitment Max Score",{"$f":"IF(((COUNTIF(P60:P62,\"yes\")-1)*6)<0,0,((COUNTIF(P60:P62,\"yes\"))*6))","v":0},null,null,null,null,null,"a score of at least",null,null,"for Recruitment",null,null,null,null,null,null,null,1]
[null,null,null,null,"Knowledge Management Max Score",{"$f":"IF(((COUNTIF(P71:P73,\"yes\")-1)*6)<0,0,(COUNTIF(P71:P73,\"yes\"))*6)","v":0},null,null,null,null,null,"a score of at least",null,null,"for Knowledge Management",null,null,null,null,null,null,null,1]
[null,null,null,null,"Development Max Score",{"$f":"IF(((COUNTIF(P82:P88,\"yes\")-1)*6)<0,0,(COUNTIF(P82:P88,\"yes\"))*6)","v":0},null,null,null,null,null,"a score of at least",null,null,"for Development",null,null,null,null,null,null,null,1]
[null,null,null,null,"Operational Impact Max Score",{"$f":"IF(((COUNTIF(P97:P103,\"yes\")-1)*6)<0,0,(COUNTIF(P97:P103,\"yes\"))*6)","v":0},null,null,null,null,null,"a score of at least",null,null,"for Operational Impact",null,null,null,null,null,null,null,1]
[null,null,null,null,"Strategic Impact Max Score",{"$f":"((COUNTIF(P112:P112,\"yes\")+COUNTIF(P124:P407,\"yes\")))*6","v":0},null,null,null,null,null,"a score of at least",null,null,"for Strategic Impact",null,null,null,null,null,null,null,1]
[null,null,null,null,"Environment Max Score",{"$f":"IF(((COUNTIF(P442:P445,\"yes\")-1)*6)<0,0,(COUNTIF(P442:P445,\"yes\"))*6)","v":0},null,null,null,null,null,"a score of at least",null,null,"for Environment",null,null,null,null,null,null,null,1]
[null,null,null,null,"Position Elements Max Score",{"$f":"IF(((COUNTIF(P454:P454,\"yes\")-1)*6)<0,0,(COUNTIF(P454:P454,\"yes\"))*6)","v":0},null,null,null,null,null,"a score of at least",null,null,"for Position Elements",null,null,null,null,null,null,null,1]
[null,null,null,null,"Additional Questions Max Score",{"$f":"(COUNTIFS(O468:P477,\"<>\"&\"\")*6)","v":0},null,null,null,null,null,"a score of at least",null,null,"for the Additional Questions",null,null,null,null,null,null,null,1]
[null,null,null,null,null,null,null,null,null,null,null,null,null,null,null,null,null,null,null,null,null,null,1]
[null,null,null,null,null,null,null,null,null,null,null,null,null,null,null,null,null,null,null,null,null,null,1]
[null,"Step 5: Identify if the Assessment Result (Critical or Not Critical) Should Appear on Assessment",null,null,null,null,null,null,null,null,null,null,null,{"$f":"IF(P578<>\"\",\"Complete\",\"Incomplete\")","v":"Incomplete"},null,null,null,null,null,null,null,null,1]
[null,null,null,null,null,null,null,null,null,null,null,null,null,null,null,null,null,null,null,null,null,null,1]
[null,"INSTRUCTIONS: Please indicate the preference of whether the assessment result, indicating if the position is identified as a critical role based on the parameters identified in the previous step, should appear on the assessment by selecting either \"Yes\" or \"No\" in the yellow box below. ",null,null,null,null,null,null,null,null,null,null,null,null,null,null,null,null,null,null,null,null,1]
[null,null,null,null,null,null,null,null,null,null,null,null,null,null,null,null,null,null,null,null,null,null,1]
[null,null,null,null,null,null,null,null,null,null,null,null,null,null,null,null,null,null,null,null,null,null,1]
[null,null,null,null,null,null,null,null,null,null,null,null,null,null,null,null,null,null,null,null,null,null,1]
[null,null,null,null,null,null,null,null,null,null,null,null,null,null,"Show the assessment result at the bottom of the assessment?",null,null,null,null,null,null,null,1]
[null,null,null,null,null,null,null,null,null,null,null,null,null,null,null,null,null,null,null,null,null,null,1]
[null,null,null,null,null,null,null,null,null,null,null,null,null,null,null,null,null,null,null,null,null,null,1]
[null,"(Optional) Step 6: Check Spelling",null,null,null,null,null,null,null,null,null,null,null,null,null,null,null,null,null,null,null,null,1]
[null,null,null,null,null,null,null,null,null,null,null,null,null,null,null,null,null,null,null,null,null,null,1]
[null,"INSTRUCTIONS: To check the spelling of items on this tab, please click the blue \"Spell Check This Tab\" button below. Correcting the spelling on this tab will ensure the report is correct as well. ",null,null,null,null,null,null,null,null,null,null,null,null,null,null,null,null,null,null,null,null,1]
[null,null,null,null,null,null,null,null,null,null,null,null,null,null,null,null,null,null,null,null,null,null,1]
[null,null,null,null,null,null,null,null,null,null,null,null,null,null,null,null,null,null,null,null,null,null,1]
[null,null,null,null,null,null,null,null,null,null,null,null,null,null,null,null,null,null,null,null,null,null,1]
[null,null,null,null,null,null,null,null,null,null,null,null,null,null,null,null,null,null,null,null,null,null,1]
[null,null,null,null,null,null,null,null,null,null,null,null,null,null,null,null,null,null,null,null,null,null,1]
[null,null,null,null,null,null,null,null,null,null,null,null,null,null,null,null,null,null,null,null,null,null,1]
[null,"Step 7: Refresh the Assessment and Preview on Full Assessment Tab",null,null,null,null,null,null,null,null,null,null,null,null,null,null,null,null,null,null,null,null,1]
[null,null,null,null,null,null,null,null,null,null,null,null,null,null,null,null,null,null,null,null,null,null,1]
[null,"INSTRUCTIONS: If the cell below does not indicate the \"Assessment is up to date.\", click the blue button to refresh the assessment. The full assessment can be previewed on the \"Full Assessment\" Tab.",null,null,null,null,null,null,null,null,null,null,null,null,null,null,null,null,null,null,null,null,1]
[null,null,null,null,null,null,null,null,null,null,null,null,null,null,null,null,null,null,null,null,null,null,1]
[null,null,null,null,null,null,null,null,null,null,null,null,null,null,null,null,null,null,null,null,null,null,1]
[null,null,null,{"$f":"IF(SUM('FULL ASSESSMENT'!$AF$1:$AF$706)=SUBTOTAL(103,'FULL ASSESSMENT'!$AF$1:$AF$706),\"The Assessment is Up to Date.\",\"The Assessment Needs to be Refreshed.\")","v":"The Assessment is Up to Date."},null,null,null,null,null,null,null,null,null,null,null,null,null,null,null,null,null,null,1]
[null,null,null,null,null,null,null,null,null,null,null,null,null,null,null,null,null,null,null,null,null,null,1]
[null,null,null,null,null,null,null,null,null,null,null,null,null,null,null,null,null,null,null,null,null,null,1]
[null,null,null,null,null,null,null,null,null,null,null,null,null,null,null,null,null,null,null,null,null,null,1]
[null,null,null,null,null,null,null,null,null,null,null,null,null,null,null,null,null,null,null,null,null,null,1]
[null,null,"(Optional) Step 5(a): Refresh Assessment if Not Using Macros",null,null,null,null,null,null,null,null,null,null,null,null,null,null,null,null,null,null,null,1]
[null,null,null,null,null,null,null,null,null,null,null,null,null,null,null,null,null,null,null,null,null,null,1]
[null,null,"If chosen not to use Macros, the Full Assessment worksheet will then need to be filtered manually by going to cell \"AD1\" on the Full Assessment Tab and clicking the Filter Icon. This will display a menu where the checkbox next to \"0\" should be empty. If it is, click the \"OK\" button to display the objective and action item entry cells above. Enter the agency location information in the cells above.",null,null,null,null,null,null,null,null,null,null,null,null,null,null,null,null,null,null,null,1]
[null,null,null,null,null,null,null,null,null,null,null,null,null,null,null,null,null,null,null,null,null,null,1]
[null,null,null,null,null,null,null,null,null,null,null,null,null,null,null,null,null,null,null,null,null,null,1]
[null,null,null,null,null,null,null,null,null,null,null,null,null,null,null,null,null,null,null,null,null,null,1]
[null,null,null,null,null,null,null,null,null,null,null,null,null,null,null,null,null,null,null,null,null,null,1]
[null,null,null,null,null,null,null,null,null,null,null,null,null,null,null,null,null,null,null,null,null,null,0]

{"sheet":"DATA COLLECTION","index":3,"n_rows":339,"n_cols":25,"rows_kept":339,"cut":false,"hidden":false,"merged":[[319,1,321,15],[259,4,259,5],[259,6,259,7],[259,8,259,9],[259,10,259,11],[259,12,259,13],[259,14,259,15],[258,2,258,3],[255,2,255,3],[256,2,256,3],[257,4,257,5],[257,6,257,7],[257,8,257,9],[257,10,257,11],[257,12,257,13],[257,14,257,15],[258,4,258,5],[258,6,258,7],[258,8,258,9],[258,10,258,11],[258,12,258,13],[258,14,258,15],[305,2,306,14],[307,2,315,15],[256,10,256,11],[256,12,256,13],[256,14,256,15],[272,13,272,15],[287,2,288,15],[259,2,259,3],[280,2,281,14],[282,2,285,15],[252,14,252,15],[253,4,253,5],[253,6,253,7],[253,8,253,9],[253,10,253,11],[253,12,253,13],[253,14,253,15],[257,2,257,3],[254,4,254,5],[254,6,254,7],[254,8,254,9],[254,10,254,11],[254,12,254,13],[254,14,254,15],[255,4,255,5],[255,6,255,7],[255,8,255,9],[255,10,255,11],[255,12,255,13],[255,14,255,15],[270,13,270,15],[256,4,256,5],[256,6,256,7],[256,8,256,9],[252,12,252,13],[272,3,275,7],[277,12,278,15],[243,2,243,3],[244,2,244,3],[245,4,245,5],[245,6,245,7],[245,8,245,9],[245,10,245,11],[245,12,245,13],[245,14,245,15],[246,4,246,5],[246,6,246,7],[246,8,246,9],[246,10,246,11],[246,12,246,13],[246,14,246,15],[249,2,249,3],[250,2,250,3],[247,2,247,3],[248,2,248,3],[247,4,247,5],[247,6,247,7],[247,8,247,9],[247,10,247,11],[247,12,247,13],[247,14,247,15],[248,4,248,5],[248,6,248,7],[248,8,248,9],[248,10,248,11],[248,12,248,13],[248,14,248,15],[244,10,244,11],[241,2,241,3],[242,2,242,3],[239,2,239,3],[240,2,240,3],[240,4,240,5],[240,6,240,7],[240,8,240,9],[240,10,240,11],[240,12,240,13],[240,14,240,15],[241,4,241,5],[241,6,241,7],[241,8,241,9],[241,10,241,11],[241,12,241,13],[241,14,241,15],[245,2,245,3],[242,4,242,5],[242,6,242,7],[242,8,242,9],[242,10,242,11],[242,12,242,13],[242,14,242,15],[243,4,243,5],[243,6,243,7],[243,8,243,9],[243,10,243,11],[243,12,243,13],[243,14,243,15],[244,4,244,5],[244,6,244,7],[244,8,244,9],[234,2,234,3],[231,2,231,3],[232,2,232,3],[233,4,233,5],[233,6,233,7],[233,8,233,9],[233,10,233,11],[233,12,233,13],[233,14,233,15],[234,4,234,5],[234,6,234,7],[234,8,234,9],[234,10,234,11],[234,12,234,13],[234,14,234,15],[237,2,237,3],[238,2,238,3],[235,2,235,3],[236,2,236,3],[235,4,235,5],[235,6,235,7],[235,8,235,9],[235,10,235,11],[235,12,235,13],[235,14,235,15],[236,4,236,5],[229,2,229,3],[230,2,230,3],[227,2,227,3],[228,2,228,3],[228,4,228,5],[228,6,228,7],[228,8,228,9],[228,10,228,11],[228,12,228,13],[228,14,228,15],[229,4,229,5],[229,6,229,7],[229,8,229,9],[229,10,229,11],[229,12,229,13],[229,14,229,15],[233,2,233,3],[230,4,230,5],[230,6,230,7],[230,8,230,9],[230,10,230,11],[230,12,230,13],[230,14,230,15],[231,4,231,5],[231,6,231,7],[231,8,231,9],[231,10,231,11],[231,12,231,13],[231,14,231,15],[232,4,232,5],[232,12,232,13],[232,14,232,15],[222,2,222,3],[219,2,219,3],[220,2,220,3],[221,4,221,5],[221,6,221,7],[221,8,221,9],[221,10,221,11],[221,12,221,13],[221,14,221,15],[222,4,222,5],[222,6,222,7],[222,8,222,9],[222,10,222,11],[222,12,222,13],[222,14,222,15],[225,2,225,3],[226,2,226,3],[223,2,223,3],[224,2,224,3],[223,4,223,5],[223,6,223,7],[223,8,223,9],[223,10,223,11],[223,12,223,13],[223,14,223,15],[224,4,224,5],[226,14,226,15],[217,2,217,3],[218,2,218,3],[215,2,215,3],[216,2,216,3],[216,4,216,5],[216,6,216,7],[216,8,216,9],[216,10,216,11],[216,12,216,13],[216,14,216,15],[217,4,217,5],[217,6,217,7],[217,8,217,9],[217,10,217,11],[217,12,217,13],[217,14,217,15],[221,2,221,3],[218,4,218,5],[218,6,218,7],[218,8,218,9],[218,10,218,11],[218,12,218,13],[218,14,218,15],[219,4,219,5],[219,6,219,7],[219,8,219,9],[219,10,219,11],[219,12,219,13],[219,14,219,15],[220,4,220,5],[220,12,220,13],[220,14,220,15],[210,2,210,3],[207,2,207,3],[208,2,208,3],[209,4,209,5],[209,6,209,7],[209,8,209,9],[209,10,209,11],[209,12,209,13],[209,14,209,15],[210,4,210,5],[210,6,210,7],[210,8,210,9],[210,10,210,11],[210,12,210,13],[210,14,210,15],[213,2,213,3],[214,2,214,3],[211,2,211,3],[212,2,212,3],[211,4,211,5],[211,6,211,7],[211,8,211,9],[211,10,211,11],[211,12,211,13],[211,14,211,15],[212,4,212,5],[214,14,214,15],[205,2,205,3],[206,2,206,3],[203,2,203,3],[204,2,204,3],[204,4,204,5],[204,6,204,7],[204,8,204,9],[204,10,204,11],[204,12,204,13],[204,14,204,15],[205,4,205,5],[205,6,205,7],[205,8,205,9],[205,10,205,11],[205,12,205,13],[205,14,205,15],[209,2,209,3],[206,4,206,5],[206,6,206,7],[206,8,206,9],[206,10,206,11],[206,12,206,13],[206,14,206,15],[207,4,207,5],[207,6,207,7],[207,8,207,9],[207,10,207,11],[207,12,207,13],[207,14,207,15],[208,4,208,5],[208,12,208,13],[208,14,208,15],[198,2,198,3],[195,2,195,3],[196,2,196,3],[197,4,197,5],[197,6,197,7],[197,8,197,9],[197,10,197,11],[197,12,197,13],[197,14,197,15],[198,4,198,5],[198,6,198,7],[198,8,198,9],[198,10,198,11],[198,12,198,13],[198,14,198,15],[201,2,201,3],[202,2,202,3],[199,2,199,3],[200,2,200,3],[199,4,199,5],[199,6,199,7],[199,8,199,9],[199,10,199,11],[199,12,199,13],[199,14,199,15],[200,4,200,5],[202,14,202,15],[193,2,193,3],[194,2,194,3],[191,2,191,3],[192,2,192,3],[192,4,192,5],[192,6,192,7],[192,8,192,9],[192,10,192,11],[192,12,192,13],[192,14,192,15],[193,4,193,5],[193,6,193,7],[193,8,193,9],[193,10,193,11],[193,12,193,13],[193,14,193,15],[197,2,197,3],[194,4,194,5],[194,6,194,7],[194,8,194,9],[194,10,194,11],[194,12,194,13],[194,14,194,15],[195,4,195,5],[195,6,195,7],[195,8,195,9],[195,10,195,11],[195,12,195,13],[195,14,195,15],[196,4,196,5],[196,12,196,13],[196,14,196,15],[186,2,186,3],[183,2,183,3],[184,2,184,3],[185,4,185,5],[185,6,185,7],[185,8,185,9],[185,10,185,11],[185,12,185,13],[185,14,185,15],[186,4,186,5],[186,6,186,7],[186,8,186,9],[186,10,186,11],[186,12,186,13],[186,14,186,15],[189,2,189,3],[190,2,190,3],[187,2,187,3],[188,2,188,3],[187,4,187,5],[187,6,187,7],[187,8,187,9],[187,10,187,11],[187,12,187,13],[187,14,187,15],[188,4,188,5],[190,4,190,5],[190,6,190,7],[190,8,190,9],[190,10,190,11],[190,12,190,13],[190,14,190,15],[181,2,181,3],[182,2,182,3],[179,2,179,3],[180,2,180,3],[180,4,180,5],[180,6,180,7],[180,8,180,9],[180,10,180,11],[180,12,180,13],[180,14,180,15],[181,4,181,5],[181,6,181,7],[181,8,181,9],[181,10,181,11],[181,12,181,13],[181,14,181,15],[185,2,185,3],[182,4,182,5],[182,6,182,7],[182,8,182,9],[182,10,182,11],[182,12,182,13],[182,14,182,15],[183,4,183,5],[183,6,183,7],[183,8,183,9],[179,4,179,5],[179,6,179,7],[179,8,179,9],[179,10,179,11],[179,12,179,13],[179,14,179,15],[174,2,174,3],[171,2,171,3],[172,2,172,3],[173,4,173,5],[173,6,173,7],[173,8,173,9],[173,10,173,11],[173,12,173,13],[173,14,173,15],[174,4,174,5],[174,6,174,7],[174,8,174,9],[174,10,174,11],[174,12,174,13],[174,14,174,15],[177,2,177,3],[178,2,178,3],[175,2,175,3],[176,2,176,3],[175,4,175,5],[175,6,175,7],[175,8,175,9],[175,10,175,11],[175,12,175,13],[175,14,175,15],[176,4,176,5],[176,6,176,7],[177,10,177,11],[177,12,177,13],[178,10,178,11],[178,12,178,13],[178,14,178,15],[169,2,169,3],[170,2,170,3],[167,2,167,3],[168,2,168,3],[168,4,168,5],[168,6,168,7],[168,8,168,9],[168,10,168,11],[168,12,168,13],[168,14,168,15],[169,4,169,5],[169,6,169,7],[169,8,169,9],[169,10,169,11],[169,12,169,13],[169,14,169,15],[173,2,173,3],[171,4,171,5],[171,6,171,7],[171,8,171,9],[171,10,171,11],[171,12,171,13],[171,14,171,15],[172,4,172,5],[172,6,172,7],[172,8,172,9],[172,10,172,11],[170,14,170,15],[161,2,161,3],[162,2,162,3],[160,2,160,3],[161,10,161,11],[161,12,161,13],[161,14,161,15],[162,4,162,5],[162,6,162,7],[162,8,162,9],[162,10,162,11],[162,12,162,13],[162,14,162,15],[165,2,165,3],[166,2,166,3],[163,2,163,3],[164,2,164,3],[163,4,163,5],[163,6,163,7],[163,8,163,9],[163,10,163,11],[163,12,163,13],[163,14,163,15],[164,4,164,5],[164,6,164,7],[164,8,164,9],[164,10,164,11],[164,12,164,13],[164,14,164,15],[165,4,165,5],[165,6,165,7],[165,8,165,9],[165,10,165,11],[142,2,143,14],[144,2,147,15],[152,2,153,14],[154,2,155,15],[159,2,159,3],[262,1,263,12],[262,13,263,15],[264,1,267,15],[290,1,291,12],[290,13,291,15],[42,1,42,2],[42,3,42,8],[42,9,42,11],[49,3,49,8],[49,9,49,11],[49,12,49,13],[49,14,49,15],[52,1,52,2],[52,3,52,8],[52,9,52,11],[52,12,52,13],[52,14,52,15],[51,1,51,2],[51,3,51,8],[51,9,51,11],[51,12,51,13],[51,14,51,15],[48,1,48,2],[48,3,48,8],[48,9,48,11],[48,12,48,13],[48,14,48,15],[292,1,294,15],[42,12,42,13],[42,14,42,15],[43,12,43,13],[43,14,43,15],[44,1,44,2],[44,3,44,8],[44,9,44,11],[44,12,44,13],[44,14,44,15],[43,1,43,2],[43,3,43,8],[43,9,43,11],[45,1,45,2],[45,3,45,8],[45,9,45,11],[45,14,45,15],[46,1,46,2],[177,8,177,9],[46,3,46,8],[46,9,46,11],[46,12,46,13],[46,14,46,15],[47,9,47,11],[47,12,47,13],[47,14,47,15],[50,1,50,2],[50,3,50,8],[50,9,50,11],[50,12,50,13],[50,14,50,15],[49,1,49,2],[5,2,7,14],[8,2,12,14],[32,1,33,12],[32,13,33,15],[34,1,35,15],[40,3,40,8],[40,1,40,2],[40,9,40,11],[40,14,40,15],[40,12,40,13],[41,1,41,2],[41,3,41,8],[41,9,41,11],[41,12,41,13],[41,14,41,15],[45,12,45,13],[23,2,24,14],[26,3,28,9],[13,1,14,3],[30,1,31,3],[15,1,16,12],[15,13,16,15],[17,1,19,15],[21,13,21,15],[47,1,47,2],[47,3,47,8],[54,1,54,2],[54,3,54,8],[54,9,54,11],[54,12,54,13],[54,14,54,15],[53,1,53,2],[53,3,53,8],[53,9,53,11],[53,12,53,13],[53,14,53,15],[56,1,56,2],[56,3,56,8],[56,9,56,11],[56,12,56,13],[56,14,56,15],[55,1,55,2],[55,3,55,8],[55,9,55,11],[55,12,55,13],[55,14,55,15],[58,1,58,2],[58,3,58,8],[58,9,58,11],[58,12,58,13],[58,14,58,15],[57,1,57,2],[57,3,57,8],[57,9,57,11],[57,12,57,13],[57,14,57,15],[60,1,60,2],[60,3,60,8],[60,9,60,11],[60,12,60,13],[60,14,60,15],[59,1,59,2],[59,3,59,8],[59,9,59,11],[59,12,59,13],[59,14,59,15],[62,1,62,2],[62,3,62,8],[62,9,62,11],[62,12,62,13],[62,14,62,15],[61,1,61,2],[61,3,61,8],[61,9,61,11],[61,12,61,13],[61,14,61,15],[64,1,64,2],[64,3,64,8],[64,9,64,11],[64,12,64,13],[64,14,64,15],[63,1,63,2],[63,3,63,8],[63,9,63,11],[63,12,63,13],[63,14,63,15],[66,1,66,2],[66,3,66,8],[66,9,66,11],[66,12,66,13],[66,14,66,15],[65,1,65,2],[65,3,65,8],[65,9,65,11],[65,12,65,13],[65,14,65,15],[68,1,68,2],[68,3,68,8],[68,9,68,11],[68,12,68,13],[68,14,68,15],[67,1,67,2],[67,3,67,8],[67,9,67,11],[67,12,67,13],[67,14,67,15],[70,1,70,2],[70,3,70,8],[70,9,70,11],[70,12,70,13],[70,14,70,15],[69,1,69,2],[69,3,69,8],[69,9,69,11],[69,12,69,13],[69,14,69,15],[72,1,72,2],[72,3,72,8],[72,9,72,11],[72,12,72,13],[72,14,72,15],[71,1,71,2],[71,3,71,8],[71,9,71,11],[71,12,71,13],[71,14,71,15],[74,1,74,2],[74,3,74,8],[74,9,74,11],[74,12,74,13],[74,14,74,15],[73,1,73,2],[73,3,73,8],[73,9,73,11],[73,12,73,13],[73,14,73,15],[76,1,76,2],[76,3,76,8],[76,9,76,11],[76,12,76,13],[76,14,76,15],[75,1,75,2],[75,3,75,8],[75,9,75,11],[75,12,75,13],[75,14,75,15],[78,1,78,2],[78,3,78,8],[78,9,78,11],[78,12,78,13],[78,14,78,15],[77,1,77,2],[77,3,77,8],[77,9,77,11],[77,12,77,13],[77,14,77,15],[80,1,80,2],[80,3,80,8],[80,9,80,11],[80,12,80,13],[80,14,80,15],[79,1,79,2],[79,3,79,8],[79,9,79,11],[79,12,79,13],[79,14,79,15],[82,1,82,2],[82,3,82,8],[82,9,82,11],[82,12,82,13],[82,14,82,15],[81,1,81,2],[81,3,81,8],[81,9,81,11],[81,12,81,13],[81,14,81,15],[84,1,84,2],[84,3,84,8],[84,9,84,11],[84,12,84,13],[84,14,84,15],[83,1,83,2],[83,3,83,8],[83,9,83,11],[83,12,83,13],[83,14,83,15],[86,1,86,2],[86,3,86,8],[86,9,86,11],[86,12,86,13],[86,14,86,15],[85,1,85,2],[85,3,85,8],[85,9,85,11],[85,12,85,13],[85,14,85,15],[88,1,88,2],[88,3,88,8],[88,9,88,11],[88,12,88,13],[88,14,88,15],[87,1,87,2],[87,3,87,8],[87,9,87,11],[87,12,87,13],[87,14,87,15],[90,1,90,2],[90,3,90,8],[90,9,90,11],[90,12,90,13],[90,14,90,15],[89,1,89,2],[89,3,89,8],[89,9,89,11],[89,12,89,13],[89,14,89,15],[92,1,92,2],[92,3,92,8],[92,9,92,11],[92,12,92,13],[92,14,92,15],[91,1,91,2],[91,3,91,8],[91,9,91,11],[91,12,91,13],[91,14,91,15],[94,1,94,2],[94,3,94,8],[94,9,94,11],[94,12,94,13],[94,14,94,15],[93,1,93,2],[93,3,93,8],[93,9,93,11],[93,12,93,13],[93,14,93,15],[96,1,96,2],[96,3,96,8],[96,9,96,11],[96,12,96,13],[96,14,96,15],[95,1,95,2],[95,3,95,8],[95,9,95,11],[95,12,95,13],[95,14,95,15],[98,1,98,2],[98,3,98,8],[98,9,98,11],[98,12,98,13],[98,14,98,15],[97,1,97,2],[97,3,97,8],[97,9,97,11],[97,12,97,13],[97,14,97,15],[100,1,100,2],[100,3,100,8],[100,9,100,11],[100,12,100,13],[100,14,100,15],[99,1,99,2],[99,3,99,8],[99,9,99,11],[99,12,99,13],[99,14,99,15],[102,1,102,2],[102,3,102,8],[102,9,102,11],[102,12,102,13],[102,14,102,15],[101,1,101,2],[101,3,101,8],[101,9,101,11],[101,12,101,13],[101,14,101,15],[104,1,104,2],[104,3,104,8],[104,9,104,11],[104,12,104,13],[104,14,104,15],[103,1,103,2],[103,3,103,8],[103,9,103,11],[103,12,103,13],[103,14,103,15],[106,1,106,2],[106,3,106,8],[106,9,106,11],[106,12,106,13],[106,14,106,15],[105,1,105,2],[105,3,105,8],[105,9,105,11],[105,12,105,13],[105,14,105,15],[108,1,108,2],[108,3,108,8],[108,9,108,11],[108,12,108,13],[108,14,108,15],[107,1,107,2],[107,3,107,8],[107,9,107,11],[107,12,107,13],[107,14,107,15],[110,1,110,2],[110,3,110,8],[110,9,110,11],[110,12,110,13],[110,14,110,15],[109,1,109,2],[109,3,109,8],[109,9,109,11],[109,12,109,13],[109,14,109,15],[112,1,112,2],[112,3,112,8],[112,9,112,11],[112,12,112,13],[112,14,112,15],[111,1,111,2],[111,3,111,8],[111,9,111,11],[111,12,111,13],[111,14,111,15],[114,1,114,2],[114,3,114,8],[114,9,114,11],[114,12,114,13],[114,14,114,15],[113,1,113,2],[113,3,113,8],[113,9,113,11],[113,12,113,13],[113,14,113,15],[116,1,116,2],[116,3,116,8],[116,9,116,11],[116,12,116,13],[116,14,116,15],[115,1,115,2],[115,3,115,8],[115,9,115,11],[115,12,115,13],[115,14,115,15],[118,1,118,2],[118,3,118,8],[118,9,118,11],[118,12,118,13],[118,14,118,15],[117,1,117,2],[117,3,117,8],[117,9,117,11],[117,12,117,13],[117,14,117,15],[120,1,120,2],[120,3,120,8],[120,9,120,11],[120,12,120,13],[120,14,120,15],[119,1,119,2],[119,3,119,8],[119,9,119,11],[119,12,119,13],[119,14,119,15],[122,1,122,2],[122,3,122,8],[122,9,122,11],[122,12,122,13],[122,14,122,15],[121,1,121,2],[121,3,121,8],[121,9,121,11],[121,12,121,13],[121,14,121,15],[124,1,124,2],[124,3,124,8],[124,9,124,11],[124,12,124,13],[124,14,124,15],[123,1,123,2],[123,3,123,8],[123,9,123,11],[123,12,123,13],[123,14,123,15],[126,1,126,2],[126,3,126,8],[126,9,126,11],[126,12,126,13],[126,14,126,15],[125,1,125,2],[125,3,125,8],[125,9,125,11],[125,12,125,13],[125,14,125,15],[128,1,128,2],[128,3,128,8],[128,9,128,11],[128,12,128,13],[128,14,128,15],[127,1,127,2],[127,3,127,8],[127,9,127,11],[127,12,127,13],[127,14,127,15],[130,1,130,2],[130,3,130,8],[130,9,130,11],[130,12,130,13],[130,14,130,15],[129,1,129,2],[129,3,129,8],[129,9,129,11],[129,12,129,13],[129,14,129,15],[132,1,132,2],[132,3,132,8],[132,9,132,11],[132,12,132,13],[132,14,132,15],[131,1,131,2],[131,3,131,8]],"merged_total":1250,"flags":["merged_cut"]}
[null,null,null,null,null,null,null,null,null,null,null,null,null,null,null,null,null,null,null,null,null,null,1]
[null,null,null,null,null,null,null,null,null,null,null,null,null,null,null,null,null,null,null,null,null,null,1]
[null,null,null,null,null,null,null,null,null,null,null,null,null,null,null,null,null,null,null,null,null,null,1]
[null,null,null,null,null,null,null,null,null,null,null,null,null,null,null,null,null,null,null,null,null,null,1]
[null,null,null,null,null,null,null,null,null,null,null,null,null,null,null,null,null,null,null,null,null,null,1]
[null,null,"DATA COLLECTION",null,null,null,null,null,null,null,null,null,null,null,null,null,null,null,null,null,null,null,1]
[null,null,null,null,null,null,null,null,null,null,null,null,null,null,null,null,null,null,null,null,null,null,1]
[null,null,null,null,null,null,null,null,null,null,null,null,null,null,null,null,null,null,null,null,null,null,1]
[null,null,"This tab identifies the process to be used for collecting data (either individually or data from others). If collecting data from others, this tab identifies what positions will be assessed, their working title, who the assessor will be, and assists with tracking which assessments have been created and which have been returned. If collecting data individually, this tab identifies the steps to begin completing the assessments for positions.",null,null,null,null,null,null,null,null,null,null,null,null,null,null,null,null,null,null,null,1]
[null,null,null,null,null,null,null,null,null,null,null,null,null,null,null,null,null,null,null,null,null,null,1]
[null,null,null,null,null,null,null,null,null,null,null,null,null,null,null,null,null,null,null,null,null,null,1]
[null,null,null,null,null,null,null,null,null,null,null,null,null,null,null,null,null,null,null,null,null,null,1]
[null,null,null,null,null,null,null,null,null,null,null,null,null,null,null,null,null,null,null,null,null,null,1]
[null,null,null,null,null,null,null,null,null,null,null,null,null,null,null,null,null,null,null,null,null,null,1]
[null,null,null,null,null,null,null,null,null,null,null,null,null,null,null,null,null,null,null,null,null,null,1]
[null,"Step 1: Identify Data Collection Process",null,null,null,null,null,null,null,null,null,null,null,{"$f":"IF(N22<>\"\",\"Complete\",\"Incomplete\")","v":"Incomplete"},null,null,null,null,null,null,null,null,1]
[null,null,null,null,null,null,null,null,null,null,null,null,null,null,null,null,null,null,null,null,null,null,1]
[null,"INSTRUCTIONS: Please identify the desired data collection process by selecting either \"Self\" or \"From Others\" from the dropdown menu in the yellow box below. Self means only a single individual, or department, will be conducting the assessment and there is no need for the assessment to be shared. \"From Others\" indicates the assessment itself will be shared with others and this tool will be used to track and compile the shared assessments.",null,null,null,null,null,null,null,null,null,null,null,null,null,null,null,null,null,null,null,null,1]
[null,null,null,null,null,null,null,null,null,null,null,null,null,null,null,null,null,null,null,null,null,null,1]
[null,null,null,null,null,null,null,null,null,null,null,null,null,null,null,null,null,null,null,null,null,null,1]
[null,null,null,null,null,null,null,null,null,null,null,null,null,null,null,null,null,null,null,null,null,null,1]
[null,null,null,null,null,null,null,null,null,null,null,null,"Select Data Collection Process",null,null,null,null,null,null,null,null,null,1]
[null,null,null,null,null,null,null,null,null,null,null,null,null,null,null,null,null,null,null,null,null,null,1]
[null,null,{"$f":"IF(N22=\"\",\"\",IF(N22<>\"Self\",\"PLEASE REFRESH REPORT (If Needed) PROCEED TO STEP 2\",\"PLEASE REFRESH REPORT (If Needed) AND PROCEED TO STEP 5\"))","v":""},null,null,null,null,null,null,null,null,null,null,null,null,null,null,null,null,null,null,null,1]
[null,null,null,null,null,null,null,null,null,null,null,null,null,null,null,null,null,null,null,null,null,null,1]
[null,null,null,null,null,null,null,null,null,null,null,null,null,null,null,null,null,null,null,null,null,null,1]
[null,null,null,{"$f":"IF(SUM('FULL ASSESSMENT'!$AF$1:$AF$706)=SUBTOTAL(103,'FULL ASSESSMENT'!$AF$1:$AF$706),\"The Assessment is Up to Date.\",\"The Assessment Needs to be Refreshed.\")","v":"The Assessment is Up to Date."},null,null,null,null,null,null,null,null,null,null,null,null,null,null,null,null,null,null,1]
[null,null,null,null,null,null,null,null,null,null,null,null,null,null,null,null,null,null,null,null,null,null,1]
[null,null,null,null,null,null,null,null,null,null,null,null,null,null,null,null,null,null,null,null,null,null,1]
[null,null,null,null,null,null,null,null,null,null,null,null,null,null,null,null,null,null,null,null,null,null,1]
[null,null,null,null,null,null,null,null,null,null,null,null,null,null,null,null,null,null,null,null,null,null,1]
[null,null,null,null,null,null,null,null,null,null,null,null,null,null,null,null,null,null,null,null,null,null,1]
[null,"Step 2: Add Positions to Be Assessed",null,null,null,null,null,null,null,null,null,null,null,"Complete",null,null,null,null,null,null,null,null,1]
[null,null,null,null,null,null,null,null,null,null,null,null,null,null,null,null,null,null,null,null,null,null,1]
[null,"INSTRUCTIONS: Please add the position number, working title, and assessor name for the positions that will be assessed. Positions can be added by clicking the add position button and entering the information in the yellow boxes. Up to 100 positions can be added per tool file. ",null,null,null,null,null,null,null,null,null,null,null,null,null,null,null,null,null,null,null,null,1]
[null,null,null,null,null,null,null,null,null,null,null,null,null,null,null,null,null,null,null,null,null,null,1]
[null,null,null,null,null,null,null,null,null,null,null,null,null,null,null,null,null,null,null,null,null,null,1]
[null,null,null,null,null,null,null,null,null,null,null,null,null,null,null,null,null,null,null,null,null,null,1]
[null,null,null,null,null,null,null,null,null,null,null,null,null,null,null,null,null,null,null,null,null,null,1]
[null,null,null,null,null,null,null,null,null,null,null,null,null,null,null,null,null,null,null,null,null,null,1]
[null,"Position Number",null,"Working Title",null,null,null,null,null,"Assessor Name",null,null,"Generated","youtube","Imported",null,null,null,null,null,null,null,{"$f":"IF('CENTRAL ANALYSIS'!$B$32>='DATA COLLECTION'!X41,1,0)","v":0},1]
[null,null,null,null,null,null,null,null,null,null,null,null,null,null,null,null,null,{"$f":"IF(AND(J42<>\"\",M42=\"\"),0,IF(AND(J42<>\"\",M42<>\"\"),1,\"\"))","v":""},{"$f":"IF(AND(O42=\"\",R42=1),0,IF(AND(R42=1,O42<>\"\"),1,\"\"))","v":""},null,null,null,{"$f":"IF('CENTRAL ANALYSIS'!$B$32>='DATA COLLECTION'!X42,1,0)","v":0},1,{"$f":"IF(AND(B42<>\"\",W42=1),1,0)","v":0}]
[null,null,null,null,null,null,null,null,null,null,null,null,null,null,null,null,null,{"$f":"IF(AND(J43<>\"\",M43=\"\"),0,IF(AND(J43<>\"\",M43<>\"\"),1,\"\"))","v":""},{"$f":"IF(AND(O43=\"\",R43=1),0,IF(AND(R43=1,O43<>\"\"),1,\"\"))","v":""},null,null,null,{"$f":"IF('CENTRAL ANALYSIS'!$B$32>='DATA COLLECTION'!X43,1,0)","v":0},2,{"$f":"IF(AND(B43<>\"\",W43=1),1,0)","v":0}]
[null,null,null,null,null,null,null,null,null,null,null,null,null,null,null,null,null,"","",null,null,null,{"$f":"IF('CENTRAL ANALYSIS'!$B$32>='DATA COLLECTION'!X44,1,0)","v":0},3,0]
[null,null,null,null,null,null,null,null,null,null,null,null,null,null,null,null,null,"","",null,null,null,{"$f":"IF('CENTRAL ANALYSIS'!$B$32>='DATA COLLECTION'!X45,1,0)","v":0},4,0]
[null,null,null,null,null,null,null,null,null,null,null,null,null,null,null,null,null,"","",null,null,null,{"$f":"IF('CENTRAL ANALYSIS'!$B$32>='DATA COLLECTION'!X46,1,0)","v":0},5,0]
[null,null,null,null,null,null,null,null,null,null,null,null,null,null,null,null,null,"","",null,null,null,{"$f":"IF('CENTRAL ANALYSIS'!$B$32>='DATA COLLECTION'!X47,1,0)","v":0},6,0]
[null,null,null,null,null,null,null,null,null,null,null,null,null,null,null,null,null,"","",null,null,null,{"$f":"IF('CENTRAL ANALYSIS'!$B$32>='DATA COLLECTION'!X48,1,0)","v":0},7,0]
[null,null,null,null,null,null,null,null,null,null,null,null,null,null,null,null,null,"","",null,null,null,{"$f":"IF('CENTRAL ANALYSIS'!$B$32>='DATA COLLECTION'!X49,1,0)","v":0},8,0]
[null,null,null,null,null,null,null,null,null,null,null,null,null,null,null,null,null,"","",null,null,null,{"$f":"IF('CENTRAL ANALYSIS'!$B$32>='DATA COLLECTION'!X50,1,0)","v":0},9,0]
[null,null,null,null,null,null,null,null,null,null,null,null,null,null,null,null,null,"","",null,null,null,{"$f":"IF('CENTRAL ANALYSIS'!$B$32>='DATA COLLECTION'!X51,1,0)","v":0},10,0]
[null,null,null,null,null,null,null,null,null,null,null,null,null,null,null,null,null,"","",null,null,null,{"$f":"IF('CENTRAL ANALYSIS'!$B$32>='DATA COLLECTION'!X52,1,0)","v":0},11,0]
[null,null,null,null,null,null,null,null,null,null,null,null,null,null,null,null,null,"","",null,null,null,{"$f":"IF('CENTRAL ANALYSIS'!$B$32>='DATA COLLECTION'!X53,1,0)","v":0},12,0]
[null,null,null,null,null,null,null,null,null,null,null,null,null,null,null,null,null,"","",null,null,null,{"$f":"IF('CENTRAL ANALYSIS'!$B$32>='DATA COLLECTION'!X54,1,0)","v":0},13,0]
[null,null,null,null,null,null,null,null,null,null,null,null,null,null,null,null,null,"","",null,null,null,{"$f":"IF('CENTRAL ANALYSIS'!$B$32>='DATA COLLECTION'!X55,1,0)","v":0},14,0]
[null,null,null,null,null,null,null,null,null,null,null,null,null,null,null,null,null,"","",null,null,null,{"$f":"IF('CENTRAL ANALYSIS'!$B$32>='DATA COLLECTION'!X56,1,0)","v":0},15,0]
[null,null,null,null,null,null,null,null,null,null,null,null,null,null,null,null,null,"","",null,null,null,{"$f":"IF('CENTRAL ANALYSIS'!$B$32>='DATA COLLECTION'!X57,1,0)","v":0},16,0]
[null,null,null,null,null,null,null,null,null,null,null,null,null,null,null,null,null,"","",null,null,null,{"$f":"IF('CENTRAL ANALYSIS'!$B$32>='DATA COLLECTION'!X58,1,0)","v":0},17,0]
[null,null,null,null,null,null,null,null,null,null,null,null,null,null,null,null,null,"","",null,null,null,{"$f":"IF('CENTRAL ANALYSIS'!$B$32>='DATA COLLECTION'!X59,1,0)","v":0},18,0]
[null,null,null,null,null,null,null,null,null,null,null,null,null,null,null,null,null,"","",null,null,null,{"$f":"IF('CENTRAL ANALYSIS'!$B$32>='DATA COLLECTION'!X60,1,0)","v":0},19,0]
[null,null,null,null,null,null,null,null,null,null,null,null,null,null,null,null,null,"","",null,null,null,{"$f":"IF('CENTRAL ANALYSIS'!$B$32>='DATA COLLECTION'!X61,1,0)","v":0},20,0]
[null,null,null,null,null,null,null,null,null,null,null,null,null,null,null,null,null,"","",null,null,null,{"$f":"IF('CENTRAL ANALYSIS'!$B$32>='DATA COLLECTION'!X62,1,0)","v":0},21,0]
[null,null,null,null,null,null,null,null,null,null,null,null,null,null,null,null,null,"","",null,null,null,{"$f":"IF('CENTRAL ANALYSIS'!$B$32>='DATA COLLECTION'!X63,1,0)","v":0},22,0]
[null,null,null,null,null,null,null,null,null,null,null,null,null,null,null,null,null,"","",null,null,null,{"$f":"IF('CENTRAL ANALYSIS'!$B$32>='DATA COLLECTION'!X64,1,0)","v":0},23,0]
[null,null,null,null,null,null,null,null,null,null,null,null,null,null,null,null,null,"","",null,null,null,{"$f":"IF('CENTRAL ANALYSIS'!$B$32>='DATA COLLECTION'!X65,1,0)","v":0},24,0]
[null,null,null,null,null,null,null,null,null,null,null,null,null,null,null,null,null,"","",null,null,null,{"$f":"IF('CENTRAL ANALYSIS'!$B$32>='DATA COLLECTION'!X66,1,0)","v":0},25,0]
[null,null,null,null,null,null,null,null,null,null,null,null,null,null,null,null,null,"","",null,null,null,{"$f":"IF('CENTRAL ANALYSIS'!$B$32>='DATA COLLECTION'!X67,1,0)","v":0},26,0]
[null,null,null,null,null,null,null,null,null,null,null,null,null,null,null,null,null,"","",null,null,null,{"$f":"IF('CENTRAL ANALYSIS'!$B$32>='DATA COLLECTION'!X68,1,0)","v":0},27,0]
[null,null,null,null,null,null,null,null,null,null,null,null,null,null,null,null,null,"","",null,null,null,{"$f":"IF('CENTRAL ANALYSIS'!$B$32>='DATA COLLECTION'!X69,1,0)","v":0},28,0]
[null,null,null,null,null,null,null,null,null,null,null,null,null,null,null,null,null,"","",null,null,null,{"$f":"IF('CENTRAL ANALYSIS'!$B$32>='DATA COLLECTION'!X70,1,0)","v":0},29,0]
[null,null,null,null,null,null,null,null,null,null,null,null,null,null,null,null,null,"","",null,null,null,{"$f":"IF('CENTRAL ANALYSIS'!$B$32>='DATA COLLECTION'!X71,1,0)","v":0},30,0]
[null,null,null,null,null,null,null,null,null,null,null,null,null,null,null,null,null,"","",null,null,null,{"$f":"IF('CENTRAL ANALYSIS'!$B$32>='DATA COLLECTION'!X72,1,0)","v":0},31,0]
[null,null,null,null,null,null,null,null,null,null,null,null,null,null,null,null,null,"","",null,null,null,{"$f":"IF('CENTRAL ANALYSIS'!$B$32>='DATA COLLECTION'!X73,1,0)","v":0},32,0]
[null,null,null,null,null,null,null,null,null,null,null,null,null,null,null,null,null,"","",null,null,null,{"$f":"IF('CENTRAL ANALYSIS'!$B$32>='DATA COLLECTION'!X74,1,0)","v":0},33,0]
[null,null,null,null,null,null,null,null,null,null,null,null,null,null,null,null,null,"","",null,null,null,{"$f":"IF('CENTRAL ANALYSIS'!$B$32>='DATA COLLECTION'!X75,1,0)","v":0},34,0]
[null,null,null,null,null,null,null,null,null,null,null,null,null,null,null,null,null,"","",null,null,null,{"$f":"IF('CENTRAL ANALYSIS'!$B$32>='DATA COLLECTION'!X76,1,0)","v":0},35,0]
[null,null,null,null,null,null,null,null,null,null,null,null,null,null,null,null,null,"","",null,null,null,{"$f":"IF('CENTRAL ANALYSIS'!$B$32>='DATA COLLECTION'!X77,1,0)","v":0},36,0]
[null,null,null,null,null,null,null,null,null,null,null,null,null,null,null,null,null,"","",null,null,null,{"$f":"IF('CENTRAL ANALYSIS'!$B$32>='DATA COLLECTION'!X78,1,0)","v":0},37,0]
[null,null,null,null,null,null,null,null,null,null,null,null,null,null,null,null,null,"","",null,null,null,{"$f":"IF('CENTRAL ANALYSIS'!$B$32>='DATA COLLECTION'!X79,1,0)","v":0},38,0]
[null,null,null,null,null,null,null,null,null,null,null,null,null,null,null,null,null,"","",null,null,null,{"$f":"IF('CENTRAL ANALYSIS'!$B$32>='DATA COLLECTION'!X80,1,0)","v":0},39,0]
[null,null,null,null,null,null,null,null,null,null,null,null,null,null,null,null,null,"","",null,null,null,{"$f":"IF('CENTRAL ANALYSIS'!$B$32>='DATA COLLECTION'!X81,1,0)","v":0},40,0]
[null,null,null,null,null,null,null,null,null,null,null,null,null,null,null,null,null,"","",null,null,null,{"$f":"IF('CENTRAL ANALYSIS'!$B$32>='DATA COLLECTION'!X82,1,0)","v":0},41,0]
[null,null,null,null,null,null,null,null,null,null,null,null,null,null,null,null,null,"","",null,null,null,{"$f":"IF('CENTRAL ANALYSIS'!$B$32>='DATA COLLECTION'!X83,1,0)","v":0},42,0]
[null,null,null,null,null,null,null,null,null,null,null,null,null,null,null,null,null,"","",null,null,null,{"$f":"IF('CENTRAL ANALYSIS'!$B$32>='DATA COLLECTION'!X84,1,0)","v":0},43,0]
[null,null,null,null,null,null,null,null,null,null,null,null,null,null,null,null,null,"","",null,null,null,{"$f":"IF('CENTRAL ANALYSIS'!$B$32>='DATA COLLECTION'!X85,1,0)","v":0},44,0]
[null,null,null,null,null,null,null,null,null,null,null,null,null,null,null,null,null,"","",null,null,null,{"$f":"IF('CENTRAL ANALYSIS'!$B$32>='DATA COLLECTION'!X86,1,0)","v":0},45,0]
[null,null,null,null,null,null,null,null,null,null,null,null,null,null,null,null,null,"","",null,null,null,{"$f":"IF('CENTRAL ANALYSIS'!$B$32>='DATA COLLECTION'!X87,1,0)","v":0},46,0]
[null,null,null,null,null,null,null,null,null,null,null,null,null,null,null,null,null,"","",null,null,null,{"$f":"IF('CENTRAL ANALYSIS'!$B$32>='DATA COLLECTION'!X88,1,0)","v":0},47,0]
[null,null,null,null,null,null,null,null,null,null,null,null,null,null,null,null,null,"","",null,null,null,{"$f":"IF('CENTRAL ANALYSIS'!$B$32>='DATA COLLECTION'!X89,1,0)","v":0},48,0]
[null,null,null,null,null,null,null,null,null,null,null,null,null,null,null,null,null,"","",null,null,null,{"$f":"IF('CENTRAL ANALYSIS'!$B$32>='DATA COLLECTION'!X90,1,0)","v":0},49,0]
[null,null,null,null,null,null,null,null,null,null,null,null,null,null,null,null,null,"","",null,null,null,{"$f":"IF('CENTRAL ANALYSIS'!$B$32>='DATA COLLECTION'!X91,1,0)","v":0},50,0]
[null,null,null,null,null,null,null,null,null,null,null,null,null,null,null,null,null,"","",null,null,null,{"$f":"IF('CENTRAL ANALYSIS'!$B$32>='DATA COLLECTION'!X92,1,0)","v":0},51,0]
[null,null,null,null,null,null,null,null,null,null,null,null,null,null,null,null,null,"","",null,null,null,{"$f":"IF('CENTRAL ANALYSIS'!$B$32>='DATA COLLECTION'!X93,1,0)","v":0},52,0]
[null,null,null,null,null,null,null,null,null,null,null,null,null,null,null,null,null,"","",null,null,null,{"$f":"IF('CENTRAL ANALYSIS'!$B$32>='DATA COLLECTION'!X94,1,0)","v":0},53,0]
[null,null,null,null,null,null,null,null,null,null,null,null,null,null,null,null,null,"","",null,null,null,{"$f":"IF('CENTRAL ANALYSIS'!$B$32>='DATA COLLECTION'!X95,1,0)","v":0},54,0]
[null,null,null,null,null,null,null,null,null,null,null,null,null,null,null,null,null,"","",null,null,null,{"$f":"IF('CENTRAL ANALYSIS'!$B$32>='DATA COLLECTION'!X96,1,0)","v":0},55,0]
[null,null,null,null,null,null,null,null,null,null,null,null,null,null,null,null,null,"","",null,null,null,{"$f":"IF('CENTRAL ANALYSIS'!$B$32>='DATA COLLECTION'!X97,1,0)","v":0},56,0]
[null,null,null,null,null,null,null,null,null,null,null,null,null,null,null,null,null,"","",null,null,null,{"$f":"IF('CENTRAL ANALYSIS'!$B$32>='DATA COLLECTION'!X98,1,0)","v":0},57,0]
[null,null,null,null,null,null,null,null,null,null,null,null,null,null,null,null,null,"","",null,null,null,{"$f":"IF('CENTRAL ANALYSIS'!$B$32>='DATA COLLECTION'!X99,1,0)","v":0},58,0]
[null,null,null,null,null,null,null,null,null,null,null,null,null,null,null,null,null,"","",null,null,null,{"$f":"IF('CENTRAL ANALYSIS'!$B$32>='DATA COLLECTION'!X100,1,0)","v":0},59,0]
[null,null,null,null,null,null,null,null,null,null,null,null,null,null,null,null,null,"","",null,null,null,{"$f":"IF('CENTRAL ANALYSIS'!$B$32>='DATA COLLECTION'!X101,1,0)","v":0},60,0]
[null,null,null,null,null,null,null,null,null,null,null,null,null,null,null,null,null,"","",null,null,null,{"$f":"IF('CENTRAL ANALYSIS'!$B$32>='DATA COLLECTION'!X102,1,0)","v":0},61,0]
[null,null,null,null,null,null,null,null,null,null,null,null,null,null,null,null,null,"","",null,null,null,{"$f":"IF('CENTRAL ANALYSIS'!$B$32>='DATA COLLECTION'!X103,1,0)","v":0},62,0]
[null,null,null,null,null,null,null,null,null,null,null,null,null,null,null,null,null,"","",null,null,null,{"$f":"IF('CENTRAL ANALYSIS'!$B$32>='DATA COLLECTION'!X104,1,0)","v":0},63,0]
[null,null,null,null,null,null,null,null,null,null,null,null,null,null,null,null,null,"","",null,null,null,{"$f":"IF('CENTRAL ANALYSIS'!$B$32>='DATA COLLECTION'!X105,1,0)","v":0},64,0]
[null,null,null,null,null,null,null,null,null,null,null,null,null,null,null,null,null,"","",null,null,null,{"$f":"IF('CENTRAL ANALYSIS'!$B$32>='DATA COLLECTION'!X106,1,0)","v":0},65,0]
[null,null,null,null,null,null,null,null,null,null,null,null,null,null,null,null,null,{"$f":"IF(AND(J107<>\"\",M107=\"\"),0,IF(AND(J107<>\"\",M107<>\"\"),1,\"\"))","v":""},{"$f":"IF(AND(O107=\"\",R107=1),0,IF(AND(R107=1,O107<>\"\"),1,\"\"))","v":""},null,null,null,{"$f":"IF('CENTRAL ANALYSIS'!$B$32>='DATA COLLECTION'!X107,1,0)","v":0},66,{"$f":"IF(AND(B107<>\"\",W107=1),1,0)","v":0}]
[null,null,null,null,null,null,null,null,null,null,null,null,null,null,null,null,null,"","",null,null,null,{"$f":"IF('CENTRAL ANALYSIS'!$B$32>='DATA COLLECTION'!X108,1,0)","v":0},67,0]
[null,null,null,null,null,null,null,null,null,null,null,null,null,null,null,null,null,"","",null,null,null,{"$f":"IF('CENTRAL ANALYSIS'!$B$32>='DATA COLLECTION'!X109,1,0)","v":0},68,0]
[null,null,null,null,null,null,null,null,null,null,null,null,null,null,null,null,null,"","",null,null,null,{"$f":"IF('CENTRAL ANALYSIS'!$B$32>='DATA COLLECTION'!X110,1,0)","v":0},69,0]
[null,null,null,null,null,null,null,null,null,null,null,null,null,null,null,null,null,"","",null,null,null,{"$f":"IF('CENTRAL ANALYSIS'!$B$32>='DATA COLLECTION'!X111,1,0)","v":0},70,0]
[null,null,null,null,null,null,null,null,null,null,null,null,null,null,null,null,null,"","",null,null,null,{"$f":"IF('CENTRAL ANALYSIS'!$B$32>='DATA COLLECTION'!X112,1,0)","v":0},71,0]
[null,null,null,null,null,null,null,null,null,null,null,null,null,null,null,null,null,"","",null,null,null,{"$f":"IF('CENTRAL ANALYSIS'!$B$32>='DATA COLLECTION'!X113,1,0)","v":0},72,0]
[null,null,null,null,null,null,null,null,null,null,null,null,null,null,null,null,null,"","",null,null,null,{"$f":"IF('CENTRAL ANALYSIS'!$B$32>='DATA COLLECTION'!X114,1,0)","v":0},73,0]
[null,null,null,null,null,null,null,null,null,null,null,null,null,null,null,null,null,"","",null,null,null,{"$f":"IF('CENTRAL ANALYSIS'!$B$32>='DATA COLLECTION'!X115,1,0)","v":0},74,0]
[null,null,null,null,null,null,null,null,null,null,null,null,null,null,null,null,null,"","",null,null,null,{"$f":"IF('CENTRAL ANALYSIS'!$B$32>='DATA COLLECTION'!X116,1,0)","v":0},75,0]
[null,null,null,null,null,null,null,null,null,null,null,null,null,null,null,null,null,"","",null,null,null,{"$f":"IF('CENTRAL ANALYSIS'!$B$32>='DATA COLLECTION'!X117,1,0)","v":0},76,0]
[null,null,null,null,null,null,null,null,null,null,null,null,null,null,null,null,null,"","",null,null,null,{"$f":"IF('CENTRAL ANALYSIS'!$B$32>='DATA COLLECTION'!X118,1,0)","v":0},77,0]
[null,null,null,null,null,null,null,null,null,null,null,null,null,null,null,null,null,"","",null,null,null,{"$f":"IF('CENTRAL ANALYSIS'!$B$32>='DATA COLLECTION'!X119,1,0)","v":0},78,0]
[null,null,null,null,null,null,null,null,null,null,null,null,null,null,null,null,null,"","",null,null,null,{"$f":"IF('CENTRAL ANALYSIS'!$B$32>='DATA COLLECTION'!X120,1,0)","v":0},79,0]
[null,null,null,null,null,null,null,null,null,null,null,null,null,null,null,null,null,"","",null,null,null,{"$f":"IF('CENTRAL ANALYSIS'!$B$32>='DATA COLLECTION'!X121,1,0)","v":0},80,0]
[null,null,null,null,null,null,null,null,null,null,null,null,null,null,null,null,null,"","",null,null,null,{"$f":"IF('CENTRAL ANALYSIS'!$B$32>='DATA COLLECTION'!X122,1,0)","v":0},81,0]
[null,null,null,null,null,null,null,null,null,null,null,null,null,null,null,null,null,"","",null,null,null,{"$f":"IF('CENTRAL ANALYSIS'!$B$32>='DATA COLLECTION'!X123,1,0)","v":0},82,0]
[null,null,null,null,null,null,null,null,null,null,null,null,null,null,null,null,null,"","",null,null,null,{"$f":"IF('CENTRAL ANALYSIS'!$B$32>='DATA COLLECTION'!X124,1,0)","v":0},83,0]
[null,null,null,null,null,null,null,null,null,null,null,null,null,null,null,null,null,"","",null,null,null,{"$f":"IF('CENTRAL ANALYSIS'!$B$32>='DATA COLLECTION'!X125,1,0)","v":0},84,0]
[null,null,null,null,null,null,null,null,null,null,null,null,null,null,null,null,null,"","",null,null,null,{"$f":"IF('CENTRAL ANALYSIS'!$B$32>='DATA COLLECTION'!X126,1,0)","v":0},85,0]
[null,null,null,null,null,null,null,null,null,null,null,null,null,null,null,null,null,"","",null,null,null,{"$f":"IF('CENTRAL ANALYSIS'!$B$32>='DATA COLLECTION'!X127,1,0)","v":0},86,0]
[null,null,null,null,null,null,null,null,null,null,null,null,null,null,null,null,null,"","",null,null,null,{"$f":"IF('CENTRAL ANALYSIS'!$B$32>='DATA COLLECTION'!X128,1,0)","v":0},87,0]
[null,null,null,null,null,null,null,null,null,null,null,null,null,null,null,null,null,"","",null,null,null,{"$f":"IF('CENTRAL ANALYSIS'!$B$32>='DATA COLLECTION'!X129,1,0)","v":0},88,0]
[null,null,null,null,null,null,null,null,null,null,null,null,null,null,null,null,null,"","",null,null,null,{"$f":"IF('CENTRAL ANALYSIS'!$B$32>='DATA COLLECTION'!X130,1,0)","v":0},89,0]
[null,null,null,null,null,null,null,null,null,null,null,null,null,null,null,null,null,"","",null,null,null,{"$f":"IF('CENTRAL ANALYSIS'!$B$32>='DATA COLLECTION'!X131,1,0)","v":0},90,0]
[null,null,null,null,null,null,null,null,null,null,null,null,null,null,null,null,null,"","",null,null,null,{"$f":"IF('CENTRAL ANALYSIS'!$B$32>='DATA COLLECTION'!X132,1,0)","v":0},91,0]
[null,null,null,null,null,null,null,null,null,null,null,null,null,null,null,null,null,"","",null,null,null,{"$f":"IF('CENTRAL ANALYSIS'!$B$32>='DATA COLLECTION'!X133,1,0)","v":0},92,0]
[null,null,null,null,null,null,null,null,null,null,null,null,null,null,null,null,null,"","",null,null,null,{"$f":"IF('CENTRAL ANALYSIS'!$B$32>='DATA COLLECTION'!X134,1,0)","v":0},93,0]
[null,null,null,null,null,null,null,null,null,null,null,null,null,null,null,null,null,"","",null,null,null,{"$f":"IF('CENTRAL ANALYSIS'!$B$32>='DATA COLLECTION'!X135,1,0)","v":0},94,0]
[null,null,null,null,null,null,null,null,null,null,null,null,null,null,null,null,null,"","",null,null,null,{"$f":"IF('CENTRAL ANALYSIS'!$B$32>='DATA COLLECTION'!X136,1,0)","v":0},95,0]
[null,null,null,null,null,null,null,null,null,null,null,null,null,null,null,null,null,"","",null,null,null,{"$f":"IF('CENTRAL ANALYSIS'!$B$32>='DATA COLLECTION'!X137,1,0)","v":0},96,0]
[null,null,null,null,null,null,null,null,null,null,null,null,null,null,null,null,null,"","",null,null,null,{"$f":"IF('CENTRAL ANALYSIS'!$B$32>='DATA COLLECTION'!X138,1,0)","v":0},97,0]
[null,null,null,null,null,null,null,null,null,null,null,null,null,null,null,null,null,"","",null,null,null,{"$f":"IF('CENTRAL ANALYSIS'!$B$32>='DATA COLLECTION'!X139,1,0)","v":0},98,0]
[null,null,null,null,null,null,null,null,null,null,null,null,null,null,null,null,null,"","",null,null,null,{"$f":"IF('CENTRAL ANALYSIS'!$B$32>='DATA COLLECTION'!X140,1,0)","v":0},99,0]
[null,null,null,null,null,null,null,null,null,null,null,null,null,null,null,null,null,"","",null,null,null,{"$f":"IF('CENTRAL ANALYSIS'!$B$32>='DATA COLLECTION'!X141,1,0)","v":0},100,0]
[null,null,null,null,null,null,null,null,null,null,null,null,null,null,null,null,null,null,null,null,null,null,1]
[null,null,"(Optional) Step 2(a): Enter Positions to Assess if Not Using Macros",null,null,null,null,null,null,null,null,null,null,null,null,null,null,null,null,null,null,null,1]
[null,null,null,null,null,null,null,null,null,null,null,null,null,null,null,null,null,null,null,null,null,null,1]
[null,null,"If chosen not to use Macros, please enter the total number of lines of service below. The worksheet will then need to be filtered manually by going to cell \"W1\" and clicking the Filter Icon. This will display a menu where the checkbox next to \"0\" should be empty. If it is, click the \"OK\" button to display the objective and action item entry cells above. Enter the lines of service information in the cells above.",null,null,null,null,null,null,null,null,null,null,null,null,null,null,null,null,null,null,null,1]
[null,null,null,null,null,null,null,null,null,null,null,null,null,null,null,null,null,null,null,null,null,null,1]
[null,null,null,null,null,null,null,null,null,null,null,null,null,null,null,null,null,null,null,null,null,null,1]
[null,null,null,null,null,null,null,null,null,null,null,null,null,null,null,null,null,null,null,null,null,null,1]
[null,null,null,null,null,null,null,null,null,null,null,null,null,null,"Total Positions to be Assessed for Criticality (Max of 100)",null,null,null,null,null,null,null,1]
[null,null,null,null,null,null,null,null,null,null,null,null,null,null,null,null,null,null,null,null,null,null,1]
[null,null,null,null,null,null,null,null,null,null,null,null,null,null,null,null,null,null,null,null,null,null,1]
[null,null,null,null,null,null,null,null,null,null,null,null,null,null,null,null,null,null,null,null,null,null,1]
[null,null,"(Optional) Step 2(b): Add Additional Filter Criteria by Position for Critical Role Summary",null,null,null,null,null,null,null,null,null,null,null,null,null,null,null,null,null,null,null,1]
[null,null,null,null,null,null,null,null,null,null,null,null,null,null,null,null,null,null,null,null,null,null,1]
[null,null,"To further filter assessment data based on agency specific information, please enter the internal department, sub-agency/division, line of service, location, EEO Code, and/or Classification for the positions being assessed below.",null,null,null,null,null,null,null,null,null,null,null,null,null,null,null,null,null,null,null,1]
[null,null,null,null,null,null,null,null,null,null,null,null,null,null,null,null,null,null,null,null,null,null,1]
[null,null,null,null,null,null,null,null,null,null,null,null,null,null,null,null,null,null,null,null,null,null,0]
[null,null,null,null,null,null,null,null,null,null,null,null,null,null,null,null,null,null,null,null,null,null,0]
[null,null,null,null,null,null,null,null,null,null,null,null,null,null,null,null,null,null,null,null,null,null,1]
[null,null,"Position Number",null,"Internal Department",null,"Sub-Agency/Division",null,"Line of Service",null,"Location",null,"EEO Code",null,"Classification",null,null,null,null,null,null,null,{"$f":"IF('CENTRAL ANALYSIS'!$B$32>='DATA COLLECTION'!X160,1,0)","v":0},1]
[null,null,{"$f":"IF(B42=\"\",\"\",B42)","v":""},null,null,null,null,null,null,null,null,null,null,null,null,null,null,null,null,null,null,null,{"$f":"IF('CENTRAL ANALYSIS'!$B$32>='DATA COLLECTION'!X161,1,0)","v":0},1]
[null,null,{"$f":"IF(B43=\"\",\"\",B43)","v":""},null,null,null,null,null,null,null,null,null,null,null,null,null,null,null,null,null,null,null,{"$f":"IF('CENTRAL ANALYSIS'!$B$32>='DATA COLLECTION'!X162,1,0)","v":0},2]
[null,null,"",null,null,null,null,null,null,null,null,null,null,null,null,null,null,null,null,null,null,null,{"$f":"IF('CENTRAL ANALYSIS'!$B$32>='DATA COLLECTION'!X163,1,0)","v":0},3]
[null,null,"",null,null,null,null,null,null,null,null,null,null,null,null,null,null,null,null,null,null,null,{"$f":"IF('CENTRAL ANALYSIS'!$B$32>='DATA COLLECTION'!X164,1,0)","v":0},4]
[null,null,"",null,null,null,null,null,null,null,null,null,null,null,null,null,null,null,null,null,null,null,{"$f":"IF('CENTRAL ANALYSIS'!$B$32>='DATA COLLECTION'!X165,1,0)","v":0},5]
[null,null,"",null,null,null,null,null,null,null,null,null,null,null,null,null,null,null,null,null,null,null,{"$f":"IF('CENTRAL ANALYSIS'!$B$32>='DATA COLLECTION'!X166,1,0)","v":0},6]
[null,null,"",null,null,null,null,null,null,null,null,null,null,null,null,null,null,null,null,null,null,null,{"$f":"IF('CENTRAL ANALYSIS'!$B$32>='DATA COLLECTION'!X167,1,0)","v":0},7]
[null,null,"",null,null,null,null,null,null,null,null,null,null,null,null,null,null,null,null,null,null,null,{"$f":"IF('CENTRAL ANALYSIS'!$B$32>='DATA COLLECTION'!X168,1,0)","v":0},8]
[null,null,"",null,null,null,null,null,null,null,null,null,null,null,null,null,null,null,null,null,null,null,{"$f":"IF('CENTRAL ANALYSIS'!$B$32>='DATA COLLECTION'!X169,1,0)","v":0},9]
[null,null,"",null,null,null,null,null,null,null,null,null,null,null,null,null,null,null,null,null,null,null,{"$f":"IF('CENTRAL ANALYSIS'!$B$32>='DATA COLLECTION'!X170,1,0)","v":0},10]
[null,null,"",null,null,null,null,null,null,null,null,null,null,null,null,null,null,null,null,null,null,null,{"$f":"IF('CENTRAL ANALYSIS'!$B$32>='DATA COLLECTION'!X171,1,0)","v":0},11]
[null,null,"",null,null,null,null,null,null,null,null,null,null,null,null,null,null,null,null,null,null,null,{"$f":"IF('CENTRAL ANALYSIS'!$B$32>='DATA COLLECTION'!X172,1,0)","v":0},12]
[null,null,"",null,null,null,null,null,null,null,null,null,null,null,null,null,null,null,null,null,null,null,{"$f":"IF('CENTRAL ANALYSIS'!$B$32>='DATA COLLECTION'!X173,1,0)","v":0},13]
[null,null,"",null,null,null,null,null,null,null,null,null,null,null,null,null,null,null,null,null,null,null,{"$f":"IF('CENTRAL ANALYSIS'!$B$32>='DATA COLLECTION'!X174,1,0)","v":0},14]
[null,null,"",null,null,null,null,null,null,null,null,null,null,null,null,null,null,null,null,null,null,null,{"$f":"IF('CENTRAL ANALYSIS'!$B$32>='DATA COLLECTION'!X175,1,0)","v":0},15]
[null,null,"",null,null,null,null,null,null,null,null,null,null,null,null,null,null,null,null,null,null,null,{"$f":"IF('CENTRAL ANALYSIS'!$B$32>='DATA COLLECTION'!X176,1,0)","v":0},16]
[null,null,"",null,null,null,null,null,null,null,null,null,null,null,null,null,null,null,null,null,null,null,{"$f":"IF('CENTRAL ANALYSIS'!$B$32>='DATA COLLECTION'!X177,1,0)","v":0},17]
[null,null,"",null,null,null,null,null,null,null,null,null,null,null,null,null,null,null,null,null,null,null,{"$f":"IF('CENTRAL ANALYSIS'!$B$32>='DATA COLLECTION'!X178,1,0)","v":0},18]
[null,null,"",null,null,null,null,null,null,null,null,null,null,null,null,null,null,null,null,null,null,null,{"$f":"IF('CENTRAL ANALYSIS'!$B$32>='DATA COLLECTION'!X179,1,0)","v":0},19]
[null,null,"",null,null,null,null,null,null,null,null,null,null,null,null,null,null,null,null,null,null,null,{"$f":"IF('CENTRAL ANALYSIS'!$B$32>='DATA COLLECTION'!X180,1,0)","v":0},20]
[null,null,"",null,null,null,null,null,null,null,null,null,null,null,null,null,null,null,null,null,null,null,{"$f":"IF('CENTRAL ANALYSIS'!$B$32>='DATA COLLECTION'!X181,1,0)","v":0},21]
[null,null,"",null,null,null,null,null,null,null,null,null,null,null,null,null,null,null,null,null,null,null,{"$f":"IF('CENTRAL ANALYSIS'!$B$32>='DATA COLLECTION'!X182,1,0)","v":0},22]
[null,null,"",null,null,null,null,null,null,null,null,null,null,null,null,null,null,null,null,null,null,null,{"$f":"IF('CENTRAL ANALYSIS'!$B$32>='DATA COLLECTION'!X183,1,0)","v":0},23]
[null,null,"",null,null,null,null,null,null,null,null,null,null,null,null,null,null,null,null,null,null,null,{"$f":"IF('CENTRAL ANALYSIS'!$B$32>='DATA COLLECTION'!X184,1,0)","v":0},24]
[null,null,"",null,null,null,null,null,null,null,null,null,null,null,null,null,null,null,null,null,null,null,{"$f":"IF('CENTRAL ANALYSIS'!$B$32>='DATA COLLECTION'!X185,1,0)","v":0},25]
[null,null,"",null,null,null,null,null,null,null,null,null,null,null,null,null,null,null,null,null,null,null,{"$f":"IF('CENTRAL ANALYSIS'!$B$32>='DATA COLLECTION'!X186,1,0)","v":0},26]
[null,null,"",null,null,null,null,null,null,null,null,null,null,null,null,null,null,null,null,null,null,null,{"$f":"IF('CENTRAL ANALYSIS'!$B$32>='DATA COLLECTION'!X187,1,0)","v":0},27]
[null,null,"",null,null,null,null,null,null,null,null,null,null,null,null,null,null,null,null,null,null,null,{"$f":"IF('CENTRAL ANALYSIS'!$B$32>='DATA COLLECTION'!X188,1,0)","v":0},28]
[null,null,"",null,null,null,null,null,null,null,null,null,null,null,null,null,null,null,null,null,null,null,{"$f":"IF('CENTRAL ANALYSIS'!$B$32>='DATA COLLECTION'!X189,1,0)","v":0},29]
[null,null,"",null,null,null,null,null,null,null,null,null,null,null,null,null,null,null,null,null,null,null,{"$f":"IF('CENTRAL ANALYSIS'!$B$32>='DATA COLLECTION'!X190,1,0)","v":0},30]
[null,null,"",null,null,null,null,null,null,null,null,null,null,null,null,null,null,null,null,null,null,null,{"$f":"IF('CENTRAL ANALYSIS'!$B$32>='DATA COLLECTION'!X191,1,0)","v":0},31]
[null,null,"",null,null,null,null,null,null,null,null,null,null,null,null,null,null,null,null,null,null,null,{"$f":"IF('CENTRAL ANALYSIS'!$B$32>='DATA COLLECTION'!X192,1,0)","v":0},32]
[null,null,"",null,null,null,null,null,null,null,null,null,null,null,null,null,null,null,null,null,null,null,{"$f":"IF('CENTRAL ANALYSIS'!$B$32>='DATA COLLECTION'!X193,1,0)","v":0},33]
[null,null,"",null,null,null,null,null,null,null,null,null,null,null,null,null,null,null,null,null,null,null,{"$f":"IF('CENTRAL ANALYSIS'!$B$32>='DATA COLLECTION'!X194,1,0)","v":0},34]
[null,null,"",null,null,null,null,null,null,null,null,null,null,null,null,null,null,null,null,null,null,null,{"$f":"IF('CENTRAL ANALYSIS'!$B$32>='DATA COLLECTION'!X195,1,0)","v":0},35]
[null,null,"",null,null,null,null,null,null,null,null,null,null,null,null,null,null,null,null,null,null,null,{"$f":"IF('CENTRAL ANALYSIS'!$B$32>='DATA COLLECTION'!X196,1,0)","v":0},36]
[null,null,"",null,null,null,null,null,null,null,null,null,null,null,null,null,null,null,null,null,null,null,{"$f":"IF('CENTRAL ANALYSIS'!$B$32>='DATA COLLECTION'!X197,1,0)","v":0},37]
[null,null,"",null,null,null,null,null,null,null,null,null,null,null,null,null,null,null,null,null,null,null,{"$f":"IF('CENTRAL ANALYSIS'!$B$32>='DATA COLLECTION'!X198,1,0)","v":0},38]
[null,null,"",null,null,null,null,null,null,null,null,null,null,null,null,null,null,null,null,null,null,null,{"$f":"IF('CENTRAL ANALYSIS'!$B$32>='DATA COLLECTION'!X199,1,0)","v":0},39]
[null,null,"",null,null,null,null,null,null,null,null,null,null,null,null,null,null,null,null,null,null,null,{"$f":"IF('CENTRAL ANALYSIS'!$B$32>='DATA COLLECTION'!X200,1,0)","v":0},40]
[null,null,"",null,null,null,null,null,null,null,null,null,null,null,null,null,null,null,null,null,null,null,{"$f":"IF('CENTRAL ANALYSIS'!$B$32>='DATA COLLECTION'!X201,1,0)","v":0},41]
[null,null,"",null,null,null,null,null,null,null,null,null,null,null,null,null,null,null,null,null,null,null,{"$f":"IF('CENTRAL ANALYSIS'!$B$32>='DATA COLLECTION'!X202,1,0)","v":0},42]
[null,null,"",null,null,null,null,null,null,null,null,null,null,null,null,null,null,null,null,null,null,null,{"$f":"IF('CENTRAL ANALYSIS'!$B$32>='DATA COLLECTION'!X203,1,0)","v":0},43]
[null,null,"",null,null,null,null,null,null,null,null,null,null,null,null,null,null,null,null,null,null,null,{"$f":"IF('CENTRAL ANALYSIS'!$B$32>='DATA COLLECTION'!X204,1,0)","v":0},44]
[null,null,"",null,null,null,null,null,null,null,null,null,null,null,null,null,null,null,null,null,null,null,{"$f":"IF('CENTRAL ANALYSIS'!$B$32>='DATA COLLECTION'!X205,1,0)","v":0},45]
[null,null,"",null,null,null,null,null,null,null,null,null,null,null,null,null,null,null,null,null,null,null,{"$f":"IF('CENTRAL ANALYSIS'!$B$32>='DATA COLLECTION'!X206,1,0)","v":0},46]
[null,null,"",null,null,null,null,null,null,null,null,null,null,null,null,null,null,null,null,null,null,null,{"$f":"IF('CENTRAL ANALYSIS'!$B$32>='DATA COLLECTION'!X207,1,0)","v":0},47]
[null,null,"",null,null,null,null,null,null,null,null,null,null,null,null,null,null,null,null,null,null,null,{"$f":"IF('CENTRAL ANALYSIS'!$B$32>='DATA COLLECTION'!X208,1,0)","v":0},48]
[null,null,"",null,null,null,null,null,null,null,null,null,null,null,null,null,null,null,null,null,null,null,{"$f":"IF('CENTRAL ANALYSIS'!$B$32>='DATA COLLECTION'!X209,1,0)","v":0},49]
[null,null,"",null,null,null,null,null,null,null,null,null,null,null,null,null,null,null,null,null,null,null,{"$f":"IF('CENTRAL ANALYSIS'!$B$32>='DATA COLLECTION'!X210,1,0)","v":0},50]
[null,null,"",null,null,null,null,null,null,null,null,null,null,null,null,null,null,null,null,null,null,null,{"$f":"IF('CENTRAL ANALYSIS'!$B$32>='DATA COLLECTION'!X211,1,0)","v":0},51]
[null,null,"",null,null,null,null,null,null,null,null,null,null,null,null,null,null,null,null,null,null,null,{"$f":"IF('CENTRAL ANALYSIS'!$B$32>='DATA COLLECTION'!X212,1,0)","v":0},52]
[null,null,"",null,null,null,null,null,null,null,null,null,null,null,null,null,null,null,null,null,null,null,{"$f":"IF('CENTRAL ANALYSIS'!$B$32>='DATA COLLECTION'!X213,1,0)","v":0},53]
[null,null,"",null,null,null,null,null,null,null,null,null,null,null,null,null,null,null,null,null,null,null,{"$f":"IF('CENTRAL ANALYSIS'!$B$32>='DATA COLLECTION'!X214,1,0)","v":0},54]
[null,null,"",null,null,null,null,null,null,null,null,null,null,null,null,null,null,null,null,null,null,null,{"$f":"IF('CENTRAL ANALYSIS'!$B$32>='DATA COLLECTION'!X215,1,0)","v":0},55]
[null,null,"",null,null,null,null,null,null,null,null,null,null,null,null,null,null,null,null,null,null,null,{"$f":"IF('CENTRAL ANALYSIS'!$B$32>='DATA COLLECTION'!X216,1,0)","v":0},56]
[null,null,"",null,null,null,null,null,null,null,null,null,null,null,null,null,null,null,null,null,null,null,{"$f":"IF('CENTRAL ANALYSIS'!$B$32>='DATA COLLECTION'!X217,1,0)","v":0},57]
[null,null,"",null,null,null,null,null,null,null,null,null,null,null,null,null,null,null,null,null,null,null,{"$f":"IF('CENTRAL ANALYSIS'!$B$32>='DATA COLLECTION'!X218,1,0)","v":0},58]
[null,null,"",null,null,null,null,null,null,null,null,null,null,null,null,null,null,null,null,null,null,null,{"$f":"IF('CENTRAL ANALYSIS'!$B$32>='DATA COLLECTION'!X219,1,0)","v":0},59]
[null,null,"",null,null,null,null,null,null,null,null,null,null,null,null,null,null,null,null,null,null,null,{"$f":"IF('CENTRAL ANALYSIS'!$B$32>='DATA COLLECTION'!X220,1,0)","v":0},60]
[null,null,"",null,null,null,null,null,null,null,null,null,null,null,null,null,null,null,null,null,null,null,{"$f":"IF('CENTRAL ANALYSIS'!$B$32>='DATA COLLECTION'!X221,1,0)","v":0},61]
[null,null,"",null,null,null,null,null,null,null,null,null,null,null,null,null,null,null,null,null,null,null,{"$f":"IF('CENTRAL ANALYSIS'!$B$32>='DATA COLLECTION'!X222,1,0)","v":0},62]
[null,null,"",null,null,null,null,null,null,null,null,null,null,null,null,null,null,null,null,null,null,null,{"$f":"IF('CENTRAL ANALYSIS'!$B$32>='DATA COLLECTION'!X223,1,0)","v":0},63]
[null,null,"",null,null,null,null,null,null,null,null,null,null,null,null,null,null,null,null,null,null,null,{"$f":"IF('CENTRAL ANALYSIS'!$B$32>='DATA COLLECTION'!X224,1,0)","v":0},64]
[null,null,"",null,null,null,null,null,null,null,null,null,null,null,null,null,null,null,null,null,null,null,{"$f":"IF('CENTRAL ANALYSIS'!$B$32>='DATA COLLECTION'!X225,1,0)","v":0},65]
[null,null,{"$f":"IF(B107=\"\",\"\",B107)","v":""},null,null,null,null,null,null,null,null,null,null,null,null,null,null,null,null,null,null,null,{"$f":"IF('CENTRAL ANALYSIS'!$B$32>='DATA COLLECTION'!X226,1,0)","v":0},66]
[null,null,"",null,null,null,null,null,null,null,null,null,null,null,null,null,null,null,null,null,null,null,{"$f":"IF('CENTRAL ANALYSIS'!$B$32>='DATA COLLECTION'!X227,1,0)","v":0},67]
[null,null,"",null,null,null,null,null,null,null,null,null,null,null,null,null,null,null,null,null,null,null,{"$f":"IF('CENTRAL ANALYSIS'!$B$32>='DATA COLLECTION'!X228,1,0)","v":0},68]
[null,null,"",null,null,null,null,null,null,null,null,null,null,null,null,null,null,null,null,null,null,null,{"$f":"IF('CENTRAL ANALYSIS'!$B$32>='DATA COLLECTION'!X229,1,0)","v":0},69]
[null,null,"",null,null,null,null,null,null,null,null,null,null,null,null,null,null,null,null,null,null,null,{"$f":"IF('CENTRAL ANALYSIS'!$B$32>='DATA COLLECTION'!X230,1,0)","v":0},70]
[null,null,"",null,null,null,null,null,null,null,null,null,null,null,null,null,null,null,null,null,null,null,{"$f":"IF('CENTRAL ANALYSIS'!$B$32>='DATA COLLECTION'!X231,1,0)","v":0},71]
[null,null,"",null,null,null,null,null,null,null,null,null,null,null,null,null,null,null,null,null,null,null,{"$f":"IF('CENTRAL ANALYSIS'!$B$32>='DATA COLLECTION'!X232,1,0)","v":0},72]
[null,null,"",null,null,null,null,null,null,null,null,null,null,null,null,null,null,null,null,null,null,null,{"$f":"IF('CENTRAL ANALYSIS'!$B$32>='DATA COLLECTION'!X233,1,0)","v":0},73]
[null,null,"",null,null,null,null,null,null,null,null,null,null,null,null,null,null,null,null,null,null,null,{"$f":"IF('CENTRAL ANALYSIS'!$B$32>='DATA COLLECTION'!X234,1,0)","v":0},74]
[null,null,"",null,null,null,null,null,null,null,null,null,null,null,null,null,null,null,null,null,null,null,{"$f":"IF('CENTRAL ANALYSIS'!$B$32>='DATA COLLECTION'!X235,1,0)","v":0},75]
[null,null,"",null,null,null,null,null,null,null,null,null,null,null,null,null,null,null,null,null,null,null,{"$f":"IF('CENTRAL ANALYSIS'!$B$32>='DATA COLLECTION'!X236,1,0)","v":0},76]
[null,null,"",null,null,null,null,null,null,null,null,null,null,null,null,null,null,null,null,null,null,null,{"$f":"IF('CENTRAL ANALYSIS'!$B$32>='DATA COLLECTION'!X237,1,0)","v":0},77]
[null,null,"",null,null,null,null,null,null,null,null,null,null,null,null,null,null,null,null,null,null,null,{"$f":"IF('CENTRAL ANALYSIS'!$B$32>='DATA COLLECTION'!X238,1,0)","v":0},78]
[null,null,"",null,null,null,null,null,null,null,null,null,null,null,null,null,null,null,null,null,null,null,{"$f":"IF('CENTRAL ANALYSIS'!$B$32>='DATA COLLECTION'!X239,1,0)","v":0},79]
[null,null,"",null,null,null,null,null,null,null,null,null,null,null,null,null,null,null,null,null,null,null,{"$f":"IF('CENTRAL ANALYSIS'!$B$32>='DATA COLLECTION'!X240,1,0)","v":0},80]
[null,null,"",null,null,null,null,null,null,null,null,null,null,null,null,null,null,null,null,null,null,null,{"$f":"IF('CENTRAL ANALYSIS'!$B$32>='DATA COLLECTION'!X241,1,0)","v":0},81]
[null,null,"",null,null,null,null,null,null,null,null,null,null,null,null,null,null,null,null,null,null,null,{"$f":"IF('CENTRAL ANALYSIS'!$B$32>='DATA COLLECTION'!X242,1,0)","v":0},82]
[null,null,"",null,null,null,null,null,null,null,null,null,null,null,null,null,null,null,null,null,null,null,{"$f":"IF('CENTRAL ANALYSIS'!$B$32>='DATA COLLECTION'!X243,1,0)","v":0},83]
[null,null,"",null,null,null,null,null,null,null,null,null,null,null,null,null,null,null,null,null,null,null,{"$f":"IF('CENTRAL ANALYSIS'!$B$32>='DATA COLLECTION'!X244,1,0)","v":0},84]
[null,null,"",null,null,null,null,null,null,null,null,null,null,null,null,null,null,null,null,null,null,null,{"$f":"IF('CENTRAL ANALYSIS'!$B$32>='DATA COLLECTION'!X245,1,0)","v":0},85]
[null,null,"",null,null,null,null,null,null,null,null,null,null,null,null,null,null,null,null,null,null,null,{"$f":"IF('CENTRAL ANALYSIS'!$B$32>='DATA COLLECTION'!X246,1,0)","v":0},86]
[null,null,"",null,null,null,null,null,null,null,null,null,null,null,null,null,null,null,null,null,null,null,{"$f":"IF('CENTRAL ANALYSIS'!$B$32>='DATA COLLECTION'!X247,1,0)","v":0},87]
[null,null,"",null,null,null,null,null,null,null,null,null,null,null,null,null,null,null,null,null,null,null,{"$f":"IF('CENTRAL ANALYSIS'!$B$32>='DATA COLLECTION'!X248,1,0)","v":0},88]
[null,null,"",null,null,null,null,null,null,null,null,null,null,null,null,null,null,null,null,null,null,null,{"$f":"IF('CENTRAL ANALYSIS'!$B$32>='DATA COLLECTION'!X249,1,0)","v":0},89]
[null,null,"",null,null,null,null,null,null,null,null,null,null,null,null,null,null,null,null,null,null,null,{"$f":"IF('CENTRAL ANALYSIS'!$B$32>='DATA COLLECTION'!X250,1,0)","v":0},90]
[null,null,"",null,null,null,null,null,null,null,null,null,null,null,null,null,null,null,null,null,null,null,{"$f":"IF('CENTRAL ANALYSIS'!$B$32>='DATA COLLECTION'!X251,1,0)","v":0},91]
[null,null,"",null,null,null,null,null,null,null,null,null,null,null,null,null,null,null,null,null,null,null,{"$f":"IF('CENTRAL ANALYSIS'!$B$32>='DATA COLLECTION'!X252,1,0)","v":0},92]
[null,null,"",null,null,null,null,null,null,null,null,null,null,null,null,null,null,null,null,null,null,null,{"$f":"IF('CENTRAL ANALYSIS'!$B$32>='DATA COLLECTION'!X253,1,0)","v":0},93]
[null,null,"",null,null,null,null,null,null,null,null,null,null,null,null,null,null,null,null,null,null,null,{"$f":"IF('CENTRAL ANALYSIS'!$B$32>='DATA COLLECTION'!X254,1,0)","v":0},94]
[null,null,"",null,null,null,null,null,null,null,null,null,null,null,null,null,null,null,null,null,null,null,{"$f":"IF('CENTRAL ANALYSIS'!$B$32>='DATA COLLECTION'!X255,1,0)","v":0},95]
[null,null,"",null,null,null,null,null,null,null,null,null,null,null,null,null,null,null,null,null,null,null,{"$f":"IF('CENTRAL ANALYSIS'!$B$32>='DATA COLLECTION'!X256,1,0)","v":0},96]
[null,null,"",null,null,null,null,null,null,null,null,null,null,null,null,null,null,null,null,null,null,null,{"$f":"IF('CENTRAL ANALYSIS'!$B$32>='DATA COLLECTION'!X257,1,0)","v":0},97]
[null,null,"",null,null,null,null,null,null,null,null,null,null,null,null,null,null,null,null,null,null,null,{"$f":"IF('CENTRAL ANALYSIS'!$B$32>='DATA COLLECTION'!X258,1,0)","v":0},98]
[null,null,"",null,null,null,null,null,null,null,null,null,null,null,null,null,null,null,null,null,null,null,{"$f":"IF('CENTRAL ANALYSIS'!$B$32>='DATA COLLECTION'!X259,1,0)","v":0},99]
[null,null,"",null,null,null,null,null,null,null,null,null,null,null,null,null,null,null,null,null,null,null,{"$f":"IF('CENTRAL ANALYSIS'!$B$32>='DATA COLLECTION'!X260,1,0)","v":0},100]
[null,null,null,null,null,null,null,null,null,null,null,null,null,null,null,null,null,null,null,null,null,null,1]
[null,null,null,null,null,null,null,null,null,null,null,null,null,null,null,null,null,null,null,null,null,null,1]
[null,"Step 3: Create Assessments to be Shared with Others",null,null,null,null,null,null,null,null,null,null,null,{"$f":"IF(COUNTA(B42:C141)=COUNTA(M42:N141),\"Complete\",\"Incomplete\")","v":"Complete"},null,null,null,null,null,null,null,null,1]
[null,null,null,null,null,null,null,null,null,null,null,null,null,null,null,null,null,null,null,null,null,null,1]
[null,"INSTRUCTIONS: If creating the assessments separately, please select either the position number or working title of the positions being assessed. If creating a batch of assessments for a single assessor, select the assessor's name. Enter the assessment date in the respective box below and then click \"create assessment\" to create a new excel workbook of the assessment with the positions, working title, assessor name, and assessment date entered. The new workbook can be saved normally and then sent to the individual to complete.",null,null,null,null,null,null,null,null,null,null,null,null,null,null,null,null,null,null,null,null,1]
[null,null,null,null,null,null,null,null,null,null,null,null,null,null,null,null,null,null,null,null,null,null,1]
[null,null,null,null,null,null,null,null,null,null,null,null,null,null,null,null,null,null,null,null,null,null,1]
[null,null,null,null,null,null,null,null,null,null,null,null,null,null,null,null,null,null,null,null,null,null,1]
[null,null,null,null,null,null,null,null,null,null,null,null,null,null,null,null,null,null,null,null,null,null,1]
[null,null,null,null,null,null,null,null,null,null,null,null,null,null,null,"To create a batch of assessments for an assessor, select the assessor below.",null,null,null,null,null,null,1]
[null,null,null,null,null,null,null,null,null,null,null,null,"Select Assessor Name:",null,null,null,{"$f":"N271","v":0},null,null,null,null,null,1]
[null,null,null,null,null,null,null,null,null,null,null,null,null,null,null," --and--",null,null,null,null,null,null,1]
[null,null,null,"It is recommended all other Excel Workbooks are closed before creating the assessment(s).",null,null,null,null,null,null,null,null,"Enter Assessment Date:",null,null,null,{"$f":"IF(N273=\"\",\"\",N273)","v":""},null,null,null,null,null,1]
[null,null,null,null,null,null,null,null,null,null,null,null,null,null,null,null,null,null,null,null,null,null,1]
[null,null,null,null,null,null,null,null,null,null,null,null,null,null,null,null,null,null,null,null,null,null,1]
[null,null,null,null,null,null,null,null,null,null,null,null,null,null,null,null,null,null,null,null,null,null,1]
[null,null,null,null,null,null,null,null,null,null,null,null,null,null,null,null,null,null,null,null,null,null,1]
[null,null,null,null,null,null,null,null,null,null,null,null,"NOTE: The screen will flash when creating  each assessment. ",null,null,null,null,null,null,null,null,null,1]
[null,null,null,null,null,null,null,null,null,null,null,null,null,null,null,null,null,null,null,null,null,null,1]
[null,null,null,null,null,null,null,null,null,null,null,null,null,null,null,null,null,null,null,null,null,null,1]
[null,null,"(Optional) Step 3(a): Create Assessments to be Shared With Others if not Using Macros",null,null,null,null,null,null,null,null,null,null,null,null,null,null,null,null,null,null,null,1]
[null,null,null,null,null,null,null,null,null,null,null,null,null,null,null,null,null,null,null,null,null,null,1]
[null,null,"If chosen not to use Macros, enter the  position number, working title, assessor name  and assessment date on the Full Assessment Tab. At the bottom of the screen where each tab is located, RIGHT click on the \"Full Assessment\" Tab and select \"Move or copy\". In the \"to book\" column, select \"(new book)\" and click \"create a copy\" checkbox at the bottom of the menu. Click OK to create a new workbook with the assessment. The new workbook can be saved normally and then sent to the individual to complete.",null,null,null,null,null,null,null,null,null,null,null,null,null,null,null,null,null,null,null,1]
[null,null,null,null,null,null,null,null,null,null,null,null,null,null,null,null,null,null,null,null,null,null,1]
[null,null,null,null,null,null,null,null,null,null,null,null,null,null,null,null,null,null,null,null,null,null,1]
[null,null,null,null,null,null,null,null,null,null,null,null,null,null,null,null,null,null,null,null,null,null,1]
[null,null,null,null,null,null,null,null,null,null,null,null,null,null,null,null,null,null,null,null,null,null,1]
[null,null,"To create a batch of assessments for a single assessor without Macros, simply choose the same workbook as other assessments (instead of \"new book\") when identifying the workbook to copy the assessment too. This will add another tab within that workbook. ",null,null,null,null,null,null,null,null,null,null,null,null,null,null,null,null,null,null,null,1]
[null,null,null,null,null,null,null,null,null,null,null,null,null,null,null,null,null,null,null,null,null,null,1]
[null,null,null,null,null,null,null,null,null,null,null,null,null,null,null,null,null,null,null,null,null,null,1]
[null,"Step 4: Import Assessment Data and Track Completions from Assessments Shared with Others",null,null,null,null,null,null,null,null,null,null,null,{"$f":"IF(COUNTA(O42:P141)=COUNTA(B42:C141),\"Complete\",\"Incomplete\")","v":"Complete"},null,null,null,null,null,null,null,null,1]
[null,null,null,null,null,null,null,null,null,null,null,null,null,null,null,null,null,null,null,null,null,null,1]
[null,"INSTRUCTIONS: When completed assessments are received, the data can be imported directly into this tool. Click on the import data icon (white paper with green arrow) below. Select the files of the assessment data to be added and then click \"Open\". The table tracker above will be updated to show the data was received. The Critical Roles Summary provides a review of all completed assessment data.",null,null,null,null,null,null,null,null,null,null,null,null,null,null,null,null,null,null,null,null,1]
[null,null,null,null,null,null,null,null,null,null,null,null,null,null,null,null,null,null,null,null,null,null,1]
[null,null,null,null,null,null,null,null,null,null,null,null,null,null,null,null,null,null,null,null,null,null,1]
[null,null,null,null,null,null,null,null,null,null,null,null,null,null,null,null,null,null,null,null,null,null,1]
[null,null,null,null,null,null,null,null,null,null,null,null,null,null,null,null,null,null,null,null,null,null,1]
[null,null,null,null,null,null,null,null,null,null,null,null,null,null,null,null,null,null,null,null,null,null,1]
[null,null,null,null,null,null,null,null,null,null,null,null,null,null,null,null,null,null,null,null,null,null,1]
[null,null,null,null,null,null,null,null,null,null,null,null,null,null,null,null,null,null,null,null,null,null,1]
[null,null,null,null,null,null,null,null,null,null,null,null,null,null,null,null,null,null,null,null,null,null,1]
[null,null,null,null,null,null,null,null,null,null,null,null,null,null,null,null,null,null,null,null,null,null,1]
[null,null,null,null,null,null,null,null,null,null,null,null,null,null,null,null,null,null,null,null,null,null,1]
[null,null,null,null,null,null,null,null,null,null,null,null,null,null,null,null,null,null,null,null,null,null,1]
[null,null,null,null,null,null,null,null,null,null,null,null,null,null,null,null,null,null,null,null,null,null,1]
[null,null,"(Optional) Step 4(a): Enter Assessment Data if Not Using Macros",null,null,null,null,null,null,null,null,null,null,null,null,null,null,null,null,null,null,null,1]
[null,null,null,null,null,null,null,null,null,null,null,null,null,null,null,null,null,null,null,null,null,null,1]
[null,null,"If chosen not to use Macros, the data from each assessment will need to be copied and pasted into this tool individually. On the assessment, unhide the columns Q through Y by selecteing columns P and Z. RIGHT click and select \"unhide\" to show the calculation columns. In column Y, you will see a series of yellow boxes of the position information and calculated score. Highlight the yellow boxes (cells Y7-Y73) and copy the data. \n\nIn this tool, go to the \"Critical Roles Summary\" tab. A data table with all assessment data is at the bottom of the tab, outside of the critical roles summary border. In the next blank row in the table, RIGHT click on cell in the second column (position number), go to the arrow next to paste special and select \"Paste Special...\" text at the bottom. Select \"Values\" and \"Transpose\" and click Okay. This will paste the values from the assessment and show the data horizontally instead of vertically. The data will then show in the Critical Roles Summary.",null,null,null,null,null,null,null,null,null,null,null,null,null,null,null,null,null,null,null,1]
[null,null,null,null,null,null,null,null,null,null,null,null,null,null,null,null,null,null,null,null,null,null,1]
[null,null,null,null,null,null,null,null,null,null,null,null,null,null,null,null,null,null,null,null,null,null,1]
[null,null,null,null,null,null,null,null,null,null,null,null,null,null,null,null,null,null,null,null,null,null,1]
[null,null,null,null,null,null,null,null,null,null,null,null,null,null,null,null,null,null,null,null,null,null,1]
[null,null,null,null,null,null,null,null,null,null,null,null,null,null,null,null,null,null,null,null,null,null,1]
[null,null,null,null,null,null,null,null,null,null,null,null,null,null,null,null,null,null,null,null,null,null,1]
[null,null,null,null,null,null,null,null,null,null,null,null,null,null,null,null,null,null,null,null,null,null,1]
[null,null,null,null,null,null,null,null,null,null,null,null,null,null,null,null,null,null,null,null,null,null,1]
[null,null,null,null,null,null,null,null,null,null,null,null,null,null,null,null,null,null,null,null,null,null,1]
[null,"Step 5: Collect Data without Sharing Full Assessment",null,null,null,null,null,null,null,null,null,null,null,null,null,null,null,null,null,null,null,null,1]
[null,null,null,null,null,null,null,null,null,null,null,null,null,null,null,null,null,null,null,null,null,null,1]
[null,"INSTRUCTIONS: If not sharing the assessment and completing them individually, go to the Full Assessment Tab and enter the position information (position number, working title, assessor, and date). Complete the assessment for the position. After, click the blue \"Submit Assessment\" button at the bottom to enter the information and clear the assessment. Repeat this process for each assessment. ",null,null,null,null,null,null,null,null,null,null,null,null,null,null,null,null,null,null,null,null,1]
[null,null,null,null,null,null,null,null,null,null,null,null,null,null,null,null,null,null,null,null,null,null,1]
[null,null,null,null,null,null,null,null,null,null,null,null,null,null,null,null,null,null,null,null,null,null,1]
[null,null,null,null,null,null,null,null,null,null,null,null,null,null,null,null,null,null,null,null,null,null,1]
[null,null,"(Optional) Step 5(a): Collect Assessment Data without Sharing Full Assessment if Not Using Macros",null,null,null,null,null,null,null,null,null,null,null,null,null,null,null,null,null,null,null,1]
[null,null,null,null,null,null,null,null,null,null,null,null,null,null,null,null,null,null,null,null,null,null,1]
[null,null,"If chosen not to use Macros and to collect data without sharing, follow the same steps as described in step 5 to complete the assessment. Instead of clicking the \"submit assessment button\" at the end, unhide the columns Q through Y by selecting columns P and Z RIGHT click and select \"unhide\" to show the calculation columns. In column Y, you will see a series of yellow boxes of the position information and calculated score. Highlight the yellow boxes (cells Y7-Y73) and copy the data. \n\nIn this tool, go to the \"Critical Roles Summary\" tab. A data table with all assessment data is at the bottom of the tab, outside of the critical roles summary border. In the next blank row in the table, RIGHT click on cell in the second column (position number), go to the arrow next to paste special and select \"Paste Special...\" text at the bottom. Select \"Values\" and \"Transpose\" and click Okay. This will paste the values from the assessment and show the data horizontally instead of vertically. The data will then show in the Critical Roles Summary.\n\nOn the \"Full Assessment\" tab, the columns Q through Y can be hidden again or left visible, depending on the preference of the user. The data will need to be manually cleared or adjusted for any additional assessments to be completed. Repeat this process for any additional assessments.\n",null,null,null,null,null,null,null,null,null,null,null,null,null,null,null,null,null,null,null,1]
[null,null,null,null,null,null,null,null,null,null,null,null,null,null,null,null,null,null,null,null,null,null,1]
[null,null,null,null,null,null,null,null,null,null,null,null,null,null,null,null,null,null,null,null,null,null,1]
[null,null,null,null,null,null,null,null,null,null,null,null,null,null,null,null,null,null,null,null,null,null,1]
[null,null,null,null,null,null,null,null,null,null,null,null,null,null,null,null,null,null,null,null,null,null,1]
[null,null,null,null,null,null,null,null,null,null,null,null,null,null,null,null,null,null,null,null,null,null,1]
[null,null,null,null,null,null,null,null,null,null,null,null,null,null,null,null,null,null,null,null,null,null,1]
[null,null,null,null,null,null,null,null,null,null,null,null,null,null,null,null,null,null,null,null,null,null,1]
[null,null,null,null,null,null,null,null,null,null,null,null,null,null,null,null,null,null,null,null,null,null,1]
[null,null,null,null,null,null,null,null,null,null,null,null,null,null,null,null,null,null,null,null,null,null,1]
[null,null,null,null,null,null,null,null,null,null,null,null,null,null,null,null,null,null,null,null,null,null,1]
[null,null,null,null,null,null,null,null,null,null,null,null,null,null,null,null,null,null,null,null,null,null,1]
[null,null,null,null,null,null,null,null,null,null,null,null,null,null,null,null,null,null,null,null,null,null,1]
[null,null,null,null,null,null,null,null,null,null,null,null,null,null,null,null,null,null,null,null,null,null,0]

{"sheet":"FULL ASSESSMENT","index":4,"n_rows":707,"n_cols":41,"rows_kept":707,"cut":false,"hidden":false,"merged":[[611,15,613,15],[614,2,616,9],[614,10,616,10],[614,11,616,11],[614,12,616,12],[614,13,616,13],[614,14,616,14],[614,15,616,15],[611,2,613,9],[611,10,613,10],[611,11,613,11],[611,12,613,12],[611,13,613,13],[611,14,613,14],[629,1,630,15],[617,15,619,15],[621,1,622,15],[623,1,624,15],[625,2,627,9],[625,10,627,10],[625,11,627,11],[625,12,627,12],[625,13,627,13],[625,14,627,14],[625,15,627,15],[617,2,619,9],[617,10,619,10],[617,11,619,11],[617,12,619,12],[617,13,619,13],[617,14,619,14],[592,15,596,15],[597,2,601,9],[597,10,601,10],[597,11,601,11],[597,12,601,12],[597,13,601,13],[597,14,601,14],[597,15,601,15],[592,2,596,9],[592,10,596,10],[592,11,596,11],[592,12,596,12],[592,13,596,13],[592,14,596,14],[603,1,604,15],[605,1,607,15],[608,2,610,9],[608,10,610,10],[608,11,610,11],[608,12,610,12],[608,13,610,13],[608,14,610,14],[608,15,610,15],[572,15,576,15],[577,2,581,9],[577,10,581,10],[577,11,581,11],[577,12,581,12],[577,13,581,13],[577,14,581,14],[577,15,581,15],[572,2,576,9],[572,10,576,10],[572,11,576,11],[572,12,576,12],[572,13,576,13],[572,14,576,14],[582,15,586,15],[587,2,591,9],[587,10,591,10],[587,11,591,11],[587,12,591,12],[587,13,591,13],[587,14,591,14],[587,15,591,15],[582,2,586,9],[582,10,586,10],[582,11,586,11],[582,12,586,12],[582,13,586,13],[582,14,586,14],[551,15,555,15],[556,2,560,9],[556,10,560,10],[556,11,560,11],[556,12,560,12],[556,13,560,13],[556,14,560,14],[556,15,560,15],[551,2,555,9],[551,10,555,10],[551,11,555,11],[551,12,555,12],[551,13,555,13],[551,14,555,14],[561,15,565,15],[566,2,570,9],[566,10,570,10],[566,11,570,11],[566,12,570,12],[566,13,570,13],[566,14,570,14],[566,15,570,15],[561,2,565,9],[561,10,565,10],[561,11,565,11],[561,12,565,12],[561,13,565,13],[561,14,565,14],[530,15,534,15],[535,2,539,9],[535,10,539,10],[535,11,539,11],[535,12,539,12],[535,13,539,13],[535,14,539,14],[535,15,539,15],[530,2,534,9],[530,10,534,10],[530,11,534,11],[530,12,534,12],[530,13,534,13],[530,14,534,14],[541,15,545,15],[546,2,550,9],[546,10,550,10],[546,11,550,11],[546,12,550,12],[546,13,550,13],[546,14,550,14],[546,15,550,15],[541,2,545,9],[541,10,545,10],[541,11,545,11],[541,12,545,12],[541,13,545,13],[541,14,545,14],[510,15,514,15],[515,2,519,9],[515,10,519,10],[515,11,519,11],[515,12,519,12],[515,13,519,13],[515,14,519,14],[515,15,519,15],[510,2,514,9],[510,10,514,10],[510,11,514,11],[510,12,514,12],[510,13,514,13],[510,14,514,14],[520,15,524,15],[525,2,529,9],[525,10,529,10],[525,11,529,11],[525,12,529,12],[525,13,529,13],[525,14,529,14],[525,15,529,15],[520,2,524,9],[520,10,524,10],[520,11,524,11],[520,12,524,12],[520,13,524,13],[520,14,524,14],[489,15,493,15],[494,2,498,9],[494,10,498,10],[494,11,498,11],[494,12,498,12],[494,13,498,13],[494,14,498,14],[494,15,498,15],[489,2,493,9],[489,10,493,10],[489,11,493,11],[489,12,493,12],[489,13,493,13],[489,14,493,14],[499,15,503,15],[504,2,508,9],[504,10,508,10],[504,11,508,11],[504,12,508,12],[504,13,508,13],[504,14,508,14],[504,15,508,15],[499,2,503,9],[499,10,503,10],[499,11,503,11],[499,12,503,12],[499,13,503,13],[499,14,503,14],[468,15,472,15],[473,2,477,9],[473,10,477,10],[473,11,477,11],[473,12,477,12],[473,13,477,13],[473,14,477,14],[473,15,477,15],[468,2,472,9],[468,10,472,10],[468,11,472,11],[468,12,472,12],[468,13,472,13],[468,14,472,14],[479,15,483,15],[484,2,488,9],[484,10,488,10],[484,11,488,11],[484,12,488,12],[484,13,488,13],[484,14,488,14],[484,15,488,15],[479,2,483,9],[479,10,483,10],[479,11,483,11],[479,12,483,12],[479,13,483,13],[479,14,483,14],[448,15,452,15],[453,2,457,9],[453,10,457,10],[453,11,457,11],[453,12,457,12],[453,13,457,13],[453,14,457,14],[453,15,457,15],[448,2,452,9],[448,10,452,10],[448,11,452,11],[448,12,452,12],[448,13,452,13],[448,14,452,14],[458,15,462,15],[463,2,467,9],[463,10,467,10],[463,11,467,11],[463,12,467,12],[463,13,467,13],[463,14,467,14],[463,15,467,15],[458,2,462,9],[458,10,462,10],[458,11,462,11],[458,12,462,12],[458,13,462,13],[458,14,462,14],[427,15,431,15],[432,2,436,9],[432,10,436,10],[432,11,436,11],[432,12,436,12],[432,13,436,13],[432,14,436,14],[432,15,436,15],[427,2,431,9],[427,10,431,10],[427,11,431,11],[427,12,431,12],[427,13,431,13],[427,14,431,14],[437,15,441,15],[442,2,446,9],[442,10,446,10],[442,11,446,11],[442,12,446,12],[442,13,446,13],[442,14,446,14],[442,15,446,15],[437,2,441,9],[437,10,441,10],[437,11,441,11],[437,12,441,12],[437,13,441,13],[437,14,441,14],[406,15,410,15],[411,2,415,9],[411,10,415,10],[411,11,415,11],[411,12,415,12],[411,13,415,13],[411,14,415,14],[411,15,415,15],[406,2,410,9],[406,10,410,10],[406,11,410,11],[406,12,410,12],[406,13,410,13],[406,14,410,14],[417,15,421,15],[422,2,426,9],[422,10,426,10],[422,11,426,11],[422,12,426,12],[422,13,426,13],[422,14,426,14],[422,15,426,15],[417,2,421,9],[417,10,421,10],[417,11,421,11],[417,12,421,12],[417,13,421,13],[417,14,421,14],[386,15,390,15],[391,2,395,9],[391,10,395,10],[391,11,395,11],[391,12,395,12],[391,13,395,13],[391,14,395,14],[391,15,395,15],[386,2,390,9],[386,10,390,10],[386,11,390,11],[386,12,390,12],[386,13,390,13],[386,14,390,14],[396,15,400,15],[401,2,405,9],[401,10,405,10],[401,11,405,11],[401,12,405,12],[401,13,405,13],[401,14,405,14],[401,15,405,15],[396,2,400,9],[396,10,400,10],[396,11,400,11],[396,12,400,12],[396,13,400,13],[396,14,400,14],[365,15,369,15],[370,2,374,9],[370,10,374,10],[370,11,374,11],[370,12,374,12],[370,13,374,13],[370,14,374,14],[370,15,374,15],[365,2,369,9],[365,10,369,10],[365,11,369,11],[365,12,369,12],[365,13,369,13],[365,14,369,14],[375,15,379,15],[380,2,384,9],[380,10,384,10],[380,11,384,11],[380,12,384,12],[380,13,384,13],[380,14,384,14],[380,15,384,15],[375,2,379,9],[375,10,379,10],[375,11,379,11],[375,12,379,12],[375,13,379,13],[375,14,379,14],[344,15,348,15],[349,2,353,9],[349,10,353,10],[349,11,353,11],[349,12,353,12],[349,13,353,13],[349,14,353,14],[349,15,353,15],[344,2,348,9],[344,10,348,10],[344,11,348,11],[344,12,348,12],[344,13,348,13],[344,14,348,14],[355,15,359,15],[360,2,364,9],[360,10,364,10],[360,11,364,11],[360,12,364,12],[360,13,364,13],[360,14,364,14],[360,15,364,15],[355,2,359,9],[355,10,359,10],[355,11,359,11],[355,12,359,12],[355,13,359,13],[355,14,359,14],[324,15,328,15],[329,2,333,9],[329,10,333,10],[329,11,333,11],[329,12,333,12],[329,13,333,13],[329,14,333,14],[329,15,333,15],[324,2,328,9],[324,10,328,10],[324,11,328,11],[324,12,328,12],[324,13,328,13],[324,14,328,14],[334,15,338,15],[339,2,343,9],[339,10,343,10],[339,11,343,11],[339,12,343,12],[339,13,343,13],[339,14,343,14],[339,15,343,15],[334,2,338,9],[334,10,338,10],[334,11,338,11],[334,12,338,12],[334,13,338,13],[334,14,338,14],[303,15,307,15],[308,2,312,9],[308,10,312,10],[308,11,312,11],[308,12,312,12],[308,13,312,13],[308,14,312,14],[308,15,312,15],[303,2,307,9],[303,10,307,10],[303,11,307,11],[303,12,307,12],[303,13,307,13],[303,14,307,14],[313,15,317,15],[318,2,322,9],[318,10,322,10],[318,11,322,11],[318,12,322,12],[318,13,322,13],[318,14,322,14],[318,15,322,15],[313,2,317,9],[313,10,317,10],[313,11,317,11],[313,12,317,12],[313,13,317,13],[313,14,317,14],[282,15,286,15],[287,2,291,9],[287,10,291,10],[287,11,291,11],[287,12,291,12],[287,13,291,13],[287,14,291,14],[287,15,291,15],[282,2,286,9],[282,10,286,10],[282,11,286,11],[282,12,286,12],[282,13,286,13],[282,14,286,14],[293,15,297,15],[298,2,302,9],[298,10,302,10],[298,11,302,11],[298,12,302,12],[298,13,302,13],[298,14,302,14],[298,15,302,15],[293,2,297,9],[293,10,297,10],[293,11,297,11],[293,12,297,12],[293,13,297,13],[293,14,297,14],[262,15,266,15],[267,2,271,9],[267,10,271,10],[267,11,271,11],[267,12,271,12],[267,13,271,13],[267,14,271,14],[267,15,271,15],[262,2,266,9],[262,10,266,10],[262,11,266,11],[262,12,266,12],[262,13,266,13],[262,14,266,14],[272,15,276,15],[277,2,281,9],[277,10,281,10],[277,11,281,11],[277,12,281,12],[277,13,281,13],[277,14,281,14],[277,15,281,15],[272,2,276,9],[272,10,276,10],[272,11,276,11],[272,12,276,12],[272,13,276,13],[272,14,276,14],[241,15,245,15],[246,2,250,9],[246,10,250,10],[246,11,250,11],[246,12,250,12],[246,13,250,13],[246,14,250,14],[246,15,250,15],[241,2,245,9],[241,10,245,10],[241,11,245,11],[241,12,245,12],[241,13,245,13],[241,14,245,14],[251,15,255,15],[256,2,260,9],[256,10,260,10],[256,11,260,11],[256,12,260,12],[256,13,260,13],[256,14,260,14],[256,15,260,15],[251,2,255,9],[251,10,255,10],[251,11,255,11],[251,12,255,12],[251,13,255,13],[251,14,255,14],[220,15,224,15],[225,2,229,9],[225,10,229,10],[225,11,229,11],[225,12,229,12],[225,13,229,13],[225,14,229,14],[225,15,229,15],[220,2,224,9],[220,10,224,10],[220,11,224,11],[220,12,224,12],[220,13,224,13],[220,14,224,14],[231,15,235,15],[236,2,240,9],[236,10,240,10],[236,11,240,11],[236,12,240,12],[236,13,240,13],[236,14,240,14],[236,15,240,15],[231,2,235,9],[231,10,235,10],[231,11,235,11],[231,12,235,12],[231,13,235,13],[231,14,235,14],[200,15,204,15],[205,2,209,9],[205,10,209,10],[205,11,209,11],[205,12,209,12],[205,13,209,13],[205,14,209,14],[205,15,209,15],[200,2,204,9],[200,10,204,10],[200,11,204,11],[200,12,204,12],[200,13,204,13],[200,14,204,14],[210,15,214,15],[215,2,219,9],[215,10,219,10],[215,11,219,11],[215,12,219,12],[215,13,219,13],[215,14,219,14],[215,15,219,15],[210,2,214,9],[210,10,214,10],[210,11,214,11],[210,12,214,12],[210,13,214,13],[210,14,214,14],[179,15,183,15],[184,2,188,9],[184,10,188,10],[184,11,188,11],[184,12,188,12],[184,13,188,13],[184,14,188,14],[184,15,188,15],[179,2,183,9],[179,10,183,10],[179,11,183,11],[179,12,183,12],[179,13,183,13],[179,14,183,14],[189,15,193,15],[194,2,198,9],[194,10,198,10],[194,11,198,11],[194,12,198,12],[194,13,198,13],[194,14,198,14],[194,15,198,15],[189,2,193,9],[189,10,193,10],[189,11,193,11],[189,12,193,12],[189,13,193,13],[189,14,193,14],[158,15,162,15],[163,2,167,9],[163,10,167,10],[163,11,167,11],[163,12,167,12],[163,13,167,13],[163,14,167,14],[163,15,167,15],[158,2,162,9],[158,10,162,10],[158,11,162,11],[158,12,162,12],[158,13,162,13],[158,14,162,14],[169,15,173,15],[174,2,178,9],[174,10,178,10],[174,11,178,11],[174,12,178,12],[174,13,178,13],[174,14,178,14],[174,15,178,15],[169,2,173,9],[169,10,173,10],[169,11,173,11],[169,12,173,12],[169,13,173,13],[169,14,173,14],[143,2,147,9],[143,10,147,10],[143,11,147,11],[143,12,147,12],[143,13,147,13],[143,14,147,14],[143,15,147,15],[148,15,152,15],[153,2,157,9],[153,10,157,10],[153,11,157,11],[153,12,157,12],[153,13,157,13],[153,14,157,14],[153,15,157,15],[148,2,152,9],[148,10,152,10],[148,11,152,11],[148,12,152,12],[148,13,152,13],[148,14,152,14],[134,2,135,15],[136,2,137,15],[138,2,142,9],[138,10,142,10],[138,11,142,11],[138,12,142,12],[138,13,142,13],[125,1,126,15],[127,1,129,15],[130,2,132,9],[130,10,132,10],[130,11,132,11],[130,12,132,12],[130,13,132,13],[130,14,132,14],[130,15,132,15],[138,14,142,14],[138,15,142,15],[111,15,113,15],[114,2,116,9],[114,10,116,10],[114,11,116,11],[114,12,116,12],[114,13,116,13],[114,14,116,14],[114,15,116,15],[111,2,113,9],[111,10,113,10],[111,11,113,11],[111,12,113,12],[111,13,113,13],[111,14,113,14],[117,15,119,15],[120,2,122,9],[120,10,122,10],[120,11,122,11],[120,12,122,12],[120,13,122,13],[120,14,122,14],[120,15,122,15],[117,2,119,9],[117,10,119,10],[117,11,119,11],[117,12,119,12],[117,13,119,13],[117,14,119,14],[97,1,98,15],[99,1,101,15],[102,2,104,9],[102,10,104,10],[102,11,104,11],[102,12,104,12],[102,13,104,13],[102,14,104,14],[102,15,104,15],[105,15,107,15],[108,2,110,9],[108,10,110,10],[108,11,110,11],[108,12,110,12],[108,13,110,13],[108,14,110,14],[108,15,110,15],[105,2,107,9],[105,10,107,10],[105,11,107,11],[105,12,107,12],[105,13,107,13],[105,14,107,14],[83,15,85,15],[86,2,88,9],[86,10,88,10],[86,11,88,11],[86,12,88,12],[86,13,88,13],[86,14,88,14],[86,15,88,15],[83,2,85,9],[83,10,85,10],[83,11,85,11],[83,12,85,12],[83,13,85,13],[83,14,85,14],[89,15,91,15],[92,2,94,9],[92,10,94,10],[92,11,94,11],[92,12,94,12],[92,13,94,13],[92,14,94,14],[92,15,94,15],[89,2,91,9],[89,10,91,10],[89,11,91,11],[89,12,91,12],[89,13,91,13],[89,14,91,14],[69,1,70,15],[71,1,73,15],[74,2,76,9],[74,10,76,10],[74,11,76,11],[74,12,76,12],[74,13,76,13],[74,14,76,14],[74,15,76,15],[77,15,79,15],[80,2,82,9],[80,10,82,10],[80,11,82,11],[80,12,82,12],[80,13,82,13],[80,14,82,14],[80,15,82,15],[77,2,79,9],[77,10,79,10],[77,11,79,11],[77,12,79,12],[77,13,79,13],[77,14,79,14],[53,1,54,15],[55,1,57,15],[58,2,60,9],[58,10,60,10],[58,11,60,11],[58,12,60,12],[58,13,60,13],[58,14,60,14],[58,15,60,15],[61,15,63,15],[64,2,66,9],[64,10,66,10],[64,11,66,11],[64,12,66,12],[64,13,66,13],[64,14,66,14],[64,15,66,15],[61,2,63,9],[61,10,63,10],[61,11,63,11],[61,12,63,12],[61,13,63,13],[61,14,63,14],[38,1,39,15],[40,1,42,15],[43,2,45,9],[43,10,45,10],[43,11,45,11],[43,12,45,12],[43,13,45,13],[43,14,45,14],[43,15,45,15],[46,15,48,15],[49,2,51,9],[49,10,51,10],[49,11,51,11],[49,12,51,12],[49,13,51,13],[49,14,51,14],[49,15,51,15],[46,2,48,9],[46,10,48,10],[46,11,48,11],[46,12,48,12],[46,13,48,13],[46,14,48,14],[22,10,24,10],[22,11,24,11],[22,12,24,12],[22,13,24,13],[22,14,24,14],[34,15,36,15],[34,2,36,9],[34,10,36,10],[34,11,36,11],[34,12,36,12],[34,13,36,13],[34,14,36,14],[28,15,30,15],[31,2,33,9],[31,10,33,10],[31,11,33,11],[31,12,33,12],[31,13,33,13],[31,14,33,14],[31,15,33,15],[28,2,30,9],[28,10,30,10],[28,11,30,11],[28,12,30,12],[28,13,30,13],[28,14,30,14],[2,0,3,15],[631,2,633,9],[631,10,633,10],[631,11,633,11],[631,12,633,12],[631,13,633,13],[631,14,633,14],[631,15,633,15],[12,1,12,15],[16,1,18,15],[14,1,15,15],[19,15,21,15],[19,10,21,10],[19,11,21,11],[19,12,21,12],[19,13,21,13],[5,1,7,15],[9,4,9,9],[9,12,9,14],[10,12,10,14],[10,6,10,7],[22,15,24,15],[25,2,27,9],[25,10,27,10],[25,11,27,11],[25,12,27,12],[25,13,27,13],[25,14,27,14],[25,15,27,15],[19,14,21,14],[19,2,21,9],[22,2,24,9],[640,2,642,9],[640,10,642,10],[640,11,642,11],[640,12,642,12],[640,13,642,13],[640,14,642,14],[640,15,642,15],[634,2,636,9],[634,10,636,10],[634,11,636,11],[634,12,636,12],[634,13,636,13],[634,14,636,14],[634,15,636,15],[637,2,639,9],[637,10,639,10],[637,11,639,11],[637,12,639,12],[637,13,639,13],[637,14,639,14],[637,15,639,15],[652,2,654,9],[652,10,654,10],[652,11,654,11],[652,12,654,12],[652,13,654,13],[652,14,654,14],[652,15,654,15],[655,2,657,9],[655,10,657,10],[655,11,657,11],[655,12,657,12],[655,13,657,13],[655,14,657,14],[655,15,657,15],[646,2,648,9],[646,10,648,10],[646,11,648,11],[646,12,648,12],[646,13,648,13],[646,14,648,14],[646,15,648,15],[649,2,651,9],[649,10,651,10],[649,11,651,11],[649,12,651,12],[649,13,651,13],[649,14,651,14],[649,15,651,15],[664,2,666,9],[664,10,666,10],[664,11,666,11],[664,12,666,12],[664,13,666,13],[664,14,666,14],[664,15,666,15],[667,2,669,9],[667,10,669,10],[667,11,669,11],[667,12,669,12],[667,13,669,13],[667,14,669,14],[667,15,669,15],[658,2,660,9],[658,10,660,10],[658,11,660,11],[658,12,660,12],[658,13,660,13],[658,14,660,14],[658,15,660,15],[661,2,663,9],[661,10,663,10],[661,11,663,11],[661,12,663,12],[661,13,663,13],[661,14,663,14],[661,15,663,15],[676,10,678,10],[676,11,678,11],[676,12,678,12],[676,13,678,13],[676,14,678,14],[676,15,678,15],[679,2,681,9],[679,10,681,10],[679,11,681,11],[679,12,681,12],[679,13,681,13],[679,14,681,14],[679,15,681,15],[670,2,672,9],[670,10,672,10],[670,11,672,11],[670,12,672,12],[670,13,672,13],[670,14,672,14],[670,15,672,15],[673,2,675,9],[673,10,675,10],[673,11,675,11],[673,12,675,12],[673,13,675,13],[673,14,675,14],[673,15,675,15],[697,2,698,15],[0,0,1,25],[643,2,645,9],[643,10,645,10],[643,11,645,11],[643,12,645,12],[643,13,645,13],[643,14,645,14],[643,15,645,15]],"merged_total":1023,"flags":["merged_cut"]}
[{"$f":"'BUILD ASSESSMENT'!J22","v":0},null,null,null,null,null,null,null,null,null,null,null,null,null,null,null,null,null,null,null,null,null,null,null,null,null,null,null,null,null,null,1]
[null,null,null,null,null,null,null,null,null,null,null,null,null,null,null,null,null,null,null,null,null,null,null,null,null,null,null,null,null,null,null,1]
["                     Critical Roles Assessment",null,null,null,null,null,null,null,null,null,null,null,null,null,null,null,null,null,null,null,null,null,null,null,null,null,null,null,null,null,null,1]
[null,null,null,null,null,null,null,null,null,null,null,null,null,null,null,null,null,null,null,null,null,null,null,null,null,null,null,null,null,null,null,1,null,null,null,null,"Score Greater Than","And","Or","\"And\" Critical","Or Critical"]
[null,null,null,null,null,null,null,null,null,null,null,null,null,null,null,null,null,null,null,null,null,null,null,"Title",{"$f":"$E$10","v":0},null,null,null,null,null,null,1,null,null,"Overall Score",{"$f":"'BUILD ASSESSMENT'!P551","v":0},{"$f":"IF(Y9>=AJ5,1,0)","v":1},{"$f":"IF(Y9>=AJ5,1,0)","v":1},{"$f":"IF(AH5=\"or\",1,0)","v":0},{"$f":"IF(AND(AK5=1,AL5=1),\"Critical\",\"Not Critical\")","v":"Critical"},{"$f":"IF(AND(AK5=1,AM5=1),1,0)","v":0}]
[null,"INSTRUCTIONS: Please indicate the best response for each question regarding the position this assessment is for by clicking the checkbox beneath the specific response. The selected response would then change from yellow to blue. If a different response needs to be selected, click the checkbox again to unselect the response and choose a new one.",null,null,null,null,null,null,null,null,null,null,null,null,null,null,null,null,null,null,null,null,null,"Number",{"$f":"$G$11","v":0},null,null,null,null,null,null,1,null,{"$f":"'BUILD ASSESSMENT'!K561","v":0},"Vacancy Risk Score",{"$f":"'BUILD ASSESSMENT'!N561","v":0},1,{"$f":"IF(AH6=\"and\",1,0)","v":0},{"$f":"IF(AH6=\"or\",1,0)","v":0},{"$f":"IF(AND(AK6=1,AL6=1),\"Critical\",\"Not Critical\")","v":"Not Critical"},{"$f":"IF(AND(AK6=1,AM6=1),1,0)","v":0}]
[null,null,null,null,null,null,null,null,null,null,null,null,null,null,null,null,null,null,null,null,null,null,null,"Assessor",{"$f":"$M$10","v":0},null,null,null,null,null,null,1,null,{"$f":"'BUILD ASSESSMENT'!K562","v":0},"Recruitment Score",{"$f":"'BUILD ASSESSMENT'!N562","v":0},1,0,{"$f":"IF(AH7=\"or\",1,0)","v":0},"Not Critical",0]
[null,null,null,null,null,null,null,null,null,null,null,null,null,null,null,null,null,null,null,null,null,null,null,"Date",{"$f":"$M$11","v":"00:00:00"},null,null,null,null,null,null,1,null,{"$f":"'BUILD ASSESSMENT'!K563","v":0},"Knowledge Management Score",{"$f":"'BUILD ASSESSMENT'!N563","v":0},1,0,0,"Not Critical",0]
[null,null,null,null,null,null,null,null,null,null,null,null,null,null,null,null,null,null,null,null,null,null,null,"Overall Score",{"$f":"SUM($Y$10:$Y$18)","v":0},null,null,null,null,null,null,1,null,{"$f":"'BUILD ASSESSMENT'!K564","v":0},"Learning and Development Score",{"$f":"'BUILD ASSESSMENT'!N564","v":0},1,0,0,"Not Critical",0]
[null,null,null,"Position Title:",null,null,null,null,null,null,null,"Assessor: ",null,null,null,null,null,null,null,null,null,null,null,"Vacancy Risk Score",{"$f":"SUM($Q$20:$Q$37)","v":0},null,null,null,null,null,null,1,null,{"$f":"'BUILD ASSESSMENT'!K565","v":0},"Operational Impact Score",{"$f":"'BUILD ASSESSMENT'!N565","v":0},1,0,0,"Not Critical",0]
[null,null,null,null,null,"Position Number:",null,null,null,null,null,"Date: ",null,null,null,null,null,null,null,null,null,null,null,"Recruitment Score",{"$f":"SUM($Q$44:$Q$52)","v":0},null,null,null,null,null,null,1,null,{"$f":"'BUILD ASSESSMENT'!K566","v":0},"Strategic Objectives Impact Score",{"$f":"'BUILD ASSESSMENT'!N566","v":0},1,0,0,"Not Critical",0]
[null,null,null,null,null,null,null,null,null,null,null,null,null,null,null,null,null,null,null,null,null,null,null,"Knowledge Management Score",{"$f":"SUM($Q$59:$Q$67)","v":0},null,null,null,null,null,null,1,null,{"$f":"'BUILD ASSESSMENT'!K567","v":0},"Impact from Environment Score",{"$f":"'BUILD ASSESSMENT'!N567","v":0},1,0,0,"Not Critical",0]
[null,"****************************************************************************************************************************************",null,null,null,null,null,null,null,null,null,null,null,null,null,null,null,null,null,null,null,null,null,"Learning and Development Score",{"$f":"SUM($Q$75:$Q$94)","v":0},null,null,null,null,null,null,1,null,{"$f":"'BUILD ASSESSMENT'!K568","v":0},"Position Specific Elements Score",{"$f":"'BUILD ASSESSMENT'!N568","v":0},1,0,0,"Not Critical",0]
[null,null,null,null,null,null,null,null,null,null,null,null,null,null,null,null,null,null,null,null,null,null,null,"Operational Impact Score",{"$f":"SUM($Q$103:$Q$122)","v":0},null,null,null,null,null,null,{"$f":"IF(SUM($AF$20:$AF$37)>0,1,0)","v":0},null,{"$f":"'BUILD ASSESSMENT'!K569","v":0},"Additional Questions Score",{"$f":"'BUILD ASSESSMENT'!N569","v":0},1,0,0,"Not Critical",0]
[null,"Vacancy Risk ",null,null,null,null,null,null,null,null,null,null,null,null,null,null,null,null,null,null,null,null,null,"Strategic Objectives Impact Score",{"$f":"SUM($Q$131:$Q$598)","v":0},null,null,null,null,null,null,{"$f":"IF(SUM($AF$20:$AF$37)>0,1,0)","v":0},null,null,null,null,null,null,null,{"$f":"IF(COUNTIF(AN5:AN14,\"Critical\")=COUNTIF(AH5:AH14,\"and\")+1,\"Critical\",\"Not Critical\")","v":"Critical"},{"$f":"IF(SUM(AO5:AO14)>0,\"Critical\",\"Not Critical\")","v":"Not Critical"}]
[null,null,null,null,null,null,null,null,null,null,null,null,null,null,null,null,null,null,null,null,null,null,null,"Impact from Environment Score",{"$f":"SUM($Q$609:$Q$618)","v":0},null,null,null,null,null,null,0]
[null,"Vacancy Risk focuses on the potential for this position to become vacant in the future for various factors and the impact this position being vacant could have at the agency. ",null,null,null,null,null,null,null,null,null,null,null,null,null,null,null,null,null,null,null,null,null,"Position Specific Elements Score",{"$f":"SUM($Q$626)","v":0},null,null,null,null,null,null,0]
[null,null,null,null,null,null,null,null,null,null,null,null,null,null,null,null,null,null,null,null,null,null,null,"Additional Questions Score",{"$f":"SUM($Q$632:$Q$689)","v":0},null,null,null,null,null,null,0]
[null,null,null,null,null,null,null,null,null,null,null,null,null,null,null,null,null,null,null,null,null,null,null,"Criticality",{"$f":"IF(COUNTIF($AN$15:$AO$15,\"Critical\")>=1,\"Critical\",\"Not Critical\")","v":"Critical"},null,null,null,null,null,null,0]
[null,null,{"$f":"'BUILD ASSESSMENT'!D46","v":"What is the likelihood the position will become vacant within 1 year?"},null,null,null,null,null,null,null,"Very Unlikely","Unlikely","Somewhat Unlikely","Somewhat Likely","Likely","Very Likely",{"$f":"IFERROR(HLOOKUP(TRUE,R20:W21,2,FALSE),0)","v":0},false,false,false,false,false,false,"What is the likelihood the position will become vacant within 1 year?",{"$f":"Q20","v":0},null,null,null,null,null,null,{"$f":"IF('BUILD ASSESSMENT'!$P$46=\"yes\",1,0)","v":0}]
[null,null,null,null,null,null,null,null,null,null,null,null,null,null,null,null,null,1,2,3,4,5,6,"What is the likelihood the position will become vacant within 5 years?",{"$f":"Q23","v":0},null,null,null,null,null,null,{"$f":"IF('BUILD ASSESSMENT'!$P$46=\"yes\",1,0)","v":0}]
[null,null,null,null,null,null,null,null,null,null,null,null,null,null,null,null,null,null,null,null,null,null,null,"Is the incumbent currently eligible to retire? ",{"$f":"Q26","v":0},null,null,null,null,null,null,{"$f":"IF('BUILD ASSESSMENT'!$P$46=\"yes\",1,0)","v":0}]
[null,null,{"$f":"'BUILD ASSESSMENT'!D47","v":"What is the likelihood the position will become vacant within 5 years?"},null,null,null,null,null,null,null,"Very Unlikely","Unlikely","Somewhat Unlikely","Somewhat Likely","Likely","Very Likely",{"$f":"IFERROR(HLOOKUP(TRUE,R23:W24,2,FALSE),0)","v":0},false,false,false,false,false,false,"Will the incumbent be eligible to retire within 5 years?",{"$f":"Q29","v":0},null,null,null,null,null,null,{"$f":"IF('BUILD ASSESSMENT'!$P$47=\"yes\",1,0)","v":0}]
[null,null,null,null,null,null,null,null,null,null,null,null,null,null,null,null,null,1,2,3,4,5,6,"Is this a single incumbent position?",{"$f":"Q32","v":0},null,null,null,null,null,null,{"$f":"IF('BUILD ASSESSMENT'!$P$47=\"yes\",1,0)","v":0}]
[null,null,null,null,null,null,null,null,null,null,null,null,null,null,null,null,null,null,null,null,null,null,null,"What is the degree of turnover this position has experienced in the past?",{"$f":"Q35","v":0},null,null,null,null,null,null,{"$f":"IF('BUILD ASSESSMENT'!$P$47=\"yes\",1,0)","v":0}]
[null,null,{"$f":"'BUILD ASSESSMENT'!D48","v":"Is the incumbent currently eligible to retire? "},null,null,null,null,null,null,null,null,null,null,null,"No","Yes",{"$f":"IFERROR(HLOOKUP(TRUE,R26:W27,2,FALSE),0)","v":0},false,null,null,null,null,false,"What is the degree of external candidate availability for this position?",{"$f":"Q44","v":0},null,null,null,null,null,null,{"$f":"IF('BUILD ASSESSMENT'!$P$48=\"yes\",1,0)","v":0}]
[null,null,null,null,null,null,null,null,null,null,null,null,null,null,null,null,null,1,2,3,4,5,6,"What is the degree of recruitment challenges for this position in the past?",{"$f":"Q47","v":0},null,null,null,null,null,null,{"$f":"IF('BUILD ASSESSMENT'!$P$48=\"yes\",1,0)","v":0}]
[null,null,null,null,null,null,null,null,null,null,null,null,null,null,null,null,null,null,null,null,null,null,null,"What is the degree of competition for qualified candidates for this position?",{"$f":"Q50","v":0},null,null,null,null,null,null,{"$f":"IF('BUILD ASSESSMENT'!$P$48=\"yes\",1,0)","v":0}]
[null,null,{"$f":"'BUILD ASSESSMENT'!D49","v":"Will the incumbent be eligible to retire within 5 years?"},null,null,null,null,null,null,null,null,null,null,null,"No","Yes",{"$f":"IFERROR(HLOOKUP(TRUE,R29:W30,2,FALSE),0)","v":0},false,null,null,null,null,false,"What is the degree this position requires unique skills or knowledge?",{"$f":"Q59","v":0},null,null,null,null,null,null,{"$f":"IF('BUILD ASSESSMENT'!$P$49=\"yes\",1,0)","v":0}]
[null,null,null,null,null,null,null,null,null,null,null,null,null,null,null,null,null,1,2,3,4,5,6,"What is the degree specialized knowledge or expertise is required?",{"$f":"Q62","v":0},null,null,null,null,null,null,{"$f":"IF('BUILD ASSESSMENT'!$P$49=\"yes\",1,0)","v":0}]
[null,null,null,null,null,null,null,null,null,null,null,null,null,null,null,null,null,null,null,null,null,null,null,"What is the degree specialized experience is required?",{"$f":"Q65","v":0},null,null,null,null,null,null,{"$f":"IF('BUILD ASSESSMENT'!$P$49=\"yes\",1,0)","v":0}]
[null,null,{"$f":"'BUILD ASSESSMENT'!D50","v":"Is this a single incumbent position?"},null,null,null,null,null,null,null,null,null,null,null,"No","Yes",{"$f":"IFERROR(HLOOKUP(TRUE,R32:W33,2,FALSE),0)","v":0},false,null,null,null,null,false,"What is the degree of difficulty for developing internal talent for this position?",{"$f":"Q75","v":0},null,null,null,null,null,null,{"$f":"IF('BUILD ASSESSMENT'!$P$50=\"yes\",1,0)","v":0}]
[null,null,null,null,null,null,null,null,null,null,null,null,null,null,null,null,null,1,2,3,4,5,6,"What is the level of current bench strength within the agency for this position?",{"$f":"Q78","v":0},null,null,null,null,null,null,{"$f":"IF('BUILD ASSESSMENT'!$P$50=\"yes\",1,0)","v":0}]
[null,null,null,null,null,null,null,null,null,null,null,null,null,null,null,null,null,null,null,null,null,null,null,"To what degree does the agency have development plans/programs for internal talent?",{"$f":"Q81","v":0},null,null,null,null,null,null,{"$f":"IF('BUILD ASSESSMENT'!$P$50=\"yes\",1,0)","v":0}]
[null,null,{"$f":"'BUILD ASSESSMENT'!D51","v":"What is the degree of turnover this position has experienced in the past?"},null,null,null,null,null,null,null,"Very Low","Low","Medium-Low","Medium-High","High","Very High",{"$f":"IFERROR(HLOOKUP(TRUE,R35:W36,2,FALSE),0)","v":0},false,false,false,false,false,false,"What is the degree the agency can prepare individuals for this role internally?",{"$f":"Q84","v":0},null,null,null,null,null,null,{"$f":"IF('BUILD ASSESSMENT'!$P$51=\"yes\",1,0)","v":0}]
[null,null,null,null,null,null,null,null,null,null,null,null,null,null,null,null,null,1,2,3,4,5,6,"What is the degree external sources are used to develop internal talent for this position?",{"$f":"Q87","v":0},null,null,null,null,null,null,{"$f":"IF('BUILD ASSESSMENT'!$P$51=\"yes\",1,0)","v":0}]
[null,null,null,null,null,null,null,null,null,null,null,null,null,null,null,null,null,null,null,null,null,null,null,"What is the likelihood internal candidates will be prepared for this role within 1 year?",{"$f":"Q90","v":0},null,null,null,null,null,null,{"$f":"IF('BUILD ASSESSMENT'!$P$51=\"yes\",1,0)","v":0}]
[null,null,null,null,null,null,null,null,null,null,null,null,null,null,null,null,null,null,null,null,null,null,null,"What is the likelihood internal candidates will be prepared for this role within 5 years?",{"$f":"Q93","v":0},null,null,null,null,null,null,{"$f":"IF(SUM($AF$44:$AF$52)>0,1,0)","v":0}]
[null,"Recruitment",null,null,null,null,null,null,null,null,null,null,null,null,null,null,null,null,null,null,null,null,null,"What is the degree the agency would experience operational challenges or potential risks if this position was vacant?",{"$f":"Q103","v":0},null,null,null,null,null,null,{"$f":"IF(SUM($AF$44:$AF$52)>0,1,0)","v":0}]
[null,null,null,null,null,null,null,null,null,null,null,null,null,null,null,null,null,null,null,null,null,null,null,"To what degree would the agency experience challenges meeting legislative/regulatory requirements if this position was vacant?",{"$f":"Q106","v":0},null,null,null,null,null,null,0]
[null,"Recruitment focuses on the availability of external candidates, the level of competition for qualified candidates, and the level of recruitment challenges experienced for this position in the past.",null,null,null,null,null,null,null,null,null,null,null,null,null,null,null,null,null,null,null,null,null,"To what degree would the agency experience challenges providing their services to customers if this position was vacant?",{"$f":"Q109","v":0},null,null,null,null,null,null,0]
[null,null,null,null,null,null,null,null,null,null,null,null,null,null,null,null,null,null,null,null,null,null,null,"To what degree would the agency experience challenges to workplace health, safety, and security if this position was vacant?",{"$f":"Q112","v":0},null,null,null,null,null,null,0]
[null,null,null,null,null,null,null,null,null,null,null,null,null,null,null,null,null,null,null,null,null,null,null,"What is the likelihood this position would be deemed \"essential\" for emergency situations?",{"$f":"Q115","v":0},null,null,null,null,null,null,0]
[null,null,{"$f":"'BUILD ASSESSMENT'!D60","v":"What is the degree of external candidate availability for this position?"},null,null,null,null,null,null,null,"Very Low","Low","Medium-Low","Medium-High","High","Very High",{"$f":"IFERROR(HLOOKUP(TRUE,R44:W45,2,FALSE),0)","v":0},false,false,false,false,false,false,"What is the degree this position is limited to specific agency geographic locations?",{"$f":"Q90","v":0},null,null,null,null,null,null,{"$f":"IF('BUILD ASSESSMENT'!$P$60=\"yes\",1,0)","v":0}]
[null,null,null,null,null,null,null,null,null,null,null,null,null,null,null,null,null,1,2,3,4,5,6,"What is the likelihood the agency could be susceptible to other risks if this position was vacant?",{"$f":"Q93","v":0},null,null,null,null,null,null,{"$f":"IF('BUILD ASSESSMENT'!$P$60=\"yes\",1,0)","v":0}]
[null,null,null,null,null,null,null,null,null,null,null,null,null,null,null,null,null,null,null,null,null,null,null,"What is the degree the agency would experience challenges in achieving strategic objectives if this position was vacant?",{"$f":"Q131","v":0},null,null,null,null,null,null,{"$f":"IF('BUILD ASSESSMENT'!$P$60=\"yes\",1,0)","v":0}]
[null,null,{"$f":"'BUILD ASSESSMENT'!D61","v":"What is the degree of recruitment challenges for this position in the past?"},null,null,null,null,null,null,null,"Very Low","Low","Medium-Low","Medium-High","High","Very High",{"$f":"IFERROR(HLOOKUP(TRUE,R47:W48,2,FALSE),0)","v":0},false,false,false,false,false,false,"What is the degree potential social or demographic shifts could impact recruitment, retention, or development of this position?",{"$f":"Q609","v":0},null,null,null,null,null,null,{"$f":"IF('BUILD ASSESSMENT'!$P$61=\"yes\",1,0)","v":0}]
[null,null,null,null,null,null,null,null,null,null,null,null,null,null,null,null,null,1,2,3,4,5,6,"What is the degree potential new technology or innovations could impact recruitment, retention, or development of this position?",{"$f":"Q612","v":0},null,null,null,null,null,null,{"$f":"IF('BUILD ASSESSMENT'!$P$61=\"yes\",1,0)","v":0}]
[null,null,null,null,null,null,null,null,null,null,null,null,null,null,null,null,null,null,null,null,null,null,null,"What is the degree potential economic shifts could impact recruitment, retention, or development of this position?",{"$f":"Q615","v":0},null,null,null,null,null,null,{"$f":"IF('BUILD ASSESSMENT'!$P$61=\"yes\",1,0)","v":0}]
[null,null,{"$f":"'BUILD ASSESSMENT'!D62","v":"What is the degree of competition for qualified candidates for this position?"},null,null,null,null,null,null,null,"Very Low","Low","Medium-Low","Medium-High","High","Very High",{"$f":"IFERROR(HLOOKUP(TRUE,R50:W51,2,FALSE),0)","v":0},false,false,false,false,false,false,"What is the degree potential political or regulatory shifts could impact recruitment, retention, or development of this position?",{"$f":"Q618","v":0},null,null,null,null,null,null,{"$f":"IF('BUILD ASSESSMENT'!$P$62=\"yes\",1,0)","v":0}]
[null,null,null,null,null,null,null,null,null,null,null,null,null,null,null,null,null,1,2,3,4,5,6,"What is the degree this position performs specialized responsibilities? ",{"$f":"Q626","v":0},null,null,null,null,null,null,{"$f":"IF('BUILD ASSESSMENT'!$P$62=\"yes\",1,0)","v":0}]
[null,null,null,null,null,null,null,null,null,null,null,null,null,null,null,null,null,null,null,null,null,null,null,{"$f":"C632","v":""},{"$f":"Q632","v":0},null,null,null,null,null,null,{"$f":"IF('BUILD ASSESSMENT'!$P$62=\"yes\",1,0)","v":0}]
[null,null,null,null,null,null,null,null,null,null,null,null,null,null,null,null,null,null,null,null,null,null,null,{"$f":"C635","v":""},{"$f":"Q635","v":0},null,null,null,null,null,null,{"$f":"IF(SUM($AF$59:$AF$67)>0,1,0)","v":0}]
[null,"Knowledge Management",null,null,null,null,null,null,null,null,null,null,null,null,null,null,null,null,null,null,null,null,null,{"$f":"C638","v":""},{"$f":"Q638","v":0},null,null,null,null,null,null,{"$f":"IF(SUM($AF$59:$AF$67)>0,1,0)","v":0}]
[null,null,null,null,null,null,null,null,null,null,null,null,null,null,null,null,null,null,null,null,null,null,null,{"$f":"C641","v":""},{"$f":"Q641","v":0},null,null,null,null,null,null,0]
[null,"Knowledge Management focuses on the degree of specialization of the positions, to include specific knowledge or skills, specific areas of expertise, or the degree of specialized experience required for the position.",null,null,null,null,null,null,null,null,null,null,null,null,null,null,null,null,null,null,null,null,null,{"$f":"C644","v":""},{"$f":"Q644","v":0},null,null,null,null,null,null,0]
[null,null,null,null,null,null,null,null,null,null,null,null,null,null,null,null,null,null,null,null,null,null,null,{"$f":"C647","v":""},{"$f":"Q647","v":0},null,null,null,null,null,null,0]
[null,null,null,null,null,null,null,null,null,null,null,null,null,null,null,null,null,null,null,null,null,null,null,{"$f":"C650","v":""},{"$f":"Q650","v":0},null,null,null,null,null,null,0]
[null,null,{"$f":"'BUILD ASSESSMENT'!D71","v":"What is the degree this position requires unique skills or knowledge?"},null,null,null,null,null,null,null,"Very Low","Low","Medium-Low","Medium-High","High","Very High",{"$f":"IFERROR(HLOOKUP(TRUE,R59:W60,2,FALSE),0)","v":0},false,false,false,false,false,false,{"$f":"C653","v":""},{"$f":"Q653","v":0},null,null,null,null,null,null,{"$f":"IF('BUILD ASSESSMENT'!$P$71=\"yes\",1,0)","v":0}]
[null,null,null,null,null,null,null,null,null,null,null,null,null,null,null,null,null,1,2,3,4,5,6,{"$f":"C656","v":""},{"$f":"Q656","v":0},null,null,null,null,null,null,{"$f":"IF('BUILD ASSESSMENT'!$P$71=\"yes\",1,0)","v":0}]
[null,null,null,null,null,null,null,null,null,null,null,null,null,null,null,null,null,null,null,null,null,null,null,{"$f":"C659","v":""},{"$f":"Q659","v":0},null,null,null,null,null,null,{"$f":"IF('BUILD ASSESSMENT'!$P$71=\"yes\",1,0)","v":0}]
[null,null,{"$f":"'BUILD ASSESSMENT'!D72","v":"What is the degree specialized knowledge or expertise is required?"},null,null,null,null,null,null,null,"Very Low","Low","Medium-Low","Medium-High","High","Very High",{"$f":"IFERROR(HLOOKUP(TRUE,R62:W63,2,FALSE),0)","v":0},false,false,false,false,false,false,{"$f":"C662","v":""},{"$f":"Q662","v":0},null,null,null,null,null,null,{"$f":"IF('BUILD ASSESSMENT'!$P$72=\"yes\",1,0)","v":0}]
[null,null,null,null,null,null,null,null,null,null,null,null,null,null,null,null,null,1,2,3,4,5,6,{"$f":"C665","v":""},{"$f":"Q665","v":0},null,null,null,null,null,null,{"$f":"IF('BUILD ASSESSMENT'!$P$72=\"yes\",1,0)","v":0}]
[null,null,null,null,null,null,null,null,null,null,null,null,null,null,null,null,null,null,null,null,null,null,null,{"$f":"C668","v":""},{"$f":"Q668","v":0},null,null,null,null,null,null,{"$f":"IF('BUILD ASSESSMENT'!$P$72=\"yes\",1,0)","v":0}]
[null,null,{"$f":"'BUILD ASSESSMENT'!D73","v":"What is the degree specialized experience is required?"},null,null,null,null,null,null,null,"Very Low","Low","Medium-Low","Medium-High","High","Very High",{"$f":"IFERROR(HLOOKUP(TRUE,R65:W66,2,FALSE),0)","v":0},false,false,false,false,false,false,{"$f":"C671","v":""},{"$f":"Q671","v":0},null,null,null,null,null,null,{"$f":"IF('BUILD ASSESSMENT'!$P$73=\"yes\",1,0)","v":0}]
[null,null,null,null,null,null,null,null,null,null,null,null,null,null,null,null,null,1,2,3,4,5,6,{"$f":"C674","v":""},{"$f":"Q674","v":0},null,null,null,null,null,null,{"$f":"IF('BUILD ASSESSMENT'!$P$73=\"yes\",1,0)","v":0}]
[null,null,null,null,null,null,null,null,null,null,null,null,null,null,null,null,null,null,null,null,null,null,null,{"$f":"C677","v":""},{"$f":"Q677","v":0},null,null,null,null,null,null,{"$f":"IF('BUILD ASSESSMENT'!$P$73=\"yes\",1,0)","v":0}]
[null,null,null,null,null,null,null,null,null,null,null,null,null,null,null,null,null,null,null,null,null,null,null,{"$f":"C680","v":""},{"$f":"Q680","v":0},null,null,null,null,null,null,{"$f":"IF(SUM($AF$75:$AF$95)>0,1,0)","v":0}]
[null,null,null,null,null,null,null,null,null,null,null,null,null,null,null,null,null,null,null,null,null,null,null,{"$f":"C683","v":""},{"$f":"Q683","v":0},null,null,null,null,null,null,{"$f":"IF(SUM($AF$75:$AF$95)>0,1,0)","v":0}]
[null,"Learning and Development",null,null,null,null,null,null,null,null,null,null,null,null,null,null,null,null,null,null,null,null,null,{"$f":"C686","v":""},{"$f":"Q689","v":0},null,null,null,null,null,null,0]
[null,null,null,null,null,null,null,null,null,null,null,null,null,null,null,null,null,null,null,null,null,null,null,{"$f":"C689","v":""},{"$f":"Q692","v":0},null,null,null,null,null,null,0]
[null,"Learning and Development focuses on efforts to develop internal talent for this role, to include difficulty developing talent, current bench strength and development initiatives, internal and external sources of development, and the likelihood individuals would be prepared for this role in the future.",null,null,null,null,null,null,null,null,null,null,null,null,null,null,null,null,null,null,null,null,null,null,null,null,null,null,null,null,null,0]
[null,null,null,null,null,null,null,null,null,null,null,null,null,null,null,null,null,null,null,null,null,null,null,null,null,null,null,null,null,null,null,0]
[null,null,null,null,null,null,null,null,null,null,null,null,null,null,null,null,null,null,null,null,null,null,null,null,null,null,null,null,null,null,null,0]
[null,null,{"$f":"'BUILD ASSESSMENT'!D82","v":"What is the degree of difficulty for developing internal talent for this position?"},null,null,null,null,null,null,null,"Very Low","Low","Medium-Low","Medium-High","High","Very High",{"$f":"IFERROR(HLOOKUP(TRUE,R75:W76,2,FALSE),0)","v":0},false,false,false,false,false,false,null,null,null,null,null,null,null,null,{"$f":"IF('BUILD ASSESSMENT'!$P$82=\"yes\",1,0)","v":0}]
[null,null,null,null,null,null,null,null,null,null,null,null,null,null,null,null,null,1,2,3,4,5,6,null,null,null,null,null,null,null,null,{"$f":"IF('BUILD ASSESSMENT'!$P$82=\"yes\",1,0)","v":0}]
[null,null,null,null,null,null,null,null,null,null,null,null,null,null,null,null,null,null,null,null,null,null,null,null,null,null,null,null,null,null,null,{"$f":"IF('BUILD ASSESSMENT'!$P$82=\"yes\",1,0)","v":0}]
[null,null,{"$f":"'BUILD ASSESSMENT'!D83","v":"What is the level of current bench strength within the agency for this position?"},null,null,null,null,null,null,null,"Very Weak","Weak","Slightly Weak","Slightly Strong","Strong","Very Strong",{"$f":"IFERROR(HLOOKUP(TRUE,R78:W79,2,FALSE),0)","v":0},false,false,false,false,false,false,null,null,null,null,null,null,null,null,{"$f":"IF('BUILD ASSESSMENT'!$P$83=\"yes\",1,0)","v":0}]
[null,null,null,null,null,null,null,null,null,null,null,null,null,null,null,null,null,1,2,3,4,5,6,null,null,null,null,null,null,null,null,{"$f":"IF('BUILD ASSESSMENT'!$P$83=\"yes\",1,0)","v":0}]
[null,null,null,null,null,null,null,null,null,null,null,null,null,null,null,null,null,null,null,null,null,null,null,null,null,null,null,null,null,null,null,{"$f":"IF('BUILD ASSESSMENT'!$P$83=\"yes\",1,0)","v":0}]
[null,null,{"$f":"'BUILD ASSESSMENT'!D84","v":"To what degree does the agency have development plans/programs for internal talent?"},null,null,null,null,null,null,null,"Very Low","Low","Medium-Low","Medium-High","High","Very High",{"$f":"IFERROR(HLOOKUP(TRUE,R81:W82,2,FALSE),0)","v":0},false,false,false,false,false,false,null,null,null,null,null,null,null,null,{"$f":"IF('BUILD ASSESSMENT'!$P$84=\"yes\",1,0)","v":0}]
[null,null,null,null,null,null,null,null,null,null,null,null,null,null,null,null,null,1,2,3,4,5,6,null,null,null,null,null,null,null,null,{"$f":"IF('BUILD ASSESSMENT'!$P$84=\"yes\",1,0)","v":0}]
[null,null,null,null,null,null,null,null,null,null,null,null,null,null,null,null,null,null,null,null,null,null,null,null,null,null,null,null,null,null,null,{"$f":"IF('BUILD ASSESSMENT'!$P$84=\"yes\",1,0)","v":0}]
[null,null,{"$f":"'BUILD ASSESSMENT'!D85","v":"What is the degree the agency can prepare individuals for this role internally?"},null,null,null,null,null,null,null,"Very Low","Low","Medium-Low","Medium-High","High","Very High",{"$f":"IFERROR(HLOOKUP(TRUE,R84:W85,2,FALSE),0)","v":0},false,false,false,false,false,false,null,null,null,null,null,null,null,null,{"$f":"IF('BUILD ASSESSMENT'!$P$85=\"yes\",1,0)","v":0}]
[null,null,null,null,null,null,null,null,null,null,null,null,null,null,null,null,null,1,2,3,4,5,6,null,null,null,null,null,null,null,null,{"$f":"IF('BUILD ASSESSMENT'!$P$85=\"yes\",1,0)","v":0}]
[null,null,null,null,null,null,null,null,null,null,null,null,null,null,null,null,null,null,null,null,null,null,null,null,null,null,null,null,null,null,null,{"$f":"IF('BUILD ASSESSMENT'!$P$85=\"yes\",1,0)","v":0}]
[null,null,{"$f":"'BUILD ASSESSMENT'!D86","v":"What is the degree external sources are used to develop internal talent for this position?"},null,null,null,null,null,null,null,"Very Low","Low","Medium-Low","Medium-High","High","Very High",{"$f":"IFERROR(HLOOKUP(TRUE,R87:W88,2,FALSE),0)","v":0},false,false,false,false,false,false,null,null,null,null,null,null,null,null,{"$f":"IF('BUILD ASSESSMENT'!$P$86=\"yes\",1,0)","v":0}]
[null,null,null,null,null,null,null,null,null,null,null,null,null,null,null,null,null,1,2,3,4,5,6,null,null,null,null,null,null,null,null,{"$f":"IF('BUILD ASSESSMENT'!$P$86=\"yes\",1,0)","v":0}]
[null,null,null,null,null,null,null,null,null,null,null,null,null,null,null,null,null,null,null,null,null,null,null,null,null,null,null,null,null,null,null,{"$f":"IF('BUILD ASSESSMENT'!$P$86=\"yes\",1,0)","v":0}]
[null,null,{"$f":"'BUILD ASSESSMENT'!D87","v":"What is the likelihood internal candidates will be prepared for this role within 1 year?"},null,null,null,null,null,null,null,"Very Unlikely","Unlikely","Somewhat Unlikely","Somewhat Likely","Likely","Very Likely",{"$f":"IFERROR(HLOOKUP(TRUE,R90:W91,2,FALSE),0)","v":0},false,false,false,false,false,false,null,null,null,null,null,null,null,null,{"$f":"IF('BUILD ASSESSMENT'!$P$87=\"yes\",1,0)","v":0}]
[null,null,null,null,null,null,null,null,null,null,null,null,null,null,null,null,null,1,2,3,4,5,6,null,null,null,null,null,null,null,null,{"$f":"IF('BUILD ASSESSMENT'!$P$87=\"yes\",1,0)","v":0}]
[null,null,null,null,null,null,null,null,null,null,null,null,null,null,null,null,null,null,null,null,null,null,null,null,null,null,null,null,null,null,null,{"$f":"IF('BUILD ASSESSMENT'!$P$87=\"yes\",1,0)","v":0}]
[null,null,{"$f":"'BUILD ASSESSMENT'!D88","v":"What is the likelihood internal candidates will be prepared for this role within 5 years?"},null,null,null,null,null,null,null,"Very Unlikely","Unlikely","Somewhat Unlikely","Somewhat Likely","Likely","Very Likely",{"$f":"IFERROR(HLOOKUP(TRUE,R93:W94,2,FALSE),0)","v":0},false,false,false,false,false,false,null,null,null,null,null,null,null,null,{"$f":"IF('BUILD ASSESSMENT'!$P$88=\"yes\",1,0)","v":0}]
[null,null,null,null,null,null,null,null,null,null,null,null,null,null,null,null,null,1,2,3,4,5,6,null,null,null,null,null,null,null,null,{"$f":"IF('BUILD ASSESSMENT'!$P$88=\"yes\",1,0)","v":0}]
[null,null,null,null,null,null,null,null,null,null,null,null,null,null,null,null,null,null,null,null,null,null,null,null,null,null,null,null,null,null,null,{"$f":"IF('BUILD ASSESSMENT'!$P$88=\"yes\",1,0)","v":0}]
[null,null,null,null,null,null,null,null,null,null,null,null,null,null,null,null,null,null,null,null,null,null,null,null,null,null,null,null,null,null,null,{"$f":"IF(SUM($AF$103:$AF$123)>0,1,0)","v":0}]
[null,null,null,null,null,null,null,null,null,null,null,null,null,null,null,null,null,null,null,null,null,null,null,null,null,null,null,null,null,null,null,{"$f":"IF(SUM($AF$103:$AF$123)>0,1,0)","v":0}]
[null,"Operational Impact",null,null,null,null,null,null,null,null,null,null,null,null,null,null,null,null,null,null,null,null,null,null,null,null,null,null,null,null,null,0]
[null,null,null,null,null,null,null,null,null,null,null,null,null,null,null,null,null,null,null,null,null,null,null,null,null,null,null,null,null,null,null,0]
[null,"Operational Impact focuses on challenges or difficulties the agency would experience in the event this position was vacant, to include operational risk, meeting legislative or regulatory requirements, providing services to customers, and workplace health, safety, and security. ",null,null,null,null,null,null,null,null,null,null,null,null,null,null,null,null,null,null,null,null,null,null,null,null,null,null,null,null,null,0]
[null,null,null,null,null,null,null,null,null,null,null,null,null,null,null,null,null,null,null,null,null,null,null,null,null,null,null,null,null,null,null,0]
[null,null,null,null,null,null,null,null,null,null,null,null,null,null,null,null,null,null,null,null,null,null,null,null,null,null,null,null,null,null,null,0]
[null,null,{"$f":"'BUILD ASSESSMENT'!D97","v":"What is the degree the agency would experience operational challenges or potential risks if this position was vacant?"},null,null,null,null,null,null,null,"Very Low","Low","Medium-Low","Medium-High","High","Very High",{"$f":"IFERROR(HLOOKUP(TRUE,R103:W104,2,FALSE),0)","v":0},false,false,false,false,false,false,null,null,null,null,null,null,null,null,{"$f":"IF('BUILD ASSESSMENT'!$P$97=\"yes\",1,0)","v":0}]
[null,null,null,null,null,null,null,null,null,null,null,null,null,null,null,null,null,1,2,3,4,5,6,null,null,null,null,null,null,null,null,{"$f":"IF('BUILD ASSESSMENT'!$P$97=\"yes\",1,0)","v":0}]
[null,null,null,null,null,null,null,null,null,null,null,null,null,null,null,null,null,null,null,null,null,null,null,null,null,null,null,null,null,null,null,{"$f":"IF('BUILD ASSESSMENT'!$P$97=\"yes\",1,0)","v":0}]
[null,null,{"$f":"'BUILD ASSESSMENT'!D98","v":"To what degree would the agency experience challenges meeting legislative/regulatory requirements if this position was vacant?"},null,null,null,null,null,null,null,"Very Low","Low","Medium-Low","Medium-High","High","Very High",{"$f":"IFERROR(HLOOKUP(TRUE,R106:W107,2,FALSE),0)","v":0},false,false,false,false,false,false,null,null,null,null,null,null,null,null,{"$f":"IF('BUILD ASSESSMENT'!$P$98=\"yes\",1,0)","v":0}]
[null,null,null,null,null,null,null,null,null,null,null,null,null,null,null,null,null,1,2,3,4,5,6,null,null,null,null,null,null,null,null,{"$f":"IF('BUILD ASSESSMENT'!$P$98=\"yes\",1,0)","v":0}]
[null,null,null,null,null,null,null,null,null,null,null,null,null,null,null,null,null,null,null,null,null,null,null,null,null,null,null,null,null,null,null,{"$f":"IF('BUILD ASSESSMENT'!$P$98=\"yes\",1,0)","v":0}]
[null,null,{"$f":"'BUILD ASSESSMENT'!D99","v":"To what degree would the agency experience challenges providing their services to customers if this position was vacant?"},null,null,null,null,null,null,null,"Very Low","Low","Medium-Low","Medium-High","High","Very High",{"$f":"IFERROR(HLOOKUP(TRUE,R109:W110,2,FALSE),0)","v":0},false,false,false,false,false,false,null,null,null,null,null,null,null,null,{"$f":"IF('BUILD ASSESSMENT'!$P$99=\"yes\",1,0)","v":0}]
[null,null,null,null,null,null,null,null,null,null,null,null,null,null,null,null,null,1,2,3,4,5,6,null,null,null,null,null,null,null,null,{"$f":"IF('BUILD ASSESSMENT'!$P$99=\"yes\",1,0)","v":0}]
[null,null,null,null,null,null,null,null,null,null,null,null,null,null,null,null,null,null,null,null,null,null,null,null,null,null,null,null,null,null,null,{"$f":"IF('BUILD ASSESSMENT'!$P$99=\"yes\",1,0)","v":0}]
[null,null,{"$f":"'BUILD ASSESSMENT'!D100","v":"To what degree would the agency experience challenges to workplace health, safety, and security if this position was vacant?"},null,null,null,null,null,null,null,"Very Low","Low","Medium-Low","Medium-High","High","Very High",{"$f":"IFERROR(HLOOKUP(TRUE,R112:W113,2,FALSE),0)","v":0},false,false,false,false,false,false,null,null,null,null,null,null,null,null,{"$f":"IF('BUILD ASSESSMENT'!$P$100=\"yes\",1,0)","v":0}]
[null,null,null,null,null,null,null,null,null,null,null,null,null,null,null,null,null,1,2,3,4,5,6,null,null,null,null,null,null,null,null,{"$f":"IF('BUILD ASSESSMENT'!$P$100=\"yes\",1,0)","v":0}]
[null,null,null,null,null,null,null,null,null,null,null,null,null,null,null,null,null,null,null,null,null,null,null,null,null,null,null,null,null,null,null,{"$f":"IF('BUILD ASSESSMENT'!$P$100=\"yes\",1,0)","v":0}]
[null,null,{"$f":"'BUILD ASSESSMENT'!D101","v":"What is the likelihood this position would be deemed \"essential\" for emergency situations?"},null,null,null,null,null,null,null,"Very Unlikely","Unlikely","Somewhat Unlikely","Somewhat Likely","Likely","Very Likely",{"$f":"IFERROR(HLOOKUP(TRUE,R115:W116,2,FALSE),0)","v":0},false,false,false,false,false,false,null,null,null,null,null,null,null,null,{"$f":"IF('BUILD ASSESSMENT'!$P$101=\"yes\",1,0)","v":0}]
[null,null,null,null,null,null,null,null,null,null,null,null,null,null,null,null,null,1,2,3,4,5,6,null,null,null,null,null,null,null,null,{"$f":"IF('BUILD ASSESSMENT'!$P$101=\"yes\",1,0)","v":0}]
[null,null,null,null,null,null,null,null,null,null,null,null,null,null,null,null,null,null,null,null,null,null,null,null,null,null,null,null,null,null,null,{"$f":"IF('BUILD ASSESSMENT'!$P$101=\"yes\",1,0)","v":0}]
[null,null,{"$f":"'BUILD ASSESSMENT'!D102","v":"What is the degree this position is limited to specific agency geographic locations?"},null,null,null,null,null,null,null,"Very Low","Low","Medium-Low","Medium-High","High","Very High",{"$f":"IFERROR(HLOOKUP(TRUE,R118:W119,2,FALSE),0)","v":0},false,false,false,false,false,false,null,null,null,null,null,null,null,null,{"$f":"IF('BUILD ASSESSMENT'!$P$102=\"yes\",1,0)","v":0}]
[null,null,null,null,null,null,null,null,null,null,null,null,null,null,null,null,null,1,2,3,4,5,6,null,null,null,null,null,null,null,null,{"$f":"IF('BUILD ASSESSMENT'!$P$102=\"yes\",1,0)","v":0}]
[null,null,null,null,null,null,null,null,null,null,null,null,null,null,null,null,null,null,null,null,null,null,null,null,null,null,null,null,null,null,null,{"$f":"IF('BUILD ASSESSMENT'!$P$102=\"yes\",1,0)","v":0}]
[null,null,{"$f":"'BUILD ASSESSMENT'!D103","v":"What is the likelihood the agency could be susceptible to other risks if this position was vacant?"},null,null,null,null,null,null,null,"Very Unlikely","Unlikely","Somewhat Unlikely","Somewhat Likely","Likely","Very Likely",{"$f":"IFERROR(HLOOKUP(TRUE,R121:W122,2,FALSE),0)","v":0},false,false,false,false,false,false,null,null,null,null,null,null,null,null,{"$f":"IF('BUILD ASSESSMENT'!$P$103=\"yes\",1,0)","v":0}]
[null,null,null,null,null,null,null,null,null,null,null,null,null,null,null,null,null,1,2,3,4,5,6,null,null,null,null,null,null,null,null,{"$f":"IF('BUILD ASSESSMENT'!$P$103=\"yes\",1,0)","v":0}]
[null,null,null,null,null,null,null,null,null,null,null,null,null,null,null,null,null,null,null,null,null,null,null,null,null,null,null,null,null,null,null,{"$f":"IF('BUILD ASSESSMENT'!$P$103=\"yes\",1,0)","v":0}]
[null,null,null,null,null,null,null,null,null,null,null,null,null,null,null,null,null,null,null,null,null,null,null,null,null,null,null,null,null,null,null,{"$f":"IF(SUM($AF$131:$AF$133)>1,1,0)","v":0}]
[null,null,null,null,null,null,null,null,null,null,null,null,null,null,null,null,null,null,null,null,null,null,null,null,null,null,null,null,null,null,null,{"$f":"IF(SUM($AF$131:$AF$133)>1,1,0)","v":0}]
[null,"Strategic Objectives or Initiatives Impact",null,null,null,null,null,null,null,null,null,null,null,null,null,null,null,null,null,null,null,null,null,null,null,null,null,null,null,null,null,0]
[null,null,null,null,null,null,null,null,null,null,null,null,null,null,null,null,null,null,null,null,null,null,null,null,null,null,null,null,null,null,null,0]
[null,"Strategic Objectives or Initiatives Impact identifies the degree of difficulty or challenges in achieving current strategic initiatives or actions if this position was vacant.",null,null,null,null,null,null,null,null,null,null,null,null,null,null,null,null,null,null,null,null,null,null,null,null,null,null,null,null,null,0]
[null,null,null,null,null,null,null,null,null,null,null,null,null,null,null,null,null,null,null,null,null,null,null,null,null,null,null,null,null,null,null,0]
[null,null,null,null,null,null,null,null,null,null,null,null,null,null,null,null,null,null,null,null,null,null,null,null,null,null,null,null,null,null,null,0]
[null,null,{"$f":"'BUILD ASSESSMENT'!D112","v":"What is the degree the agency would experience challenges in achieving strategic objectives if this position was vacant?"},null,null,null,null,null,null,null,"Very Low","Low","Medium-Low","Medium-High","High","Very High",{"$f":"IFERROR(HLOOKUP(TRUE,R131:W132,2,FALSE),0)","v":0},false,false,false,false,false,false,null,null,null,null,null,null,null,null,{"$f":"IF('BUILD ASSESSMENT'!$P$112=\"yes\",1,0)","v":0}]
[null,null,null,null,null,null,null,null,null,null,null,null,null,null,null,null,null,1,2,3,4,5,6,null,null,null,null,null,null,null,null,{"$f":"IF('BUILD ASSESSMENT'!$P$112=\"yes\",1,0)","v":0}]
[null,null,null,null,null,null,null,null,null,null,null,null,null,null,null,null,null,null,null,null,null,null,null,null,null,null,null,null,null,null,null,{"$f":"IF('BUILD ASSESSMENT'!$P$112=\"yes\",1,0)","v":0}]
[null,null,null,null,null,null,null,null,null,null,null,null,null,null,null,null,null,null,null,null,null,null,null,null,null,null,null,null,null,null,null,{"$f":"IF('BUILD ASSESSMENT'!$P$112=\"yes\",1,0)","v":0}]
[null,null,"Impact to Specific Strategic Objectives or Action Items",null,null,null,null,null,null,null,null,null,null,null,null,null,null,null,null,null,null,null,null,null,null,null,null,null,null,null,null,{"$f":"IF(SUM($AF$139:$AF$602)>0,1,0)","v":0}]
[null,null,null,null,null,null,null,null,null,null,null,null,null,null,null,null,null,null,null,null,null,null,null,null,null,null,null,null,null,null,null,{"$f":"IF(SUM($AF$139:$AF$602)>0,1,0)","v":0}]
[null,null,"What is the degree the agency would experience challenges in achieving the following strategic objectives or action items:",null,null,null,null,null,null,null,null,null,null,null,null,null,null,null,null,null,null,null,null,null,null,null,null,null,null,null,null,{"$f":"IF(SUM($AF$139:$AF$602)>0,1,0)","v":0}]
[null,null,null,null,null,null,null,null,null,null,null,null,null,null,null,null,null,null,null,null,null,null,null,null,null,null,null,null,null,null,null,{"$f":"IF(SUM($AF$139:$AF$602)>0,1,0)","v":0}]
[null,null,{"$f":"IF('BUILD ASSESSMENT'!P124=\"yes\",'BUILD ASSESSMENT'!E124,0)","v":0},null,null,null,null,null,null,null,"Very Low","Low","Medium-Low","Medium-High","High","Very High",{"$f":"IFERROR(HLOOKUP(TRUE,R139:W140,2,FALSE),0)","v":0},false,false,false,false,false,false,null,null,null,null,null,null,null,null,{"$f":"IF($C139<>\"\",IF($C139<>0,1,0))","v":0}]
[null,null,null,null,null,null,null,null,null,null,null,null,null,null,null,null,null,1,2,3,4,5,6,null,null,null,null,null,null,null,null,{"$f":"IF($C139<>\"\",IF($C139<>0,1,0))","v":0}]
[null,null,null,null,null,null,null,null,null,null,null,null,null,null,null,null,null,null,null,null,null,null,null,null,null,null,null,null,null,null,null,{"$f":"IF($C139<>\"\",IF($C139<>0,1,0))","v":0}]
[null,null,null,null,null,null,null,null,null,null,null,null,null,null,null,null,null,null,null,null,null,null,null,null,null,null,null,null,null,null,null,{"$f":"IF($C139<>\"\",IF($C139<>0,1,0))","v":0}]
[null,null,null,null,null,null,null,null,null,null,null,null,null,null,null,null,null,null,null,null,null,null,null,null,null,null,null,null,null,null,null,{"$f":"IF($C139<>\"\",IF($C139<>0,1,0))","v":0}]
[null,null,{"$f":"IF('BUILD ASSESSMENT'!P127=\"yes\",'BUILD ASSESSMENT'!G127,0)","v":0},null,null,null,null,null,null,null,"Very Low","Low","Medium-Low","Medium-High","High","Very High",{"$f":"IFERROR(HLOOKUP(TRUE,R144:W145,2,FALSE),0)","v":0},false,false,false,false,false,false,null,null,null,null,null,null,null,null,{"$f":"IF($C144<>\"\",IF($C144<>0,1,0))","v":0}]
[null,null,null,null,null,null,null,null,null,null,null,null,null,null,null,null,null,1,2,3,4,5,6,null,null,null,null,null,null,null,null,{"$f":"IF($C144<>\"\",IF($C144<>0,1,0))","v":0}]
[null,null,null,null,null,null,null,null,null,null,null,null,null,null,null,null,null,null,null,null,null,null,null,null,null,null,null,null,null,null,null,{"$f":"IF($C144<>\"\",IF($C144<>0,1,0))","v":0}]
[null,null,null,null,null,null,null,null,null,null,null,null,null,null,null,null,null,null,null,null,null,null,null,null,null,null,null,null,null,null,null,{"$f":"IF($C144<>\"\",IF($C144<>0,1,0))","v":0}]
[null,null,null,null,null,null,null,null,null,null,null,null,null,null,null,null,null,null,null,null,null,null,null,null,null,null,null,null,null,null,null,{"$f":"IF($C144<>\"\",IF($C144<>0,1,0))","v":0}]
[null,null,{"$f":"IF('BUILD ASSESSMENT'!P130=\"yes\",'BUILD ASSESSMENT'!G130,0)","v":0},null,null,null,null,null,null,null,"Very Low","Low","Medium-Low","Medium-High","High","Very High",{"$f":"IFERROR(HLOOKUP(TRUE,R149:W150,2,FALSE),0)","v":0},false,false,false,false,false,false,null,null,null,null,null,null,null,null,{"$f":"IF($C149<>\"\",IF($C149<>0,1,0))","v":0}]
[null,null,null,null,null,null,null,null,null,null,null,null,null,null,null,null,null,1,2,3,4,5,6,null,null,null,null,null,null,null,null,{"$f":"IF($C149<>\"\",IF($C149<>0,1,0))","v":0}]
[null,null,null,null,null,null,null,null,null,null,null,null,null,null,null,null,null,null,null,null,null,null,null,null,null,null,null,null,null,null,null,{"$f":"IF($C149<>\"\",IF($C149<>0,1,0))","v":0}]
[null,null,null,null,null,null,null,null,null,null,null,null,null,null,null,null,null,null,null,null,null,null,null,null,null,null,null,null,null,null,null,{"$f":"IF($C149<>\"\",IF($C149<>0,1,0))","v":0}]
[null,null,null,null,null,null,null,null,null,null,null,null,null,null,null,null,null,null,null,null,null,null,null,null,null,null,null,null,null,null,null,{"$f":"IF($C149<>\"\",IF($C149<>0,1,0))","v":0}]
[null,null,{"$f":"IF('BUILD ASSESSMENT'!P133=\"yes\",'BUILD ASSESSMENT'!G133,0)","v":0},null,null,null,null,null,null,null,"Very Low","Low","Medium-Low","Medium-High","High","Very High",{"$f":"IFERROR(HLOOKUP(TRUE,R154:W155,2,FALSE),0)","v":0},false,false,false,false,false,false,null,null,null,null,null,null,null,null,{"$f":"IF($C154<>\"\",IF($C154<>0,1,0))","v":0}]
[null,null,null,null,null,null,null,null,null,null,null,null,null,null,null,null,null,1,2,3,4,5,6,null,null,null,null,null,null,null,null,{"$f":"IF($C154<>\"\",IF($C154<>0,1,0))","v":0}]
[null,null,null,null,null,null,null,null,null,null,null,null,null,null,null,null,null,null,null,null,null,null,null,null,null,null,null,null,null,null,null,{"$f":"IF($C154<>\"\",IF($C154<>0,1,0))","v":0}]
[null,null,null,null,null,null,null,null,null,null,null,null,null,null,null,null,null,null,null,null,null,null,null,null,null,null,null,null,null,null,null,{"$f":"IF($C154<>\"\",IF($C154<>0,1,0))","v":0}]
[null,null,null,null,null,null,null,null,null,null,null,null,null,null,null,null,null,null,null,null,null,null,null,null,null,null,null,null,null,null,null,{"$f":"IF($C154<>\"\",IF($C154<>0,1,0))","v":0}]
[null,null,{"$f":"IF('BUILD ASSESSMENT'!P136=\"yes\",'BUILD ASSESSMENT'!G136,0)","v":0},null,null,null,null,null,null,null,"Very Low","Low","Medium-Low","Medium-High","High","Very High",{"$f":"IFERROR(HLOOKUP(TRUE,R159:W160,2,FALSE),0)","v":0},false,false,false,false,false,false,null,null,null,null,null,null,null,null,{"$f":"IF($C159<>\"\",IF($C159<>0,1,0))","v":0}]
[null,null,null,null,null,null,null,null,null,null,null,null,null,null,null,null,null,1,2,3,4,5,6,null,null,null,null,null,null,null,null,{"$f":"IF($C159<>\"\",IF($C159<>0,1,0))","v":0}]
[null,null,null,null,null,null,null,null,null,null,null,null,null,null,null,null,null,null,null,null,null,null,null,null,null,null,null,null,null,null,null,{"$f":"IF($C159<>\"\",IF($C159<>0,1,0))","v":0}]
[null,null,null,null,null,null,null,null,null,null,null,null,null,null,null,null,null,null,null,null,null,null,null,null,null,null,null,null,null,null,null,{"$f":"IF($C159<>\"\",IF($C159<>0,1,0))","v":0}]
[null,null,null,null,null,null,null,null,null,null,null,null,null,null,null,null,null,null,null,null,null,null,null,null,null,null,null,null,null,null,null,{"$f":"IF($C159<>\"\",IF($C159<>0,1,0))","v":0}]
[null,null,{"$f":"IF('BUILD ASSESSMENT'!P139=\"yes\",'BUILD ASSESSMENT'!G139,0)","v":0},null,null,null,null,null,null,null,"Very Low","Low","Medium-Low","Medium-High","High","Very High",{"$f":"IFERROR(HLOOKUP(TRUE,R164:W165,2,FALSE),0)","v":0},false,false,false,false,false,false,null,null,null,null,null,null,null,null,{"$f":"IF($C164<>\"\",IF($C164<>0,1,0))","v":0}]
[null,null,null,null,null,null,null,null,null,null,null,null,null,null,null,null,null,1,2,3,4,5,6,null,null,null,null,null,null,null,null,{"$f":"IF($C164<>\"\",IF($C164<>0,1,0))","v":0}]
[null,null,null,null,null,null,null,null,null,null,null,null,null,null,null,null,null,null,null,null,null,null,null,null,null,null,null,null,null,null,null,{"$f":"IF($C164<>\"\",IF($C164<>0,1,0))","v":0}]
[null,null,null,null,null,null,null,null,null,null,null,null,null,null,null,null,null,null,null,null,null,null,null,null,null,null,null,null,null,null,null,{"$f":"IF($C164<>\"\",IF($C164<>0,1,0))","v":0}]
[null,null,null,null,null,null,null,null,null,null,null,null,null,null,null,null,null,null,null,null,null,null,null,null,null,null,null,null,null,null,null,{"$f":"IF($C164<>\"\",IF($C164<>0,1,0))","v":0}]
[null,null,null,null,null,null,null,null,null,null,null,null,null,null,null,null,null,null,null,null,null,null,null,null,null,null,null,null,null,null,null,{"$f":"IF(SUM(AF170:AF199)>0,1,0)","v":0}]
[null,null,{"$f":"IF('BUILD ASSESSMENT'!P143=\"yes\",'BUILD ASSESSMENT'!E143,0)","v":0},null,null,null,null,null,null,null,"Very Low","Low","Medium-Low","Medium-High","High","Very High",{"$f":"IFERROR(HLOOKUP(TRUE,R170:W171,2,FALSE),0)","v":0},false,false,false,false,false,false,null,null,null,null,null,null,null,null,{"$f":"IF($C170<>\"\",IF($C170<>0,1,0))","v":0}]
[null,null,null,null,null,null,null,null,null,null,null,null,null,null,null,null,null,1,2,3,4,5,6,null,null,null,null,null,null,null,null,{"$f":"IF($C170<>\"\",IF($C170<>0,1,0))","v":0}]
[null,null,null,null,null,null,null,null,null,null,null,null,null,null,null,null,null,null,null,null,null,null,null,null,null,null,null,null,null,null,null,{"$f":"IF($C170<>\"\",IF($C170<>0,1,0))","v":0}]
[null,null,null,null,null,null,null,null,null,null,null,null,null,null,null,null,null,null,null,null,null,null,null,null,null,null,null,null,null,null,null,{"$f":"IF($C170<>\"\",IF($C170<>0,1,0))","v":0}]
[null,null,null,null,null,null,null,null,null,null,null,null,null,null,null,null,null,null,null,null,null,null,null,null,null,null,null,null,null,null,null,{"$f":"IF($C170<>\"\",IF($C170<>0,1,0))","v":0}]
[null,null,{"$f":"IF('BUILD ASSESSMENT'!P146=\"yes\",'BUILD ASSESSMENT'!G146,0)","v":0},null,null,null,null,null,null,null,"Very Low","Low","Medium-Low","Medium-High","High","Very High",{"$f":"IFERROR(HLOOKUP(TRUE,R175:W176,2,FALSE),0)","v":0},false,false,false,false,false,false,null,null,null,null,null,null,null,null,{"$f":"IF($C175<>\"\",IF($C175<>0,1,0))","v":0}]
[null,null,null,null,null,null,null,null,null,null,null,null,null,null,null,null,null,1,2,3,4,5,6,null,null,null,null,null,null,null,null,{"$f":"IF($C175<>\"\",IF($C175<>0,1,0))","v":0}]
[null,null,null,null,null,null,null,null,null,null,null,null,null,null,null,null,null,null,null,null,null,null,null,null,null,null,null,null,null,null,null,{"$f":"IF($C175<>\"\",IF($C175<>0,1,0))","v":0}]
[null,null,null,null,null,null,null,null,null,null,null,null,null,null,null,null,null,null,null,null,null,null,null,null,null,null,null,null,null,null,null,{"$f":"IF($C175<>\"\",IF($C175<>0,1,0))","v":0}]
[null,null,null,null,null,null,null,null,null,null,null,null,null,null,null,null,null,null,null,null,null,null,null,null,null,null,null,null,null,null,null,{"$f":"IF($C175<>\"\",IF($C175<>0,1,0))","v":0}]
[null,null,{"$f":"IF('BUILD ASSESSMENT'!P149=\"yes\",'BUILD ASSESSMENT'!G149,0)","v":0},null,null,null,null,null,null,null,"Very Low","Low","Medium-Low","Medium-High","High","Very High",{"$f":"IFERROR(HLOOKUP(TRUE,R180:W181,2,FALSE),0)","v":0},false,false,false,false,false,false,null,null,null,null,null,null,null,null,{"$f":"IF($C180<>\"\",IF($C180<>0,1,0))","v":0}]
[null,null,null,null,null,null,null,null,null,null,null,null,null,null,null,null,null,1,2,3,4,5,6,null,null,null,null,null,null,null,null,{"$f":"IF($C180<>\"\",IF($C180<>0,1,0))","v":0}]
[null,null,null,null,null,null,null,null,null,null,null,null,null,null,null,null,null,null,null,null,null,null,null,null,null,null,null,null,null,null,null,{"$f":"IF($C180<>\"\",IF($C180<>0,1,0))","v":0}]
[null,null,null,null,null,null,null,null,null,null,null,null,null,null,null,null,null,null,null,null,null,null,null,null,null,null,null,null,null,null,null,{"$f":"IF($C180<>\"\",IF($C180<>0,1,0))","v":0}]
[null,null,null,null,null,null,null,null,null,null,null,null,null,null,null,null,null,null,null,null,null,null,null,null,null,null,null,null,null,null,null,{"$f":"IF($C180<>\"\",IF($C180<>0,1,0))","v":0}]
[null,null,{"$f":"IF('BUILD ASSESSMENT'!P152=\"yes\",'BUILD ASSESSMENT'!G152,0)","v":0},null,null,null,null,null,null,null,"Very Low","Low","Medium-Low","Medium-High","High","Very High",{"$f":"IFERROR(HLOOKUP(TRUE,R185:W186,2,FALSE),0)","v":0},false,false,false,false,false,false,null,null,null,null,null,null,null,null,{"$f":"IF($C185<>\"\",IF($C185<>0,1,0))","v":0}]
[null,null,null,null,null,null,null,null,null,null,null,null,null,null,null,null,null,1,2,3,4,5,6,null,null,null,null,null,null,null,null,{"$f":"IF($C185<>\"\",IF($C185<>0,1,0))","v":0}]
[null,null,null,null,null,null,null,null,null,null,null,null,null,null,null,null,null,null,null,null,null,null,null,null,null,null,null,null,null,null,null,{"$f":"IF($C185<>\"\",IF($C185<>0,1,0))","v":0}]
[null,null,null,null,null,null,null,null,null,null,null,null,null,null,null,null,null,null,null,null,null,null,null,null,null,null,null,null,null,null,null,{"$f":"IF($C185<>\"\",IF($C185<>0,1,0))","v":0}]
[null,null,null,null,null,null,null,null,null,null,null,null,null,null,null,null,null,null,null,null,null,null,null,null,null,null,null,null,null,null,null,{"$f":"IF($C185<>\"\",IF($C185<>0,1,0))","v":0}]
[null,null,{"$f":"IF('BUILD ASSESSMENT'!P155=\"yes\",'BUILD ASSESSMENT'!G155,0)","v":0},null,null,null,null,null,null,null,"Very Low","Low","Medium-Low","Medium-High","High","Very High",{"$f":"IFERROR(HLOOKUP(TRUE,R190:W191,2,FALSE),0)","v":0},false,false,false,false,false,false,null,null,null,null,null,null,null,null,{"$f":"IF($C190<>\"\",IF($C190<>0,1,0))","v":0}]
[null,null,null,null,null,null,null,null,null,null,null,null,null,null,null,null,null,1,2,3,4,5,6,null,null,null,null,null,null,null,null,{"$f":"IF($C190<>\"\",IF($C190<>0,1,0))","v":0}]
[null,null,null,null,null,null,null,null,null,null,null,null,null,null,null,null,null,null,null,null,null,null,null,null,null,null,null,null,null,null,null,{"$f":"IF($C190<>\"\",IF($C190<>0,1,0))","v":0}]
[null,null,null,null,null,null,null,null,null,null,null,null,null,null,null,null,null,null,null,null,null,null,null,null,null,null,null,null,null,null,null,{"$f":"IF($C190<>\"\",IF($C190<>0,1,0))","v":0}]
[null,null,null,null,null,null,null,null,null,null,null,null,null,null,null,null,null,null,null,null,null,null,null,null,null,null,null,null,null,null,null,{"$f":"IF($C190<>\"\",IF($C190<>0,1,0))","v":0}]
[null,null,{"$f":"IF('BUILD ASSESSMENT'!P158=\"yes\",'BUILD ASSESSMENT'!G158,0)","v":0},null,null,null,null,null,null,null,"Very Low","Low","Medium-Low","Medium-High","High","Very High",{"$f":"IFERROR(HLOOKUP(TRUE,R195:W196,2,FALSE),0)","v":0},false,false,false,false,false,false,null,null,null,null,null,null,null,null,{"$f":"IF($C195<>\"\",IF($C195<>0,1,0))","v":0}]
[null,null,null,null,null,null,null,null,null,null,null,null,null,null,null,null,null,1,2,3,4,5,6,null,null,null,null,null,null,null,null,{"$f":"IF($C195<>\"\",IF($C195<>0,1,0))","v":0}]
[null,null,null,null,null,null,null,null,null,null,null,null,null,null,null,null,null,null,null,null,null,null,null,null,null,null,null,null,null,null,null,{"$f":"IF($C195<>\"\",IF($C195<>0,1,0))","v":0}]
[null,null,null,null,null,null,null,null,null,null,null,null,null,null,null,null,null,null,null,null,null,null,null,null,null,null,null,null,null,null,null,{"$f":"IF($C195<>\"\",IF($C195<>0,1,0))","v":0}]
[null,null,null,null,null,null,null,null,null,null,null,null,null,null,null,null,null,null,null,null,null,null,null,null,null,null,null,null,null,null,null,{"$f":"IF($C195<>\"\",IF($C195<>0,1,0))","v":0}]
[null,null,null,null,null,null,null,null,null,null,null,null,null,null,null,null,null,null,null,null,null,null,null,null,null,null,null,null,null,null,null,{"$f":"IF(SUM(AF201:AF230)>0,1,0)","v":0}]
[null,null,{"$f":"IF('BUILD ASSESSMENT'!P162=\"yes\",'BUILD ASSESSMENT'!E162,0)","v":0},null,null,null,null,null,null,null,"Very Low","Low","Medium-Low","Medium-High","High","Very High",{"$f":"IFERROR(HLOOKUP(TRUE,R201:W202,2,FALSE),0)","v":0},false,false,false,false,false,false,null,null,null,null,null,null,null,null,{"$f":"IF($C201<>\"\",IF($C201<>0,1,0))","v":0}]
[null,null,null,null,null,null,null,null,null,null,null,null,null,null,null,null,null,1,2,3,4,5,6,null,null,null,null,null,null,null,null,{"$f":"IF($C201<>\"\",IF($C201<>0,1,0))","v":0}]
[null,null,null,null,null,null,null,null,null,null,null,null,null,null,null,null,null,null,null,null,null,null,null,null,null,null,null,null,null,null,null,{"$f":"IF($C201<>\"\",IF($C201<>0,1,0))","v":0}]
[null,null,null,null,null,null,null,null,null,null,null,null,null,null,null,null,null,null,null,null,null,null,null,null,null,null,null,null,null,null,null,{"$f":"IF($C201<>\"\",IF($C201<>0,1,0))","v":0}]
[null,null,null,null,null,null,null,null,null,null,null,null,null,null,null,null,null,null,null,null,null,null,null,null,null,null,null,null,null,null,null,{"$f":"IF($C201<>\"\",IF($C201<>0,1,0))","v":0}]
[null,null,{"$f":"IF('BUILD ASSESSMENT'!P165=\"yes\",'BUILD ASSESSMENT'!G165,0)","v":0},null,null,null,null,null,null,null,"Very Low","Low","Medium-Low","Medium-High","High","Very High",{"$f":"IFERROR(HLOOKUP(TRUE,R206:W207,2,FALSE),0)","v":0},false,false,false,false,false,false,null,null,null,null,null,null,null,null,{"$f":"IF($C206<>\"\",IF($C206<>0,1,0))","v":0}]
[null,null,null,null,null,null,null,null,null,null,null,null,null,null,null,null,null,1,2,3,4,5,6,null,null,null,null,null,null,null,null,{"$f":"IF($C206<>\"\",IF($C206<>0,1,0))","v":0}]
[null,null,null,null,null,null,null,null,null,null,null,null,null,null,null,null,null,null,null,null,null,null,null,null,null,null,null,null,null,null,null,{"$f":"IF($C206<>\"\",IF($C206<>0,1,0))","v":0}]
[null,null,null,null,null,null,null,null,null,null,null,null,null,null,null,null,null,null,null,null,null,null,null,null,null,null,null,null,null,null,null,{"$f":"IF($C206<>\"\",IF($C206<>0,1,0))","v":0}]
[null,null,null,null,null,null,null,null,null,null,null,null,null,null,null,null,null,null,null,null,null,null,null,null,null,null,null,null,null,null,null,{"$f":"IF($C206<>\"\",IF($C206<>0,1,0))","v":0}]
[null,null,{"$f":"IF('BUILD ASSESSMENT'!P168=\"yes\",'BUILD ASSESSMENT'!G168,0)","v":0},null,null,null,null,null,null,null,"Very Low","Low","Medium-Low","Medium-High","High","Very High",{"$f":"IFERROR(HLOOKUP(TRUE,R211:W212,2,FALSE),0)","v":0},false,false,false,false,false,false,null,null,null,null,null,null,null,null,{"$f":"IF($C211<>\"\",IF($C211<>0,1,0))","v":0}]
[null,null,null,null,null,null,null,null,null,null,null,null,null,null,null,null,null,1,2,3,4,5,6,null,null,null,null,null,null,null,null,{"$f":"IF($C211<>\"\",IF($C211<>0,1,0))","v":0}]
[null,null,null,null,null,null,null,null,null,null,null,null,null,null,null,null,null,null,null,null,null,null,null,null,null,null,null,null,null,null,null,{"$f":"IF($C211<>\"\",IF($C211<>0,1,0))","v":0}]
[null,null,null,null,null,null,null,null,null,null,null,null,null,null,null,null,null,null,null,null,null,null,null,null,null,null,null,null,null,null,null,{"$f":"IF($C211<>\"\",IF($C211<>0,1,0))","v":0}]
[null,null,null,null,null,null,null,null,null,null,null,null,null,null,null,null,null,null,null,null,null,null,null,null,null,null,null,null,null,null,null,{"$f":"IF($C211<>\"\",IF($C211<>0,1,0))","v":0}]
[null,null,{"$f":"IF('BUILD ASSESSMENT'!P171=\"yes\",'BUILD ASSESSMENT'!G171,0)","v":0},null,null,null,null,null,null,null,"Very Low","Low","Medium-Low","Medium-High","High","Very High",{"$f":"IFERROR(HLOOKUP(TRUE,R216:W217,2,FALSE),0)","v":0},false,false,false,false,false,false,null,null,null,null,null,null,null,null,{"$f":"IF($C216<>\"\",IF($C216<>0,1,0))","v":0}]
[null,null,null,null,null,null,null,null,null,null,null,null,null,null,null,null,null,1,2,3,4,5,6,null,null,null,null,null,null,null,null,{"$f":"IF($C216<>\"\",IF($C216<>0,1,0))","v":0}]
[null,null,null,null,null,null,null,null,null,null,null,null,null,null,null,null,null,null,null,null,null,null,null,null,null,null,null,null,null,null,null,{"$f":"IF($C216<>\"\",IF($C216<>0,1,0))","v":0}]
[null,null,null,null,null,null,null,null,null,null,null,null,null,null,null,null,null,null,null,null,null,null,null,null,null,null,null,null,null,null,null,{"$f":"IF($C216<>\"\",IF($C216<>0,1,0))","v":0}]
[null,null,null,null,null,null,null,null,null,null,null,null,null,null,null,null,null,null,null,null,null,null,null,null,null,null,null,null,null,null,null,{"$f":"IF($C216<>\"\",IF($C216<>0,1,0))","v":0}]
[null,null,{"$f":"IF('BUILD ASSESSMENT'!P174=\"yes\",'BUILD ASSESSMENT'!G174,0)","v":0},null,null,null,null,null,null,null,"Very Low","Low","Medium-Low","Medium-High","High","Very High",{"$f":"IFERROR(HLOOKUP(TRUE,R221:W222,2,FALSE),0)","v":0},false,false,false,false,false,false,null,null,null,null,null,null,null,null,{"$f":"IF($C221<>\"\",IF($C221<>0,1,0))","v":0}]
[null,null,null,null,null,null,null,null,null,null,null,null,null,null,null,null,null,1,2,3,4,5,6,null,null,null,null,null,null,null,null,{"$f":"IF($C221<>\"\",IF($C221<>0,1,0))","v":0}]
[null,null,null,null,null,null,null,null,null,null,null,null,null,null,null,null,null,null,null,null,null,null,null,null,null,null,null,null,null,null,null,{"$f":"IF($C221<>\"\",IF($C221<>0,1,0))","v":0}]
[null,null,null,null,null,null,null,null,null,null,null,null,null,null,null,null,null,null,null,null,null,null,null,null,null,null,null,null,null,null,null,{"$f":"IF($C221<>\"\",IF($C221<>0,1,0))","v":0}]
[null,null,null,null,null,null,null,null,null,null,null,null,null,null,null,null,null,null,null,null,null,null,null,null,null,null,null,null,null,null,null,{"$f":"IF($C221<>\"\",IF($C221<>0,1,0))","v":0}]
[null,null,{"$f":"IF('BUILD ASSESSMENT'!P177=\"yes\",'BUILD ASSESSMENT'!G177,0)","v":0},null,null,null,null,null,null,null,"Very Low","Low","Medium-Low","Medium-High","High","Very High",{"$f":"IFERROR(HLOOKUP(TRUE,R226:W227,2,FALSE),0)","v":0},false,false,false,false,false,false,null,null,null,null,null,null,null,null,{"$f":"IF($C226<>\"\",IF($C226<>0,1,0))","v":0}]
[null,null,null,null,null,null,null,null,null,null,null,null,null,null,null,null,null,1,2,3,4,5,6,null,null,null,null,null,null,null,null,{"$f":"IF($C226<>\"\",IF($C226<>0,1,0))","v":0}]
[null,null,null,null,null,null,null,null,null,null,null,null,null,null,null,null,null,null,null,null,null,null,null,null,null,null,null,null,null,null,null,{"$f":"IF($C226<>\"\",IF($C226<>0,1,0))","v":0}]
[null,null,null,null,null,null,null,null,null,null,null,null,null,null,null,null,null,null,null,null,null,null,null,null,null,null,null,null,null,null,null,{"$f":"IF($C226<>\"\",IF($C226<>0,1,0))","v":0}]
[null,null,null,null,null,null,null,null,null,null,null,null,null,null,null,null,null,null,null,null,null,null,null,null,null,null,null,null,null,null,null,{"$f":"IF($C226<>\"\",IF($C226<>0,1,0))","v":0}]
[null,null,null,null,null,null,null,null,null,null,null,null,null,null,null,null,null,null,null,null,null,null,null,null,null,null,null,null,null,null,null,{"$f":"IF(SUM(AF232:AF261)>0,1,0)","v":0}]
[null,null,{"$f":"IF('BUILD ASSESSMENT'!P181=\"yes\",'BUILD ASSESSMENT'!E181,0)","v":0},null,null,null,null,null,null,null,"Very Low","Low","Medium-Low","Medium-High","High","Very High",{"$f":"IFERROR(HLOOKUP(TRUE,R232:W233,2,FALSE),0)","v":0},false,false,false,false,false,false,null,null,null,null,null,null,null,null,{"$f":"IF($C232<>\"\",IF($C232<>0,1,0))","v":0}]
[null,null,null,null,null,null,null,null,null,null,null,null,null,null,null,null,null,1,2,3,4,5,6,null,null,null,null,null,null,null,null,{"$f":"IF($C232<>\"\",IF($C232<>0,1,0))","v":0}]
[null,null,null,null,null,null,null,null,null,null,null,null,null,null,null,null,null,null,null,null,null,null,null,null,null,null,null,null,null,null,null,{"$f":"IF($C232<>\"\",IF($C232<>0,1,0))","v":0}]
[null,null,null,null,null,null,null,null,null,null,null,null,null,null,null,null,null,null,null,null,null,null,null,null,null,null,null,null,null,null,null,{"$f":"IF($C232<>\"\",IF($C232<>0,1,0))","v":0}]
[null,null,null,null,null,null,null,null,null,null,null,null,null,null,null,null,null,null,null,null,null,null,null,null,null,null,null,null,null,null,null,{"$f":"IF($C232<>\"\",IF($C232<>0,1,0))","v":0}]
[null,null,{"$f":"IF('BUILD ASSESSMENT'!P184=\"yes\",'BUILD ASSESSMENT'!G184,0)","v":0},null,null,null,null,null,null,null,"Very Low","Low","Medium-Low","Medium-High","High","Very High",{"$f":"IFERROR(HLOOKUP(TRUE,R237:W238,2,FALSE),0)","v":0},false,false,false,false,false,false,null,null,null,null,null,null,null,null,{"$f":"IF($C237<>\"\",IF($C237<>0,1,0))","v":0}]
[null,null,null,null,null,null,null,null,null,null,null,null,null,null,null,null,null,1,2,3,4,5,6,null,null,null,null,null,null,null,null,{"$f":"IF($C237<>\"\",IF($C237<>0,1,0))","v":0}]
[null,null,null,null,null,null,null,null,null,null,null,null,null,null,null,null,null,null,null,null,null,null,null,null,null,null,null,null,null,null,null,{"$f":"IF($C237<>\"\",IF($C237<>0,1,0))","v":0}]
[null,null,null,null,null,null,null,null,null,null,null,null,null,null,null,null,null,null,null,null,null,null,null,null,null,null,null,null,null,null,null,{"$f":"IF($C237<>\"\",IF($C237<>0,1,0))","v":0}]
[null,null,null,null,null,null,null,null,null,null,null,null,null,null,null,null,null,null,null,null,null,null,null,null,null,null,null,null,null,null,null,{"$f":"IF($C237<>\"\",IF($C237<>0,1,0))","v":0}]
[null,null,{"$f":"IF('BUILD ASSESSMENT'!P187=\"yes\",'BUILD ASSESSMENT'!G187,0)","v":0},null,null,null,null,null,null,null,"Very Low","Low","Medium-Low","Medium-High","High","Very High",{"$f":"IFERROR(HLOOKUP(TRUE,R242:W243,2,FALSE),0)","v":0},false,false,false,false,false,false,null,null,null,null,null,null,null,null,{"$f":"IF($C242<>\"\",IF($C242<>0,1,0))","v":0}]
[null,null,null,null,null,null,null,null,null,null,null,null,null,null,null,null,null,1,2,3,4,5,6,null,null,null,null,null,null,null,null,{"$f":"IF($C242<>\"\",IF($C242<>0,1,0))","v":0}]
[null,null,null,null,null,null,null,null,null,null,null,null,null,null,null,null,null,null,null,null,null,null,null,null,null,null,null,null,null,null,null,{"$f":"IF($C242<>\"\",IF($C242<>0,1,0))","v":0}]
[null,null,null,null,null,null,null,null,null,null,null,null,null,null,null,null,null,null,null,null,null,null,null,null,null,null,null,null,null,null,null,{"$f":"IF($C242<>\"\",IF($C242<>0,1,0))","v":0}]
[null,null,null,null,null,null,null,null,null,null,null,null,null,null,null,null,null,null,null,null,null,null,null,null,null,null,null,null,null,null,null,{"$f":"IF($C242<>\"\",IF($C242<>0,1,0))","v":0}]
[null,null,{"$f":"IF('BUILD ASSESSMENT'!P190=\"yes\",'BUILD ASSESSMENT'!G190,0)","v":0},null,null,null,null,null,null,null,"Very Low","Low","Medium-Low","Medium-High","High","Very High",{"$f":"IFERROR(HLOOKUP(TRUE,R247:W248,2,FALSE),0)","v":0},false,false,false,false,false,false,null,null,null,null,null,null,null,null,{"$f":"IF($C247<>\"\",IF($C247<>0,1,0))","v":0}]
[null,null,null,null,null,null,null,null,null,null,null,null,null,null,null,null,null,1,2,3,4,5,6,null,null,null,null,null,null,null,null,{"$f":"IF($C247<>\"\",IF($C247<>0,1,0))","v":0}]
[null,null,null,null,null,null,null,null,null,null,null,null,null,null,null,null,null,null,null,null,null,null,null,null,null,null,null,null,null,null,null,{"$f":"IF($C247<>\"\",IF($C247<>0,1,0))","v":0}]
[null,null,null,null,null,null,null,null,null,null,null,null,null,null,null,null,null,null,null,null,null,null,null,null,null,null,null,null,null,null,null,{"$f":"IF($C247<>\"\",IF($C247<>0,1,0))","v":0}]
[null,null,null,null,null,null,null,null,null,null,null,null,null,null,null,null,null,null,null,null,null,null,null,null,null,null,null,null,null,null,null,{"$f":"IF($C247<>\"\",IF($C247<>0,1,0))","v":0}]
[null,null,{"$f":"IF('BUILD ASSESSMENT'!P193=\"yes\",'BUILD ASSESSMENT'!G193,0)","v":0},null,null,null,null,null,null,null,"Very Low","Low","Medium-Low","Medium-High","High","Very High",{"$f":"IFERROR(HLOOKUP(TRUE,R252:W253,2,FALSE),0)","v":0},false,false,false,false,false,false,null,null,null,null,null,null,null,null,{"$f":"IF($C252<>\"\",IF($C252<>0,1,0))","v":0}]
[null,null,null,null,null,null,null,null,null,null,null,null,null,null,null,null,null,1,2,3,4,5,6,null,null,null,null,null,null,null,null,{"$f":"IF($C252<>\"\",IF($C252<>0,1,0))","v":0}]
[null,null,null,null,null,null,null,null,null,null,null,null,null,null,null,null,null,null,null,null,null,null,null,null,null,null,null,null,null,null,null,{"$f":"IF($C252<>\"\",IF($C252<>0,1,0))","v":0}]
[null,null,null,null,null,null,null,null,null,null,null,null,null,null,null,null,null,null,null,null,null,null,null,null,null,null,null,null,null,null,null,{"$f":"IF($C252<>\"\",IF($C252<>0,1,0))","v":0}]
[null,null,null,null,null,null,null,null,null,null,null,null,null,null,null,null,null,null,null,null,null,null,null,null,null,null,null,null,null,null,null,{"$f":"IF($C252<>\"\",IF($C252<>0,1,0))","v":0}]
[null,null,{"$f":"IF('BUILD ASSESSMENT'!P196=\"yes\",'BUILD ASSESSMENT'!G196,0)","v":0},null,null,null,null,null,null,null,"Very Low","Low","Medium-Low","Medium-High","High","Very High",{"$f":"IFERROR(HLOOKUP(TRUE,R257:W258,2,FALSE),0)","v":0},false,false,false,false,false,false,null,null,null,null,null,null,null,null,{"$f":"IF($C257<>\"\",IF($C257<>0,1,0))","v":0}]
[null,null,null,null,null,null,null,null,null,null,null,null,null,null,null,null,null,1,2,3,4,5,6,null,null,null,null,null,null,null,null,{"$f":"IF($C257<>\"\",IF($C257<>0,1,0))","v":0}]
[null,null,null,null,null,null,null,null,null,null,null,null,null,null,null,null,null,null,null,null,null,null,null,null,null,null,null,null,null,null,null,{"$f":"IF($C257<>\"\",IF($C257<>0,1,0))","v":0}]
[null,null,null,null,null,null,null,null,null,null,null,null,null,null,null,null,null,null,null,null,null,null,null,null,null,null,null,null,null,null,null,{"$f":"IF($C257<>\"\",IF($C257<>0,1,0))","v":0}]
[null,null,null,null,null,null,null,null,null,null,null,null,null,null,null,null,null,null,null,null,null,null,null,null,null,null,null,null,null,null,null,{"$f":"IF($C257<>\"\",IF($C257<>0,1,0))","v":0}]
[null,null,null,null,null,null,null,null,null,null,null,null,null,null,null,null,null,null,null,null,null,null,null,null,null,null,null,null,null,null,null,{"$f":"IF(SUM(AF263:AF292)>0,1,0)","v":0}]
[null,null,{"$f":"IF('BUILD ASSESSMENT'!P200=\"yes\",'BUILD ASSESSMENT'!E200,0)","v":0},null,null,null,null,null,null,null,"Very Low","Low","Medium-Low","Medium-High","High","Very High",{"$f":"IFERROR(HLOOKUP(TRUE,R263:W264,2,FALSE),0)","v":0},false,false,false,false,false,false,null,null,null,null,null,null,null,null,{"$f":"IF($C263<>\"\",IF($C263<>0,1,0))","v":0}]
[null,null,null,null,null,null,null,null,null,null,null,null,null,null,null,null,null,1,2,3,4,5,6,null,null,null,null,null,null,null,null,{"$f":"IF($C263<>\"\",IF($C263<>0,1,0))","v":0}]
[null,null,null,null,null,null,null,null,null,null,null,null,null,null,null,null,null,null,null,null,null,null,null,null,null,null,null,null,null,null,null,{"$f":"IF($C263<>\"\",IF($C263<>0,1,0))","v":0}]
[null,null,null,null,null,null,null,null,null,null,null,null,null,null,null,null,null,null,null,null,null,null,null,null,null,null,null,null,null,null,null,{"$f":"IF($C263<>\"\",IF($C263<>0,1,0))","v":0}]
[null,null,null,null,null,null,null,null,null,null,null,null,null,null,null,null,null,null,null,null,null,null,null,null,null,null,null,null,null,null,null,{"$f":"IF($C263<>\"\",IF($C263<>0,1,0))","v":0}]
[null,null,{"$f":"IF('BUILD ASSESSMENT'!P203=\"yes\",'BUILD ASSESSMENT'!G203,0)","v":0},null,null,null,null,null,null,null,"Very Low","Low","Medium-Low","Medium-High","High","Very High",{"$f":"IFERROR(HLOOKUP(TRUE,R268:W269,2,FALSE),0)","v":0},false,false,false,false,false,false,null,null,null,null,null,null,null,null,{"$f":"IF($C268<>\"\",IF($C268<>0,1,0))","v":0}]
[null,null,null,null,null,null,null,null,null,null,null,null,null,null,null,null,null,1,2,3,4,5,6,null,null,null,null,null,null,null,null,{"$f":"IF($C268<>\"\",IF($C268<>0,1,0))","v":0}]
[null,null,null,null,null,null,null,null,null,null,null,null,null,null,null,null,null,null,null,null,null,null,null,null,null,null,null,null,null,null,null,{"$f":"IF($C268<>\"\",IF($C268<>0,1,0))","v":0}]
[null,null,null,null,null,null,null,null,null,null,null,null,null,null,null,null,null,null,null,null,null,null,null,null,null,null,null,null,null,null,null,{"$f":"IF($C268<>\"\",IF($C268<>0,1,0))","v":0}]
[null,null,null,null,null,null,null,null,null,null,null,null,null,null,null,null,null,null,null,null,null,null,null,null,null,null,null,null,null,null,null,{"$f":"IF($C268<>\"\",IF($C268<>0,1,0))","v":0}]
[null,null,{"$f":"IF('BUILD ASSESSMENT'!P206=\"yes\",'BUILD ASSESSMENT'!G206,0)","v":0},null,null,null,null,null,null,null,"Very Low","Low","Medium-Low","Medium-High","High","Very High",{"$f":"IFERROR(HLOOKUP(TRUE,R273:W274,2,FALSE),0)","v":0},false,false,false,false,false,false,null,null,null,null,null,null,null,null,{"$f":"IF($C273<>\"\",IF($C273<>0,1,0))","v":0}]
[null,null,null,null,null,null,null,null,null,null,null,null,null,null,null,null,null,1,2,3,4,5,6,null,null,null,null,null,null,null,null,{"$f":"IF($C273<>\"\",IF($C273<>0,1,0))","v":0}]
[null,null,null,null,null,null,null,null,null,null,null,null,null,null,null,null,null,null,null,null,null,null,null,null,null,null,null,null,null,null,null,{"$f":"IF($C273<>\"\",IF($C273<>0,1,0))","v":0}]
[null,null,null,null,null,null,null,null,null,null,null,null,null,null,null,null,null,null,null,null,null,null,null,null,null,null,null,null,null,null,null,{"$f":"IF($C273<>\"\",IF($C273<>0,1,0))","v":0}]
[null,null,null,null,null,null,null,null,null,null,null,null,null,null,null,null,null,null,null,null,null,null,null,null,null,null,null,null,null,null,null,{"$f":"IF($C273<>\"\",IF($C273<>0,1,0))","v":0}]
[null,null,{"$f":"IF('BUILD ASSESSMENT'!P209=\"yes\",'BUILD ASSESSMENT'!G209,0)","v":0},null,null,null,null,null,null,null,"Very Low","Low","Medium-Low","Medium-High","High","Very High",{"$f":"IFERROR(HLOOKUP(TRUE,R278:W279,2,FALSE),0)","v":0},false,false,false,false,false,false,null,null,null,null,null,null,null,null,{"$f":"IF($C278<>\"\",IF($C278<>0,1,0))","v":0}]
[null,null,null,null,null,null,null,null,null,null,null,null,null,null,null,null,null,1,2,3,4,5,6,null,null,null,null,null,null,null,null,{"$f":"IF($C278<>\"\",IF($C278<>0,1,0))","v":0}]
[null,null,null,null,null,null,null,null,null,null,null,null,null,null,null,null,null,null,null,null,null,null,null,null,null,null,null,null,null,null,null,{"$f":"IF($C278<>\"\",IF($C278<>0,1,0))","v":0}]
[null,null,null,null,null,null,null,null,null,null,null,null,null,null,null,null,null,null,null,null,null,null,null,null,null,null,null,null,null,null,null,{"$f":"IF($C278<>\"\",IF($C278<>0,1,0))","v":0}]
[null,null,null,null,null,null,null,null,null,null,null,null,null,null,null,null,null,null,null,null,null,null,null,null,null,null,null,null,null,null,null,{"$f":"IF($C278<>\"\",IF($C278<>0,1,0))","v":0}]
[null,null,{"$f":"IF('BUILD ASSESSMENT'!P212=\"yes\",'BUILD ASSESSMENT'!G212,0)","v":0},null,null,null,null,null,null,null,"Very Low","Low","Medium-Low","Medium-High","High","Very High",{"$f":"IFERROR(HLOOKUP(TRUE,R283:W284,2,FALSE),0)","v":0},false,false,false,false,false,false,null,null,null,null,null,null,null,null,{"$f":"IF($C283<>\"\",IF($C283<>0,1,0))","v":0}]
[null,null,null,null,null,null,null,null,null,null,null,null,null,null,null,null,null,1,2,3,4,5,6,null,null,null,null,null,null,null,null,{"$f":"IF($C283<>\"\",IF($C283<>0,1,0))","v":0}]
[null,null,null,null,null,null,null,null,null,null,null,null,null,null,null,null,null,null,null,null,null,null,null,null,null,null,null,null,null,null,null,{"$f":"IF($C283<>\"\",IF($C283<>0,1,0))","v":0}]
[null,null,null,null,null,null,null,null,null,null,null,null,null,null,null,null,null,null,null,null,null,null,null,null,null,null,null,null,null,null,null,{"$f":"IF($C283<>\"\",IF($C283<>0,1,0))","v":0}]
[null,null,null,null,null,null,null,null,null,null,null,null,null,null,null,null,null,null,null,null,null,null,null,null,null,null,null,null,null,null,null,{"$f":"IF($C283<>\"\",IF($C283<>0,1,0))","v":0}]
[null,null,{"$f":"IF('BUILD ASSESSMENT'!P215=\"yes\",'BUILD ASSESSMENT'!G215,0)","v":0},null,null,null,null,null,null,null,"Very Low","Low","Medium-Low","Medium-High","High","Very High",{"$f":"IFERROR(HLOOKUP(TRUE,R288:W289,2,FALSE),0)","v":0},false,false,false,false,false,false,null,null,null,null,null,null,null,null,{"$f":"IF($C288<>\"\",IF($C288<>0,1,0))","v":0}]
[null,null,null,null,null,null,null,null,null,null,null,null,null,null,null,null,null,1,2,3,4,5,6,null,null,null,null,null,null,null,null,{"$f":"IF($C288<>\"\",IF($C288<>0,1,0))","v":0}]
[null,null,null,null,null,null,null,null,null,null,null,null,null,null,null,null,null,null,null,null,null,null,null,null,null,null,null,null,null,null,null,{"$f":"IF($C288<>\"\",IF($C288<>0,1,0))","v":0}]
[null,null,null,null,null,null,null,null,null,null,null,null,null,null,null,null,null,null,null,null,null,null,null,null,null,null,null,null,null,null,null,{"$f":"IF($C288<>\"\",IF($C288<>0,1,0))","v":0}]
[null,null,null,null,null,null,null,null,null,null,null,null,null,null,null,null,null,null,null,null,null,null,null,null,null,null,null,null,null,null,null,{"$f":"IF($C288<>\"\",IF($C288<>0,1,0))","v":0}]
[null,null,null,null,null,null,null,null,null,null,null,null,null,null,null,null,null,null,null,null,null,null,null,null,null,null,null,null,null,null,null,{"$f":"IF(SUM(AF294:AF323)>0,1,0)","v":0}]
[null,null,{"$f":"IF('BUILD ASSESSMENT'!P219=\"yes\",'BUILD ASSESSMENT'!E219,0)","v":0},null,null,null,null,null,null,null,"Very Low","Low","Medium-Low","Medium-High","High","Very High",{"$f":"IFERROR(HLOOKUP(TRUE,R294:W295,2,FALSE),0)","v":0},false,false,false,false,false,false,null,null,null,null,null,null,null,null,{"$f":"IF($C294<>\"\",IF($C294<>0,1,0))","v":0}]
[null,null,null,null,null,null,null,null,null,null,null,null,null,null,null,null,null,1,2,3,4,5,6,null,null,null,null,null,null,null,null,{"$f":"IF($C294<>\"\",IF($C294<>0,1,0))","v":0}]
[null,null,null,null,null,null,null,null,null,null,null,null,null,null,null,null,null,null,null,null,null,null,null,null,null,null,null,null,null,null,null,{"$f":"IF($C294<>\"\",IF($C294<>0,1,0))","v":0}]
[null,null,null,null,null,null,null,null,null,null,null,null,null,null,null,null,null,null,null,null,null,null,null,null,null,null,null,null,null,null,null,{"$f":"IF($C294<>\"\",IF($C294<>0,1,0))","v":0}]
[null,null,null,null,null,null,null,null,null,null,null,null,null,null,null,null,null,null,null,null,null,null,null,null,null,null,null,null,null,null,null,{"$f":"IF($C294<>\"\",IF($C294<>0,1,0))","v":0}]
[null,null,{"$f":"IF('BUILD ASSESSMENT'!P222=\"yes\",'BUILD ASSESSMENT'!G222,0)","v":0},null,null,null,null,null,null,null,"Very Low","Low","Medium-Low","Medium-High","High","Very High",{"$f":"IFERROR(HLOOKUP(TRUE,R299:W300,2,FALSE),0)","v":0},false,false,false,false,false,false,null,null,null,null,null,null,null,null,{"$f":"IF($C299<>\"\",IF($C299<>0,1,0))","v":0}]
[null,null,null,null,null,null,null,null,null,null,null,null,null,null,null,null,null,1,2,3,4,5,6,null,null,null,null,null,null,null,null,{"$f":"IF($C299<>\"\",IF($C299<>0,1,0))","v":0}]
[null,null,null,null,null,null,null,null,null,null,null,null,null,null,null,null,null,null,null,null,null,null,null,null,null,null,null,null,null,null,null,{"$f":"IF($C299<>\"\",IF($C299<>0,1,0))","v":0}]
[null,null,null,null,null,null,null,null,null,null,null,null,null,null,null,null,null,null,null,null,null,null,null,null,null,null,null,null,null,null,null,{"$f":"IF($C299<>\"\",IF($C299<>0,1,0))","v":0}]
[null,null,null,null,null,null,null,null,null,null,null,null,null,null,null,null,null,null,null,null,null,null,null,null,null,null,null,null,null,null,null,{"$f":"IF($C299<>\"\",IF($C299<>0,1,0))","v":0}]
[null,null,{"$f":"IF('BUILD ASSESSMENT'!P225=\"yes\",'BUILD ASSESSMENT'!G225,0)","v":0},null,null,null,null,null,null,null,"Very Low","Low","Medium-Low","Medium-High","High","Very High",{"$f":"IFERROR(HLOOKUP(TRUE,R304:W305,2,FALSE),0)","v":0},false,false,false,false,false,false,null,null,null,null,null,null,null,null,{"$f":"IF($C304<>\"\",IF($C304<>0,1,0))","v":0}]
[null,null,null,null,null,null,null,null,null,null,null,null,null,null,null,null,null,1,2,3,4,5,6,null,null,null,null,null,null,null,null,{"$f":"IF($C304<>\"\",IF($C304<>0,1,0))","v":0}]
[null,null,null,null,null,null,null,null,null,null,null,null,null,null,null,null,null,null,null,null,null,null,null,null,null,null,null,null,null,null,null,{"$f":"IF($C304<>\"\",IF($C304<>0,1,0))","v":0}]
[null,null,null,null,null,null,null,null,null,null,null,null,null,null,null,null,null,null,null,null,null,null,null,null,null,null,null,null,null,null,null,{"$f":"IF($C304<>\"\",IF($C304<>0,1,0))","v":0}]
[null,null,null,null,null,null,null,null,null,null,null,null,null,null,null,null,null,null,null,null,null,null,null,null,null,null,null,null,null,null,null,{"$f":"IF($C304<>\"\",IF($C304<>0,1,0))","v":0}]
[null,null,{"$f":"IF('BUILD ASSESSMENT'!P228=\"yes\",'BUILD ASSESSMENT'!G228,0)","v":0},null,null,null,null,null,null,null,"Very Low","Low","Medium-Low","Medium-High","High","Very High",{"$f":"IFERROR(HLOOKUP(TRUE,R309:W310,2,FALSE),0)","v":0},false,false,false,false,false,false,null,null,null,null,null,null,null,null,{"$f":"IF($C309<>\"\",IF($C309<>0,1,0))","v":0}]
[null,null,null,null,null,null,null,null,null,null,null,null,null,null,null,null,null,1,2,3,4,5,6,null,null,null,null,null,null,null,null,{"$f":"IF($C309<>\"\",IF($C309<>0,1,0))","v":0}]
[null,null,null,null,null,null,null,null,null,null,null,null,null,null,null,null,null,null,null,null,null,null,null,null,null,null,null,null,null,null,null,{"$f":"IF($C309<>\"\",IF($C309<>0,1,0))","v":0}]
[null,null,null,null,null,null,null,null,null,null,null,null,null,null,null,null,null,null,null,null,null,null,null,null,null,null,null,null,null,null,null,{"$f":"IF($C309<>\"\",IF($C309<>0,1,0))","v":0}]
[null,null,null,null,null,null,null,null,null,null,null,null,null,null,null,null,null,null,null,null,null,null,null,null,null,null,null,null,null,null,null,{"$f":"IF($C309<>\"\",IF($C309<>0,1,0))","v":0}]
[null,null,{"$f":"IF('BUILD ASSESSMENT'!P231=\"yes\",'BUILD ASSESSMENT'!G231,0)","v":0},null,null,null,null,null,null,null,"Very Low","Low","Medium-Low","Medium-High","High","Very High",{"$f":"IFERROR(HLOOKUP(TRUE,R314:W315,2,FALSE),0)","v":0},false,false,false,false,false,false,null,null,null,null,null,null,null,null,{"$f":"IF($C314<>\"\",IF($C314<>0,1,0))","v":0}]
[null,null,null,null,null,null,null,null,null,null,null,null,null,null,null,null,null,1,2,3,4,5,6,null,null,null,null,null,null,null,null,{"$f":"IF($C314<>\"\",IF($C314<>0,1,0))","v":0}]
[null,null,null,null,null,null,null,null,null,null,null,null,null,null,null,null,null,null,null,null,null,null,null,null,null,null,null,null,null,null,null,{"$f":"IF($C314<>\"\",IF($C314<>0,1,0))","v":0}]
[null,null,null,null,null,null,null,null,null,null,null,null,null,null,null,null,null,null,null,null,null,null,null,null,null,null,null,null,null,null,null,{"$f":"IF($C314<>\"\",IF($C314<>0,1,0))","v":0}]
[null,null,null,null,null,null,null,null,null,null,null,null,null,null,null,null,null,null,null,null,null,null,null,null,null,null,null,null,null,null,null,{"$f":"IF($C314<>\"\",IF($C314<>0,1,0))","v":0}]
[null,null,{"$f":"IF('BUILD ASSESSMENT'!P234=\"yes\",'BUILD ASSESSMENT'!G234,0)","v":0},null,null,null,null,null,null,null,"Very Low","Low","Medium-Low","Medium-High","High","Very High",{"$f":"IFERROR(HLOOKUP(TRUE,R319:W320,2,FALSE),0)","v":0},false,false,false,false,false,false,null,null,null,null,null,null,null,null,{"$f":"IF($C319<>\"\",IF($C319<>0,1,0))","v":0}]
[null,null,null,null,null,null,null,null,null,null,null,null,null,null,null,null,null,1,2,3,4,5,6,null,null,null,null,null,null,null,null,{"$f":"IF($C319<>\"\",IF($C319<>0,1,0))","v":0}]
[null,null,null,null,null,null,null,null,null,null,null,null,null,null,null,null,null,null,null,null,null,null,null,null,null,null,null,null,null,null,null,{"$f":"IF($C319<>\"\",IF($C319<>0,1,0))","v":0}]
[null,null,null,null,null,null,null,null,null,null,null,null,null,null,null,null,null,null,null,null,null,null,null,null,null,null,null,null,null,null,null,{"$f":"IF($C319<>\"\",IF($C319<>0,1,0))","v":0}]
[null,null,null,null,null,null,null,null,null,null,null,null,null,null,null,null,null,null,null,null,null,null,null,null,null,null,null,null,null,null,null,{"$f":"IF($C319<>\"\",IF($C319<>0,1,0))","v":0}]
[null,null,null,null,null,null,null,null,null,null,null,null,null,null,null,null,null,null,null,null,null,null,null,null,null,null,null,null,null,null,null,{"$f":"IF(SUM(AF325:AF354)>0,1,0)","v":0}]
[null,null,{"$f":"IF('BUILD ASSESSMENT'!P238=\"yes\",'BUILD ASSESSMENT'!E238,0)","v":0},null,null,null,null,null,null,null,"Very Low","Low","Medium-Low","Medium-High","High","Very High",{"$f":"IFERROR(HLOOKUP(TRUE,R325:W326,2,FALSE),0)","v":0},false,false,false,false,false,false,null,null,null,null,null,null,null,null,{"$f":"IF($C325<>\"\",IF($C325<>0,1,0))","v":0}]
[null,null,null,null,null,null,null,null,null,null,null,null,null,null,null,null,null,1,2,3,4,5,6,null,null,null,null,null,null,null,null,{"$f":"IF($C325<>\"\",IF($C325<>0,1,0))","v":0}]
[null,null,null,null,null,null,null,null,null,null,null,null,null,null,null,null,null,null,null,null,null,null,null,null,null,null,null,null,null,null,null,{"$f":"IF($C325<>\"\",IF($C325<>0,1,0))","v":0}]
[null,null,null,null,null,null,null,null,null,null,null,null,null,null,null,null,null,null,null,null,null,null,null,null,null,null,null,null,null,null,null,{"$f":"IF($C325<>\"\",IF($C325<>0,1,0))","v":0}]
[null,null,null,null,null,null,null,null,null,null,null,null,null,null,null,null,null,null,null,null,null,null,null,null,null,null,null,null,null,null,null,{"$f":"IF($C325<>\"\",IF($C325<>0,1,0))","v":0}]
[null,null,{"$f":"IF('BUILD ASSESSMENT'!P241=\"yes\",'BUILD ASSESSMENT'!G241,0)","v":0},null,null,null,null,null,null,null,"Very Low","Low","Medium-Low","Medium-High","High","Very High",{"$f":"IFERROR(HLOOKUP(TRUE,R330:W331,2,FALSE),0)","v":0},false,false,false,false,false,false,null,null,null,null,null,null,null,null,{"$f":"IF($C330<>\"\",IF($C330<>0,1,0))","v":0}]
[null,null,null,null,null,null,null,null,null,null,null,null,null,null,null,null,null,1,2,3,4,5,6,null,null,null,null,null,null,null,null,{"$f":"IF($C330<>\"\",IF($C330<>0,1,0))","v":0}]
[null,null,null,null,null,null,null,null,null,null,null,null,null,null,null,null,null,null,null,null,null,null,null,null,null,null,null,null,null,null,null,{"$f":"IF($C330<>\"\",IF($C330<>0,1,0))","v":0}]
[null,null,null,null,null,null,null,null,null,null,null,null,null,null,null,null,null,null,null,null,null,null,null,null,null,null,null,null,null,null,null,{"$f":"IF($C330<>\"\",IF($C330<>0,1,0))","v":0}]
[null,null,null,null,null,null,null,null,null,null,null,null,null,null,null,null,null,null,null,null,null,null,null,null,null,null,null,null,null,null,null,{"$f":"IF($C330<>\"\",IF($C330<>0,1,0))","v":0}]
[null,null,{"$f":"IF('BUILD ASSESSMENT'!P244=\"yes\",'BUILD ASSESSMENT'!G244,0)","v":0},null,null,null,null,null,null,null,"Very Low","Low","Medium-Low","Medium-High","High","Very High",{"$f":"IFERROR(HLOOKUP(TRUE,R335:W336,2,FALSE),0)","v":0},false,false,false,false,false,false,null,null,null,null,null,null,null,null,{"$f":"IF($C335<>\"\",IF($C335<>0,1,0))","v":0}]
[null,null,null,null,null,null,null,null,null,null,null,null,null,null,null,null,null,1,2,3,4,5,6,null,null,null,null,null,null,null,null,{"$f":"IF($C335<>\"\",IF($C335<>0,1,0))","v":0}]
[null,null,null,null,null,null,null,null,null,null,null,null,null,null,null,null,null,null,null,null,null,null,null,null,null,null,null,null,null,null,null,{"$f":"IF($C335<>\"\",IF($C335<>0,1,0))","v":0}]
[null,null,null,null,null,null,null,null,null,null,null,null,null,null,null,null,null,null,null,null,null,null,null,null,null,null,null,null,null,null,null,{"$f":"IF($C335<>\"\",IF($C335<>0,1,0))","v":0}]
[null,null,null,null,null,null,null,null,null,null,null,null,null,null,null,null,null,null,null,null,null,null,null,null,null,null,null,null,null,null,null,{"$f":"IF($C335<>\"\",IF($C335<>0,1,0))","v":0}]
[null,null,{"$f":"IF('BUILD ASSESSMENT'!P247=\"yes\",'BUILD ASSESSMENT'!G247,0)","v":0},null,null,null,null,null,null,null,"Very Low","Low","Medium-Low","Medium-High","High","Very High",{"$f":"IFERROR(HLOOKUP(TRUE,R340:W341,2,FALSE),0)","v":0},false,false,false,false,false,false,null,null,null,null,null,null,null,null,{"$f":"IF($C340<>\"\",IF($C340<>0,1,0))","v":0}]
[null,null,null,null,null,null,null,null,null,null,null,null,null,null,null,null,null,1,2,3,4,5,6,null,null,null,null,null,null,null,null,{"$f":"IF($C340<>\"\",IF($C340<>0,1,0))","v":0}]
[null,null,null,null,null,null,null,null,null,null,null,null,null,null,null,null,null,null,null,null,null,null,null,null,null,null,null,null,null,null,null,{"$f":"IF($C340<>\"\",IF($C340<>0,1,0))","v":0}]
[null,null,null,null,null,null,null,null,null,null,null,null,null,null,null,null,null,null,null,null,null,null,null,null,null,null,null,null,null,null,null,{"$f":"IF($C340<>\"\",IF($C340<>0,1,0))","v":0}]
[null,null,null,null,null,null,null,null,null,null,null,null,null,null,null,null,null,null,null,null,null,null,null,null,null,null,null,null,null,null,null,{"$f":"IF($C340<>\"\",IF($C340<>0,1,0))","v":0}]
[null,null,{"$f":"IF('BUILD ASSESSMENT'!P250=\"yes\",'BUILD ASSESSMENT'!G250,0)","v":0},null,null,null,null,null,null,null,"Very Low","Low","Medium-Low","Medium-High","High","Very High",{"$f":"IFERROR(HLOOKUP(TRUE,R345:W346,2,FALSE),0)","v":0},false,false,false,false,false,false,null,null,null,null,null,null,null,null,{"$f":"IF($C345<>\"\",IF($C345<>0,1,0))","v":0}]
[null,null,null,null,null,null,null,null,null,null,null,null,null,null,null,null,null,1,2,3,4,5,6,null,null,null,null,null,null,null,null,{"$f":"IF($C345<>\"\",IF($C345<>0,1,0))","v":0}]
[null,null,null,null,null,null,null,null,null,null,null,null,null,null,null,null,null,null,null,null,null,null,null,null,null,null,null,null,null,null,null,{"$f":"IF($C345<>\"\",IF($C345<>0,1,0))","v":0}]
[null,null,null,null,null,null,null,null,null,null,null,null,null,null,null,null,null,null,null,null,null,null,null,null,null,null,null,null,null,null,null,{"$f":"IF($C345<>\"\",IF($C345<>0,1,0))","v":0}]
[null,null,null,null,null,null,null,null,null,null,null,null,null,null,null,null,null,null,null,null,null,null,null,null,null,null,null,null,null,null,null,{"$f":"IF($C345<>\"\",IF($C345<>0,1,0))","v":0}]
[null,null,{"$f":"IF('BUILD ASSESSMENT'!P253=\"yes\",'BUILD ASSESSMENT'!G253,0)","v":0},null,null,null,null,null,null,null,"Very Low","Low","Medium-Low","Medium-High","High","Very High",{"$f":"IFERROR(HLOOKUP(TRUE,R350:W351,2,FALSE),0)","v":0},false,false,false,false,false,false,null,null,null,null,null,null,null,null,{"$f":"IF($C350<>\"\",IF($C350<>0,1,0))","v":0}]
[null,null,null,null,null,null,null,null,null,null,null,null,null,null,null,null,null,1,2,3,4,5,6,null,null,null,null,null,null,null,null,{"$f":"IF($C350<>\"\",IF($C350<>0,1,0))","v":0}]
[null,null,null,null,null,null,null,null,null,null,null,null,null,null,null,null,null,null,null,null,null,null,null,null,null,null,null,null,null,null,null,{"$f":"IF($C350<>\"\",IF($C350<>0,1,0))","v":0}]
[null,null,null,null,null,null,null,null,null,null,null,null,null,null,null,null,null,null,null,null,null,null,null,null,null,null,null,null,null,null,null,{"$f":"IF($C350<>\"\",IF($C350<>0,1,0))","v":0}]
[null,null,null,null,null,null,null,null,null,null,null,null,null,null,null,null,null,null,null,null,null,null,null,null,null,null,null,null,null,null,null,{"$f":"IF($C350<>\"\",IF($C350<>0,1,0))","v":0}]
[null,null,null,null,null,null,null,null,null,null,null,null,null,null,null,null,null,null,null,null,null,null,null,null,null,null,null,null,null,null,null,{"$f":"IF(SUM(AF356:AF385)>0,1,0)","v":0}]
[null,null,{"$f":"IF('BUILD ASSESSMENT'!P257=\"yes\",'BUILD ASSESSMENT'!E257,0)","v":0},null,null,null,null,null,null,null,"Very Low","Low","Medium-Low","Medium-High","High","Very High",{"$f":"IFERROR(HLOOKUP(TRUE,R356:W357,2,FALSE),0)","v":0},false,false,false,false,false,false,null,null,null,null,null,null,null,null,{"$f":"IF($C356<>\"\",IF($C356<>0,1,0))","v":0}]
[null,null,null,null,null,null,null,null,null,null,null,null,null,null,null,null,null,1,2,3,4,5,6,null,null,null,null,null,null,null,null,{"$f":"IF($C356<>\"\",IF($C356<>0,1,0))","v":0}]
[null,null,null,null,null,null,null,null,null,null,null,null,null,null,null,null,null,null,null,null,null,null,null,null,null,null,null,null,null,null,null,{"$f":"IF($C356<>\"\",IF($C356<>0,1,0))","v":0}]
[null,null,null,null,null,null,null,null,null,null,null,null,null,null,null,null,null,null,null,null,null,null,null,null,null,null,null,null,null,null,null,{"$f":"IF($C356<>\"\",IF($C356<>0,1,0))","v":0}]
[null,null,null,null,null,null,null,null,null,null,null,null,null,null,null,null,null,null,null,null,null,null,null,null,null,null,null,null,null,null,null,{"$f":"IF($C356<>\"\",IF($C356<>0,1,0))","v":0}]
[null,null,{"$f":"IF('BUILD ASSESSMENT'!P260=\"yes\",'BUILD ASSESSMENT'!G260,0)","v":0},null,null,null,null,null,null,null,"Very Low","Low","Medium-Low","Medium-High","High","Very High",{"$f":"IFERROR(HLOOKUP(TRUE,R361:W362,2,FALSE),0)","v":0},false,false,false,false,false,false,null,null,null,null,null,null,null,null,{"$f":"IF($C361<>\"\",IF($C361<>0,1,0))","v":0}]
[null,null,null,null,null,null,null,null,null,null,null,null,null,null,null,null,null,1,2,3,4,5,6,null,null,null,null,null,null,null,null,{"$f":"IF($C361<>\"\",IF($C361<>0,1,0))","v":0}]
[null,null,null,null,null,null,null,null,null,null,null,null,null,null,null,null,null,null,null,null,null,null,null,null,null,null,null,null,null,null,null,{"$f":"IF($C361<>\"\",IF($C361<>0,1,0))","v":0}]
[null,null,null,null,null,null,null,null,null,null,null,null,null,null,null,null,null,null,null,null,null,null,null,null,null,null,null,null,null,null,null,{"$f":"IF($C361<>\"\",IF($C361<>0,1,0))","v":0}]
[null,null,null,null,null,null,null,null,null,null,null,null,null,null,null,null,null,null,null,null,null,null,null,null,null,null,null,null,null,null,null,{"$f":"IF($C361<>\"\",IF($C361<>0,1,0))","v":0}]
[null,null,{"$f":"IF('BUILD ASSESSMENT'!P263=\"yes\",'BUILD ASSESSMENT'!G263,0)","v":0},null,null,null,null,null,null,null,"Very Low","Low","Medium-Low","Medium-High","High","Very High",{"$f":"IFERROR(HLOOKUP(TRUE,R366:W367,2,FALSE),0)","v":0},false,false,false,false,false,false,null,null,null,null,null,null,null,null,{"$f":"IF($C366<>\"\",IF($C366<>0,1,0))","v":0}]
[null,null,null,null,null,null,null,null,null,null,null,null,null,null,null,null,null,1,2,3,4,5,6,null,null,null,null,null,null,null,null,{"$f":"IF($C366<>\"\",IF($C366<>0,1,0))","v":0}]
[null,null,null,null,null,null,null,null,null,null,null,null,null,null,null,null,null,null,null,null,null,null,null,null,null,null,null,null,null,null,null,{"$f":"IF($C366<>\"\",IF($C366<>0,1,0))","v":0}]
[null,null,null,null,null,null,null,null,null,null,null,null,null,null,null,null,null,null,null,null,null,null,null,null,null,null,null,null,null,null,null,{"$f":"IF($C366<>\"\",IF($C366<>0,1,0))","v":0}]
[null,null,null,null,null,null,null,null,null,null,null,null,null,null,null,null,null,null,null,null,null,null,null,null,null,null,null,null,null,null,null,{"$f":"IF($C366<>\"\",IF($C366<>0,1,0))","v":0}]
[null,null,{"$f":"IF('BUILD ASSESSMENT'!P266=\"yes\",'BUILD ASSESSMENT'!G266,0)","v":0},null,null,null,null,null,null,null,"Very Low","Low","Medium-Low","Medium-High","High","Very High",{"$f":"IFERROR(HLOOKUP(TRUE,R371:W372,2,FALSE),0)","v":0},false,false,false,false,false,false,null,null,null,null,null,null,null,null,{"$f":"IF($C371<>\"\",IF($C371<>0,1,0))","v":0}]
[null,null,null,null,null,null,null,null,null,null,null,null,null,null,null,null,null,1,2,3,4,5,6,null,null,null,null,null,null,null,null,{"$f":"IF($C371<>\"\",IF($C371<>0,1,0))","v":0}]
[null,null,null,null,null,null,null,null,null,null,null,null,null,null,null,null,null,null,null,null,null,null,null,null,null,null,null,null,null,null,null,{"$f":"IF($C371<>\"\",IF($C371<>0,1,0))","v":0}]
[null,null,null,null,null,null,null,null,null,null,null,null,null,null,null,null,null,null,null,null,null,null,null,null,null,null,null,null,null,null,null,{"$f":"IF($C371<>\"\",IF($C371<>0,1,0))","v":0}]
[null,null,null,null,null,null,null,null,null,null,null,null,null,null,null,null,null,null,null,null,null,null,null,null,null,null,null,null,null,null,null,{"$f":"IF($C371<>\"\",IF($C371<>0,1,0))","v":0}]
[null,null,{"$f":"IF('BUILD ASSESSMENT'!P269=\"yes\",'BUILD ASSESSMENT'!G269,0)","v":0},null,null,null,null,null,null,null,"Very Low","Low","Medium-Low","Medium-High","High","Very High",{"$f":"IFERROR(HLOOKUP(TRUE,R376:W377,2,FALSE),0)","v":0},false,false,false,false,false,false,null,null,null,null,null,null,null,null,{"$f":"IF($C376<>\"\",IF($C376<>0,1,0))","v":0}]
[null,null,null,null,null,null,null,null,null,null,null,null,null,null,null,null,null,1,2,3,4,5,6,null,null,null,null,null,null,null,null,{"$f":"IF($C376<>\"\",IF($C376<>0,1,0))","v":0}]
[null,null,null,null,null,null,null,null,null,null,null,null,null,null,null,null,null,null,null,null,null,null,null,null,null,null,null,null,null,null,null,{"$f":"IF($C376<>\"\",IF($C376<>0,1,0))","v":0}]
[null,null,null,null,null,null,null,null,null,null,null,null,null,null,null,null,null,null,null,null,null,null,null,null,null,null,null,null,null,null,null,{"$f":"IF($C376<>\"\",IF($C376<>0,1,0))","v":0}]
[null,null,null,null,null,null,null,null,null,null,null,null,null,null,null,null,null,null,null,null,null,null,null,null,null,null,null,null,null,null,null,{"$f":"IF($C376<>\"\",IF($C376<>0,1,0))","v":0}]
[null,null,{"$f":"IF('BUILD ASSESSMENT'!P272=\"yes\",'BUILD ASSESSMENT'!G272,0)","v":0},null,null,null,null,null,null,null,"Very Low","Low","Medium-Low","Medium-High","High","Very High",{"$f":"IFERROR(HLOOKUP(TRUE,R381:W382,2,FALSE),0)","v":0},false,false,false,false,false,false,null,null,null,null,null,null,null,null,{"$f":"IF($C381<>\"\",IF($C381<>0,1,0))","v":0}]
[null,null,null,null,null,null,null,null,null,null,null,null,null,null,null,null,null,1,2,3,4,5,6,null,null,null,null,null,null,null,null,{"$f":"IF($C381<>\"\",IF($C381<>0,1,0))","v":0}]
[null,null,null,null,null,null,null,null,null,null,null,null,null,null,null,null,null,null,null,null,null,null,null,null,null,null,null,null,null,null,null,{"$f":"IF($C381<>\"\",IF($C381<>0,1,0))","v":0}]
[null,null,null,null,null,null,null,null,null,null,null,null,null,null,null,null,null,null,null,null,null,null,null,null,null,null,null,null,null,null,null,{"$f":"IF($C381<>\"\",IF($C381<>0,1,0))","v":0}]
[null,null,null,null,null,null,null,null,null,null,null,null,null,null,null,null,null,null,null,null,null,null,null,null,null,null,null,null,null,null,null,{"$f":"IF($C381<>\"\",IF($C381<>0,1,0))","v":0}]
[null,null,null,null,null,null,null,null,null,null,null,null,null,null,null,null,null,null,null,null,null,null,null,null,null,null,null,null,null,null,null,{"$f":"IF(SUM(AF387:AF416)>0,1,0)","v":0}]
[null,null,{"$f":"IF('BUILD ASSESSMENT'!P276=\"yes\",'BUILD ASSESSMENT'!E276,0)","v":0},null,null,null,null,null,null,null,"Very Low","Low","Medium-Low","Medium-High","High","Very High",{"$f":"IFERROR(HLOOKUP(TRUE,R387:W388,2,FALSE),0)","v":0},false,false,false,false,false,false,null,null,null,null,null,null,null,null,{"$f":"IF($C387<>\"\",IF($C387<>0,1,0))","v":0}]
[null,null,null,null,null,null,null,null,null,null,null,null,null,null,null,null,null,1,2,3,4,5,6,null,null,null,null,null,null,null,null,{"$f":"IF($C387<>\"\",IF($C387<>0,1,0))","v":0}]
[null,null,null,null,null,null,null,null,null,null,null,null,null,null,null,null,null,null,null,null,null,null,null,null,null,null,null,null,null,null,null,{"$f":"IF($C387<>\"\",IF($C387<>0,1,0))","v":0}]
[null,null,null,null,null,null,null,null,null,null,null,null,null,null,null,null,null,null,null,null,null,null,null,null,null,null,null,null,null,null,null,{"$f":"IF($C387<>\"\",IF($C387<>0,1,0))","v":0}]
[null,null,null,null,null,null,null,null,null,null,null,null,null,null,null,null,null,null,null,null,null,null,null,null,null,null,null,null,null,null,null,{"$f":"IF($C387<>\"\",IF($C387<>0,1,0))","v":0}]
[null,null,{"$f":"IF('BUILD ASSESSMENT'!P279=\"yes\",'BUILD ASSESSMENT'!G279,0)","v":0},null,null,null,null,null,null,null,"Very Low","Low","Medium-Low","Medium-High","High","Very High",{"$f":"IFERROR(HLOOKUP(TRUE,R392:W393,2,FALSE),0)","v":0},false,false,false,false,false,false,null,null,null,null,null,null,null,null,{"$f":"IF($C392<>\"\",IF($C392<>0,1,0))","v":0}]
[null,null,null,null,null,null,null,null,null,null,null,null,null,null,null,null,null,1,2,3,4,5,6,null,null,null,null,null,null,null,null,{"$f":"IF($C392<>\"\",IF($C392<>0,1,0))","v":0}]
[null,null,null,null,null,null,null,null,null,null,null,null,null,null,null,null,null,null,null,null,null,null,null,null,null,null,null,null,null,null,null,{"$f":"IF($C392<>\"\",IF($C392<>0,1,0))","v":0}]
[null,null,null,null,null,null,null,null,null,null,null,null,null,null,null,null,null,null,null,null,null,null,null,null,null,null,null,null,null,null,null,{"$f":"IF($C392<>\"\",IF($C392<>0,1,0))","v":0}]
[null,null,null,null,null,null,null,null,null,null,null,null,null,null,null,null,null,null,null,null,null,null,null,null,null,null,null,null,null,null,null,{"$f":"IF($C392<>\"\",IF($C392<>0,1,0))","v":0}]
[null,null,{"$f":"IF('BUILD ASSESSMENT'!P282=\"yes\",'BUILD ASSESSMENT'!G282,0)","v":0},null,null,null,null,null,null,null,"Very Low","Low","Medium-Low","Medium-High","High","Very High",{"$f":"IFERROR(HLOOKUP(TRUE,R397:W398,2,FALSE),0)","v":0},false,false,false,false,false,false,null,null,null,null,null,null,null,null,{"$f":"IF($C397<>\"\",IF($C397<>0,1,0))","v":0}]
[null,null,null,null,null,null,null,null,null,null,null,null,null,null,null,null,null,1,2,3,4,5,6,null,null,null,null,null,null,null,null,{"$f":"IF($C397<>\"\",IF($C397<>0,1,0))","v":0}]
[null,null,null,null,null,null,null,null,null,null,null,null,null,null,null,null,null,null,null,null,null,null,null,null,null,null,null,null,null,null,null,{"$f":"IF($C397<>\"\",IF($C397<>0,1,0))","v":0}]
[null,null,null,null,null,null,null,null,null,null,null,null,null,null,null,null,null,null,null,null,null,null,null,null,null,null,null,null,null,null,null,{"$f":"IF($C397<>\"\",IF($C397<>0,1,0))","v":0}]
[null,null,null,null,null,null,null,null,null,null,null,null,null,null,null,null,null,null,null,null,null,null,null,null,null,null,null,null,null,null,null,{"$f":"IF($C397<>\"\",IF($C397<>0,1,0))","v":0}]
[null,null,{"$f":"IF('BUILD ASSESSMENT'!P285=\"yes\",'BUILD ASSESSMENT'!G285,0)","v":0},null,null,null,null,null,null,null,"Very Low","Low","Medium-Low","Medium-High","High","Very High",{"$f":"IFERROR(HLOOKUP(TRUE,R402:W403,2,FALSE),0)","v":0},false,false,false,false,false,false,null,null,null,null,null,null,null,null,{"$f":"IF($C402<>\"\",IF($C402<>0,1,0))","v":0}]
[null,null,null,null,null,null,null,null,null,null,null,null,null,null,null,null,null,1,2,3,4,5,6,null,null,null,null,null,null,null,null,{"$f":"IF($C402<>\"\",IF($C402<>0,1,0))","v":0}]
[null,null,null,null,null,null,null,null,null,null,null,null,null,null,null,null,null,null,null,null,null,null,null,null,null,null,null,null,null,null,null,{"$f":"IF($C402<>\"\",IF($C402<>0,1,0))","v":0}]
[null,null,null,null,null,null,null,null,null,null,null,null,null,null,null,null,null,null,null,null,null,null,null,null,null,null,null,null,null,null,null,{"$f":"IF($C402<>\"\",IF($C402<>0,1,0))","v":0}]
[null,null,null,null,null,null,null,null,null,null,null,null,null,null,null,null,null,null,null,null,null,null,null,null,null,null,null,null,null,null,null,{"$f":"IF($C402<>\"\",IF($C402<>0,1,0))","v":0}]
[null,null,{"$f":"IF('BUILD ASSESSMENT'!P288=\"yes\",'BUILD ASSESSMENT'!G288,0)","v":0},null,null,null,null,null,null,null,"Very Low","Low","Medium-Low","Medium-High","High","Very High",{"$f":"IFERROR(HLOOKUP(TRUE,R407:W408,2,FALSE),0)","v":0},false,false,false,false,false,false,null,null,null,null,null,null,null,null,{"$f":"IF($C407<>\"\",IF($C407<>0,1,0))","v":0}]
[null,null,null,null,null,null,null,null,null,null,null,null,null,null,null,null,null,1,2,3,4,5,6,null,null,null,null,null,null,null,null,{"$f":"IF($C407<>\"\",IF($C407<>0,1,0))","v":0}]
[null,null,null,null,null,null,null,null,null,null,null,null,null,null,null,null,null,null,null,null,null,null,null,null,null,null,null,null,null,null,null,{"$f":"IF($C407<>\"\",IF($C407<>0,1,0))","v":0}]
[null,null,null,null,null,null,null,null,null,null,null,null,null,null,null,null,null,null,null,null,null,null,null,null,null,null,null,null,null,null,null,{"$f":"IF($C407<>\"\",IF($C407<>0,1,0))","v":0}]
[null,null,null,null,null,null,null,null,null,null,null,null,null,null,null,null,null,null,null,null,null,null,null,null,null,null,null,null,null,null,null,{"$f":"IF($C407<>\"\",IF($C407<>0,1,0))","v":0}]
[null,null,{"$f":"IF('BUILD ASSESSMENT'!P291=\"yes\",'BUILD ASSESSMENT'!G291,0)","v":0},null,null,null,null,null,null,null,"Very Low","Low","Medium-Low","Medium-High","High","Very High",{"$f":"IFERROR(HLOOKUP(TRUE,R412:W413,2,FALSE),0)","v":0},false,false,false,false,false,false,null,null,null,null,null,null,null,null,{"$f":"IF($C412<>\"\",IF($C412<>0,1,0))","v":0}]
[null,null,null,null,null,null,null,null,null,null,null,null,null,null,null,null,null,1,2,3,4,5,6,null,null,null,null,null,null,null,null,{"$f":"IF($C412<>\"\",IF($C412<>0,1,0))","v":0}]
[null,null,null,null,null,null,null,null,null,null,null,null,null,null,null,null,null,null,null,null,null,null,null,null,null,null,null,null,null,null,null,{"$f":"IF($C412<>\"\",IF($C412<>0,1,0))","v":0}]
[null,null,null,null,null,null,null,null,null,null,null,null,null,null,null,null,null,null,null,null,null,null,null,null,null,null,null,null,null,null,null,{"$f":"IF($C412<>\"\",IF($C412<>0,1,0))","v":0}]
[null,null,null,null,null,null,null,null,null,null,null,null,null,null,null,null,null,null,null,null,null,null,null,null,null,null,null,null,null,null,null,{"$f":"IF($C412<>\"\",IF($C412<>0,1,0))","v":0}]
[null,null,null,null,null,null,null,null,null,null,null,null,null,null,null,null,null,null,null,null,null,null,null,null,null,null,null,null,null,null,null,{"$f":"IF(SUM(AF418:AF447)>0,1,0)","v":0}]
[null,null,{"$f":"IF('BUILD ASSESSMENT'!P295=\"yes\",'BUILD ASSESSMENT'!E295,0)","v":0},null,null,null,null,null,null,null,"Very Low","Low","Medium-Low","Medium-High","High","Very High",{"$f":"IFERROR(HLOOKUP(TRUE,R418:W419,2,FALSE),0)","v":0},false,false,false,false,false,false,null,null,null,null,null,null,null,null,{"$f":"IF($C418<>\"\",IF($C418<>0,1,0))","v":0}]
[null,null,null,null,null,null,null,null,null,null,null,null,null,null,null,null,null,1,2,3,4,5,6,null,null,null,null,null,null,null,null,{"$f":"IF($C418<>\"\",IF($C418<>0,1,0))","v":0}]
[null,null,null,null,null,null,null,null,null,null,null,null,null,null,null,null,null,null,null,null,null,null,null,null,null,null,null,null,null,null,null,{"$f":"IF($C418<>\"\",IF($C418<>0,1,0))","v":0}]
[null,null,null,null,null,null,null,null,null,null,null,null,null,null,null,null,null,null,null,null,null,null,null,null,null,null,null,null,null,null,null,{"$f":"IF($C418<>\"\",IF($C418<>0,1,0))","v":0}]
[null,null,null,null,null,null,null,null,null,null,null,null,null,null,null,null,null,null,null,null,null,null,null,null,null,null,null,null,null,null,null,{"$f":"IF($C418<>\"\",IF($C418<>0,1,0))","v":0}]
[null,null,{"$f":"IF('BUILD ASSESSMENT'!P298=\"yes\",'BUILD ASSESSMENT'!G298,0)","v":0},null,null,null,null,null,null,null,"Very Low","Low","Medium-Low","Medium-High","High","Very High",{"$f":"IFERROR(HLOOKUP(TRUE,R423:W424,2,FALSE),0)","v":0},false,false,false,false,false,false,null,null,null,null,null,null,null,null,{"$f":"IF($C423<>\"\",IF($C423<>0,1,0))","v":0}]
[null,null,null,null,null,null,null,null,null,null,null,null,null,null,null,null,null,1,2,3,4,5,6,null,null,null,null,null,null,null,null,{"$f":"IF($C423<>\"\",IF($C423<>0,1,0))","v":0}]
[null,null,null,null,null,null,null,null,null,null,null,null,null,null,null,null,null,null,null,null,null,null,null,null,null,null,null,null,null,null,null,{"$f":"IF($C423<>\"\",IF($C423<>0,1,0))","v":0}]
[null,null,null,null,null,null,null,null,null,null,null,null,null,null,null,null,null,null,null,null,null,null,null,null,null,null,null,null,null,null,null,{"$f":"IF($C423<>\"\",IF($C423<>0,1,0))","v":0}]
[null,null,null,null,null,null,null,null,null,null,null,null,null,null,null,null,null,null,null,null,null,null,null,null,null,null,null,null,null,null,null,{"$f":"IF($C423<>\"\",IF($C423<>0,1,0))","v":0}]
[null,null,{"$f":"IF('BUILD ASSESSMENT'!P301=\"yes\",'BUILD ASSESSMENT'!G301,0)","v":0},null,null,null,null,null,null,null,"Very Low","Low","Medium-Low","Medium-High","High","Very High",{"$f":"IFERROR(HLOOKUP(TRUE,R428:W429,2,FALSE),0)","v":0},false,false,false,false,false,false,null,null,null,null,null,null,null,null,{"$f":"IF($C428<>\"\",IF($C428<>0,1,0))","v":0}]
[null,null,null,null,null,null,null,null,null,null,null,null,null,null,null,null,null,1,2,3,4,5,6,null,null,null,null,null,null,null,null,{"$f":"IF($C428<>\"\",IF($C428<>0,1,0))","v":0}]
[null,null,null,null,null,null,null,null,null,null,null,null,null,null,null,null,null,null,null,null,null,null,null,null,null,null,null,null,null,null,null,{"$f":"IF($C428<>\"\",IF($C428<>0,1,0))","v":0}]
[null,null,null,null,null,null,null,null,null,null,null,null,null,null,null,null,null,null,null,null,null,null,null,null,null,null,null,null,null,null,null,{"$f":"IF($C428<>\"\",IF($C428<>0,1,0))","v":0}]
[null,null,null,null,null,null,null,null,null,null,null,null,null,null,null,null,null,null,null,null,null,null,null,null,null,null,null,null,null,null,null,{"$f":"IF($C428<>\"\",IF($C428<>0,1,0))","v":0}]
[null,null,{"$f":"IF('BUILD ASSESSMENT'!P304=\"yes\",'BUILD ASSESSMENT'!G304,0)","v":0},null,null,null,null,null,null,null,"Very Low","Low","Medium-Low","Medium-High","High","Very High",{"$f":"IFERROR(HLOOKUP(TRUE,R433:W434,2,FALSE),0)","v":0},false,false,false,false,false,false,null,null,null,null,null,null,null,null,{"$f":"IF($C433<>\"\",IF($C433<>0,1,0))","v":0}]
[null,null,null,null,null,null,null,null,null,null,null,null,null,null,null,null,null,1,2,3,4,5,6,null,null,null,null,null,null,null,null,{"$f":"IF($C433<>\"\",IF($C433<>0,1,0))","v":0}]
[null,null,null,null,null,null,null,null,null,null,null,null,null,null,null,null,null,null,null,null,null,null,null,null,null,null,null,null,null,null,null,{"$f":"IF($C433<>\"\",IF($C433<>0,1,0))","v":0}]
[null,null,null,null,null,null,null,null,null,null,null,null,null,null,null,null,null,null,null,null,null,null,null,null,null,null,null,null,null,null,null,{"$f":"IF($C433<>\"\",IF($C433<>0,1,0))","v":0}]
[null,null,null,null,null,null,null,null,null,null,null,null,null,null,null,null,null,null,null,null,null,null,null,null,null,null,null,null,null,null,null,{"$f":"IF($C433<>\"\",IF($C433<>0,1,0))","v":0}]
[null,null,{"$f":"IF('BUILD ASSESSMENT'!P307=\"yes\",'BUILD ASSESSMENT'!G307,0)","v":0},null,null,null,null,null,null,null,"Very Low","Low","Medium-Low","Medium-High","High","Very High",{"$f":"IFERROR(HLOOKUP(TRUE,R438:W439,2,FALSE),0)","v":0},false,false,false,false,false,false,null,null,null,null,null,null,null,null,{"$f":"IF($C438<>\"\",IF($C438<>0,1,0))","v":0}]
[null,null,null,null,null,null,null,null,null,null,null,null,null,null,null,null,null,1,2,3,4,5,6,null,null,null,null,null,null,null,null,{"$f":"IF($C438<>\"\",IF($C438<>0,1,0))","v":0}]
[null,null,null,null,null,null,null,null,null,null,null,null,null,null,null,null,null,null,null,null,null,null,null,null,null,null,null,null,null,null,null,{"$f":"IF($C438<>\"\",IF($C438<>0,1,0))","v":0}]
[null,null,null,null,null,null,null,null,null,null,null,null,null,null,null,null,null,null,null,null,null,null,null,null,null,null,null,null,null,null,null,{"$f":"IF($C438<>\"\",IF($C438<>0,1,0))","v":0}]
[null,null,null,null,null,null,null,null,null,null,null,null,null,null,null,null,null,null,null,null,null,null,null,null,null,null,null,null,null,null,null,{"$f":"IF($C438<>\"\",IF($C438<>0,1,0))","v":0}]
[null,null,{"$f":"IF('BUILD ASSESSMENT'!P310=\"yes\",'BUILD ASSESSMENT'!G310,0)","v":0},null,null,null,null,null,null,null,"Very Low","Low","Medium-Low","Medium-High","High","Very High",{"$f":"IFERROR(HLOOKUP(TRUE,R443:W444,2,FALSE),0)","v":0},false,false,false,false,false,false,null,null,null,null,null,null,null,null,{"$f":"IF($C443<>\"\",IF($C443<>0,1,0))","v":0}]
[null,null,null,null,null,null,null,null,null,null,null,null,null,null,null,null,null,1,2,3,4,5,6,null,null,null,null,null,null,null,null,{"$f":"IF($C443<>\"\",IF($C443<>0,1,0))","v":0}]
[null,null,null,null,null,null,null,null,null,null,null,null,null,null,null,null,null,null,null,null,null,null,null,null,null,null,null,null,null,null,null,{"$f":"IF($C443<>\"\",IF($C443<>0,1,0))","v":0}]
[null,null,null,null,null,null,null,null,null,null,null,null,null,null,null,null,null,null,null,null,null,null,null,null,null,null,null,null,null,null,null,{"$f":"IF($C443<>\"\",IF($C443<>0,1,0))","v":0}]
[null,null,null,null,null,null,null,null,null,null,null,null,null,null,null,null,null,null,null,null,null,null,null,null,null,null,null,null,null,null,null,{"$f":"IF($C443<>\"\",IF($C443<>0,1,0))","v":0}]
[null,null,null,null,null,null,null,null,null,null,null,null,null,null,null,null,null,null,null,null,null,null,null,null,null,null,null,null,null,null,null,{"$f":"IF(SUM(AF449:AF478)>0,1,0)","v":0}]
[null,null,{"$f":"IF('BUILD ASSESSMENT'!P314=\"yes\",'BUILD ASSESSMENT'!E314,0)","v":0},null,null,null,null,null,null,null,"Very Low","Low","Medium-Low","Medium-High","High","Very High",{"$f":"IFERROR(HLOOKUP(TRUE,R449:W450,2,FALSE),0)","v":0},false,false,false,false,false,false,null,null,null,null,null,null,null,null,{"$f":"IF($C449<>\"\",IF($C449<>0,1,0))","v":0}]
[null,null,null,null,null,null,null,null,null,null,null,null,null,null,null,null,null,1,2,3,4,5,6,null,null,null,null,null,null,null,null,{"$f":"IF($C449<>\"\",IF($C449<>0,1,0))","v":0}]
[null,null,null,null,null,null,null,null,null,null,null,null,null,null,null,null,null,null,null,null,null,null,null,null,null,null,null,null,null,null,null,{"$f":"IF($C449<>\"\",IF($C449<>0,1,0))","v":0}]
[null,null,null,null,null,null,null,null,null,null,null,null,null,null,null,null,null,null,null,null,null,null,null,null,null,null,null,null,null,null,null,{"$f":"IF($C449<>\"\",IF($C449<>0,1,0))","v":0}]
[null,null,null,null,null,null,null,null,null,null,null,null,null,null,null,null,null,null,null,null,null,null,null,null,null,null,null,null,null,null,null,{"$f":"IF($C449<>\"\",IF($C449<>0,1,0))","v":0}]
[null,null,{"$f":"IF('BUILD ASSESSMENT'!P317=\"yes\",'BUILD ASSESSMENT'!G317,0)","v":0},null,null,null,null,null,null,null,"Very Low","Low","Medium-Low","Medium-High","High","Very High",{"$f":"IFERROR(HLOOKUP(TRUE,R454:W455,2,FALSE),0)","v":0},false,false,false,false,false,false,null,null,null,null,null,null,null,null,{"$f":"IF($C454<>\"\",IF($C454<>0,1,0))","v":0}]
[null,null,null,null,null,null,null,null,null,null,null,null,null,null,null,null,null,1,2,3,4,5,6,null,null,null,null,null,null,null,null,{"$f":"IF($C454<>\"\",IF($C454<>0,1,0))","v":0}]
[null,null,null,null,null,null,null,null,null,null,null,null,null,null,null,null,null,null,null,null,null,null,null,null,null,null,null,null,null,null,null,{"$f":"IF($C454<>\"\",IF($C454<>0,1,0))","v":0}]
[null,null,null,null,null,null,null,null,null,null,null,null,null,null,null,null,null,null,null,null,null,null,null,null,null,null,null,null,null,null,null,{"$f":"IF($C454<>\"\",IF($C454<>0,1,0))","v":0}]
[null,null,null,null,null,null,null,null,null,null,null,null,null,null,null,null,null,null,null,null,null,null,null,null,null,null,null,null,null,null,null,{"$f":"IF($C454<>\"\",IF($C454<>0,1,0))","v":0}]
[null,null,{"$f":"IF('BUILD ASSESSMENT'!P320=\"yes\",'BUILD ASSESSMENT'!G320,0)","v":0},null,null,null,null,null,null,null,"Very Low","Low","Medium-Low","Medium-High","High","Very High",{"$f":"IFERROR(HLOOKUP(TRUE,R459:W460,2,FALSE),0)","v":0},false,false,false,false,false,false,null,null,null,null,null,null,null,null,{"$f":"IF($C459<>\"\",IF($C459<>0,1,0))","v":0}]
[null,null,null,null,null,null,null,null,null,null,null,null,null,null,null,null,null,1,2,3,4,5,6,null,null,null,null,null,null,null,null,{"$f":"IF($C459<>\"\",IF($C459<>0,1,0))","v":0}]
[null,null,null,null,null,null,null,null,null,null,null,null,null,null,null,null,null,null,null,null,null,null,null,null,null,null,null,null,null,null,null,{"$f":"IF($C459<>\"\",IF($C459<>0,1,0))","v":0}]
[null,null,null,null,null,null,null,null,null,null,null,null,null,null,null,null,null,null,null,null,null,null,null,null,null,null,null,null,null,null,null,{"$f":"IF($C459<>\"\",IF($C459<>0,1,0))","v":0}]
[null,null,null,null,null,null,null,null,null,null,null,null,null,null,null,null,null,null,null,null,null,null,null,null,null,null,null,null,null,null,null,{"$f":"IF($C459<>\"\",IF($C459<>0,1,0))","v":0}]
[null,null,{"$f":"IF('BUILD ASSESSMENT'!P323=\"yes\",'BUILD ASSESSMENT'!G323,0)","v":0},null,null,null,null,null,null,null,"Very Low","Low","Medium-Low","Medium-High","High","Very High",{"$f":"IFERROR(HLOOKUP(TRUE,R464:W465,2,FALSE),0)","v":0},false,false,false,false,false,false,null,null,null,null,null,null,null,null,{"$f":"IF($C464<>\"\",IF($C464<>0,1,0))","v":0}]
[null,null,null,null,null,null,null,null,null,null,null,null,null,null,null,null,null,1,2,3,4,5,6,null,null,null,null,null,null,null,null,{"$f":"IF($C464<>\"\",IF($C464<>0,1,0))","v":0}]
[null,null,null,null,null,null,null,null,null,null,null,null,null,null,null,null,null,null,null,null,null,null,null,null,null,null,null,null,null,null,null,{"$f":"IF($C464<>\"\",IF($C464<>0,1,0))","v":0}]
[null,null,null,null,null,null,null,null,null,null,null,null,null,null,null,null,null,null,null,null,null,null,null,null,null,null,null,null,null,null,null,{"$f":"IF($C464<>\"\",IF($C464<>0,1,0))","v":0}]
[null,null,null,null,null,null,null,null,null,null,null,null,null,null,null,null,null,null,null,null,null,null,null,null,null,null,null,null,null,null,null,{"$f":"IF($C464<>\"\",IF($C464<>0,1,0))","v":0}]
[null,null,{"$f":"IF('BUILD ASSESSMENT'!P326=\"yes\",'BUILD ASSESSMENT'!G326,0)","v":0},null,null,null,null,null,null,null,"Very Low","Low","Medium-Low","Medium-High","High","Very High",{"$f":"IFERROR(HLOOKUP(TRUE,R469:W470,2,FALSE),0)","v":0},false,false,false,false,false,false,null,null,null,null,null,null,null,null,{"$f":"IF($C469<>\"\",IF($C469<>0,1,0))","v":0}]
[null,null,null,null,null,null,null,null,null,null,null,null,null,null,null,null,null,1,2,3,4,5,6,null,null,null,null,null,null,null,null,{"$f":"IF($C469<>\"\",IF($C469<>0,1,0))","v":0}]
[null,null,null,null,null,null,null,null,null,null,null,null,null,null,null,null,null,null,null,null,null,null,null,null,null,null,null,null,null,null,null,{"$f":"IF($C469<>\"\",IF($C469<>0,1,0))","v":0}]
[null,null,null,null,null,null,null,null,null,null,null,null,null,null,null,null,null,null,null,null,null,null,null,null,null,null,null,null,null,null,null,{"$f":"IF($C469<>\"\",IF($C469<>0,1,0))","v":0}]
[null,null,null,null,null,null,null,null,null,null,null,null,null,null,null,null,null,null,null,null,null,null,null,null,null,null,null,null,null,null,null,{"$f":"IF($C469<>\"\",IF($C469<>0,1,0))","v":0}]
[null,null,{"$f":"IF('BUILD ASSESSMENT'!P329=\"yes\",'BUILD ASSESSMENT'!G329,0)","v":0},null,null,null,null,null,null,null,"Very Low","Low","Medium-Low","Medium-High","High","Very High",{"$f":"IFERROR(HLOOKUP(TRUE,R474:W475,2,FALSE),0)","v":0},false,false,false,false,false,false,null,null,null,null,null,null,null,null,{"$f":"IF($C474<>\"\",IF($C474<>0,1,0))","v":0}]
[null,null,null,null,null,null,null,null,null,null,null,null,null,null,null,null,null,1,2,3,4,5,6,null,null,null,null,null,null,null,null,{"$f":"IF($C474<>\"\",IF($C474<>0,1,0))","v":0}]
[null,null,null,null,null,null,null,null,null,null,null,null,null,null,null,null,null,null,null,null,null,null,null,null,null,null,null,null,null,null,null,{"$f":"IF($C474<>\"\",IF($C474<>0,1,0))","v":0}]
[null,null,null,null,null,null,null,null,null,null,null,null,null,null,null,null,null,null,null,null,null,null,null,null,null,null,null,null,null,null,null,{"$f":"IF($C474<>\"\",IF($C474<>0,1,0))","v":0}]
[null,null,null,null,null,null,null,null,null,null,null,null,null,null,null,null,null,null,null,null,null,null,null,null,null,null,null,null,null,null,null,{"$f":"IF($C474<>\"\",IF($C474<>0,1,0))","v":0}]
[null,null,null,null,null,null,null,null,null,null,null,null,null,null,null,null,null,null,null,null,null,null,null,null,null,null,null,null,null,null,null,{"$f":"IF(SUM(AF480:AF509)>0,1,0)","v":0}]
[null,null,{"$f":"IF('BUILD ASSESSMENT'!P333=\"yes\",'BUILD ASSESSMENT'!E333,0)","v":0},null,null,null,null,null,null,null,"Very Low","Low","Medium-Low","Medium-High","High","Very High",{"$f":"IFERROR(HLOOKUP(TRUE,R480:W481,2,FALSE),0)","v":0},false,false,false,false,false,false,null,null,null,null,null,null,null,null,{"$f":"IF($C480<>\"\",IF($C480<>0,1,0))","v":0}]
[null,null,null,null,null,null,null,null,null,null,null,null,null,null,null,null,null,1,2,3,4,5,6,null,null,null,null,null,null,null,null,{"$f":"IF($C480<>\"\",IF($C480<>0,1,0))","v":0}]
[null,null,null,null,null,null,null,null,null,null,null,null,null,null,null,null,null,null,null,null,null,null,null,null,null,null,null,null,null,null,null,{"$f":"IF($C480<>\"\",IF($C480<>0,1,0))","v":0}]
[null,null,null,null,null,null,null,null,null,null,null,null,null,null,null,null,null,null,null,null,null,null,null,null,null,null,null,null,null,null,null,{"$f":"IF($C480<>\"\",IF($C480<>0,1,0))","v":0}]
[null,null,null,null,null,null,null,null,null,null,null,null,null,null,null,null,null,null,null,null,null,null,null,null,null,null,null,null,null,null,null,{"$f":"IF($C480<>\"\",IF($C480<>0,1,0))","v":0}]
[null,null,{"$f":"IF('BUILD ASSESSMENT'!P336=\"yes\",'BUILD ASSESSMENT'!G336,0)","v":0},null,null,null,null,null,null,null,"Very Low","Low","Medium-Low","Medium-High","High","Very High",{"$f":"IFERROR(HLOOKUP(TRUE,R485:W486,2,FALSE),0)","v":0},false,false,false,false,false,false,null,null,null,null,null,null,null,null,{"$f":"IF($C485<>\"\",IF($C485<>0,1,0))","v":0}]
[null,null,null,null,null,null,null,null,null,null,null,null,null,null,null,null,null,1,2,3,4,5,6,null,null,null,null,null,null,null,null,{"$f":"IF($C485<>\"\",IF($C485<>0,1,0))","v":0}]
[null,null,null,null,null,null,null,null,null,null,null,null,null,null,null,null,null,null,null,null,null,null,null,null,null,null,null,null,null,null,null,{"$f":"IF($C485<>\"\",IF($C485<>0,1,0))","v":0}]
[null,null,null,null,null,null,null,null,null,null,null,null,null,null,null,null,null,null,null,null,null,null,null,null,null,null,null,null,null,null,null,{"$f":"IF($C485<>\"\",IF($C485<>0,1,0))","v":0}]
[null,null,null,null,null,null,null,null,null,null,null,null,null,null,null,null,null,null,null,null,null,null,null,null,null,null,null,null,null,null,null,{"$f":"IF($C485<>\"\",IF($C485<>0,1,0))","v":0}]
[null,null,{"$f":"IF('BUILD ASSESSMENT'!P339=\"yes\",'BUILD ASSESSMENT'!G339,0)","v":0},null,null,null,null,null,null,null,"Very Low","Low","Medium-Low","Medium-High","High","Very High",{"$f":"IFERROR(HLOOKUP(TRUE,R490:W491,2,FALSE),0)","v":0},false,false,false,false,false,false,null,null,null,null,null,null,null,null,{"$f":"IF($C490<>\"\",IF($C490<>0,1,0))","v":0}]
[null,null,null,null,null,null,null,null,null,null,null,null,null,null,null,null,null,1,2,3,4,5,6,null,null,null,null,null,null,null,null,{"$f":"IF($C490<>\"\",IF($C490<>0,1,0))","v":0}]
[null,null,null,null,null,null,null,null,null,null,null,null,null,null,null,null,null,null,null,null,null,null,null,null,null,null,null,null,null,null,null,{"$f":"IF($C490<>\"\",IF($C490<>0,1,0))","v":0}]
[null,null,null,null,null,null,null,null,null,null,null,null,null,null,null,null,null,null,null,null,null,null,null,null,null,null,null,null,null,null,null,{"$f":"IF($C490<>\"\",IF($C490<>0,1,0))","v":0}]
[null,null,null,null,null,null,null,null,null,null,null,null,null,null,null,null,null,null,null,null,null,null,null,null,null,null,null,null,null,null,null,{"$f":"IF($C490<>\"\",IF($C490<>0,1,0))","v":0}]
[null,null,{"$f":"IF('BUILD ASSESSMENT'!P342=\"yes\",'BUILD ASSESSMENT'!G342,0)","v":0},null,null,null,null,null,null,null,"Very Low","Low","Medium-Low","Medium-High","High","Very High",{"$f":"IFERROR(HLOOKUP(TRUE,R495:W496,2,FALSE),0)","v":0},false,false,false,false,false,false,null,null,null,null,null,null,null,null,{"$f":"IF($C495<>\"\",IF($C495<>0,1,0))","v":0}]
[null,null,null,null,null,null,null,null,null,null,null,null,null,null,null,null,null,1,2,3,4,5,6,null,null,null,null,null,null,null,null,{"$f":"IF($C495<>\"\",IF($C495<>0,1,0))","v":0}]
[null,null,null,null,null,null,null,null,null,null,null,null,null,null,null,null,null,null,null,null,null,null,null,null,null,null,null,null,null,null,null,{"$f":"IF($C495<>\"\",IF($C495<>0,1,0))","v":0}]
[null,null,null,null,null,null,null,null,null,null,null,null,null,null,null,null,null,null,null,null,null,null,null,null,null,null,null,null,null,null,null,{"$f":"IF($C495<>\"\",IF($C495<>0,1,0))","v":0}]
[null,null,null,null,null,null,null,null,null,null,null,null,null,null,null,null,null,null,null,null,null,null,null,null,null,null,null,null,null,null,null,{"$f":"IF($C495<>\"\",IF($C495<>0,1,0))","v":0}]
[null,null,{"$f":"IF('BUILD ASSESSMENT'!P345=\"yes\",'BUILD ASSESSMENT'!G345,0)","v":0},null,null,null,null,null,null,null,"Very Low","Low","Medium-Low","Medium-High","High","Very High",{"$f":"IFERROR(HLOOKUP(TRUE,R500:W501,2,FALSE),0)","v":0},false,false,false,false,false,false,null,null,null,null,null,null,null,null,{"$f":"IF($C500<>\"\",IF($C500<>0,1,0))","v":0}]
[null,null,null,null,null,null,null,null,null,null,null,null,null,null,null,null,null,1,2,3,4,5,6,null,null,null,null,null,null,null,null,{"$f":"IF($C500<>\"\",IF($C500<>0,1,0))","v":0}]
[null,null,null,null,null,null,null,null,null,null,null,null,null,null,null,null,null,null,null,null,null,null,null,null,null,null,null,null,null,null,null,{"$f":"IF($C500<>\"\",IF($C500<>0,1,0))","v":0}]
[null,null,null,null,null,null,null,null,null,null,null,null,null,null,null,null,null,null,null,null,null,null,null,null,null,null,null,null,null,null,null,{"$f":"IF($C500<>\"\",IF($C500<>0,1,0))","v":0}]
[null,null,null,null,null,null,null,null,null,null,null,null,null,null,null,null,null,null,null,null,null,null,null,null,null,null,null,null,null,null,null,{"$f":"IF($C500<>\"\",IF($C500<>0,1,0))","v":0}]
[null,null,{"$f":"IF('BUILD ASSESSMENT'!P348=\"yes\",'BUILD ASSESSMENT'!G348,0)","v":0},null,null,null,null,null,null,null,"Very Low","Low","Medium-Low","Medium-High","High","Very High",{"$f":"IFERROR(HLOOKUP(TRUE,R505:W506,2,FALSE),0)","v":0},false,false,false,false,false,false,null,null,null,null,null,null,null,null,{"$f":"IF($C505<>\"\",IF($C505<>0,1,0))","v":0}]
[null,null,null,null,null,null,null,null,null,null,null,null,null,null,null,null,null,1,2,3,4,5,6,null,null,null,null,null,null,null,null,{"$f":"IF($C505<>\"\",IF($C505<>0,1,0))","v":0}]
[null,null,null,null,null,null,null,null,null,null,null,null,null,null,null,null,null,null,null,null,null,null,null,null,null,null,null,null,null,null,null,{"$f":"IF($C505<>\"\",IF($C505<>0,1,0))","v":0}]
[null,null,null,null,null,null,null,null,null,null,null,null,null,null,null,null,null,null,null,null,null,null,null,null,null,null,null,null,null,null,null,{"$f":"IF($C505<>\"\",IF($C505<>0,1,0))","v":0}]
[null,null,null,null,null,null,null,null,null,null,null,null,null,null,null,null,null,null,null,null,null,null,null,null,null,null,null,null,null,null,null,{"$f":"IF($C505<>\"\",IF($C505<>0,1,0))","v":0}]
[null,null,null,null,null,null,null,null,null,null,null,null,null,null,null,null,null,null,null,null,null,null,null,null,null,null,null,null,null,null,null,{"$f":"IF(SUM(AF511:AF540)>0,1,0)","v":0}]
[null,null,{"$f":"IF('BUILD ASSESSMENT'!P352=\"yes\",'BUILD ASSESSMENT'!E352,0)","v":0},null,null,null,null,null,null,null,"Very Low","Low","Medium-Low","Medium-High","High","Very High",{"$f":"IFERROR(HLOOKUP(TRUE,R511:W512,2,FALSE),0)","v":0},false,false,false,false,false,false,null,null,null,null,null,null,null,null,{"$f":"IF($C511<>\"\",IF($C511<>0,1,0))","v":0}]
[null,null,null,null,null,null,null,null,null,null,null,null,null,null,null,null,null,1,2,3,4,5,6,null,null,null,null,null,null,null,null,{"$f":"IF($C511<>\"\",IF($C511<>0,1,0))","v":0}]
[null,null,null,null,null,null,null,null,null,null,null,null,null,null,null,null,null,null,null,null,null,null,null,null,null,null,null,null,null,null,null,{"$f":"IF($C511<>\"\",IF($C511<>0,1,0))","v":0}]
[null,null,null,null,null,null,null,null,null,null,null,null,null,null,null,null,null,null,null,null,null,null,null,null,null,null,null,null,null,null,null,{"$f":"IF($C511<>\"\",IF($C511<>0,1,0))","v":0}]
[null,null,null,null,null,null,null,null,null,null,null,null,null,null,null,null,null,null,null,null,null,null,null,null,null,null,null,null,null,null,null,{"$f":"IF($C511<>\"\",IF($C511<>0,1,0))","v":0}]
[null,null,{"$f":"IF('BUILD ASSESSMENT'!P355=\"yes\",'BUILD ASSESSMENT'!G355,0)","v":0},null,null,null,null,null,null,null,"Very Low","Low","Medium-Low","Medium-High","High","Very High",{"$f":"IFERROR(HLOOKUP(TRUE,R516:W517,2,FALSE),0)","v":0},false,false,false,false,false,false,null,null,null,null,null,null,null,null,{"$f":"IF($C516<>\"\",IF($C516<>0,1,0))","v":0}]
[null,null,null,null,null,null,null,null,null,null,null,null,null,null,null,null,null,1,2,3,4,5,6,null,null,null,null,null,null,null,null,{"$f":"IF($C516<>\"\",IF($C516<>0,1,0))","v":0}]
[null,null,null,null,null,null,null,null,null,null,null,null,null,null,null,null,null,null,null,null,null,null,null,null,null,null,null,null,null,null,null,{"$f":"IF($C516<>\"\",IF($C516<>0,1,0))","v":0}]
[null,null,null,null,null,null,null,null,null,null,null,null,null,null,null,null,null,null,null,null,null,null,null,null,null,null,null,null,null,null,null,{"$f":"IF($C516<>\"\",IF($C516<>0,1,0))","v":0}]
[null,null,null,null,null,null,null,null,null,null,null,null,null,null,null,null,null,null,null,null,null,null,null,null,null,null,null,null,null,null,null,{"$f":"IF($C516<>\"\",IF($C516<>0,1,0))","v":0}]
[null,null,{"$f":"IF('BUILD ASSESSMENT'!P358=\"yes\",'BUILD ASSESSMENT'!G358,0)","v":0},null,null,null,null,null,null,null,"Very Low","Low","Medium-Low","Medium-High","High","Very High",{"$f":"IFERROR(HLOOKUP(TRUE,R521:W522,2,FALSE),0)","v":0},false,false,false,false,false,false,null,null,null,null,null,null,null,null,{"$f":"IF($C521<>\"\",IF($C521<>0,1,0))","v":0}]
[null,null,null,null,null,null,null,null,null,null,null,null,null,null,null,null,null,1,2,3,4,5,6,null,null,null,null,null,null,null,null,{"$f":"IF($C521<>\"\",IF($C521<>0,1,0))","v":0}]
[null,null,null,null,null,null,null,null,null,null,null,null,null,null,null,null,null,null,null,null,null,null,null,null,null,null,null,null,null,null,null,{"$f":"IF($C521<>\"\",IF($C521<>0,1,0))","v":0}]
[null,null,null,null,null,null,null,null,null,null,null,null,null,null,null,null,null,null,null,null,null,null,null,null,null,null,null,null,null,null,null,{"$f":"IF($C521<>\"\",IF($C521<>0,1,0))","v":0}]
[null,null,null,null,null,null,null,null,null,null,null,null,null,null,null,null,null,null,null,null,null,null,null,null,null,null,null,null,null,null,null,{"$f":"IF($C521<>\"\",IF($C521<>0,1,0))","v":0}]
[null,null,{"$f":"IF('BUILD ASSESSMENT'!P361=\"yes\",'BUILD ASSESSMENT'!G361,0)","v":0},null,null,null,null,null,null,null,"Very Low","Low","Medium-Low","Medium-High","High","Very High",{"$f":"IFERROR(HLOOKUP(TRUE,R526:W527,2,FALSE),0)","v":0},false,false,false,false,false,false,null,null,null,null,null,null,null,null,{"$f":"IF($C526<>\"\",IF($C526<>0,1,0))","v":0}]
[null,null,null,null,null,null,null,null,null,null,null,null,null,null,null,null,null,1,2,3,4,5,6,null,null,null,null,null,null,null,null,{"$f":"IF($C526<>\"\",IF($C526<>0,1,0))","v":0}]
[null,null,null,null,null,null,null,null,null,null,null,null,null,null,null,null,null,null,null,null,null,null,null,null,null,null,null,null,null,null,null,{"$f":"IF($C526<>\"\",IF($C526<>0,1,0))","v":0}]
[null,null,null,null,null,null,null,null,null,null,null,null,null,null,null,null,null,null,null,null,null,null,null,null,null,null,null,null,null,null,null,{"$f":"IF($C526<>\"\",IF($C526<>0,1,0))","v":0}]
[null,null,null,null,null,null,null,null,null,null,null,null,null,null,null,null,null,null,null,null,null,null,null,null,null,null,null,null,null,null,null,{"$f":"IF($C526<>\"\",IF($C526<>0,1,0))","v":0}]
[null,null,{"$f":"IF('BUILD ASSESSMENT'!P364=\"yes\",'BUILD ASSESSMENT'!G364,0)","v":0},null,null,null,null,null,null,null,"Very Low","Low","Medium-Low","Medium-High","High","Very High",{"$f":"IFERROR(HLOOKUP(TRUE,R531:W532,2,FALSE),0)","v":0},false,false,false,false,false,false,null,null,null,null,null,null,null,null,{"$f":"IF($C531<>\"\",IF($C531<>0,1,0))","v":0}]
[null,null,null,null,null,null,null,null,null,null,null,null,null,null,null,null,null,1,2,3,4,5,6,null,null,null,null,null,null,null,null,{"$f":"IF($C531<>\"\",IF($C531<>0,1,0))","v":0}]
[null,null,null,null,null,null,null,null,null,null,null,null,null,null,null,null,null,null,null,null,null,null,null,null,null,null,null,null,null,null,null,{"$f":"IF($C531<>\"\",IF($C531<>0,1,0))","v":0}]
[null,null,null,null,null,null,null,null,null,null,null,null,null,null,null,null,null,null,null,null,null,null,null,null,null,null,null,null,null,null,null,{"$f":"IF($C531<>\"\",IF($C531<>0,1,0))","v":0}]
[null,null,null,null,null,null,null,null,null,null,null,null,null,null,null,null,null,null,null,null,null,null,null,null,null,null,null,null,null,null,null,{"$f":"IF($C531<>\"\",IF($C531<>0,1,0))","v":0}]
[null,null,{"$f":"IF('BUILD ASSESSMENT'!P367=\"yes\",'BUILD ASSESSMENT'!G367,0)","v":0},null,null,null,null,null,null,null,"Very Low","Low","Medium-Low","Medium-High","High","Very High",{"$f":"IFERROR(HLOOKUP(TRUE,R536:W537,2,FALSE),0)","v":0},false,false,false,false,false,false,null,null,null,null,null,null,null,null,{"$f":"IF($C536<>\"\",IF($C536<>0,1,0))","v":0}]
[null,null,null,null,null,null,null,null,null,null,null,null,null,null,null,null,null,1,2,3,4,5,6,null,null,null,null,null,null,null,null,{"$f":"IF($C536<>\"\",IF($C536<>0,1,0))","v":0}]
[null,null,null,null,null,null,null,null,null,null,null,null,null,null,null,null,null,null,null,null,null,null,null,null,null,null,null,null,null,null,null,{"$f":"IF($C536<>\"\",IF($C536<>0,1,0))","v":0}]
[null,null,null,null,null,null,null,null,null,null,null,null,null,null,null,null,null,null,null,null,null,null,null,null,null,null,null,null,null,null,null,{"$f":"IF($C536<>\"\",IF($C536<>0,1,0))","v":0}]
[null,null,null,null,null,null,null,null,null,null,null,null,null,null,null,null,null,null,null,null,null,null,null,null,null,null,null,null,null,null,null,{"$f":"IF($C536<>\"\",IF($C536<>0,1,0))","v":0}]
[null,null,null,null,null,null,null,null,null,null,null,null,null,null,null,null,null,null,null,null,null,null,null,null,null,null,null,null,null,null,null,{"$f":"IF(SUM(AF542:AF571)>0,1,0)","v":0}]
[null,null,{"$f":"IF('BUILD ASSESSMENT'!P371=\"yes\",'BUILD ASSESSMENT'!E371,0)","v":0},null,null,null,null,null,null,null,"Very Low","Low","Medium-Low","Medium-High","High","Very High",{"$f":"IFERROR(HLOOKUP(TRUE,R542:W543,2,FALSE),0)","v":0},false,false,false,false,false,false,null,null,null,null,null,null,null,null,{"$f":"IF($C542<>\"\",IF($C542<>0,1,0))","v":0}]
[null,null,null,null,null,null,null,null,null,null,null,null,null,null,null,null,null,1,2,3,4,5,6,null,null,null,null,null,null,null,null,{"$f":"IF($C542<>\"\",IF($C542<>0,1,0))","v":0}]
[null,null,null,null,null,null,null,null,null,null,null,null,null,null,null,null,null,null,null,null,null,null,null,null,null,null,null,null,null,null,null,{"$f":"IF($C542<>\"\",IF($C542<>0,1,0))","v":0}]
[null,null,null,null,null,null,null,null,null,null,null,null,null,null,null,null,null,null,null,null,null,null,null,null,null,null,null,null,null,null,null,{"$f":"IF($C542<>\"\",IF($C542<>0,1,0))","v":0}]
[null,null,null,null,null,null,null,null,null,null,null,null,null,null,null,null,null,null,null,null,null,null,null,null,null,null,null,null,null,null,null,{"$f":"IF($C542<>\"\",IF($C542<>0,1,0))","v":0}]
[null,null,{"$f":"IF('BUILD ASSESSMENT'!P374=\"yes\",'BUILD ASSESSMENT'!G374,0)","v":0},null,null,null,null,null,null,null,"Very Low","Low","Medium-Low","Medium-High","High","Very High",{"$f":"IFERROR(HLOOKUP(TRUE,R547:W548,2,FALSE),0)","v":0},false,false,false,false,false,false,null,null,null,null,null,null,null,null,{"$f":"IF($C547<>\"\",IF($C547<>0,1,0))","v":0}]
[null,null,null,null,null,null,null,null,null,null,null,null,null,null,null,null,null,1,2,3,4,5,6,null,null,null,null,null,null,null,null,{"$f":"IF($C547<>\"\",IF($C547<>0,1,0))","v":0}]
[null,null,null,null,null,null,null,null,null,null,null,null,null,null,null,null,null,null,null,null,null,null,null,null,null,null,null,null,null,null,null,{"$f":"IF($C547<>\"\",IF($C547<>0,1,0))","v":0}]
[null,null,null,null,null,null,null,null,null,null,null,null,null,null,null,null,null,null,null,null,null,null,null,null,null,null,null,null,null,null,null,{"$f":"IF($C547<>\"\",IF($C547<>0,1,0))","v":0}]
[null,null,null,null,null,null,null,null,null,null,null,null,null,null,null,null,null,null,null,null,null,null,null,null,null,null,null,null,null,null,null,{"$f":"IF($C547<>\"\",IF($C547<>0,1,0))","v":0}]
[null,null,{"$f":"IF('BUILD ASSESSMENT'!P377=\"yes\",'BUILD ASSESSMENT'!G377,0)","v":0},null,null,null,null,null,null,null,"Very Low","Low","Medium-Low","Medium-High","High","Very High",{"$f":"IFERROR(HLOOKUP(TRUE,R552:W553,2,FALSE),0)","v":0},false,false,false,false,false,false,null,null,null,null,null,null,null,null,{"$f":"IF($C552<>\"\",IF($C552<>0,1,0))","v":0}]
[null,null,null,null,null,null,null,null,null,null,null,null,null,null,null,null,null,1,2,3,4,5,6,null,null,null,null,null,null,null,null,{"$f":"IF($C552<>\"\",IF($C552<>0,1,0))","v":0}]
[null,null,null,null,null,null,null,null,null,null,null,null,null,null,null,null,null,null,null,null,null,null,null,null,null,null,null,null,null,null,null,{"$f":"IF($C552<>\"\",IF($C552<>0,1,0))","v":0}]
[null,null,null,null,null,null,null,null,null,null,null,null,null,null,null,null,null,null,null,null,null,null,null,null,null,null,null,null,null,null,null,{"$f":"IF($C552<>\"\",IF($C552<>0,1,0))","v":0}]
[null,null,null,null,null,null,null,null,null,null,null,null,null,null,null,null,null,null,null,null,null,null,null,null,null,null,null,null,null,null,null,{"$f":"IF($C552<>\"\",IF($C552<>0,1,0))","v":0}]
[null,null,{"$f":"IF('BUILD ASSESSMENT'!P380=\"yes\",'BUILD ASSESSMENT'!G380,0)","v":0},null,null,null,null,null,null,null,"Very Low","Low","Medium-Low","Medium-High","High","Very High",{"$f":"IFERROR(HLOOKUP(TRUE,R557:W558,2,FALSE),0)","v":0},false,false,false,false,false,false,null,null,null,null,null,null,null,null,{"$f":"IF($C557<>\"\",IF($C557<>0,1,0))","v":0}]
[null,null,null,null,null,null,null,null,null,null,null,null,null,null,null,null,null,1,2,3,4,5,6,null,null,null,null,null,null,null,null,{"$f":"IF($C557<>\"\",IF($C557<>0,1,0))","v":0}]
[null,null,null,null,null,null,null,null,null,null,null,null,null,null,null,null,null,null,null,null,null,null,null,null,null,null,null,null,null,null,null,{"$f":"IF($C557<>\"\",IF($C557<>0,1,0))","v":0}]
[null,null,null,null,null,null,null,null,null,null,null,null,null,null,null,null,null,null,null,null,null,null,null,null,null,null,null,null,null,null,null,{"$f":"IF($C557<>\"\",IF($C557<>0,1,0))","v":0}]
[null,null,null,null,null,null,null,null,null,null,null,null,null,null,null,null,null,null,null,null,null,null,null,null,null,null,null,null,null,null,null,{"$f":"IF($C557<>\"\",IF($C557<>0,1,0))","v":0}]
[null,null,{"$f":"IF('BUILD ASSESSMENT'!P383=\"yes\",'BUILD ASSESSMENT'!G383,0)","v":0},null,null,null,null,null,null,null,"Very Low","Low","Medium-Low","Medium-High","High","Very High",{"$f":"IFERROR(HLOOKUP(TRUE,R562:W563,2,FALSE),0)","v":0},false,false,false,false,false,false,null,null,null,null,null,null,null,null,{"$f":"IF($C562<>\"\",IF($C562<>0,1,0))","v":0}]
[null,null,null,null,null,null,null,null,null,null,null,null,null,null,null,null,null,1,2,3,4,5,6,null,null,null,null,null,null,null,null,{"$f":"IF($C562<>\"\",IF($C562<>0,1,0))","v":0}]
[null,null,null,null,null,null,null,null,null,null,null,null,null,null,null,null,null,null,null,null,null,null,null,null,null,null,null,null,null,null,null,{"$f":"IF($C562<>\"\",IF($C562<>0,1,0))","v":0}]
[null,null,null,null,null,null,null,null,null,null,null,null,null,null,null,null,null,null,null,null,null,null,null,null,null,null,null,null,null,null,null,{"$f":"IF($C562<>\"\",IF($C562<>0,1,0))","v":0}]
[null,null,null,null,null,null,null,null,null,null,null,null,null,null,null,null,null,null,null,null,null,null,null,null,null,null,null,null,null,null,null,{"$f":"IF($C562<>\"\",IF($C562<>0,1,0))","v":0}]
[null,null,{"$f":"IF('BUILD ASSESSMENT'!P386=\"yes\",'BUILD ASSESSMENT'!G386,0)","v":0},null,null,null,null,null,null,null,"Very Low","Low","Medium-Low","Medium-High","High","Very High",{"$f":"IFERROR(HLOOKUP(TRUE,R567:W568,2,FALSE),0)","v":0},false,false,false,false,false,false,null,null,null,null,null,null,null,null,{"$f":"IF($C567<>\"\",IF($C567<>0,1,0))","v":0}]
[null,null,null,null,null,null,null,null,null,null,null,null,null,null,null,null,null,1,2,3,4,5,6,null,null,null,null,null,null,null,null,{"$f":"IF($C567<>\"\",IF($C567<>0,1,0))","v":0}]
[null,null,null,null,null,null,null,null,null,null,null,null,null,null,null,null,null,null,null,null,null,null,null,null,null,null,null,null,null,null,null,{"$f":"IF($C567<>\"\",IF($C567<>0,1,0))","v":0}]
[null,null,null,null,null,null,null,null,null,null,null,null,null,null,null,null,null,null,null,null,null,null,null,null,null,null,null,null,null,null,null,{"$f":"IF($C567<>\"\",IF($C567<>0,1,0))","v":0}]
[null,null,null,null,null,null,null,null,null,null,null,null,null,null,null,null,null,null,null,null,null,null,null,null,null,null,null,null,null,null,null,{"$f":"IF($C567<>\"\",IF($C567<>0,1,0))","v":0}]
[null,null,null,null,null,null,null,null,null,null,null,null,null,null,null,null,null,null,null,null,null,null,null,null,null,null,null,null,null,null,null,{"$f":"IF(SUM(AF573:AF602)>0,1,0)","v":0}]
[null,null,{"$f":"IF('BUILD ASSESSMENT'!P390=\"yes\",'BUILD ASSESSMENT'!E390,0)","v":0},null,null,null,null,null,null,null,"Very Low","Low","Medium-Low","Medium-High","High","Very High",{"$f":"IFERROR(HLOOKUP(TRUE,R573:W574,2,FALSE),0)","v":0},false,false,false,false,false,false,null,null,null,null,null,null,null,null,{"$f":"IF($C573<>\"\",IF($C573<>0,1,0))","v":0}]
[null,null,null,null,null,null,null,null,null,null,null,null,null,null,null,null,null,1,2,3,4,5,6,null,null,null,null,null,null,null,null,{"$f":"IF($C573<>\"\",IF($C573<>0,1,0))","v":0}]
[null,null,null,null,null,null,null,null,null,null,null,null,null,null,null,null,null,null,null,null,null,null,null,null,null,null,null,null,null,null,null,{"$f":"IF($C573<>\"\",IF($C573<>0,1,0))","v":0}]
[null,null,null,null,null,null,null,null,null,null,null,null,null,null,null,null,null,null,null,null,null,null,null,null,null,null,null,null,null,null,null,{"$f":"IF($C573<>\"\",IF($C573<>0,1,0))","v":0}]
[null,null,null,null,null,null,null,null,null,null,null,null,null,null,null,null,null,null,null,null,null,null,null,null,null,null,null,null,null,null,null,{"$f":"IF($C573<>\"\",IF($C573<>0,1,0))","v":0}]
[null,null,{"$f":"IF('BUILD ASSESSMENT'!P393=\"yes\",'BUILD ASSESSMENT'!G393,0)","v":0},null,null,null,null,null,null,null,"Very Low","Low","Medium-Low","Medium-High","High","Very High",{"$f":"IFERROR(HLOOKUP(TRUE,R578:W579,2,FALSE),0)","v":0},false,false,false,false,false,false,null,null,null,null,null,null,null,null,{"$f":"IF($C578<>\"\",IF($C578<>0,1,0))","v":0}]
[null,null,null,null,null,null,null,null,null,null,null,null,null,null,null,null,null,1,2,3,4,5,6,null,null,null,null,null,null,null,null,{"$f":"IF($C578<>\"\",IF($C578<>0,1,0))","v":0}]
[null,null,null,null,null,null,null,null,null,null,null,null,null,null,null,null,null,null,null,null,null,null,null,null,null,null,null,null,null,null,null,{"$f":"IF($C578<>\"\",IF($C578<>0,1,0))","v":0}]
[null,null,null,null,null,null,null,null,null,null,null,null,null,null,null,null,null,null,null,null,null,null,null,null,null,null,null,null,null,null,null,{"$f":"IF($C578<>\"\",IF($C578<>0,1,0))","v":0}]
[null,null,null,null,null,null,null,null,null,null,null,null,null,null,null,null,null,null,null,null,null,null,null,null,null,null,null,null,null,null,null,{"$f":"IF($C578<>\"\",IF($C578<>0,1,0))","v":0}]
[null,null,{"$f":"IF('BUILD ASSESSMENT'!P396=\"yes\",'BUILD ASSESSMENT'!G396,0)","v":0},null,null,null,null,null,null,null,"Very Low","Low","Medium-Low","Medium-High","High","Very High",{"$f":"IFERROR(HLOOKUP(TRUE,R583:W584,2,FALSE),0)","v":0},false,false,false,false,false,false,null,null,null,null,null,null,null,null,{"$f":"IF($C583<>\"\",IF($C583<>0,1,0))","v":0}]
[null,null,null,null,null,null,null,null,null,null,null,null,null,null,null,null,null,1,2,3,4,5,6,null,null,null,null,null,null,null,null,{"$f":"IF($C583<>\"\",IF($C583<>0,1,0))","v":0}]
[null,null,null,null,null,null,null,null,null,null,null,null,null,null,null,null,null,null,null,null,null,null,null,null,null,null,null,null,null,null,null,{"$f":"IF($C583<>\"\",IF($C583<>0,1,0))","v":0}]
[null,null,null,null,null,null,null,null,null,null,null,null,null,null,null,null,null,null,null,null,null,null,null,null,null,null,null,null,null,null,null,{"$f":"IF($C583<>\"\",IF($C583<>0,1,0))","v":0}]
[null,null,null,null,null,null,null,null,null,null,null,null,null,null,null,null,null,null,null,null,null,null,null,null,null,null,null,null,null,null,null,{"$f":"IF($C583<>\"\",IF($C583<>0,1,0))","v":0}]
[null,null,{"$f":"IF('BUILD ASSESSMENT'!P399=\"yes\",'BUILD ASSESSMENT'!G399,0)","v":0},null,null,null,null,null,null,null,"Very Low","Low","Medium-Low","Medium-High","High","Very High",{"$f":"IFERROR(HLOOKUP(TRUE,R588:W589,2,FALSE),0)","v":0},false,false,false,false,false,false,null,null,null,null,null,null,null,null,{"$f":"IF($C588<>\"\",IF($C588<>0,1,0))","v":0}]
[null,null,null,null,null,null,null,null,null,null,null,null,null,null,null,null,null,1,2,3,4,5,6,null,null,null,null,null,null,null,null,{"$f":"IF($C588<>\"\",IF($C588<>0,1,0))","v":0}]
[null,null,null,null,null,null,null,null,null,null,null,null,null,null,null,null,null,null,null,null,null,null,null,null,null,null,null,null,null,null,null,{"$f":"IF($C588<>\"\",IF($C588<>0,1,0))","v":0}]
[null,null,null,null,null,null,null,null,null,null,null,null,null,null,null,null,null,null,null,null,null,null,null,null,null,null,null,null,null,null,null,{"$f":"IF($C588<>\"\",IF($C588<>0,1,0))","v":0}]
[null,null,null,null,null,null,null,null,null,null,null,null,null,null,null,null,null,null,null,null,null,null,null,null,null,null,null,null,null,null,null,{"$f":"IF($C588<>\"\",IF($C588<>0,1,0))","v":0}]
[null,null,{"$f":"IF('BUILD ASSESSMENT'!P402=\"yes\",'BUILD ASSESSMENT'!G402,0)","v":0},null,null,null,null,null,null,null,"Very Low","Low","Medium-Low","Medium-High","High","Very High",{"$f":"IFERROR(HLOOKUP(TRUE,R593:W594,2,FALSE),0)","v":0},false,false,false,false,false,false,null,null,null,null,null,null,null,null,{"$f":"IF($C593<>\"\",IF($C593<>0,1,0))","v":0}]
[null,null,null,null,null,null,null,null,null,null,null,null,null,null,null,null,null,1,2,3,4,5,6,null,null,null,null,null,null,null,null,{"$f":"IF($C593<>\"\",IF($C593<>0,1,0))","v":0}]
[null,null,null,null,null,null,null,null,null,null,null,null,null,null,null,null,null,null,null,null,null,null,null,null,null,null,null,null,null,null,null,{"$f":"IF($C593<>\"\",IF($C593<>0,1,0))","v":0}]
[null,null,null,null,null,null,null,null,null,null,null,null,null,null,null,null,null,null,null,null,null,null,null,null,null,null,null,null,null,null,null,{"$f":"IF($C593<>\"\",IF($C593<>0,1,0))","v":0}]
[null,null,null,null,null,null,null,null,null,null,null,null,null,null,null,null,null,null,null,null,null,null,null,null,null,null,null,null,null,null,null,{"$f":"IF($C593<>\"\",IF($C593<>0,1,0))","v":0}]
[null,null,{"$f":"IF('BUILD ASSESSMENT'!P405=\"yes\",'BUILD ASSESSMENT'!G405,0)","v":0},null,null,null,null,null,null,null,"Very Low","Low","Medium-Low","Medium-High","High","Very High",{"$f":"IFERROR(HLOOKUP(TRUE,R598:W599,2,FALSE),0)","v":0},false,false,false,false,false,false,null,null,null,null,null,null,null,null,{"$f":"IF($C598<>\"\",IF($C598<>0,1,0))","v":0}]
[null,null,null,null,null,null,null,null,null,null,null,null,null,null,null,null,null,1,2,3,4,5,6,null,null,null,null,null,null,null,null,{"$f":"IF($C598<>\"\",IF($C598<>0,1,0))","v":0}]
[null,null,null,null,null,null,null,null,null,null,null,null,null,null,null,null,null,null,null,null,null,null,null,null,null,null,null,null,null,null,null,{"$f":"IF($C598<>\"\",IF($C598<>0,1,0))","v":0}]
[null,null,null,null,null,null,null,null,null,null,null,null,null,null,null,null,null,null,null,null,null,null,null,null,null,null,null,null,null,null,null,{"$f":"IF($C598<>\"\",IF($C598<>0,1,0))","v":0}]
[null,null,null,null,null,null,null,null,null,null,null,null,null,null,null,null,null,null,null,null,null,null,null,null,null,null,null,null,null,null,null,{"$f":"IF($C598<>\"\",IF($C598<>0,1,0))","v":0}]
[null,null,null,null,null,null,null,null,null,null,null,null,null,null,null,null,null,null,null,null,null,null,null,null,null,null,null,null,null,null,null,{"$f":"IF(SUM($AF$609:$AF$620)>0,1,0)","v":0}]
[null,"Impact from Environmental Factors",null,null,null,null,null,null,null,null,null,null,null,null,null,null,null,null,null,null,null,null,null,null,null,null,null,null,null,null,null,{"$f":"IF(SUM($AF$609:$AF$620)>0,1,0)","v":0}]
[null,null,null,null,null,null,null,null,null,null,null,null,null,null,null,null,null,null,null,null,null,null,null,null,null,null,null,null,null,null,null,0]
[null,"Environmental factors focus on how other factors, both internal and external to the agency, influence or impact this position, to include social or demographic shifts, technology innovations, economic shifts, or political or regulatory shifts. ",null,null,null,null,null,null,null,null,null,null,null,null,null,null,null,null,null,null,null,null,null,null,null,null,null,null,null,null,null,0]
[null,null,null,null,null,null,null,null,null,null,null,null,null,null,null,null,null,null,null,null,null,null,null,null,null,null,null,null,null,null,null,0]
[null,null,null,null,null,null,null,null,null,null,null,null,null,null,null,null,null,null,null,null,null,null,null,null,null,null,null,null,null,null,null,0]
[null,null,"What is the degree potential social or demographic shifts could impact recruitment, retention, or development of this position?",null,null,null,null,null,null,null,"Very Low","Low","Medium-Low","Medium-High","High","Very High",{"$f":"IFERROR(HLOOKUP(TRUE,R609:W610,2,FALSE),0)","v":0},false,false,false,false,false,false,null,null,null,null,null,null,null,null,{"$f":"IF('BUILD ASSESSMENT'!$P$442=\"yes\",1,0)","v":0}]
[null,null,null,null,null,null,null,null,null,null,null,null,null,null,null,null,null,1,2,3,4,5,6,null,null,null,null,null,null,null,null,{"$f":"IF('BUILD ASSESSMENT'!$P$442=\"yes\",1,0)","v":0}]
[null,null,null,null,null,null,null,null,null,null,null,null,null,null,null,null,null,null,null,null,null,null,null,null,null,null,null,null,null,null,null,{"$f":"IF('BUILD ASSESSMENT'!$P$442=\"yes\",1,0)","v":0}]
[null,null,"What is the degree potential new technology or innovations could impact recruitment, retention, or development of this position?",null,null,null,null,null,null,null,"Very Low","Low","Medium-Low","Medium-High","High","Very High",{"$f":"IFERROR(HLOOKUP(TRUE,R612:W613,2,FALSE),0)","v":0},false,false,false,false,false,false,null,null,null,null,null,null,null,null,{"$f":"IF('BUILD ASSESSMENT'!$P$443=\"yes\",1,0)","v":0}]
[null,null,null,null,null,null,null,null,null,null,null,null,null,null,null,null,null,1,2,3,4,5,6,null,null,null,null,null,null,null,null,{"$f":"IF('BUILD ASSESSMENT'!$P$443=\"yes\",1,0)","v":0}]
[null,null,null,null,null,null,null,null,null,null,null,null,null,null,null,null,null,null,null,null,null,null,null,null,null,null,null,null,null,null,null,{"$f":"IF('BUILD ASSESSMENT'!$P$443=\"yes\",1,0)","v":0}]
[null,null,"What is the degree potential economic shifts could impact recruitment, retention, or development of this position?",null,null,null,null,null,null,null,"Very Low","Low","Medium-Low","Medium-High","High","Very High",{"$f":"IFERROR(HLOOKUP(TRUE,R615:W616,2,FALSE),0)","v":0},false,false,false,false,false,false,null,null,null,null,null,null,null,null,{"$f":"IF('BUILD ASSESSMENT'!$P$444=\"yes\",1,0)","v":0}]
[null,null,null,null,null,null,null,null,null,null,null,null,null,null,null,null,null,1,2,3,4,5,6,null,null,null,null,null,null,null,null,{"$f":"IF('BUILD ASSESSMENT'!$P$444=\"yes\",1,0)","v":0}]
[null,null,null,null,null,null,null,null,null,null,null,null,null,null,null,null,null,null,null,null,null,null,null,null,null,null,null,null,null,null,null,{"$f":"IF('BUILD ASSESSMENT'!$P$444=\"yes\",1,0)","v":0}]
[null,null,"What is the degree potential political or regulatory shifts could impact recruitment, retention, or development of this position?",null,null,null,null,null,null,null,"Very Low","Low","Medium-Low","Medium-High","High","Very High",{"$f":"IFERROR(HLOOKUP(TRUE,R618:W619,2,FALSE),0)","v":0},false,false,false,false,false,false,null,null,null,null,null,null,null,null,{"$f":"IF('BUILD ASSESSMENT'!$P$445=\"yes\",1,0)","v":0}]
[null,null,null,null,null,null,null,null,null,null,null,null,null,null,null,null,null,1,2,3,4,5,6,null,null,null,null,null,null,null,null,{"$f":"IF('BUILD ASSESSMENT'!$P$445=\"yes\",1,0)","v":0}]
[null,null,null,null,null,null,null,null,null,null,null,null,null,null,null,null,null,null,null,null,null,null,null,null,null,null,null,null,null,null,null,{"$f":"IF('BUILD ASSESSMENT'!$P$445=\"yes\",1,0)","v":0}]
[null,null,null,null,null,null,null,null,null,null,null,null,null,null,null,null,null,null,null,null,null,null,null,null,null,null,null,null,null,null,null,{"$f":"IF(SUM($AF$626:$AF$628)>0,1,0)","v":0}]
[null,"Position Specific Questions",null,null,null,null,null,null,null,null,null,null,null,null,null,null,null,null,null,null,null,null,null,null,null,null,null,null,null,null,null,{"$f":"IF(SUM($AF$626:$AF$628)>0,1,0)","v":0}]
[null,null,null,null,null,null,null,null,null,null,null,null,null,null,null,null,null,null,null,null,null,null,null,null,null,null,null,null,null,null,null,{"$f":"IF(SUM($AF$626:$AF$628)>0,1,0)","v":0}]
[null,"Position Specific questions focuses on the specific specialized responsibilities of the position. ",null,null,null,null,null,null,null,null,null,null,null,null,null,null,null,null,null,null,null,null,null,null,null,null,null,null,null,null,null,{"$f":"IF(SUM($AF$626:$AF$628)>0,1,0)","v":0}]
[null,null,null,null,null,null,null,null,null,null,null,null,null,null,null,null,null,null,null,null,null,null,null,null,null,null,null,null,null,null,null,{"$f":"IF(SUM($AF$626:$AF$628)>0,1,0)","v":0}]
[null,null,"What is the degree this position performs specialized responsibilities? ",null,null,null,null,null,null,null,"Very Low","Low","Medium-Low","Medium-High","High","Very High",{"$f":"IFERROR(HLOOKUP(TRUE,R626:W627,2,FALSE),0)","v":0},false,false,false,false,false,false,null,null,null,null,null,null,null,null,{"$f":"IF('BUILD ASSESSMENT'!$P$454=\"yes\",1,0)","v":0}]
[null,null,null,null,null,null,null,null,null,null,null,null,null,null,null,null,null,1,2,3,4,5,6,null,null,null,null,null,null,null,null,{"$f":"IF('BUILD ASSESSMENT'!$P$454=\"yes\",1,0)","v":0}]
[null,null,null,null,null,null,null,null,null,null,null,null,null,null,null,null,null,null,null,null,null,null,null,null,null,null,null,null,null,null,null,{"$f":"IF('BUILD ASSESSMENT'!$P$454=\"yes\",1,0)","v":0}]
[null,null,null,null,null,null,null,null,null,null,null,null,null,null,null,null,null,null,null,null,null,null,null,null,null,null,null,null,null,null,null,{"$f":"IF(SUM($AF$632:$AF$691)>0,1,0)","v":0}]
[null,"Additional Questions",null,null,null,null,null,null,null,null,null,null,null,null,null,null,null,null,null,null,null,null,null,null,null,null,null,null,null,null,null,{"$f":"IF(SUM($AF$632:$AF$691)>0,1,0)","v":0}]
[null,null,null,null,null,null,null,null,null,null,null,null,null,null,null,null,null,null,null,null,null,null,null,null,null,null,null,null,null,null,null,{"$f":"IF(SUM($AF$632:$AF$691)>0,1,0)","v":0}]
[null,null,{"$f":"IF('BUILD ASSESSMENT'!$C$468=\"\",\"\",'BUILD ASSESSMENT'!$C$468)","v":""},null,null,null,null,null,null,null,{"$f":"VLOOKUP('BUILD ASSESSMENT'!$O$468,'BUILD ASSESSMENT'!$C$523:$P$528,3,FALSE)","v":{"$error":"#N/A"}},{"$f":"VLOOKUP('BUILD ASSESSMENT'!$O$468,'BUILD ASSESSMENT'!$C$523:$P$528,5,FALSE)","v":{"$error":"#N/A"}},{"$f":"VLOOKUP('BUILD ASSESSMENT'!$O$468,'BUILD ASSESSMENT'!$C$523:$P$528,7,FALSE)","v":{"$error":"#N/A"}},{"$f":"VLOOKUP('BUILD ASSESSMENT'!$O$468,'BUILD ASSESSMENT'!$C$523:$P$528,9,FALSE)","v":{"$error":"#N/A"}},{"$f":"VLOOKUP('BUILD ASSESSMENT'!$O$468,'BUILD ASSESSMENT'!$C$523:$P$528,11,FALSE)","v":{"$error":"#N/A"}},{"$f":"VLOOKUP('BUILD ASSESSMENT'!$O$468,'BUILD ASSESSMENT'!$C$523:$P$528,13,FALSE)","v":{"$error":"#N/A"}},{"$f":"IFERROR(HLOOKUP(TRUE,R632:W633,2,FALSE),0)","v":0},false,false,false,false,false,false,null,null,null,null,null,null,null,null,{"$f":"IF(AND($C632<>\"\",'BUILD ASSESSMENT'!$O$468<>\"Yes/No\"),1,0)","v":0}]
[null,null,null,null,null,null,null,null,null,null,null,null,null,null,null,null,null,1,2,3,4,5,6,null,null,null,null,null,null,null,null,{"$f":"IF(AND($C632<>\"\",'BUILD ASSESSMENT'!$O$468<>\"Yes/No\"),1,0)","v":0}]
[null,null,null,null,null,null,null,null,null,null,null,null,null,null,null,null,null,null,null,null,null,null,null,null,null,null,null,null,null,null,null,{"$f":"IF(AND($C632<>\"\",'BUILD ASSESSMENT'!$O$468<>\"Yes/No\"),1,0)","v":0}]
[null,null,{"$f":"IF('BUILD ASSESSMENT'!$C$468=\"\",\"\",'BUILD ASSESSMENT'!$C$468)","v":""},null,null,null,null,null,null,null,null,null,null,null,"No","Yes",{"$f":"IFERROR(HLOOKUP(TRUE,R635:W636,2,FALSE),0)","v":0},false,null,null,null,null,false,null,null,null,null,null,null,null,null,{"$f":"IF(AND($C$635<>\"\",'BUILD ASSESSMENT'!$O$468=\"Yes/No\"),1,0)","v":0}]
[null,null,null,null,null,null,null,null,null,null,null,null,null,null,null,null,null,1,2,3,4,5,6,null,null,null,null,null,null,null,null,{"$f":"IF(AND($C$635<>\"\",'BUILD ASSESSMENT'!$O$468=\"Yes/No\"),1,0)","v":0}]
[null,null,null,null,null,null,null,null,null,null,null,null,null,null,null,null,null,null,null,null,null,null,null,null,null,null,null,null,null,null,null,{"$f":"IF(AND($C$635<>\"\",'BUILD ASSESSMENT'!$O$468=\"Yes/No\"),1,0)","v":0}]
[null,null,{"$f":"IF('BUILD ASSESSMENT'!$C$469=\"\",\"\",'BUILD ASSESSMENT'!$C$469)","v":""},null,null,null,null,null,null,null,{"$f":"VLOOKUP('BUILD ASSESSMENT'!$O$469,'BUILD ASSESSMENT'!$C$523:$P$528,3,FALSE)","v":{"$error":"#N/A"}},{"$f":"VLOOKUP('BUILD ASSESSMENT'!$O$469,'BUILD ASSESSMENT'!$C$523:$P$528,5,FALSE)","v":{"$error":"#N/A"}},{"$f":"VLOOKUP('BUILD ASSESSMENT'!$O$469,'BUILD ASSESSMENT'!$C$523:$P$528,7,FALSE)","v":{"$error":"#N/A"}},{"$f":"VLOOKUP('BUILD ASSESSMENT'!$O$469,'BUILD ASSESSMENT'!$C$523:$P$528,9,FALSE)","v":{"$error":"#N/A"}},{"$f":"VLOOKUP('BUILD ASSESSMENT'!$O$469,'BUILD ASSESSMENT'!$C$523:$P$528,11,FALSE)","v":{"$error":"#N/A"}},{"$f":"VLOOKUP('BUILD ASSESSMENT'!$O$469,'BUILD ASSESSMENT'!$C$523:$P$528,13,FALSE)","v":{"$error":"#N/A"}},{"$f":"IFERROR(HLOOKUP(TRUE,R638:W639,2,FALSE),0)","v":0},false,false,false,false,false,false,null,null,null,null,null,null,null,null,{"$f":"IF(AND($C$638<>\"\",'BUILD ASSESSMENT'!$O$469<>\"Yes/No\"),1,0)","v":0}]
[null,null,null,null,null,null,null,null,null,null,null,null,null,null,null,null,null,1,2,3,4,5,6,null,null,null,null,null,null,null,null,{"$f":"IF(AND($C$638<>\"\",'BUILD ASSESSMENT'!$O$469<>\"Yes/No\"),1,0)","v":0}]
[null,null,null,null,null,null,null,null,null,null,null,null,null,null,null,null,null,null,null,null,null,null,null,null,null,null,null,null,null,null,null,{"$f":"IF(AND($C$638<>\"\",'BUILD ASSESSMENT'!$O$469<>\"Yes/No\"),1,0)","v":0}]
[null,null,{"$f":"IF('BUILD ASSESSMENT'!$C$469=\"\",\"\",'BUILD ASSESSMENT'!$C$469)","v":""},null,null,null,null,null,null,null,null,null,null,null,"No","Yes",{"$f":"IFERROR(HLOOKUP(TRUE,R641:W642,2,FALSE),0)","v":0},false,null,null,null,null,false,null,null,null,null,null,null,null,null,{"$f":"IF(AND($C$641<>\"\",'BUILD ASSESSMENT'!$O$469=\"Yes/No\"),1,0)","v":0}]
[null,null,null,null,null,null,null,null,null,null,null,null,null,null,null,null,null,1,2,3,4,5,6,null,null,null,null,null,null,null,null,{"$f":"IF(AND($C$641<>\"\",'BUILD ASSESSMENT'!$O$469=\"Yes/No\"),1,0)","v":0}]
[null,null,null,null,null,null,null,null,null,null,null,null,null,null,null,null,null,null,null,null,null,null,null,null,null,null,null,null,null,null,null,{"$f":"IF(AND($C$641<>\"\",'BUILD ASSESSMENT'!$O$469=\"Yes/No\"),1,0)","v":0}]
[null,null,{"$f":"IF('BUILD ASSESSMENT'!$C$470=\"\",\"\",'BUILD ASSESSMENT'!$C$470)","v":""},null,null,null,null,null,null,null,{"$f":"VLOOKUP('BUILD ASSESSMENT'!$O$470,'BUILD ASSESSMENT'!$C$523:$P$528,3,FALSE)","v":{"$error":"#N/A"}},{"$f":"VLOOKUP('BUILD ASSESSMENT'!$O$470,'BUILD ASSESSMENT'!$C$523:$P$528,5,FALSE)","v":{"$error":"#N/A"}},{"$f":"VLOOKUP('BUILD ASSESSMENT'!$O$470,'BUILD ASSESSMENT'!$C$523:$P$528,7,FALSE)","v":{"$error":"#N/A"}},{"$f":"VLOOKUP('BUILD ASSESSMENT'!$O$470,'BUILD ASSESSMENT'!$C$523:$P$528,9,FALSE)","v":{"$error":"#N/A"}},{"$f":"VLOOKUP('BUILD ASSESSMENT'!$O$470,'BUILD ASSESSMENT'!$C$523:$P$528,11,FALSE)","v":{"$error":"#N/A"}},{"$f":"VLOOKUP('BUILD ASSESSMENT'!$O$470,'BUILD ASSESSMENT'!$C$523:$P$528,13,FALSE)","v":{"$error":"#N/A"}},{"$f":"IFERROR(HLOOKUP(TRUE,R644:W645,2,FALSE),0)","v":0},false,false,false,false,false,false,null,null,null,null,null,null,null,null,{"$f":"IF(AND($C$644<>\"\",'BUILD ASSESSMENT'!$O$470<>\"Yes/No\"),1,0)","v":0}]
[null,null,null,null,null,null,null,null,null,null,null,null,null,null,null,null,null,1,2,3,4,5,6,null,null,null,null,null,null,null,null,{"$f":"IF(AND($C$644<>\"\",'BUILD ASSESSMENT'!$O$470<>\"Yes/No\"),1,0)","v":0}]
[null,null,null,null,null,null,null,null,null,null,null,null,null,null,null,null,null,null,null,null,null,null,null,null,null,null,null,null,null,null,null,{"$f":"IF(AND($C$644<>\"\",'BUILD ASSESSMENT'!$O$470<>\"Yes/No\"),1,0)","v":0}]
[null,null,{"$f":"IF('BUILD ASSESSMENT'!$C$470=\"\",\"\",'BUILD ASSESSMENT'!$C$470)","v":""},null,null,null,null,null,null,null,null,null,null,null,"No","Yes",{"$f":"IFERROR(HLOOKUP(TRUE,R647:W648,2,FALSE),0)","v":0},false,null,null,null,null,false,null,null,null,null,null,null,null,null,{"$f":"IF(AND($C$647<>\"\",'BUILD ASSESSMENT'!$O$470=\"Yes/No\"),1,0)","v":0}]
[null,null,null,null,null,null,null,null,null,null,null,null,null,null,null,null,null,1,2,3,4,5,6,null,null,null,null,null,null,null,null,{"$f":"IF(AND($C$647<>\"\",'BUILD ASSESSMENT'!$O$470=\"Yes/No\"),1,0)","v":0}]
[null,null,null,null,null,null,null,null,null,null,null,null,null,null,null,null,null,null,null,null,null,null,null,null,null,null,null,null,null,null,null,{"$f":"IF(AND($C$647<>\"\",'BUILD ASSESSMENT'!$O$470=\"Yes/No\"),1,0)","v":0}]
[null,null,{"$f":"IF('BUILD ASSESSMENT'!$C$471=\"\",\"\",'BUILD ASSESSMENT'!$C$471)","v":""},null,null,null,null,null,null,null,{"$f":"VLOOKUP('BUILD ASSESSMENT'!$O$471,'BUILD ASSESSMENT'!$C$523:$P$528,3,FALSE)","v":{"$error":"#N/A"}},{"$f":"VLOOKUP('BUILD ASSESSMENT'!$O$471,'BUILD ASSESSMENT'!$C$523:$P$528,5,FALSE)","v":{"$error":"#N/A"}},{"$f":"VLOOKUP('BUILD ASSESSMENT'!$O$471,'BUILD ASSESSMENT'!$C$523:$P$528,7,FALSE)","v":{"$error":"#N/A"}},{"$f":"VLOOKUP('BUILD ASSESSMENT'!$O$471,'BUILD ASSESSMENT'!$C$523:$P$528,9,FALSE)","v":{"$error":"#N/A"}},{"$f":"VLOOKUP('BUILD ASSESSMENT'!$O$471,'BUILD ASSESSMENT'!$C$523:$P$528,11,FALSE)","v":{"$error":"#N/A"}},{"$f":"VLOOKUP('BUILD ASSESSMENT'!$O$471,'BUILD ASSESSMENT'!$C$523:$P$528,13,FALSE)","v":{"$error":"#N/A"}},{"$f":"IFERROR(HLOOKUP(TRUE,R650:W651,2,FALSE),0)","v":0},false,false,false,false,false,false,null,null,null,null,null,null,null,null,{"$f":"IF(AND($C$650<>\"\",'BUILD ASSESSMENT'!$O$471<>\"Yes/No\"),1,0)","v":0}]
[null,null,null,null,null,null,null,null,null,null,null,null,null,null,null,null,null,1,2,3,4,5,6,null,null,null,null,null,null,null,null,{"$f":"IF(AND($C$650<>\"\",'BUILD ASSESSMENT'!$O$471<>\"Yes/No\"),1,0)","v":0}]
[null,null,null,null,null,null,null,null,null,null,null,null,null,null,null,null,null,null,null,null,null,null,null,null,null,null,null,null,null,null,null,{"$f":"IF(AND($C$650<>\"\",'BUILD ASSESSMENT'!$O$471<>\"Yes/No\"),1,0)","v":0}]
[null,null,{"$f":"IF('BUILD ASSESSMENT'!$C$471=\"\",\"\",'BUILD ASSESSMENT'!$C$471)","v":""},null,null,null,null,null,null,null,null,null,null,null,"No","Yes",{"$f":"IFERROR(HLOOKUP(TRUE,R653:W654,2,FALSE),0)","v":0},false,null,null,null,null,false,null,null,null,null,null,null,null,null,{"$f":"IF(AND($C$653<>\"\",'BUILD ASSESSMENT'!$O$471=\"Yes/No\"),1,0)","v":0}]
[null,null,null,null,null,null,null,null,null,null,null,null,null,null,null,null,null,1,2,3,4,5,6,null,null,null,null,null,null,null,null,{"$f":"IF(AND($C$653<>\"\",'BUILD ASSESSMENT'!$O$471=\"Yes/No\"),1,0)","v":0}]
[null,null,null,null,null,null,null,null,null,null,null,null,null,null,null,null,null,null,null,null,null,null,null,null,null,null,null,null,null,null,null,{"$f":"IF(AND($C$653<>\"\",'BUILD ASSESSMENT'!$O$471=\"Yes/No\"),1,0)","v":0}]
[null,null,{"$f":"IF('BUILD ASSESSMENT'!$C$472=\"\",\"\",'BUILD ASSESSMENT'!$C$472)","v":""},null,null,null,null,null,null,null,{"$f":"VLOOKUP('BUILD ASSESSMENT'!$O$472,'BUILD ASSESSMENT'!$C$523:$P$528,3,FALSE)","v":{"$error":"#N/A"}},{"$f":"VLOOKUP('BUILD ASSESSMENT'!$O$472,'BUILD ASSESSMENT'!$C$523:$P$528,5,FALSE)","v":{"$error":"#N/A"}},{"$f":"VLOOKUP('BUILD ASSESSMENT'!$O$472,'BUILD ASSESSMENT'!$C$523:$P$528,7,FALSE)","v":{"$error":"#N/A"}},{"$f":"VLOOKUP('BUILD ASSESSMENT'!$O$472,'BUILD ASSESSMENT'!$C$523:$P$528,9,FALSE)","v":{"$error":"#N/A"}},{"$f":"VLOOKUP('BUILD ASSESSMENT'!$O$472,'BUILD ASSESSMENT'!$C$523:$P$528,11,FALSE)","v":{"$error":"#N/A"}},{"$f":"VLOOKUP('BUILD ASSESSMENT'!$O$472,'BUILD ASSESSMENT'!$C$523:$P$528,13,FALSE)","v":{"$error":"#N/A"}},{"$f":"IFERROR(HLOOKUP(TRUE,R656:W657,2,FALSE),0)","v":0},false,false,false,false,false,false,null,null,null,null,null,null,null,null,{"$f":"IF(AND($C$656<>\"\",'BUILD ASSESSMENT'!$O$472<>\"Yes/No\"),1,0)","v":0}]
[null,null,null,null,null,null,null,null,null,null,null,null,null,null,null,null,null,1,2,3,4,5,6,null,null,null,null,null,null,null,null,{"$f":"IF(AND($C$656<>\"\",'BUILD ASSESSMENT'!$O$472<>\"Yes/No\"),1,0)","v":0}]
[null,null,null,null,null,null,null,null,null,null,null,null,null,null,null,null,null,null,null,null,null,null,null,null,null,null,null,null,null,null,null,{"$f":"IF(AND($C$656<>\"\",'BUILD ASSESSMENT'!$O$472<>\"Yes/No\"),1,0)","v":0}]
[null,null,{"$f":"IF('BUILD ASSESSMENT'!$C$472=\"\",\"\",'BUILD ASSESSMENT'!$C$472)","v":""},null,null,null,null,null,null,null,null,null,null,null,"No","Yes",{"$f":"IFERROR(HLOOKUP(TRUE,R659:W660,2,FALSE),0)","v":0},false,null,null,null,null,false,null,null,null,null,null,null,null,null,{"$f":"IF(AND($C$660<>\"\",'BUILD ASSESSMENT'!$O$472=\"Yes/No\"),1,0)","v":0}]
[null,null,null,null,null,null,null,null,null,null,null,null,null,null,null,null,null,1,2,3,4,5,6,null,null,null,null,null,null,null,null,{"$f":"IF(AND($C$660<>\"\",'BUILD ASSESSMENT'!$O$472=\"Yes/No\"),1,0)","v":0}]
[null,null,null,null,null,null,null,null,null,null,null,null,null,null,null,null,null,null,null,null,null,null,null,null,null,null,null,null,null,null,null,{"$f":"IF(AND($C$660<>\"\",'BUILD ASSESSMENT'!$O$472=\"Yes/No\"),1,0)","v":0}]
[null,null,{"$f":"IF('BUILD ASSESSMENT'!$C$473=\"\",\"\",'BUILD ASSESSMENT'!$C$473)","v":""},null,null,null,null,null,null,null,{"$f":"VLOOKUP('BUILD ASSESSMENT'!$O$473,'BUILD ASSESSMENT'!$C$523:$P$528,3,FALSE)","v":{"$error":"#N/A"}},{"$f":"VLOOKUP('BUILD ASSESSMENT'!$O$473,'BUILD ASSESSMENT'!$C$523:$P$528,5,FALSE)","v":{"$error":"#N/A"}},{"$f":"VLOOKUP('BUILD ASSESSMENT'!$O$473,'BUILD ASSESSMENT'!$C$523:$P$528,7,FALSE)","v":{"$error":"#N/A"}},{"$f":"VLOOKUP('BUILD ASSESSMENT'!$O$473,'BUILD ASSESSMENT'!$C$523:$P$528,9,FALSE)","v":{"$error":"#N/A"}},{"$f":"VLOOKUP('BUILD ASSESSMENT'!$O$473,'BUILD ASSESSMENT'!$C$523:$P$528,11,FALSE)","v":{"$error":"#N/A"}},{"$f":"VLOOKUP('BUILD ASSESSMENT'!$O$473,'BUILD ASSESSMENT'!$C$523:$P$528,13,FALSE)","v":{"$error":"#N/A"}},{"$f":"IFERROR(HLOOKUP(TRUE,R662:W663,2,FALSE),0)","v":0},false,false,false,false,false,false,null,null,null,null,null,null,null,null,{"$f":"IF(AND($C$662<>\"\",'BUILD ASSESSMENT'!$O$473<>\"Yes/No\"),1,0)","v":0}]
[null,null,null,null,null,null,null,null,null,null,null,null,null,null,null,null,null,1,2,3,4,5,6,null,null,null,null,null,null,null,null,{"$f":"IF(AND($C$662<>\"\",'BUILD ASSESSMENT'!$O$473<>\"Yes/No\"),1,0)","v":0}]
[null,null,null,null,null,null,null,null,null,null,null,null,null,null,null,null,null,null,null,null,null,null,null,null,null,null,null,null,null,null,null,{"$f":"IF(AND($C$662<>\"\",'BUILD ASSESSMENT'!$O$473<>\"Yes/No\"),1,0)","v":0}]
[null,null,{"$f":"IF('BUILD ASSESSMENT'!$C$473=\"\",\"\",'BUILD ASSESSMENT'!$C$473)","v":""},null,null,null,null,null,null,null,null,null,null,null,"No","Yes",{"$f":"IFERROR(HLOOKUP(TRUE,R665:W666,2,FALSE),0)","v":0},false,null,null,null,null,false,null,null,null,null,null,null,null,null,{"$f":"IF(AND($C$665<>\"\",'BUILD ASSESSMENT'!$O$473=\"Yes/No\"),1,0)","v":0}]
[null,null,null,null,null,null,null,null,null,null,null,null,null,null,null,null,null,1,2,3,4,5,6,null,null,null,null,null,null,null,null,{"$f":"IF(AND($C$665<>\"\",'BUILD ASSESSMENT'!$O$473=\"Yes/No\"),1,0)","v":0}]
[null,null,null,null,null,null,null,null,null,null,null,null,null,null,null,null,null,null,null,null,null,null,null,null,null,null,null,null,null,null,null,{"$f":"IF(AND($C$665<>\"\",'BUILD ASSESSMENT'!$O$473=\"Yes/No\"),1,0)","v":0}]
[null,null,{"$f":"IF('BUILD ASSESSMENT'!$C$474=\"\",\"\",'BUILD ASSESSMENT'!$C$474)","v":""},null,null,null,null,null,null,null,{"$f":"VLOOKUP('BUILD ASSESSMENT'!$O$474,'BUILD ASSESSMENT'!$C$523:$P$528,3,FALSE)","v":{"$error":"#N/A"}},{"$f":"VLOOKUP('BUILD ASSESSMENT'!$O$474,'BUILD ASSESSMENT'!$C$523:$P$528,5,FALSE)","v":{"$error":"#N/A"}},{"$f":"VLOOKUP('BUILD ASSESSMENT'!$O$474,'BUILD ASSESSMENT'!$C$523:$P$528,7,FALSE)","v":{"$error":"#N/A"}},{"$f":"VLOOKUP('BUILD ASSESSMENT'!$O$474,'BUILD ASSESSMENT'!$C$523:$P$528,9,FALSE)","v":{"$error":"#N/A"}},{"$f":"VLOOKUP('BUILD ASSESSMENT'!$O$474,'BUILD ASSESSMENT'!$C$523:$P$528,11,FALSE)","v":{"$error":"#N/A"}},{"$f":"VLOOKUP('BUILD ASSESSMENT'!$O$474,'BUILD ASSESSMENT'!$C$523:$P$528,13,FALSE)","v":{"$error":"#N/A"}},{"$f":"IFERROR(HLOOKUP(TRUE,R668:W669,2,FALSE),0)","v":0},false,false,false,false,false,false,null,null,null,null,null,null,null,null,{"$f":"IF(AND($C$668<>\"\",'BUILD ASSESSMENT'!$O$474<>\"Yes/No\"),1,0)","v":0}]
[null,null,null,null,null,null,null,null,null,null,null,null,null,null,null,null,null,1,2,3,4,5,6,null,null,null,null,null,null,null,null,{"$f":"IF(AND($C$668<>\"\",'BUILD ASSESSMENT'!$O$474<>\"Yes/No\"),1,0)","v":0}]
[null,null,null,null,null,null,null,null,null,null,null,null,null,null,null,null,null,null,null,null,null,null,null,null,null,null,null,null,null,null,null,{"$f":"IF(AND($C$668<>\"\",'BUILD ASSESSMENT'!$O$474<>\"Yes/No\"),1,0)","v":0}]
[null,null,{"$f":"IF('BUILD ASSESSMENT'!$C$474=\"\",\"\",'BUILD ASSESSMENT'!$C$474)","v":""},null,null,null,null,null,null,null,null,null,null,null,"No","Yes",{"$f":"IFERROR(HLOOKUP(TRUE,R671:W672,2,FALSE),0)","v":0},false,null,null,null,null,false,null,null,null,null,null,null,null,null,{"$f":"IF(AND($C$671<>\"\",'BUILD ASSESSMENT'!$O$474=\"Yes/No\"),1,0)","v":0}]
[null,null,null,null,null,null,null,null,null,null,null,null,null,null,null,null,null,1,2,3,4,5,6,null,null,null,null,null,null,null,null,{"$f":"IF(AND($C$671<>\"\",'BUILD ASSESSMENT'!$O$474=\"Yes/No\"),1,0)","v":0}]
[null,null,null,null,null,null,null,null,null,null,null,null,null,null,null,null,null,null,null,null,null,null,null,null,null,null,null,null,null,null,null,{"$f":"IF(AND($C$671<>\"\",'BUILD ASSESSMENT'!$O$474=\"Yes/No\"),1,0)","v":0}]
[null,null,{"$f":"IF('BUILD ASSESSMENT'!$C$475=\"\",\"\",'BUILD ASSESSMENT'!$C$475)","v":""},null,null,null,null,null,null,null,{"$f":"VLOOKUP('BUILD ASSESSMENT'!$O$475,'BUILD ASSESSMENT'!$C$523:$P$528,3,FALSE)","v":{"$error":"#N/A"}},{"$f":"VLOOKUP('BUILD ASSESSMENT'!$O$475,'BUILD ASSESSMENT'!$C$523:$P$528,5,FALSE)","v":{"$error":"#N/A"}},{"$f":"VLOOKUP('BUILD ASSESSMENT'!$O$475,'BUILD ASSESSMENT'!$C$523:$P$528,7,FALSE)","v":{"$error":"#N/A"}},{"$f":"VLOOKUP('BUILD ASSESSMENT'!$O$475,'BUILD ASSESSMENT'!$C$523:$P$528,9,FALSE)","v":{"$error":"#N/A"}},{"$f":"VLOOKUP('BUILD ASSESSMENT'!$O$475,'BUILD ASSESSMENT'!$C$523:$P$528,11,FALSE)","v":{"$error":"#N/A"}},{"$f":"VLOOKUP('BUILD ASSESSMENT'!$O$475,'BUILD ASSESSMENT'!$C$523:$P$528,13,FALSE)","v":{"$error":"#N/A"}},{"$f":"IFERROR(HLOOKUP(TRUE,R674:W675,2,FALSE),0)","v":0},false,false,false,false,false,false,null,null,null,null,null,null,null,null,{"$f":"IF(AND($C$674<>\"\",'BUILD ASSESSMENT'!$O$475<>\"Yes/No\"),1,0)","v":0}]
[null,null,null,null,null,null,null,null,null,null,null,null,null,null,null,null,null,1,2,3,4,5,6,null,null,null,null,null,null,null,null,{"$f":"IF(AND($C$674<>\"\",'BUILD ASSESSMENT'!$O$475<>\"Yes/No\"),1,0)","v":0}]
[null,null,null,null,null,null,null,null,null,null,null,null,null,null,null,null,null,null,null,null,null,null,null,null,null,null,null,null,null,null,null,{"$f":"IF(AND($C$674<>\"\",'BUILD ASSESSMENT'!$O$475<>\"Yes/No\"),1,0)","v":0}]
[null,null,{"$f":"IF('BUILD ASSESSMENT'!$C$475=\"\",\"\",'BUILD ASSESSMENT'!$C$475)","v":""},null,null,null,null,null,null,null,null,null,null,null,"No","Yes",{"$f":"IFERROR(HLOOKUP(TRUE,R677:W678,2,FALSE),0)","v":0},false,null,null,null,null,false,null,null,null,null,null,null,null,null,{"$f":"IF(AND($C$677<>\"\",'BUILD ASSESSMENT'!$O$475=\"Yes/No\"),1,0)","v":0}]
[null,null,null,null,null,null,null,null,null,null,null,null,null,null,null,null,null,1,2,3,4,5,6,null,null,null,null,null,null,null,null,{"$f":"IF(AND($C$677<>\"\",'BUILD ASSESSMENT'!$O$475=\"Yes/No\"),1,0)","v":0}]
[null,null,null,null,null,null,null,null,null,null,null,null,null,null,null,null,null,null,null,null,null,null,null,null,null,null,null,null,null,null,null,{"$f":"IF(AND($C$677<>\"\",'BUILD ASSESSMENT'!$O$475=\"Yes/No\"),1,0)","v":0}]
[null,null,{"$f":"IF('BUILD ASSESSMENT'!$C$476=\"\",\"\",'BUILD ASSESSMENT'!$C$476)","v":""},null,null,null,null,null,null,null,{"$f":"VLOOKUP('BUILD ASSESSMENT'!$O$476,'BUILD ASSESSMENT'!$C$523:$P$528,3,FALSE)","v":{"$error":"#N/A"}},{"$f":"VLOOKUP('BUILD ASSESSMENT'!$O$476,'BUILD ASSESSMENT'!$C$523:$P$528,5,FALSE)","v":{"$error":"#N/A"}},{"$f":"VLOOKUP('BUILD ASSESSMENT'!$O$476,'BUILD ASSESSMENT'!$C$523:$P$528,7,FALSE)","v":{"$error":"#N/A"}},{"$f":"VLOOKUP('BUILD ASSESSMENT'!$O$476,'BUILD ASSESSMENT'!$C$523:$P$528,9,FALSE)","v":{"$error":"#N/A"}},{"$f":"VLOOKUP('BUILD ASSESSMENT'!$O$476,'BUILD ASSESSMENT'!$C$523:$P$528,11,FALSE)","v":{"$error":"#N/A"}},{"$f":"VLOOKUP('BUILD ASSESSMENT'!$O$476,'BUILD ASSESSMENT'!$C$523:$P$528,13,FALSE)","v":{"$error":"#N/A"}},{"$f":"IFERROR(HLOOKUP(TRUE,R680:W681,2,FALSE),0)","v":0},false,false,false,false,false,false,null,null,null,null,null,null,null,null,{"$f":"IF(AND($C$680<>\"\",'BUILD ASSESSMENT'!$O$476<>\"Yes/No\"),1,0)","v":0}]
[null,null,null,null,null,null,null,null,null,null,null,null,null,null,null,null,null,1,2,3,4,5,6,null,null,null,null,null,null,null,null,{"$f":"IF(AND($C$680<>\"\",'BUILD ASSESSMENT'!$O$476<>\"Yes/No\"),1,0)","v":0}]
[null,null,null,null,null,null,null,null,null,null,null,null,null,null,null,null,null,null,null,null,null,null,null,null,null,null,null,null,null,null,null,{"$f":"IF(AND($C$680<>\"\",'BUILD ASSESSMENT'!$O$476<>\"Yes/No\"),1,0)","v":0}]
[null,null,{"$f":"IF('BUILD ASSESSMENT'!$C$476=\"\",\"\",'BUILD ASSESSMENT'!$C$476)","v":""},null,null,null,null,null,null,null,null,null,null,null,"No","Yes",{"$f":"IFERROR(HLOOKUP(TRUE,R683:W684,2,FALSE),0)","v":0},false,null,null,null,null,false,null,null,null,null,null,null,null,null,{"$f":"IF(AND($C$683<>\"\",'BUILD ASSESSMENT'!$O$476=\"Yes/No\"),1,0)","v":0}]
[null,null,null,null,null,null,null,null,null,null,null,null,null,null,null,null,null,1,2,3,4,5,6,null,null,null,null,null,null,null,null,{"$f":"IF(AND($C$683<>\"\",'BUILD ASSESSMENT'!$O$476=\"Yes/No\"),1,0)","v":0}]
[null,null,null,null,null,null,null,null,null,null,null,null,null,null,null,null,null,null,null,null,null,null,null,null,null,null,null,null,null,null,null,{"$f":"IF(AND($C$683<>\"\",'BUILD ASSESSMENT'!$O$476=\"Yes/No\"),1,0)","v":0}]
[null,null,{"$f":"IF('BUILD ASSESSMENT'!$C$477=\"\",\"\",'BUILD ASSESSMENT'!$C$477)","v":""},null,null,null,null,null,null,null,{"$f":"VLOOKUP('BUILD ASSESSMENT'!$O$477,'BUILD ASSESSMENT'!$C$523:$P$528,3,FALSE)","v":{"$error":"#N/A"}},{"$f":"VLOOKUP('BUILD ASSESSMENT'!$O$477,'BUILD ASSESSMENT'!$C$523:$P$528,5,FALSE)","v":{"$error":"#N/A"}},{"$f":"VLOOKUP('BUILD ASSESSMENT'!$O$477,'BUILD ASSESSMENT'!$C$523:$P$528,7,FALSE)","v":{"$error":"#N/A"}},{"$f":"VLOOKUP('BUILD ASSESSMENT'!$O$477,'BUILD ASSESSMENT'!$C$523:$P$528,9,FALSE)","v":{"$error":"#N/A"}},{"$f":"VLOOKUP('BUILD ASSESSMENT'!$O$477,'BUILD ASSESSMENT'!$C$523:$P$528,11,FALSE)","v":{"$error":"#N/A"}},{"$f":"VLOOKUP('BUILD ASSESSMENT'!$O$477,'BUILD ASSESSMENT'!$C$523:$P$528,13,FALSE)","v":{"$error":"#N/A"}},{"$f":"IFERROR(HLOOKUP(TRUE,R686:W687,2,FALSE),0)","v":0},false,false,false,false,false,false,null,null,null,null,null,null,null,null,{"$f":"IF(AND($C$686<>\"\",'BUILD ASSESSMENT'!$O$477<>\"Yes/No\"),1,0)","v":0}]
[null,null,null,null,null,null,null,null,null,null,null,null,null,null,null,null,null,1,2,3,4,5,6,null,null,null,null,null,null,null,null,{"$f":"IF(AND($C$686<>\"\",'BUILD ASSESSMENT'!$O$477<>\"Yes/No\"),1,0)","v":0}]
[null,null,null,null,null,null,null,null,null,null,null,null,null,null,null,null,null,null,null,null,null,null,null,null,null,null,null,null,null,null,null,{"$f":"IF(AND($C$686<>\"\",'BUILD ASSESSMENT'!$O$477<>\"Yes/No\"),1,0)","v":0}]
[null,null,{"$f":"IF('BUILD ASSESSMENT'!$C$477=\"\",\"\",'BUILD ASSESSMENT'!$C$477)","v":""},null,null,null,null,null,null,null,null,null,null,null,"No","Yes",{"$f":"IFERROR(HLOOKUP(TRUE,R689:W690,2,FALSE),0)","v":0},false,null,null,null,null,false,null,null,null,null,null,null,null,null,{"$f":"IF(AND($C$689<>\"\",'BUILD ASSESSMENT'!$O$477=\"Yes/No\"),1,0)","v":0}]
[null,null,null,null,null,null,null,null,null,null,null,null,null,null,null,null,null,1,2,3,4,5,6,null,null,null,null,null,null,null,null,{"$f":"IF(AND($C$689<>\"\",'BUILD ASSESSMENT'!$O$477=\"Yes/No\"),1,0)","v":0}]
[null,null,null,null,null,null,null,null,null,null,null,null,null,null,null,null,null,null,null,null,null,null,null,null,null,null,null,null,null,null,null,{"$f":"IF(AND($C$689<>\"\",'BUILD ASSESSMENT'!$O$477=\"Yes/No\"),1,0)","v":0}]
[null,null,null,null,null,null,null,null,null,null,null,null,null,null,null,null,null,null,null,null,null,null,null,null,null,null,null,null,null,null,null,{"$f":"IF($C$693<>\"\",1,0)","v":0}]
[null,null,{"$f":"IF('BUILD ASSESSMENT'!C503<>\"\",'BUILD ASSESSMENT'!C503,\"\")","v":""},null,null,null,null,null,null,null,null,null,null,null,null,null,null,null,null,null,null,null,null,null,null,null,null,null,null,null,null,{"$f":"IF($C$693<>\"\",1,0)","v":0}]
[null,null,null,null,null,null,null,null,null,null,null,null,null,null,null,null,null,null,null,null,null,null,null,null,null,null,null,null,null,null,null,{"$f":"IF($C$693<>\"\",1,0)","v":0}]
[null,null,null,null,null,null,null,null,null,null,null,null,null,null,null,null,null,null,null,null,null,null,null,null,null,null,null,null,null,null,null,{"$f":"IF($C$693<>\"\",1,0)","v":0}]
[null,null,null,null,null,null,null,null,null,null,null,null,null,null,null,null,null,null,null,null,null,null,null,null,null,null,null,null,null,null,null,{"$f":"IF($C$693<>\"\",1,0)","v":0}]
[null,null,null,null,null,null,null,null,null,null,null,null,null,null,null,null,null,null,null,null,null,null,null,null,null,null,null,null,null,null,null,{"$f":"IF('BUILD ASSESSMENT'!$P$578=\"yes\",1,0)","v":0}]
[null,null,{"$f":"IF('FULL ASSESSMENT'!Y19=\"Critical\",\"The Position is Identified as a Critical Role\",IF('FULL ASSESSMENT'!Y19=\"Not Critical\",\"The Positions is NOT Identified as a Critical Role\",\"\"))","v":"The Position is Identified as a Critical Role"},null,null,null,null,null,null,null,null,null,null,null,null,null,null,null,null,null,null,null,null,null,null,null,null,null,null,null,null,{"$f":"IF('BUILD ASSESSMENT'!$P$578=\"yes\",1,0)","v":0}]
[null,null,null,null,null,null,null,null,null,null,null,null,null,null,null,null,null,null,null,null,null,null,null,null,null,null,null,null,null,null,null,{"$f":"IF('BUILD ASSESSMENT'!$P$578=\"yes\",1,0)","v":0}]
[null,null,null,null,null,null,null,null,null,null,null,null,null,null,null,null,null,null,null,null,null,null,null,null,null,null,null,null,null,null,null,1]
[null,null,null,null,null,null,null,null,null,null,null,null,null,null,null,null,null,null,null,null,null,null,null,null,null,null,null,null,null,null,null,{"$f":"IF('DATA COLLECTION'!$N$22=\"Self\",1,0)","v":0}]
[null,null,null,null,null,null,null,null,null,null,null,null,null,null,null,null,null,null,null,null,null,null,null,null,null,null,null,null,null,null,null,{"$f":"IF('DATA COLLECTION'!$N$22=\"Self\",1,0)","v":0}]
[null,null,null,null,null,null,null,null,null,null,null,null,null,null,null,null,null,null,null,null,null,null,null,null,null,null,null,null,null,null,null,{"$f":"IF('DATA COLLECTION'!$N$22=\"Self\",1,0)","v":0}]
[null,null,null,null,null,null,null,null,null,null,null,null,null,null,null,null,null,null,null,null,null,null,null,null,null,null,null,null,null,null,null,{"$f":"IF('DATA COLLECTION'!$N$22=\"Self\",1,0)","v":0}]
[null,null,null,null,null,null,null,null,null,null,null,null,null,null,null,null,null,null,null,null,null,null,null,null,null,null,null,null,null,null,null,{"$f":"IF('DATA COLLECTION'!$N$22=\"Self\",1,0)","v":0}]
[null,null,null,null,null,null,null,null,null,null,null,null,null,null,null,null,null,null,null,null,null,null,null,null,null,null,null,null,null,null,null,{"$f":"IF('DATA COLLECTION'!$N$22=\"Self\",1,0)","v":0}]
[null,null,null,null,null,null,null,null,null,null,null,null,null,null,null,null,null,null,null,null,null,null,null,null,null,null,null,null,null,null,null,{"$f":"IF('DATA COLLECTION'!$N$22=\"Self\",1,0)","v":0}]

{"sheet":"CRITICAL ROLES SUMMARY","index":5,"n_rows":289,"n_cols":75,"rows_kept":289,"cut":false,"hidden":false,"merged":[[5,2,7,14],[8,2,11,14],[18,1,19,12],[18,13,19,15],[69,1,70,15],[13,3,15,9],[20,1,21,15],[23,1,24,15],[25,11,26,15],[25,1,26,9],[111,10,111,15],[72,2,73,15],[81,2,82,15],[27,1,27,3],[45,4,46,5],[45,1,46,2],[47,1,48,2],[47,4,48,5],[79,10,79,15],[74,10,74,15],[75,10,75,15],[76,10,76,15],[77,10,77,15],[78,10,78,15],[90,10,90,15],[91,10,91,15],[95,10,95,15],[96,10,96,15],[87,2,88,15],[93,2,94,15],[115,10,115,15],[122,10,122,15],[123,10,123,15],[124,10,124,15],[125,10,125,15],[83,10,83,15],[84,10,84,15],[85,10,85,15],[89,10,89,15],[103,2,104,15],[113,2,114,15],[120,2,121,15],[117,3,118,14],[97,10,97,15],[98,10,98,15],[99,10,99,15],[100,10,100,15],[101,10,101,15],[105,10,105,15],[106,10,106,15],[107,10,107,15],[108,10,108,15],[109,10,109,15],[110,10,110,15],[135,10,135,15],[136,10,136,15],[137,10,137,15],[138,10,138,15],[139,10,139,15],[129,10,129,15],[133,10,133,15],[134,10,134,15],[127,2,128,15],[131,2,132,15],[145,10,145,15],[146,10,146,15],[147,10,147,15],[148,10,148,15],[149,10,149,15],[140,10,140,15],[141,10,141,15],[142,10,142,15],[143,10,143,15],[144,10,144,15],[159,12,159,15],[160,1,160,2],[160,3,160,8],[160,9,160,11],[160,12,160,15],[264,1,265,15],[272,2,273,15],[274,2,276,15],[150,10,150,15],[151,10,151,15],[152,10,152,15],[262,1,263,12],[262,13,263,15],[155,1,156,15],[158,1,158,2],[158,3,158,8],[158,9,158,11],[159,1,159,2],[159,3,159,8],[159,9,159,11],[158,12,158,15],[163,1,163,2],[163,3,163,8],[163,9,163,11],[163,12,163,15],[164,1,164,2],[164,3,164,8],[164,9,164,11],[164,12,164,15],[161,1,161,2],[161,3,161,8],[161,9,161,11],[161,12,161,15],[162,1,162,2],[162,3,162,8],[162,9,162,11],[162,12,162,15],[167,1,167,2],[167,3,167,8],[167,9,167,11],[167,12,167,15],[168,1,168,2],[168,3,168,8],[168,9,168,11],[168,12,168,15],[165,1,165,2],[165,3,165,8],[165,9,165,11],[165,12,165,15],[166,1,166,2],[166,3,166,8],[166,9,166,11],[166,12,166,15],[171,1,171,2],[171,3,171,8],[171,9,171,11],[171,12,171,15],[172,1,172,2],[172,3,172,8],[172,9,172,11],[172,12,172,15],[169,1,169,2],[169,3,169,8],[169,9,169,11],[169,12,169,15],[170,1,170,2],[170,3,170,8],[170,9,170,11],[170,12,170,15],[175,1,175,2],[175,3,175,8],[175,9,175,11],[175,12,175,15],[176,1,176,2],[176,3,176,8],[176,9,176,11],[176,12,176,15],[173,1,173,2],[173,3,173,8],[173,9,173,11],[173,12,173,15],[174,1,174,2],[174,3,174,8],[174,9,174,11],[174,12,174,15],[179,1,179,2],[179,3,179,8],[179,9,179,11],[179,12,179,15],[180,1,180,2],[180,3,180,8],[180,9,180,11],[180,12,180,15],[177,1,177,2],[177,3,177,8],[177,9,177,11],[177,12,177,15],[178,1,178,2],[178,3,178,8],[178,9,178,11],[178,12,178,15],[183,1,183,2],[183,3,183,8],[183,9,183,11],[183,12,183,15],[184,1,184,2],[184,3,184,8],[184,9,184,11],[184,12,184,15],[181,1,181,2],[181,3,181,8],[181,9,181,11],[181,12,181,15],[182,1,182,2],[182,3,182,8],[182,9,182,11],[182,12,182,15],[187,1,187,2],[187,3,187,8],[187,9,187,11],[187,12,187,15],[188,1,188,2],[188,3,188,8],[188,9,188,11],[188,12,188,15],[185,1,185,2],[185,3,185,8],[185,9,185,11],[185,12,185,15],[186,1,186,2],[186,3,186,8],[186,9,186,11],[186,12,186,15],[191,1,191,2],[191,3,191,8],[191,9,191,11],[191,12,191,15],[192,1,192,2],[192,3,192,8],[192,9,192,11],[192,12,192,15],[189,1,189,2],[189,3,189,8],[189,9,189,11],[189,12,189,15],[190,1,190,2],[190,3,190,8],[190,9,190,11],[190,12,190,15],[195,1,195,2],[195,3,195,8],[195,9,195,11],[195,12,195,15],[196,1,196,2],[196,3,196,8],[196,9,196,11],[196,12,196,15],[193,1,193,2],[193,3,193,8],[193,9,193,11],[193,12,193,15],[194,1,194,2],[194,3,194,8],[194,9,194,11],[194,12,194,15],[199,1,199,2],[199,3,199,8],[199,9,199,11],[199,12,199,15],[200,1,200,2],[200,3,200,8],[200,9,200,11],[200,12,200,15],[197,1,197,2],[197,3,197,8],[197,9,197,11],[197,12,197,15],[198,1,198,2],[198,3,198,8],[198,9,198,11],[198,12,198,15],[203,1,203,2],[203,3,203,8],[203,9,203,11],[203,12,203,15],[204,1,204,2],[204,3,204,8],[204,9,204,11],[204,12,204,15],[201,1,201,2],[201,3,201,8],[201,9,201,11],[201,12,201,15],[202,1,202,2],[202,3,202,8],[202,9,202,11],[202,12,202,15],[207,1,207,2],[207,3,207,8],[207,9,207,11],[207,12,207,15],[208,1,208,2],[208,3,208,8],[208,9,208,11],[208,12,208,15],[205,1,205,2],[205,3,205,8],[205,9,205,11],[205,12,205,15],[206,1,206,2],[206,3,206,8],[206,9,206,11],[206,12,206,15],[211,1,211,2],[211,3,211,8],[211,9,211,11],[211,12,211,15],[212,1,212,2],[212,3,212,8],[212,9,212,11],[212,12,212,15],[209,1,209,2],[209,3,209,8],[209,9,209,11],[209,12,209,15],[210,1,210,2],[210,3,210,8],[210,9,210,11],[210,12,210,15],[215,1,215,2],[215,3,215,8],[215,9,215,11],[215,12,215,15],[216,1,216,2],[216,3,216,8],[216,9,216,11],[216,12,216,15],[213,1,213,2],[213,3,213,8],[213,9,213,11],[213,12,213,15],[214,1,214,2],[214,3,214,8],[214,9,214,11],[214,12,214,15],[219,1,219,2],[219,3,219,8],[219,9,219,11],[219,12,219,15],[220,1,220,2],[220,3,220,8],[220,9,220,11],[220,12,220,15],[217,1,217,2],[217,3,217,8],[217,9,217,11],[217,12,217,15],[218,1,218,2],[218,3,218,8],[218,9,218,11],[218,12,218,15],[223,1,223,2],[223,3,223,8],[223,9,223,11],[223,12,223,15],[224,1,224,2],[224,3,224,8],[224,9,224,11],[224,12,224,15],[221,1,221,2],[221,3,221,8],[221,9,221,11],[221,12,221,15],[222,1,222,2],[222,3,222,8],[222,9,222,11],[222,12,222,15],[227,1,227,2],[227,3,227,8],[227,9,227,11],[227,12,227,15],[228,1,228,2],[228,3,228,8],[228,9,228,11],[228,12,228,15],[225,1,225,2],[225,3,225,8],[225,9,225,11],[225,12,225,15],[226,1,226,2],[226,3,226,8],[226,9,226,11],[226,12,226,15],[247,1,247,2],[247,3,247,8],[247,9,247,11],[247,12,247,15],[248,1,248,2],[248,3,248,8],[248,9,248,11],[248,12,248,15],[245,1,245,2],[245,3,245,8],[245,9,245,11],[245,12,245,15],[246,1,246,2],[246,3,246,8],[246,9,246,11],[246,12,246,15],[251,1,251,2],[251,3,251,8],[251,9,251,11],[251,12,251,15],[252,1,252,2],[252,3,252,8],[252,9,252,11],[252,12,252,15],[249,1,249,2],[249,3,249,8],[249,9,249,11],[249,12,249,15],[250,1,250,2],[250,3,250,8],[250,9,250,11],[250,12,250,15],[255,3,255,8],[255,9,255,11],[255,12,255,15],[256,1,256,2],[256,3,256,8],[256,9,256,11],[256,12,256,15],[253,1,253,2],[253,3,253,8],[253,9,253,11],[253,12,253,15],[254,1,254,2],[254,3,254,8],[254,9,254,11],[254,12,254,15],[234,3,234,8],[235,3,235,8],[236,3,236,8],[237,3,237,8],[238,3,238,8],[239,3,239,8],[240,3,240,8],[229,1,229,2],[230,1,230,2],[231,1,231,2],[232,1,232,2],[233,1,233,2],[234,1,234,2],[235,1,235,2],[236,1,236,2],[237,1,237,2],[238,1,238,2],[239,1,239,2],[240,1,240,2],[238,12,238,15],[239,12,239,15],[240,12,240,15],[241,3,241,8],[242,3,242,8],[243,3,243,8],[244,3,244,8],[229,9,229,11],[230,9,230,11],[231,9,231,11],[232,9,232,11],[233,9,233,11],[234,9,234,11],[235,9,235,11],[236,9,236,11],[237,9,237,11],[238,9,238,11],[239,9,239,11],[240,9,240,11],[229,3,229,8],[230,3,230,8],[231,3,231,8],[232,3,232,8],[233,3,233,8],[229,12,229,15],[230,12,230,15],[231,12,231,15],[232,12,232,15],[233,12,233,15],[234,12,234,15],[235,12,235,15],[236,12,236,15],[237,12,237,15],[280,1,282,15],[241,12,241,15],[242,12,242,15],[243,12,243,15],[244,12,244,15],[278,1,279,12],[278,13,279,15],[241,9,241,11],[242,9,242,11],[243,9,243,11],[244,9,244,11],[241,1,241,2],[242,1,242,2],[243,1,243,2],[244,1,244,2],[257,1,257,2],[257,3,257,8],[257,9,257,11],[257,12,257,15],[258,1,258,2],[258,3,258,8],[258,9,258,11],[258,12,258,15],[255,1,255,2]]}
[null,null,null,null,null,null,null,null,null,null,null,null,null,null,null,null,null,null,null,null,null,null,null,null,null,null,1]
[null,null,null,null,null,null,null,null,null,null,null,null,null,null,null,null,null,null,null,null,null,null,null,null,null,null,1]
[null,null,null,null,null,null,null,null,null,null,null,null,null,null,null,null,null,null,null,null,null,null,null,null,null,null,1]
[null,null,null,null,null,null,null,null,null,null,null,null,null,null,null,null,null,null,null,null,null,null,null,null,null,null,1]
[null,null,null,null,null,null,null,null,null,null,null,null,null,null,null,null,null,null,null,null,null,null,null,null,null,null,1]
[null,null,"CRITICAL ROLES SUMMARY",null,null,null,null,null,null,null,null,null,null,null,null,null,null,null,null,null,null,null,null,null,null,null,1]
[null,null,null,null,null,null,null,null,null,null,null,null,null,null,null,null,null,null,null,null,null,null,null,null,null,null,1]
[null,null,null,null,null,null,null,null,null,null,null,null,null,null,null,null,null,null,null,null,null,null,null,null,null,null,1]
[null,null,"The Critical Roles Summary provides a brief review of the data submitted using the critical roles assessment, by identifying the percentage of positions assessed that were identified as critical (based on the criteria from the Build Assessment tab) and a breakdown of the number of positions and average score for each area. Data can also be filtered based on the filters entered in the Data Collection tab.",null,null,null,null,null,null,null,null,null,null,null,null,null,null,null,null,null,null,null,null,null,null,null,1]
[null,null,null,null,null,null,null,null,null,null,null,null,null,null,null,null,null,null,null,null,null,null,null,null,null,null,1]
[null,null,null,null,null,null,null,null,null,null,null,null,null,null,null,null,null,null,null,null,null,null,null,null,null,null,1]
[null,null,null,null,null,null,null,null,null,null,null,null,null,null,null,null,null,null,null,null,null,null,null,null,null,null,1]
[null,null,null,null,null,null,null,null,null,null,null,null,null,null,null,null,null,null,null,null,null,null,null,null,null,null,1]
[null,null,null,{"$f":"IF(SUM(AA$1:$AA$261)=SUBTOTAL(103,AA$1:$AA$261),\"The Summary is Up to Date.\",\"The Summary Needs to be Refreshed.\")","v":"The Summary is Up to Date."},null,null,null,null,null,null,null,null,null,null,null,null,null,null,null,null,null,null,null,null,null,null,1]
[null,null,null,null,null,null,null,null,null,null,null,null,null,null,null,null,null,null,null,null,null,null,null,null,null,null,1]
[null,null,null,null,null,null,null,null,null,null,null,null,null,null,null,null,null,null,null,null,null,null,null,null,null,null,1]
[null,null,null,null,null,null,null,null,null,null,null,null,null,null,null,null,null,null,null,null,null,null,null,null,null,null,1]
[null,null,null,null,null,null,null,null,null,null,null,null,null,null,null,null,null,null,null,null,null,null,null,null,null,null,1]
[null,"(Optional) Step 1: Review the Workforce Insights of the Identifying Critical Roles Tool",null,null,null,null,null,null,null,null,null,null,null,null,null,null,null,null,null,null,null,null,null,null,null,null,1]
[null,null,null,null,null,null,null,null,null,null,null,null,null,null,null,null,null,null,null,null,null,null,null,null,null,null,1]
[null,"INSTRUCTIONS: The Critical Roles Workforce Insights section provides a breakdown of assessment results and positions identified as critical. The information can be filtered based on criticality, working titles, assessors, and additional filters added on the Data Collection.",null,null,null,null,null,null,null,null,null,null,null,null,null,null,null,null,null,null,null,null,null,null,null,null,1]
[null,null,null,null,null,null,null,null,null,null,null,null,null,null,null,null,null,null,null,null,null,null,null,null,null,null,1]
[null,null,null,null,null,null,null,null,null,null,null,null,null,null,null,null,null,null,null,null,null,null,null,null,null,null,1]
[null,"WORKFORCE PLANNING AND DEVELOPMENT: CRITICAL ROLES SUMMARY",null,null,null,null,null,null,null,null,null,null,null,null,null,null,null,null,null,null,null,null,null,null,null,null,1]
[null,null,null,null,null,null,null,null,null,null,null,null,null,null,null,null,null,null,null,null,null,null,null,null,null,null,1]
[null,{"$f":"'BUILD ASSESSMENT'!J22","v":0},null,null,null,null,null,null,null,null,null,{"$f":"IF(P268=\"\",CONCATENATE(\"Summary Date: \",Q267),CONCATENATE(\"Summary Date: \",Q268))","v":"Summary Date: 08/01/2023"},null,null,null,null,null,null,null,null,null,null,null,null,null,null,1]
[null,null,null,null,null,null,null,null,null,null,null,null,null,null,null,null,null,null,null,null,null,null,null,null,null,null,1]
[null,{"$f":"CONCATENATE(\"Agency Number: \",'BUILD ASSESSMENT'!P24)","v":"Agency Number: "},null,null,null,null,null,null,null,null,null,null,null,null,null,null,null,null,null,null,null,null,null,null,null,null,1]
[null,null,null,null,null,null,null,null,null,null,null,null,null,null,null,null,null,null,null,null,null,null,null,null,null,null,1]
[null,null,null,null,null,null,null,null,null,null,null,null,null,null,null,null,null,null,null,null,null,null,null,null,null,null,1]
[null,null,null,null,null,null,null,null,null,null,null,null,null,null,null,null,null,null,null,null,null,null,null,null,null,null,1]
[null,null,null,null,null,null,null,null,null,null,null,null,null,null,null,null,null,null,null,null,null,null,null,null,null,null,1]
[null,null,null,null,null,null,null,null,null,null,null,null,null,null,null,null,null,null,null,null,null,null,null,null,null,null,1]
[null,null,null,null,null,null,null,null,null,null,null,null,null,null,null,null,null,null,null,null,null,null,null,null,null,null,1]
[null,null,null,null,null,null,null,null,null,null,null,null,null,null,null,null,null,null,null,null,null,null,null,null,null,null,1]
[null,null,null,null,null,null,null,null,null,null,null,null,null,null,null,null,null,null,null,null,null,null,null,null,null,null,1]
[null,null,null,null,null,null,null,null,null,null,null,null,null,null,null,null,null,null,null,null,null,null,null,null,null,null,1]
[null,null,null,null,null,null,null,null,null,null,null,null,null,null,null,null,null,null,null,null,null,null,null,null,null,null,1]
[null,null,null,null,null,null,null,null,null,null,null,null,null,null,null,null,null,null,null,null,null,null,null,null,null,null,0]
[null,null,null,null,null,null,null,null,null,null,null,null,null,null,null,null,null,null,null,null,null,null,null,null,null,null,0]
[null,null,null,null,null,null,null,null,null,null,null,null,null,null,null,null,null,null,null,null,null,null,null,null,null,null,0]
[null,null,null,null,null,null,null,null,null,null,null,null,null,null,null,null,null,null,null,null,null,null,null,null,null,null,0]
[null,null,null,null,null,null,null,null,null,null,null,null,null,null,null,null,null,null,null,null,null,null,null,null,null,null,0]
[null,null,null,null,null,null,null,null,null,null,null,null,null,null,null,null,null,null,null,null,null,null,null,null,null,null,0]
[null,null,null,null,null,null,null,null,null,null,null,null,null,null,null,null,null,null,null,null,null,null,null,null,null,null,0]
[null,{"$f":"'CENTRAL ANALYSIS'!B35","v":0},null,null,{"$f":"'CENTRAL ANALYSIS'!B36","v":0},null,null,null,null,null,null,null,null,null,null,null,null,null,null,null,null,null,null,null,null,null,1]
[null,null,null,null,null,null,null,null,null,null,null,null,null,null,null,null,null,null,null,null,null,null,null,null,null,null,1]
[null,"Total Positions Assessed",null,null,"Total Identified as Critical Roles",null,null,null,null,null,null,null,null,null,null,null,null,null,null,null,null,null,null,null,null,null,1]
[null,null,null,null,null,null,null,null,null,null,null,null,null,null,null,null,null,null,null,null,null,null,null,null,null,null,1]
[null,null,null,null,null,null,null,null,null,null,null,null,null,null,null,null,null,null,null,null,null,null,null,null,null,null,1]
[null,null,null,null,null,null,null,null,null,null,null,null,null,null,null,null,null,null,null,null,null,null,null,null,null,null,1]
[null,null,null,null,null,null,null,null,null,null,null,null,null,null,null,null,null,null,null,null,null,null,null,null,null,null,1]
[null,null,null,null,null,null,null,null,null,null,null,null,null,null,null,null,null,null,null,null,null,null,null,null,null,null,1]
[null,null,null,null,null,null,null,null,null,null,null,null,null,null,null,null,null,null,null,null,null,null,null,null,null,null,1]
[null,null,null,null,null,null,null,null,null,null,null,null,null,null,null,null,null,null,null,null,null,null,null,null,null,null,1]
[null,null,null,null,null,null,null,null,null,null,null,null,null,null,null,null,null,null,null,null,null,null,null,null,null,null,1]
[null,null,null,null,null,null,null,null,null,null,null,null,null,null,null,null,null,null,null,null,null,null,null,null,null,null,1]
[null,null,null,null,null,null,null,null,null,null,null,null,null,null,null,null,null,null,null,null,null,null,null,null,null,null,1]
[null,null,null,null,null,null,null,null,null,null,null,null,null,null,null,null,null,null,null,null,null,null,null,null,null,null,1]
[null,null,null,null,null,null,null,null,null,null,null,null,null,null,null,null,null,null,null,null,null,null,null,null,null,null,1]
[null,null,null,null,null,null,null,null,null,null,null,null,null,null,null,null,null,null,null,null,null,null,null,null,null,null,1]
[null,null,null,null,null,null,null,null,null,null,null,null,null,null,null,null,null,null,null,null,null,null,null,null,null,null,1]
[null,null,null,null,null,null,null,null,null,null,null,null,null,null,null,null,null,null,null,null,null,null,null,null,null,null,1]
[null,null,null,null,null,null,null,null,null,null,null,null,null,null,null,null,null,null,null,null,null,null,null,null,null,null,1]
[null,null,null,null,null,null,null,null,null,null,null,null,null,null,null,null,null,null,null,null,null,null,null,null,null,null,1]
[null,null,null,null,null,null,null,null,null,null,null,null,null,null,null,null,null,null,null,null,null,null,null,null,null,null,1]
[null,null,null,null,null,null,null,null,null,null,null,null,null,null,null,null,null,null,null,null,null,null,null,null,null,null,1]
[null,null,null,null,null,null,null,null,null,null,null,null,null,null,null,null,null,null,null,null,null,null,null,null,null,null,1]
[null,null,null,null,null,null,null,null,null,null,null,null,null,null,null,null,null,null,null,null,null,null,null,null,null,null,1]
[null,"AVERAGE SCORE BY ASSESSMENT QUESTION",null,null,null,null,null,null,null,null,null,null,null,null,null,null,null,null,null,null,null,null,null,null,null,null,1]
[null,null,null,null,null,null,null,null,null,null,null,null,null,null,null,null,null,null,null,null,null,null,null,null,null,null,1]
[null,null,null,null,null,null,null,null,null,null,null,null,null,null,null,null,null,null,null,null,null,null,null,null,null,null,1]
[null,null,"Vacancy Risk ",null,null,null,null,null,null,null,null,null,null,null,null,null,null,null,null,null,null,null,null,null,null,null,1]
[null,null,null,null,null,null,null,null,null,null,null,null,null,null,null,null,null,null,null,null,null,null,null,null,null,null,1]
[null,null,null,null,null,null,null,null,null,"What is the likelihood the position will become vacant within 1 year?",{"$f":"SUBTOTAL(1,Table59[What is the likelihood the position will become vacant within 1 year?])","v":{"$error":"#DIV/0!"}},null,null,null,null,null,null,null,null,null,null,null,null,null,null,null,1]
[null,null,null,null,null,null,null,null,null,"What is the likelihood the position will become vacant within 5 years?",{"$f":"SUBTOTAL(1,Table59[What is the likelihood the position will become vacant within 5 years?])","v":{"$error":"#DIV/0!"}},null,null,null,null,null,null,null,null,null,null,null,null,null,null,null,1]
[null,null,null,null,null,null,null,null,null,"Is the incumbent currently eligible to retire? ",{"$f":"SUBTOTAL(1,Table59[Is the incumbent currently eligible to retire? ])","v":{"$error":"#DIV/0!"}},null,null,null,null,null,null,null,null,null,null,null,null,null,null,null,1]
[null,null,null,null,null,null,null,null,null,"Will the incumbent be eligible to retire within 5 years?",{"$f":"SUBTOTAL(1,Table59[Will the incumbent be eligible to retire within 5 years?])","v":{"$error":"#DIV/0!"}},null,null,null,null,null,null,null,null,null,null,null,null,null,null,null,1]
[null,null,null,null,null,null,null,null,null,"Is this a single incumbent position?",{"$f":"SUBTOTAL(1,Table59[Is this a single incumbent position?])","v":{"$error":"#DIV/0!"}},null,null,null,null,null,null,null,null,null,null,null,null,null,null,null,1]
[null,null,null,null,null,null,null,null,null,"What is the degree of turnover this position has experienced in the past?",{"$f":"SUBTOTAL(1,Table59[What is the degree of turnover this position has experienced in the past?])","v":{"$error":"#DIV/0!"}},null,null,null,null,null,null,null,null,null,null,null,null,null,null,null,1]
[null,null,null,null,null,null,null,null,null,null,null,null,null,null,null,null,null,null,null,null,null,null,null,null,null,null,1]
[null,null,"Recruitment",null,null,null,null,null,null,null,null,null,null,null,null,null,null,null,null,null,null,null,null,null,null,null,1]
[null,null,null,null,null,null,null,null,null,null,null,null,null,null,null,null,null,null,null,null,null,null,null,null,null,null,1]
[null,null,null,null,null,null,null,null,null,"What is the degree of external candidate availability for this position?",{"$f":"SUBTOTAL(1,Table59[What is the degree of external candidate availability for this position?])","v":{"$error":"#DIV/0!"}},null,null,null,null,null,null,null,null,null,null,null,null,null,null,null,1]
[null,null,null,null,null,null,null,null,null,"What is the degree of recruitment challenges for this position in the past?",{"$f":"SUBTOTAL(1,Table59[What is the degree of recruitment challenges for this position in the past?])","v":{"$error":"#DIV/0!"}},null,null,null,null,null,null,null,null,null,null,null,null,null,null,null,1]
[null,null,null,null,null,null,null,null,null,"What is the degree of competition for qualified candidates for this position?",{"$f":"SUBTOTAL(1,Table59[What is the degree of competition for qualified candidates for this position?])","v":{"$error":"#DIV/0!"}},null,null,null,null,null,null,null,null,null,null,null,null,null,null,null,1]
[null,null,null,null,null,null,null,null,null,null,null,null,null,null,null,null,null,null,null,null,null,null,null,null,null,null,1]
[null,null,"Knowledge Management",null,null,null,null,null,null,null,null,null,null,null,null,null,null,null,null,null,null,null,null,null,null,null,1]
[null,null,null,null,null,null,null,null,null,null,null,null,null,null,null,null,null,null,null,null,null,null,null,null,null,null,1]
[null,null,null,null,null,null,null,null,null,"What is the degree this position requires unique skills or knowledge?",{"$f":"SUBTOTAL(1,Table59[What is the degree this position requires unique skills or knowledge?])","v":{"$error":"#DIV/0!"}},null,null,null,null,null,null,null,null,null,null,null,null,null,null,null,1]
[null,null,null,null,null,null,null,null,null,"What is the degree specialized knowledge or expertise is required?",{"$f":"SUBTOTAL(1,Table59[What is the degree specialized knowledge or expertise is required?])","v":{"$error":"#DIV/0!"}},null,null,null,null,null,null,null,null,null,null,null,null,null,null,null,1]
[null,null,null,null,null,null,null,null,null,"What is the degree specialized experience is required?",{"$f":"SUBTOTAL(1,Table59[What is the degree specialized experience is required?])","v":{"$error":"#DIV/0!"}},null,null,null,null,null,null,null,null,null,null,null,null,null,null,null,1]
[null,null,null,null,null,null,null,null,null,null,null,null,null,null,null,null,null,null,null,null,null,null,null,null,null,null,1]
[null,null,"Learning and Development",null,null,null,null,null,null,null,null,null,null,null,null,null,null,null,null,null,null,null,null,null,null,null,1]
[null,null,null,null,null,null,null,null,null,null,null,null,null,null,null,null,null,null,null,null,null,null,null,null,null,null,1]
[null,null,null,null,null,null,null,null,null,"What is the degree of difficulty for developing internal talent for this position?",{"$f":"SUBTOTAL(1,Table59[What is the degree of difficulty for developing internal talent for this position?])","v":{"$error":"#DIV/0!"}},null,null,null,null,null,null,null,null,null,null,null,null,null,null,null,1]
[null,null,null,null,null,null,null,null,null,"What is the level of current bench strength within the agency for this position?",{"$f":"SUBTOTAL(1,Table59[What is the level of current bench strength within the agency for this position?])","v":{"$error":"#DIV/0!"}},null,null,null,null,null,null,null,null,null,null,null,null,null,null,null,1]
[null,null,null,null,null,null,null,null,null,"To what degree does the agency have development plans/programs for internal talent?",{"$f":"SUBTOTAL(1,Table59[To what degree does the agency have development plans/programs for internal talent?])","v":{"$error":"#DIV/0!"}},null,null,null,null,null,null,null,null,null,null,null,null,null,null,null,1]
[null,null,null,null,null,null,null,null,null,"What is the degree the agency can prepare individuals for this role internally?",{"$f":"SUBTOTAL(1,Table59[What is the degree the agency can prepare individuals for this role internally?])","v":{"$error":"#DIV/0!"}},null,null,null,null,null,null,null,null,null,null,null,null,null,null,null,1]
[null,null,null,null,null,null,null,null,null,"What is the degree external sources are used to develop internal talent for this position?",{"$f":"SUBTOTAL(1,Table59[What is the degree external sources are used to develop internal talent for this position?])","v":{"$error":"#DIV/0!"}},null,null,null,null,null,null,null,null,null,null,null,null,null,null,null,1]
[null,null,null,null,null,null,null,null,null,"What is the likelihood internal candidates will be prepared for this role within 1 year?",{"$f":"SUBTOTAL(1,Table59[What is the likelihood internal candidates will be prepared for this role within 1 year?])","v":{"$error":"#DIV/0!"}},null,null,null,null,null,null,null,null,null,null,null,null,null,null,null,1]
[null,null,null,null,null,null,null,null,null,"What is the likelihood internal candidates will be prepared for this role within 5 years?",{"$f":"SUBTOTAL(1,Table59[What is the likelihood internal candidates will be prepared for this role within 5 years?])","v":{"$error":"#DIV/0!"}},null,null,null,null,null,null,null,null,null,null,null,null,null,null,null,1]
[null,null,null,null,null,null,null,null,null,null,null,null,null,null,null,null,null,null,null,null,null,null,null,null,null,null,1]
[null,null,"Operational Impact",null,null,null,null,null,null,null,null,null,null,null,null,null,null,null,null,null,null,null,null,null,null,null,1]
[null,null,null,null,null,null,null,null,null,null,null,null,null,null,null,null,null,null,null,null,null,null,null,null,null,null,1]
[null,null,null,null,null,null,null,null,null,"What is the degree the agency would experience operational challenges or potential risks?",{"$f":"SUBTOTAL(1,Table59[What is the degree the agency would experience operational challenges or potential risks if this position was vacant?])","v":{"$error":"#DIV/0!"}},null,null,null,null,null,null,null,null,null,null,null,null,null,null,null,1]
[null,null,null,null,null,null,null,null,null,"To what degree would the agency experience challenges meeting legislative/regulatory requirements?",{"$f":"SUBTOTAL(1,Table59[To what degree would the agency experience challenges meeting legislative/regulatory requirements if this position was vacant?])","v":{"$error":"#DIV/0!"}},null,null,null,null,null,null,null,null,null,null,null,null,null,null,null,1]
[null,null,null,null,null,null,null,null,null,"To what degree would the agency experience challenges providing their services to customers?",{"$f":"SUBTOTAL(1,Table59[To what degree would the agency experience challenges providing their services to customers if this position was vacant?])","v":{"$error":"#DIV/0!"}},null,null,null,null,null,null,null,null,null,null,null,null,null,null,null,1]
[null,null,null,null,null,null,null,null,null,"To what degree would the agency experience challenges to workplace health, safety, and security?",{"$f":"SUBTOTAL(1,Table59[To what degree would the agency experience challenges to workplace health, safety, and security if this position was vacant?])","v":{"$error":"#DIV/0!"}},null,null,null,null,null,null,null,null,null,null,null,null,null,null,null,1]
[null,null,null,null,null,null,null,null,null,"What is the likelihood this position would be deemed \"essential\" for emergency situations?",{"$f":"SUBTOTAL(1,Table59[What is the likelihood this position would be deemed \"essential\" for emergency situations?])","v":{"$error":"#DIV/0!"}},null,null,null,null,null,null,null,null,null,null,null,null,null,null,null,1]
[null,null,null,null,null,null,null,null,null,"What is the degree this position is limited to specific agency geographic locations?",{"$f":"SUBTOTAL(1,Table59[What is the degree this position is limited to specific agency geographic locations?])","v":{"$error":"#DIV/0!"}},null,null,null,null,null,null,null,null,null,null,null,null,null,null,null,1]
[null,null,null,null,null,null,null,null,null,"What is the likelihood the agency could be susceptible to other risks if this position was vacant?",{"$f":"SUBTOTAL(1,Table59[What is the likelihood the agency could be susceptible to other risks if this position was vacant?])","v":{"$error":"#DIV/0!"}},null,null,null,null,null,null,null,null,null,null,null,null,null,null,null,1]
[null,null,null,null,null,null,null,null,null,null,null,null,null,null,null,null,null,null,null,null,null,null,null,null,null,null,1]
[null,null,"Strategic Objectives or Initiatives Impact",null,null,null,null,null,null,null,null,null,null,null,null,null,null,null,null,null,null,null,null,null,null,null,1]
[null,null,null,null,null,null,null,null,null,null,null,null,null,null,null,null,null,null,null,null,null,null,null,null,null,null,1]
[null,null,null,null,null,null,null,null,null,"What is the degree the agency would experience challenges in achieving strategic objectives?",{"$f":"SUBTOTAL(1,Table59[What is the degree the agency would experience challenges in achieving strategic objectives if this position was vacant?])","v":{"$error":"#DIV/0!"}},null,null,null,null,null,null,null,null,null,null,null,null,null,null,null,1]
[null,null,null,null,null,null,null,null,null,null,null,null,null,null,null,null,null,null,null,null,null,null,null,null,null,null,1]
[null,null,null,"Responses to Specific Strategic Initiatives are not included in this summary. See the Assessment of the position for responses pertaining to specific strategic initiatives.",null,null,null,null,null,null,null,null,null,null,null,null,null,null,null,null,null,null,null,null,null,null,1]
[null,null,null,null,null,null,null,null,null,null,null,null,null,null,null,null,null,null,null,null,null,null,null,null,null,null,1]
[null,null,null,null,null,null,null,null,null,null,null,null,null,null,null,null,null,null,null,null,null,null,null,null,null,null,1]
[null,null,"Impact from Environment",null,null,null,null,null,null,null,null,null,null,null,null,null,null,null,null,null,null,null,null,null,null,null,1]
[null,null,null,null,null,null,null,null,null,null,null,null,null,null,null,null,null,null,null,null,null,null,null,null,null,null,1]
[null,null,null,null,null,null,null,null,null,"What is the degree potential social or demographic shifts could impact this position?",{"$f":"SUBTOTAL(1,Table59[What is the degree potential social or demographic shifts could impact recruitment, retention, or development of this position?])","v":{"$error":"#DIV/0!"}},null,null,null,null,null,null,null,null,null,null,null,null,null,null,null,1]
[null,null,null,null,null,null,null,null,null,"What is the degree potential new technology or innovations could impact this position?",{"$f":"SUBTOTAL(1,Table59[What is the degree potential new technology or innovations could impact recruitment, retention, or development of this position?])","v":{"$error":"#DIV/0!"}},null,null,null,null,null,null,null,null,null,null,null,null,null,null,null,1]
[null,null,null,null,null,null,null,null,null,"What is the degree potential economic shifts could impact this position?",{"$f":"SUBTOTAL(1,Table59[What is the degree potential economic shifts could impact recruitment, retention, or development of this position?])","v":{"$error":"#DIV/0!"}},null,null,null,null,null,null,null,null,null,null,null,null,null,null,null,1]
[null,null,null,null,null,null,null,null,null,"What is the degree potential political or regulatory shifts could impact this position?",{"$f":"SUBTOTAL(1,Table59[What is the degree potential political or regulatory shifts could impact recruitment, retention, or development of this position?])","v":{"$error":"#DIV/0!"}},null,null,null,null,null,null,null,null,null,null,null,null,null,null,null,1]
[null,null,null,null,null,null,null,null,null,null,null,null,null,null,null,null,null,null,null,null,null,null,null,null,null,null,1]
[null,null,"Position Specific Questions",null,null,null,null,null,null,null,null,null,null,null,null,null,null,null,null,null,null,null,null,null,null,null,1]
[null,null,null,null,null,null,null,null,null,null,null,null,null,null,null,null,null,null,null,null,null,null,null,null,null,null,1]
[null,null,null,null,null,null,null,null,null,"What is the degree this position performs specialized responsibilities? ",{"$f":"SUBTOTAL(1,Table59[What is the degree this position performs specialized responsibilities? ])","v":{"$error":"#DIV/0!"}},null,null,null,null,null,null,null,null,null,null,null,null,null,null,null,1]
[null,null,null,null,null,null,null,null,null,null,null,null,null,null,null,null,null,null,null,null,null,null,null,null,null,null,1]
[null,null,"Additional Questions",null,null,null,null,null,null,null,null,null,null,null,null,null,null,null,null,null,null,null,null,null,null,null,1]
[null,null,null,null,null,null,null,null,null,null,null,null,null,null,null,null,null,null,null,null,null,null,null,null,null,null,1]
[null,null,null,null,null,null,null,null,null,{"$f":"'FULL ASSESSMENT'!X52","v":""},{"$f":"SUBTOTAL(1,Table59[ADQ Scale])","v":{"$error":"#DIV/0!"}},null,null,null,null,null,null,null,null,null,null,null,null,null,null,null,{"$f":"IFERROR(IF(AND(J134<>\"\",VLOOKUP(J134,'CENTRAL ANALYSIS'!$I$14:$J$23,2,FALSE)<>\"Yes/no\"),1,0),0)","v":0}]
[null,null,null,null,null,null,null,null,null,{"$f":"'FULL ASSESSMENT'!X53","v":""},{"$f":"SUBTOTAL(1,Table59[ADQ Yes/NO])","v":{"$error":"#DIV/0!"}},null,null,null,null,null,null,null,null,null,null,null,null,null,null,null,{"$f":"IFERROR(IF(AND(J135<>\"\",VLOOKUP(J135,'CENTRAL ANALYSIS'!$I$14:$J$23,2,FALSE)=\"Yes/no\"),1,0),0)","v":0}]
[null,null,null,null,null,null,null,null,null,{"$f":"'FULL ASSESSMENT'!X54","v":""},{"$f":"SUBTOTAL(1,Table59[ADQ Scale2])","v":{"$error":"#DIV/0!"}},null,null,null,null,null,null,null,null,null,null,null,null,null,null,null,{"$f":"IFERROR(IF(AND(J136<>\"\",VLOOKUP(J136,'CENTRAL ANALYSIS'!$I$14:$J$23,2,FALSE)<>\"Yes/no\"),1,0),0)","v":0}]
[null,null,null,null,null,null,null,null,null,{"$f":"'FULL ASSESSMENT'!X55","v":""},{"$f":"SUBTOTAL(1,Table59[ADQ Yes/NO2])","v":{"$error":"#DIV/0!"}},null,null,null,null,null,null,null,null,null,null,null,null,null,null,null,{"$f":"IFERROR(IF(AND(J137<>\"\",VLOOKUP(J137,'CENTRAL ANALYSIS'!$I$14:$J$23,2,FALSE)=\"Yes/no\"),1,0),0)","v":0}]
[null,null,null,null,null,null,null,null,null,{"$f":"'FULL ASSESSMENT'!X56","v":""},{"$f":"SUBTOTAL(1,Table59[ADQ Scale3])","v":{"$error":"#DIV/0!"}},null,null,null,null,null,null,null,null,null,null,null,null,null,null,null,{"$f":"IFERROR(IF(AND(J138<>\"\",VLOOKUP(J138,'CENTRAL ANALYSIS'!$I$14:$J$23,2,FALSE)<>\"Yes/no\"),1,0),0)","v":0}]
[null,null,null,null,null,null,null,null,null,{"$f":"'FULL ASSESSMENT'!X57","v":""},{"$f":"SUBTOTAL(1,Table59[ADQ Yes/NO3])","v":{"$error":"#DIV/0!"}},null,null,null,null,null,null,null,null,null,null,null,null,null,null,null,{"$f":"IFERROR(IF(AND(J139<>\"\",VLOOKUP(J139,'CENTRAL ANALYSIS'!$I$14:$J$23,2,FALSE)=\"Yes/no\"),1,0),0)","v":0}]
[null,null,null,null,null,null,null,null,null,{"$f":"'FULL ASSESSMENT'!X58","v":""},{"$f":"SUBTOTAL(1,Table59[ADQ Scale4])","v":{"$error":"#DIV/0!"}},null,null,null,null,null,null,null,null,null,null,null,null,null,null,null,{"$f":"IFERROR(IF(AND(J140<>\"\",VLOOKUP(J140,'CENTRAL ANALYSIS'!$I$14:$J$23,2,FALSE)<>\"Yes/no\"),1,0),0)","v":0}]
[null,null,null,null,null,null,null,null,null,{"$f":"'FULL ASSESSMENT'!X59","v":""},{"$f":"SUBTOTAL(1,Table59[ADQ Yes/NO4])","v":{"$error":"#DIV/0!"}},null,null,null,null,null,null,null,null,null,null,null,null,null,null,null,{"$f":"IFERROR(IF(AND(J141<>\"\",VLOOKUP(J141,'CENTRAL ANALYSIS'!$I$14:$J$23,2,FALSE)=\"Yes/no\"),1,0),0)","v":0}]
[null,null,null,null,null,null,null,null,null,{"$f":"'FULL ASSESSMENT'!X60","v":""},{"$f":"SUBTOTAL(1,Table59[ADQ Scale5])","v":{"$error":"#DIV/0!"}},null,null,null,null,null,null,null,null,null,null,null,null,null,null,null,{"$f":"IFERROR(IF(AND(J142<>\"\",VLOOKUP(J142,'CENTRAL ANALYSIS'!$I$14:$J$23,2,FALSE)<>\"Yes/no\"),1,0),0)","v":0}]
[null,null,null,null,null,null,null,null,null,{"$f":"'FULL ASSESSMENT'!X61","v":""},{"$f":"SUBTOTAL(1,Table59[ADQ Yes/NO5])","v":{"$error":"#DIV/0!"}},null,null,null,null,null,null,null,null,null,null,null,null,null,null,null,{"$f":"IFERROR(IF(AND(J143<>\"\",VLOOKUP(J143,'CENTRAL ANALYSIS'!$I$14:$J$23,2,FALSE)=\"Yes/no\"),1,0),0)","v":0}]
[null,null,null,null,null,null,null,null,null,{"$f":"'FULL ASSESSMENT'!X62","v":""},{"$f":"SUBTOTAL(1,Table59[ADQ Scale6])","v":{"$error":"#DIV/0!"}},null,null,null,null,null,null,null,null,null,null,null,null,null,null,null,{"$f":"IFERROR(IF(AND(J144<>\"\",VLOOKUP(J144,'CENTRAL ANALYSIS'!$I$14:$J$23,2,FALSE)<>\"Yes/no\"),1,0),0)","v":0}]
[null,null,null,null,null,null,null,null,null,{"$f":"'FULL ASSESSMENT'!X63","v":""},{"$f":"SUBTOTAL(1,Table59[ADQ Yes/NO6])","v":{"$error":"#DIV/0!"}},null,null,null,null,null,null,null,null,null,null,null,null,null,null,null,{"$f":"IFERROR(IF(AND(J145<>\"\",VLOOKUP(J145,'CENTRAL ANALYSIS'!$I$14:$J$23,2,FALSE)=\"Yes/no\"),1,0),0)","v":0}]
[null,null,null,null,null,null,null,null,null,{"$f":"'FULL ASSESSMENT'!X64","v":""},{"$f":"SUBTOTAL(1,Table59[ADQ Scale7])","v":{"$error":"#DIV/0!"}},null,null,null,null,null,null,null,null,null,null,null,null,null,null,null,{"$f":"IFERROR(IF(AND(J146<>\"\",VLOOKUP(J146,'CENTRAL ANALYSIS'!$I$14:$J$23,2,FALSE)<>\"Yes/no\"),1,0),0)","v":0}]
[null,null,null,null,null,null,null,null,null,{"$f":"'FULL ASSESSMENT'!X65","v":""},{"$f":"SUBTOTAL(1,Table59[ADQ Yes/NO7])","v":{"$error":"#DIV/0!"}},null,null,null,null,null,null,null,null,null,null,null,null,null,null,null,{"$f":"IFERROR(IF(AND(J147<>\"\",VLOOKUP(J147,'CENTRAL ANALYSIS'!$I$14:$J$23,2,FALSE)=\"Yes/no\"),1,0),0)","v":0}]
[null,null,null,null,null,null,null,null,null,{"$f":"'FULL ASSESSMENT'!X66","v":""},{"$f":"SUBTOTAL(1,Table59[ADQ Scale8])","v":{"$error":"#DIV/0!"}},null,null,null,null,null,null,null,null,null,null,null,null,null,null,null,{"$f":"IFERROR(IF(AND(J148<>\"\",VLOOKUP(J148,'CENTRAL ANALYSIS'!$I$14:$J$23,2,FALSE)<>\"Yes/no\"),1,0),0)","v":0}]
[null,null,null,null,null,null,null,null,null,{"$f":"'FULL ASSESSMENT'!X67","v":""},{"$f":"SUBTOTAL(1,Table59[ADQ Yes/NO8])","v":{"$error":"#DIV/0!"}},null,null,null,null,null,null,null,null,null,null,null,null,null,null,null,{"$f":"IFERROR(IF(AND(J149<>\"\",VLOOKUP(J149,'CENTRAL ANALYSIS'!$I$14:$J$23,2,FALSE)=\"Yes/no\"),1,0),0)","v":0}]
[null,null,null,null,null,null,null,null,null,{"$f":"'FULL ASSESSMENT'!X68","v":""},{"$f":"SUBTOTAL(1,Table59[ADQ Scale9])","v":{"$error":"#DIV/0!"}},null,null,null,null,null,null,null,null,null,null,null,null,null,null,null,{"$f":"IFERROR(IF(AND(J150<>\"\",VLOOKUP(J150,'CENTRAL ANALYSIS'!$I$14:$J$23,2,FALSE)<>\"Yes/no\"),1,0),0)","v":0}]
[null,null,null,null,null,null,null,null,null,{"$f":"'FULL ASSESSMENT'!X69","v":""},{"$f":"SUBTOTAL(1,Table59[ADQ Yes/NO9])","v":{"$error":"#DIV/0!"}},null,null,null,null,null,null,null,null,null,null,null,null,null,null,null,{"$f":"IFERROR(IF(AND(J151<>\"\",VLOOKUP(J151,'CENTRAL ANALYSIS'!$I$14:$J$23,2,FALSE)=\"Yes/no\"),1,0),0)","v":0}]
[null,null,null,null,null,null,null,null,null,{"$f":"'FULL ASSESSMENT'!X70","v":""},{"$f":"SUBTOTAL(1,Table59[ADQ Scale10])","v":{"$error":"#DIV/0!"}},null,null,null,null,null,null,null,null,null,null,null,null,null,null,null,{"$f":"IFERROR(IF(AND(J152<>\"\",VLOOKUP(J152,'CENTRAL ANALYSIS'!$I$14:$J$23,2,FALSE)<>\"Yes/no\"),1,0),0)","v":0}]
[null,null,null,null,null,null,null,null,null,{"$f":"'FULL ASSESSMENT'!X71","v":""},{"$f":"SUBTOTAL(1,Table59[ADQ Yes/NO10])","v":{"$error":"#DIV/0!"}},null,null,null,null,null,null,null,null,null,null,null,null,null,null,null,{"$f":"IFERROR(IF(AND(J153<>\"\",VLOOKUP(J153,'CENTRAL ANALYSIS'!$I$14:$J$23,2,FALSE)=\"Yes/no\"),1,0),0)","v":0}]
[null,null,null,null,null,null,null,null,null,null,null,null,null,null,null,null,null,null,null,null,null,null,null,null,null,null,1]
[null,null,null,null,null,null,null,null,null,null,null,null,null,null,null,null,null,null,null,null,null,null,null,null,null,null,1]
[null,"RESULTS FOR EACH ASSESSMENT",null,null,null,null,null,null,null,null,null,null,null,null,null,null,null,null,null,null,null,null,null,null,null,null,1]
[null,null,null,null,null,null,null,null,null,null,null,null,null,null,null,null,null,null,null,null,null,null,null,null,null,null,1]
[null,null,null,null,null,null,null,null,null,null,null,null,null,null,null,null,null,null,null,null,null,null,null,null,null,null,1]
[null,"Position Number",null,"Working Title",null,null,null,null,null,"Assessor Name",null,null,"Assessment Result",null,null,null,null,null,null,null,null,null,null,null,null,null,1]
[null,{"$f":"IF('DATA COLLECTION'!B42=\"\",\"\",'DATA COLLECTION'!B42)","v":""},null,{"$f":"IF('DATA COLLECTION'!D42=\"\",\"\",'DATA COLLECTION'!D42)","v":""},null,null,null,null,null,{"$f":"IF('DATA COLLECTION'!J42=\"\",\"\",'DATA COLLECTION'!J42)","v":""},null,null,{"$f":"IFERROR(VLOOKUP(R160,Table59[#All],16,FALSE),\"\")","v":""},null,null,null,null,{"$f":"IF(B160<>\"\",SUMPRODUCT((Table59[Assessor]=$J160)*(Table59[Number]=B160)*(Table59[ROW])),\"\")","v":""},null,null,null,null,null,null,null,null,{"$f":"IF(B160<>\"\",1,0)","v":0}]
[null,{"$f":"IF('DATA COLLECTION'!B43=\"\",\"\",'DATA COLLECTION'!B43)","v":""},null,{"$f":"IF('DATA COLLECTION'!D43=\"\",\"\",'DATA COLLECTION'!D43)","v":""},null,null,null,null,null,{"$f":"IF('DATA COLLECTION'!J43=\"\",\"\",'DATA COLLECTION'!J43)","v":""},null,null,{"$f":"IFERROR(VLOOKUP(R161,Table59[#All],16,FALSE),\"\")","v":""},null,null,null,null,{"$f":"IF(B161<>\"\",SUMPRODUCT((Table59[Assessor]=$J161)*(Table59[Number]=B161)*(Table59[ROW])),\"\")","v":""},null,null,null,null,null,null,null,null,{"$f":"IF(B161<>\"\",1,0)","v":0}]
[null,{"$f":"IF('DATA COLLECTION'!B44=\"\",\"\",'DATA COLLECTION'!B44)","v":""},null,{"$f":"IF('DATA COLLECTION'!D44=\"\",\"\",'DATA COLLECTION'!D44)","v":""},null,null,null,null,null,{"$f":"IF('DATA COLLECTION'!J44=\"\",\"\",'DATA COLLECTION'!J44)","v":""},null,null,{"$f":"IFERROR(VLOOKUP(R162,Table59[#All],16,FALSE),\"\")","v":""},null,null,null,null,{"$f":"IF(B162<>\"\",SUMPRODUCT((Table59[Assessor]=$J162)*(Table59[Number]=B162)*(Table59[ROW])),\"\")","v":""},null,null,null,null,null,null,null,null,0]
[null,{"$f":"IF('DATA COLLECTION'!B45=\"\",\"\",'DATA COLLECTION'!B45)","v":""},null,{"$f":"IF('DATA COLLECTION'!D45=\"\",\"\",'DATA COLLECTION'!D45)","v":""},null,null,null,null,null,{"$f":"IF('DATA COLLECTION'!J45=\"\",\"\",'DATA COLLECTION'!J45)","v":""},null,null,{"$f":"IFERROR(VLOOKUP(R163,Table59[#All],16,FALSE),\"\")","v":""},null,null,null,null,{"$f":"IF(B163<>\"\",SUMPRODUCT((Table59[Assessor]=$J163)*(Table59[Number]=B163)*(Table59[ROW])),\"\")","v":""},null,null,null,null,null,null,null,null,0]
[null,{"$f":"IF('DATA COLLECTION'!B46=\"\",\"\",'DATA COLLECTION'!B46)","v":""},null,{"$f":"IF('DATA COLLECTION'!D46=\"\",\"\",'DATA COLLECTION'!D46)","v":""},null,null,null,null,null,{"$f":"IF('DATA COLLECTION'!J46=\"\",\"\",'DATA COLLECTION'!J46)","v":""},null,null,{"$f":"IFERROR(VLOOKUP(R164,Table59[#All],16,FALSE),\"\")","v":""},null,null,null,null,{"$f":"IF(B164<>\"\",SUMPRODUCT((Table59[Assessor]=$J164)*(Table59[Number]=B164)*(Table59[ROW])),\"\")","v":""},null,null,null,null,null,null,null,null,0]
[null,{"$f":"IF('DATA COLLECTION'!B47=\"\",\"\",'DATA COLLECTION'!B47)","v":""},null,{"$f":"IF('DATA COLLECTION'!D47=\"\",\"\",'DATA COLLECTION'!D47)","v":""},null,null,null,null,null,{"$f":"IF('DATA COLLECTION'!J47=\"\",\"\",'DATA COLLECTION'!J47)","v":""},null,null,{"$f":"IFERROR(VLOOKUP(R165,Table59[#All],16,FALSE),\"\")","v":""},null,null,null,null,{"$f":"IF(B165<>\"\",SUMPRODUCT((Table59[Assessor]=$J165)*(Table59[Number]=B165)*(Table59[ROW])),\"\")","v":""},null,null,null,null,null,null,null,null,0]
[null,{"$f":"IF('DATA COLLECTION'!B48=\"\",\"\",'DATA COLLECTION'!B48)","v":""},null,{"$f":"IF('DATA COLLECTION'!D48=\"\",\"\",'DATA COLLECTION'!D48)","v":""},null,null,null,null,null,{"$f":"IF('DATA COLLECTION'!J48=\"\",\"\",'DATA COLLECTION'!J48)","v":""},null,null,{"$f":"IFERROR(VLOOKUP(R166,Table59[#All],16,FALSE),\"\")","v":""},null,null,null,null,{"$f":"IF(B166<>\"\",SUMPRODUCT((Table59[Assessor]=$J166)*(Table59[Number]=B166)*(Table59[ROW])),\"\")","v":""},null,null,null,null,null,null,null,null,0]
[null,{"$f":"IF('DATA COLLECTION'!B49=\"\",\"\",'DATA COLLECTION'!B49)","v":""},null,{"$f":"IF('DATA COLLECTION'!D49=\"\",\"\",'DATA COLLECTION'!D49)","v":""},null,null,null,null,null,{"$f":"IF('DATA COLLECTION'!J49=\"\",\"\",'DATA COLLECTION'!J49)","v":""},null,null,{"$f":"IFERROR(VLOOKUP(R167,Table59[#All],16,FALSE),\"\")","v":""},null,null,null,null,{"$f":"IF(B167<>\"\",SUMPRODUCT((Table59[Assessor]=$J167)*(Table59[Number]=B167)*(Table59[ROW])),\"\")","v":""},null,null,null,null,null,null,null,null,0]
[null,{"$f":"IF('DATA COLLECTION'!B50=\"\",\"\",'DATA COLLECTION'!B50)","v":""},null,{"$f":"IF('DATA COLLECTION'!D50=\"\",\"\",'DATA COLLECTION'!D50)","v":""},null,null,null,null,null,{"$f":"IF('DATA COLLECTION'!J50=\"\",\"\",'DATA COLLECTION'!J50)","v":""},null,null,{"$f":"IFERROR(VLOOKUP(R168,Table59[#All],16,FALSE),\"\")","v":""},null,null,null,null,{"$f":"IF(B168<>\"\",SUMPRODUCT((Table59[Assessor]=$J168)*(Table59[Number]=B168)*(Table59[ROW])),\"\")","v":""},null,null,null,null,null,null,null,null,0]
[null,{"$f":"IF('DATA COLLECTION'!B51=\"\",\"\",'DATA COLLECTION'!B51)","v":""},null,{"$f":"IF('DATA COLLECTION'!D51=\"\",\"\",'DATA COLLECTION'!D51)","v":""},null,null,null,null,null,{"$f":"IF('DATA COLLECTION'!J51=\"\",\"\",'DATA COLLECTION'!J51)","v":""},null,null,{"$f":"IFERROR(VLOOKUP(R169,Table59[#All],16,FALSE),\"\")","v":""},null,null,null,null,{"$f":"IF(B169<>\"\",SUMPRODUCT((Table59[Assessor]=$J169)*(Table59[Number]=B169)*(Table59[ROW])),\"\")","v":""},null,null,null,null,null,null,null,null,0]
[null,{"$f":"IF('DATA COLLECTION'!B52=\"\",\"\",'DATA COLLECTION'!B52)","v":""},null,{"$f":"IF('DATA COLLECTION'!D52=\"\",\"\",'DATA COLLECTION'!D52)","v":""},null,null,null,null,null,{"$f":"IF('DATA COLLECTION'!J52=\"\",\"\",'DATA COLLECTION'!J52)","v":""},null,null,{"$f":"IFERROR(VLOOKUP(R170,Table59[#All],16,FALSE),\"\")","v":""},null,null,null,null,{"$f":"IF(B170<>\"\",SUMPRODUCT((Table59[Assessor]=$J170)*(Table59[Number]=B170)*(Table59[ROW])),\"\")","v":""},null,null,null,null,null,null,null,null,0]
[null,{"$f":"IF('DATA COLLECTION'!B53=\"\",\"\",'DATA COLLECTION'!B53)","v":""},null,{"$f":"IF('DATA COLLECTION'!D53=\"\",\"\",'DATA COLLECTION'!D53)","v":""},null,null,null,null,null,{"$f":"IF('DATA COLLECTION'!J53=\"\",\"\",'DATA COLLECTION'!J53)","v":""},null,null,{"$f":"IFERROR(VLOOKUP(R171,Table59[#All],16,FALSE),\"\")","v":""},null,null,null,null,{"$f":"IF(B171<>\"\",SUMPRODUCT((Table59[Assessor]=$J171)*(Table59[Number]=B171)*(Table59[ROW])),\"\")","v":""},null,null,null,null,null,null,null,null,0]
[null,{"$f":"IF('DATA COLLECTION'!B54=\"\",\"\",'DATA COLLECTION'!B54)","v":""},null,{"$f":"IF('DATA COLLECTION'!D54=\"\",\"\",'DATA COLLECTION'!D54)","v":""},null,null,null,null,null,{"$f":"IF('DATA COLLECTION'!J54=\"\",\"\",'DATA COLLECTION'!J54)","v":""},null,null,{"$f":"IFERROR(VLOOKUP(R172,Table59[#All],16,FALSE),\"\")","v":""},null,null,null,null,{"$f":"IF(B172<>\"\",SUMPRODUCT((Table59[Assessor]=$J172)*(Table59[Number]=B172)*(Table59[ROW])),\"\")","v":""},null,null,null,null,null,null,null,null,0]
[null,{"$f":"IF('DATA COLLECTION'!B55=\"\",\"\",'DATA COLLECTION'!B55)","v":""},null,{"$f":"IF('DATA COLLECTION'!D55=\"\",\"\",'DATA COLLECTION'!D55)","v":""},null,null,null,null,null,{"$f":"IF('DATA COLLECTION'!J55=\"\",\"\",'DATA COLLECTION'!J55)","v":""},null,null,{"$f":"IFERROR(VLOOKUP(R173,Table59[#All],16,FALSE),\"\")","v":""},null,null,null,null,{"$f":"IF(B173<>\"\",SUMPRODUCT((Table59[Assessor]=$J173)*(Table59[Number]=B173)*(Table59[ROW])),\"\")","v":""},null,null,null,null,null,null,null,null,0]
[null,{"$f":"IF('DATA COLLECTION'!B56=\"\",\"\",'DATA COLLECTION'!B56)","v":""},null,{"$f":"IF('DATA COLLECTION'!D56=\"\",\"\",'DATA COLLECTION'!D56)","v":""},null,null,null,null,null,{"$f":"IF('DATA COLLECTION'!J56=\"\",\"\",'DATA COLLECTION'!J56)","v":""},null,null,{"$f":"IFERROR(VLOOKUP(R174,Table59[#All],16,FALSE),\"\")","v":""},null,null,null,null,{"$f":"IF(B174<>\"\",SUMPRODUCT((Table59[Assessor]=$J174)*(Table59[Number]=B174)*(Table59[ROW])),\"\")","v":""},null,null,null,null,null,null,null,null,0]
[null,{"$f":"IF('DATA COLLECTION'!B57=\"\",\"\",'DATA COLLECTION'!B57)","v":""},null,{"$f":"IF('DATA COLLECTION'!D57=\"\",\"\",'DATA COLLECTION'!D57)","v":""},null,null,null,null,null,{"$f":"IF('DATA COLLECTION'!J57=\"\",\"\",'DATA COLLECTION'!J57)","v":""},null,null,{"$f":"IFERROR(VLOOKUP(R175,Table59[#All],16,FALSE),\"\")","v":""},null,null,null,null,{"$f":"IF(B175<>\"\",SUMPRODUCT((Table59[Assessor]=$J175)*(Table59[Number]=B175)*(Table59[ROW])),\"\")","v":""},null,null,null,null,null,null,null,null,0]
[null,{"$f":"IF('DATA COLLECTION'!B58=\"\",\"\",'DATA COLLECTION'!B58)","v":""},null,{"$f":"IF('DATA COLLECTION'!D58=\"\",\"\",'DATA COLLECTION'!D58)","v":""},null,null,null,null,null,{"$f":"IF('DATA COLLECTION'!J58=\"\",\"\",'DATA COLLECTION'!J58)","v":""},null,null,{"$f":"IFERROR(VLOOKUP(R176,Table59[#All],16,FALSE),\"\")","v":""},null,null,null,null,{"$f":"IF(B176<>\"\",SUMPRODUCT((Table59[Assessor]=$J176)*(Table59[Number]=B176)*(Table59[ROW])),\"\")","v":""},null,null,null,null,null,null,null,null,0]
[null,{"$f":"IF('DATA COLLECTION'!B59=\"\",\"\",'DATA COLLECTION'!B59)","v":""},null,{"$f":"IF('DATA COLLECTION'!D59=\"\",\"\",'DATA COLLECTION'!D59)","v":""},null,null,null,null,null,{"$f":"IF('DATA COLLECTION'!J59=\"\",\"\",'DATA COLLECTION'!J59)","v":""},null,null,{"$f":"IFERROR(VLOOKUP(R177,Table59[#All],16,FALSE),\"\")","v":""},null,null,null,null,{"$f":"IF(B177<>\"\",SUMPRODUCT((Table59[Assessor]=$J177)*(Table59[Number]=B177)*(Table59[ROW])),\"\")","v":""},null,null,null,null,null,null,null,null,0]
[null,{"$f":"IF('DATA COLLECTION'!B60=\"\",\"\",'DATA COLLECTION'!B60)","v":""},null,{"$f":"IF('DATA COLLECTION'!D60=\"\",\"\",'DATA COLLECTION'!D60)","v":""},null,null,null,null,null,{"$f":"IF('DATA COLLECTION'!J60=\"\",\"\",'DATA COLLECTION'!J60)","v":""},null,null,{"$f":"IFERROR(VLOOKUP(R178,Table59[#All],16,FALSE),\"\")","v":""},null,null,null,null,{"$f":"IF(B178<>\"\",SUMPRODUCT((Table59[Assessor]=$J178)*(Table59[Number]=B178)*(Table59[ROW])),\"\")","v":""},null,null,null,null,null,null,null,null,0]
[null,{"$f":"IF('DATA COLLECTION'!B61=\"\",\"\",'DATA COLLECTION'!B61)","v":""},null,{"$f":"IF('DATA COLLECTION'!D61=\"\",\"\",'DATA COLLECTION'!D61)","v":""},null,null,null,null,null,{"$f":"IF('DATA COLLECTION'!J61=\"\",\"\",'DATA COLLECTION'!J61)","v":""},null,null,{"$f":"IFERROR(VLOOKUP(R179,Table59[#All],16,FALSE),\"\")","v":""},null,null,null,null,{"$f":"IF(B179<>\"\",SUMPRODUCT((Table59[Assessor]=$J179)*(Table59[Number]=B179)*(Table59[ROW])),\"\")","v":""},null,null,null,null,null,null,null,null,0]
[null,{"$f":"IF('DATA COLLECTION'!B62=\"\",\"\",'DATA COLLECTION'!B62)","v":""},null,{"$f":"IF('DATA COLLECTION'!D62=\"\",\"\",'DATA COLLECTION'!D62)","v":""},null,null,null,null,null,{"$f":"IF('DATA COLLECTION'!J62=\"\",\"\",'DATA COLLECTION'!J62)","v":""},null,null,{"$f":"IFERROR(VLOOKUP(R180,Table59[#All],16,FALSE),\"\")","v":""},null,null,null,null,{"$f":"IF(B180<>\"\",SUMPRODUCT((Table59[Assessor]=$J180)*(Table59[Number]=B180)*(Table59[ROW])),\"\")","v":""},null,null,null,null,null,null,null,null,0]
[null,{"$f":"IF('DATA COLLECTION'!B63=\"\",\"\",'DATA COLLECTION'!B63)","v":""},null,{"$f":"IF('DATA COLLECTION'!D63=\"\",\"\",'DATA COLLECTION'!D63)","v":""},null,null,null,null,null,{"$f":"IF('DATA COLLECTION'!J63=\"\",\"\",'DATA COLLECTION'!J63)","v":""},null,null,{"$f":"IFERROR(VLOOKUP(R181,Table59[#All],16,FALSE),\"\")","v":""},null,null,null,null,{"$f":"IF(B181<>\"\",SUMPRODUCT((Table59[Assessor]=$J181)*(Table59[Number]=B181)*(Table59[ROW])),\"\")","v":""},null,null,null,null,null,null,null,null,0]
[null,{"$f":"IF('DATA COLLECTION'!B64=\"\",\"\",'DATA COLLECTION'!B64)","v":""},null,{"$f":"IF('DATA COLLECTION'!D64=\"\",\"\",'DATA COLLECTION'!D64)","v":""},null,null,null,null,null,{"$f":"IF('DATA COLLECTION'!J64=\"\",\"\",'DATA COLLECTION'!J64)","v":""},null,null,{"$f":"IFERROR(VLOOKUP(R182,Table59[#All],16,FALSE),\"\")","v":""},null,null,null,null,{"$f":"IF(B182<>\"\",SUMPRODUCT((Table59[Assessor]=$J182)*(Table59[Number]=B182)*(Table59[ROW])),\"\")","v":""},null,null,null,null,null,null,null,null,0]
[null,{"$f":"IF('DATA COLLECTION'!B65=\"\",\"\",'DATA COLLECTION'!B65)","v":""},null,{"$f":"IF('DATA COLLECTION'!D65=\"\",\"\",'DATA COLLECTION'!D65)","v":""},null,null,null,null,null,{"$f":"IF('DATA COLLECTION'!J65=\"\",\"\",'DATA COLLECTION'!J65)","v":""},null,null,{"$f":"IFERROR(VLOOKUP(R183,Table59[#All],16,FALSE),\"\")","v":""},null,null,null,null,{"$f":"IF(B183<>\"\",SUMPRODUCT((Table59[Assessor]=$J183)*(Table59[Number]=B183)*(Table59[ROW])),\"\")","v":""},null,null,null,null,null,null,null,null,0]
[null,{"$f":"IF('DATA COLLECTION'!B66=\"\",\"\",'DATA COLLECTION'!B66)","v":""},null,{"$f":"IF('DATA COLLECTION'!D66=\"\",\"\",'DATA COLLECTION'!D66)","v":""},null,null,null,null,null,{"$f":"IF('DATA COLLECTION'!J66=\"\",\"\",'DATA COLLECTION'!J66)","v":""},null,null,{"$f":"IFERROR(VLOOKUP(R184,Table59[#All],16,FALSE),\"\")","v":""},null,null,null,null,{"$f":"IF(B184<>\"\",SUMPRODUCT((Table59[Assessor]=$J184)*(Table59[Number]=B184)*(Table59[ROW])),\"\")","v":""},null,null,null,null,null,null,null,null,0]
[null,{"$f":"IF('DATA COLLECTION'!B67=\"\",\"\",'DATA COLLECTION'!B67)","v":""},null,{"$f":"IF('DATA COLLECTION'!D67=\"\",\"\",'DATA COLLECTION'!D67)","v":""},null,null,null,null,null,{"$f":"IF('DATA COLLECTION'!J67=\"\",\"\",'DATA COLLECTION'!J67)","v":""},null,null,{"$f":"IFERROR(VLOOKUP(R185,Table59[#All],16,FALSE),\"\")","v":""},null,null,null,null,{"$f":"IF(B185<>\"\",SUMPRODUCT((Table59[Assessor]=$J185)*(Table59[Number]=B185)*(Table59[ROW])),\"\")","v":""},null,null,null,null,null,null,null,null,0]
[null,{"$f":"IF('DATA COLLECTION'!B68=\"\",\"\",'DATA COLLECTION'!B68)","v":""},null,{"$f":"IF('DATA COLLECTION'!D68=\"\",\"\",'DATA COLLECTION'!D68)","v":""},null,null,null,null,null,{"$f":"IF('DATA COLLECTION'!J68=\"\",\"\",'DATA COLLECTION'!J68)","v":""},null,null,{"$f":"IFERROR(VLOOKUP(R186,Table59[#All],16,FALSE),\"\")","v":""},null,null,null,null,{"$f":"IF(B186<>\"\",SUMPRODUCT((Table59[Assessor]=$J186)*(Table59[Number]=B186)*(Table59[ROW])),\"\")","v":""},null,null,null,null,null,null,null,null,0]
[null,{"$f":"IF('DATA COLLECTION'!B69=\"\",\"\",'DATA COLLECTION'!B69)","v":""},null,{"$f":"IF('DATA COLLECTION'!D69=\"\",\"\",'DATA COLLECTION'!D69)","v":""},null,null,null,null,null,{"$f":"IF('DATA COLLECTION'!J69=\"\",\"\",'DATA COLLECTION'!J69)","v":""},null,null,{"$f":"IFERROR(VLOOKUP(R187,Table59[#All],16,FALSE),\"\")","v":""},null,null,null,null,{"$f":"IF(B187<>\"\",SUMPRODUCT((Table59[Assessor]=$J187)*(Table59[Number]=B187)*(Table59[ROW])),\"\")","v":""},null,null,null,null,null,null,null,null,0]
[null,{"$f":"IF('DATA COLLECTION'!B70=\"\",\"\",'DATA COLLECTION'!B70)","v":""},null,{"$f":"IF('DATA COLLECTION'!D70=\"\",\"\",'DATA COLLECTION'!D70)","v":""},null,null,null,null,null,{"$f":"IF('DATA COLLECTION'!J70=\"\",\"\",'DATA COLLECTION'!J70)","v":""},null,null,{"$f":"IFERROR(VLOOKUP(R188,Table59[#All],16,FALSE),\"\")","v":""},null,null,null,null,{"$f":"IF(B188<>\"\",SUMPRODUCT((Table59[Assessor]=$J188)*(Table59[Number]=B188)*(Table59[ROW])),\"\")","v":""},null,null,null,null,null,null,null,null,0]
[null,{"$f":"IF('DATA COLLECTION'!B71=\"\",\"\",'DATA COLLECTION'!B71)","v":""},null,{"$f":"IF('DATA COLLECTION'!D71=\"\",\"\",'DATA COLLECTION'!D71)","v":""},null,null,null,null,null,{"$f":"IF('DATA COLLECTION'!J71=\"\",\"\",'DATA COLLECTION'!J71)","v":""},null,null,{"$f":"IFERROR(VLOOKUP(R189,Table59[#All],16,FALSE),\"\")","v":""},null,null,null,null,{"$f":"IF(B189<>\"\",SUMPRODUCT((Table59[Assessor]=$J189)*(Table59[Number]=B189)*(Table59[ROW])),\"\")","v":""},null,null,null,null,null,null,null,null,0]
[null,{"$f":"IF('DATA COLLECTION'!B72=\"\",\"\",'DATA COLLECTION'!B72)","v":""},null,{"$f":"IF('DATA COLLECTION'!D72=\"\",\"\",'DATA COLLECTION'!D72)","v":""},null,null,null,null,null,{"$f":"IF('DATA COLLECTION'!J72=\"\",\"\",'DATA COLLECTION'!J72)","v":""},null,null,{"$f":"IFERROR(VLOOKUP(R190,Table59[#All],16,FALSE),\"\")","v":""},null,null,null,null,{"$f":"IF(B190<>\"\",SUMPRODUCT((Table59[Assessor]=$J190)*(Table59[Number]=B190)*(Table59[ROW])),\"\")","v":""},null,null,null,null,null,null,null,null,0]
[null,{"$f":"IF('DATA COLLECTION'!B73=\"\",\"\",'DATA COLLECTION'!B73)","v":""},null,{"$f":"IF('DATA COLLECTION'!D73=\"\",\"\",'DATA COLLECTION'!D73)","v":""},null,null,null,null,null,{"$f":"IF('DATA COLLECTION'!J73=\"\",\"\",'DATA COLLECTION'!J73)","v":""},null,null,{"$f":"IFERROR(VLOOKUP(R191,Table59[#All],16,FALSE),\"\")","v":""},null,null,null,null,{"$f":"IF(B191<>\"\",SUMPRODUCT((Table59[Assessor]=$J191)*(Table59[Number]=B191)*(Table59[ROW])),\"\")","v":""},null,null,null,null,null,null,null,null,0]
[null,{"$f":"IF('DATA COLLECTION'!B74=\"\",\"\",'DATA COLLECTION'!B74)","v":""},null,{"$f":"IF('DATA COLLECTION'!D74=\"\",\"\",'DATA COLLECTION'!D74)","v":""},null,null,null,null,null,{"$f":"IF('DATA COLLECTION'!J74=\"\",\"\",'DATA COLLECTION'!J74)","v":""},null,null,{"$f":"IFERROR(VLOOKUP(R192,Table59[#All],16,FALSE),\"\")","v":""},null,null,null,null,{"$f":"IF(B192<>\"\",SUMPRODUCT((Table59[Assessor]=$J192)*(Table59[Number]=B192)*(Table59[ROW])),\"\")","v":""},null,null,null,null,null,null,null,null,0]
[null,{"$f":"IF('DATA COLLECTION'!B75=\"\",\"\",'DATA COLLECTION'!B75)","v":""},null,{"$f":"IF('DATA COLLECTION'!D75=\"\",\"\",'DATA COLLECTION'!D75)","v":""},null,null,null,null,null,{"$f":"IF('DATA COLLECTION'!J75=\"\",\"\",'DATA COLLECTION'!J75)","v":""},null,null,{"$f":"IFERROR(VLOOKUP(R193,Table59[#All],16,FALSE),\"\")","v":""},null,null,null,null,{"$f":"IF(B193<>\"\",SUMPRODUCT((Table59[Assessor]=$J193)*(Table59[Number]=B193)*(Table59[ROW])),\"\")","v":""},null,null,null,null,null,null,null,null,0]
[null,{"$f":"IF('DATA COLLECTION'!B76=\"\",\"\",'DATA COLLECTION'!B76)","v":""},null,{"$f":"IF('DATA COLLECTION'!D76=\"\",\"\",'DATA COLLECTION'!D76)","v":""},null,null,null,null,null,{"$f":"IF('DATA COLLECTION'!J76=\"\",\"\",'DATA COLLECTION'!J76)","v":""},null,null,{"$f":"IFERROR(VLOOKUP(R194,Table59[#All],16,FALSE),\"\")","v":""},null,null,null,null,{"$f":"IF(B194<>\"\",SUMPRODUCT((Table59[Assessor]=$J194)*(Table59[Number]=B194)*(Table59[ROW])),\"\")","v":""},null,null,null,null,null,null,null,null,0]
[null,{"$f":"IF('DATA COLLECTION'!B77=\"\",\"\",'DATA COLLECTION'!B77)","v":""},null,{"$f":"IF('DATA COLLECTION'!D77=\"\",\"\",'DATA COLLECTION'!D77)","v":""},null,null,null,null,null,{"$f":"IF('DATA COLLECTION'!J77=\"\",\"\",'DATA COLLECTION'!J77)","v":""},null,null,{"$f":"IFERROR(VLOOKUP(R195,Table59[#All],16,FALSE),\"\")","v":""},null,null,null,null,{"$f":"IF(B195<>\"\",SUMPRODUCT((Table59[Assessor]=$J195)*(Table59[Number]=B195)*(Table59[ROW])),\"\")","v":""},null,null,null,null,null,null,null,null,0]
[null,{"$f":"IF('DATA COLLECTION'!B78=\"\",\"\",'DATA COLLECTION'!B78)","v":""},null,{"$f":"IF('DATA COLLECTION'!D78=\"\",\"\",'DATA COLLECTION'!D78)","v":""},null,null,null,null,null,{"$f":"IF('DATA COLLECTION'!J78=\"\",\"\",'DATA COLLECTION'!J78)","v":""},null,null,{"$f":"IFERROR(VLOOKUP(R196,Table59[#All],16,FALSE),\"\")","v":""},null,null,null,null,{"$f":"IF(B196<>\"\",SUMPRODUCT((Table59[Assessor]=$J196)*(Table59[Number]=B196)*(Table59[ROW])),\"\")","v":""},null,null,null,null,null,null,null,null,0]
[null,{"$f":"IF('DATA COLLECTION'!B79=\"\",\"\",'DATA COLLECTION'!B79)","v":""},null,{"$f":"IF('DATA COLLECTION'!D79=\"\",\"\",'DATA COLLECTION'!D79)","v":""},null,null,null,null,null,{"$f":"IF('DATA COLLECTION'!J79=\"\",\"\",'DATA COLLECTION'!J79)","v":""},null,null,{"$f":"IFERROR(VLOOKUP(R197,Table59[#All],16,FALSE),\"\")","v":""},null,null,null,null,{"$f":"IF(B197<>\"\",SUMPRODUCT((Table59[Assessor]=$J197)*(Table59[Number]=B197)*(Table59[ROW])),\"\")","v":""},null,null,null,null,null,null,null,null,0]
[null,{"$f":"IF('DATA COLLECTION'!B80=\"\",\"\",'DATA COLLECTION'!B80)","v":""},null,{"$f":"IF('DATA COLLECTION'!D80=\"\",\"\",'DATA COLLECTION'!D80)","v":""},null,null,null,null,null,{"$f":"IF('DATA COLLECTION'!J80=\"\",\"\",'DATA COLLECTION'!J80)","v":""},null,null,{"$f":"IFERROR(VLOOKUP(R198,Table59[#All],16,FALSE),\"\")","v":""},null,null,null,null,{"$f":"IF(B198<>\"\",SUMPRODUCT((Table59[Assessor]=$J198)*(Table59[Number]=B198)*(Table59[ROW])),\"\")","v":""},null,null,null,null,null,null,null,null,0]
[null,{"$f":"IF('DATA COLLECTION'!B81=\"\",\"\",'DATA COLLECTION'!B81)","v":""},null,{"$f":"IF('DATA COLLECTION'!D81=\"\",\"\",'DATA COLLECTION'!D81)","v":""},null,null,null,null,null,{"$f":"IF('DATA COLLECTION'!J81=\"\",\"\",'DATA COLLECTION'!J81)","v":""},null,null,{"$f":"IFERROR(VLOOKUP(R199,Table59[#All],16,FALSE),\"\")","v":""},null,null,null,null,{"$f":"IF(B199<>\"\",SUMPRODUCT((Table59[Assessor]=$J199)*(Table59[Number]=B199)*(Table59[ROW])),\"\")","v":""},null,null,null,null,null,null,null,null,0]
[null,{"$f":"IF('DATA COLLECTION'!B82=\"\",\"\",'DATA COLLECTION'!B82)","v":""},null,{"$f":"IF('DATA COLLECTION'!D82=\"\",\"\",'DATA COLLECTION'!D82)","v":""},null,null,null,null,null,{"$f":"IF('DATA COLLECTION'!J82=\"\",\"\",'DATA COLLECTION'!J82)","v":""},null,null,{"$f":"IFERROR(VLOOKUP(R200,Table59[#All],16,FALSE),\"\")","v":""},null,null,null,null,{"$f":"IF(B200<>\"\",SUMPRODUCT((Table59[Assessor]=$J200)*(Table59[Number]=B200)*(Table59[ROW])),\"\")","v":""},null,null,null,null,null,null,null,null,0]
[null,{"$f":"IF('DATA COLLECTION'!B83=\"\",\"\",'DATA COLLECTION'!B83)","v":""},null,{"$f":"IF('DATA COLLECTION'!D83=\"\",\"\",'DATA COLLECTION'!D83)","v":""},null,null,null,null,null,{"$f":"IF('DATA COLLECTION'!J83=\"\",\"\",'DATA COLLECTION'!J83)","v":""},null,null,{"$f":"IFERROR(VLOOKUP(R201,Table59[#All],16,FALSE),\"\")","v":""},null,null,null,null,{"$f":"IF(B201<>\"\",SUMPRODUCT((Table59[Assessor]=$J201)*(Table59[Number]=B201)*(Table59[ROW])),\"\")","v":""},null,null,null,null,null,null,null,null,0]
[null,{"$f":"IF('DATA COLLECTION'!B84=\"\",\"\",'DATA COLLECTION'!B84)","v":""},null,{"$f":"IF('DATA COLLECTION'!D84=\"\",\"\",'DATA COLLECTION'!D84)","v":""},null,null,null,null,null,{"$f":"IF('DATA COLLECTION'!J84=\"\",\"\",'DATA COLLECTION'!J84)","v":""},null,null,{"$f":"IFERROR(VLOOKUP(R202,Table59[#All],16,FALSE),\"\")","v":""},null,null,null,null,{"$f":"IF(B202<>\"\",SUMPRODUCT((Table59[Assessor]=$J202)*(Table59[Number]=B202)*(Table59[ROW])),\"\")","v":""},null,null,null,null,null,null,null,null,0]
[null,{"$f":"IF('DATA COLLECTION'!B85=\"\",\"\",'DATA COLLECTION'!B85)","v":""},null,{"$f":"IF('DATA COLLECTION'!D85=\"\",\"\",'DATA COLLECTION'!D85)","v":""},null,null,null,null,null,{"$f":"IF('DATA COLLECTION'!J85=\"\",\"\",'DATA COLLECTION'!J85)","v":""},null,null,{"$f":"IFERROR(VLOOKUP(R203,Table59[#All],16,FALSE),\"\")","v":""},null,null,null,null,{"$f":"IF(B203<>\"\",SUMPRODUCT((Table59[Assessor]=$J203)*(Table59[Number]=B203)*(Table59[ROW])),\"\")","v":""},null,null,null,null,null,null,null,null,0]
[null,{"$f":"IF('DATA COLLECTION'!B86=\"\",\"\",'DATA COLLECTION'!B86)","v":""},null,{"$f":"IF('DATA COLLECTION'!D86=\"\",\"\",'DATA COLLECTION'!D86)","v":""},null,null,null,null,null,{"$f":"IF('DATA COLLECTION'!J86=\"\",\"\",'DATA COLLECTION'!J86)","v":""},null,null,{"$f":"IFERROR(VLOOKUP(R204,Table59[#All],16,FALSE),\"\")","v":""},null,null,null,null,{"$f":"IF(B204<>\"\",SUMPRODUCT((Table59[Assessor]=$J204)*(Table59[Number]=B204)*(Table59[ROW])),\"\")","v":""},null,null,null,null,null,null,null,null,0]
[null,{"$f":"IF('DATA COLLECTION'!B87=\"\",\"\",'DATA COLLECTION'!B87)","v":""},null,{"$f":"IF('DATA COLLECTION'!D87=\"\",\"\",'DATA COLLECTION'!D87)","v":""},null,null,null,null,null,{"$f":"IF('DATA COLLECTION'!J87=\"\",\"\",'DATA COLLECTION'!J87)","v":""},null,null,{"$f":"IFERROR(VLOOKUP(R205,Table59[#All],16,FALSE),\"\")","v":""},null,null,null,null,{"$f":"IF(B205<>\"\",SUMPRODUCT((Table59[Assessor]=$J205)*(Table59[Number]=B205)*(Table59[ROW])),\"\")","v":""},null,null,null,null,null,null,null,null,0]
[null,{"$f":"IF('DATA COLLECTION'!B88=\"\",\"\",'DATA COLLECTION'!B88)","v":""},null,{"$f":"IF('DATA COLLECTION'!D88=\"\",\"\",'DATA COLLECTION'!D88)","v":""},null,null,null,null,null,{"$f":"IF('DATA COLLECTION'!J88=\"\",\"\",'DATA COLLECTION'!J88)","v":""},null,null,{"$f":"IFERROR(VLOOKUP(R206,Table59[#All],16,FALSE),\"\")","v":""},null,null,null,null,{"$f":"IF(B206<>\"\",SUMPRODUCT((Table59[Assessor]=$J206)*(Table59[Number]=B206)*(Table59[ROW])),\"\")","v":""},null,null,null,null,null,null,null,null,0]
[null,{"$f":"IF('DATA COLLECTION'!B89=\"\",\"\",'DATA COLLECTION'!B89)","v":""},null,{"$f":"IF('DATA COLLECTION'!D89=\"\",\"\",'DATA COLLECTION'!D89)","v":""},null,null,null,null,null,{"$f":"IF('DATA COLLECTION'!J89=\"\",\"\",'DATA COLLECTION'!J89)","v":""},null,null,{"$f":"IFERROR(VLOOKUP(R207,Table59[#All],16,FALSE),\"\")","v":""},null,null,null,null,{"$f":"IF(B207<>\"\",SUMPRODUCT((Table59[Assessor]=$J207)*(Table59[Number]=B207)*(Table59[ROW])),\"\")","v":""},null,null,null,null,null,null,null,null,0]
[null,{"$f":"IF('DATA COLLECTION'!B90=\"\",\"\",'DATA COLLECTION'!B90)","v":""},null,{"$f":"IF('DATA COLLECTION'!D90=\"\",\"\",'DATA COLLECTION'!D90)","v":""},null,null,null,null,null,{"$f":"IF('DATA COLLECTION'!J90=\"\",\"\",'DATA COLLECTION'!J90)","v":""},null,null,{"$f":"IFERROR(VLOOKUP(R208,Table59[#All],16,FALSE),\"\")","v":""},null,null,null,null,{"$f":"IF(B208<>\"\",SUMPRODUCT((Table59[Assessor]=$J208)*(Table59[Number]=B208)*(Table59[ROW])),\"\")","v":""},null,null,null,null,null,null,null,null,0]
[null,{"$f":"IF('DATA COLLECTION'!B91=\"\",\"\",'DATA COLLECTION'!B91)","v":""},null,{"$f":"IF('DATA COLLECTION'!D91=\"\",\"\",'DATA COLLECTION'!D91)","v":""},null,null,null,null,null,{"$f":"IF('DATA COLLECTION'!J91=\"\",\"\",'DATA COLLECTION'!J91)","v":""},null,null,{"$f":"IFERROR(VLOOKUP(R209,Table59[#All],16,FALSE),\"\")","v":""},null,null,null,null,{"$f":"IF(B209<>\"\",SUMPRODUCT((Table59[Assessor]=$J209)*(Table59[Number]=B209)*(Table59[ROW])),\"\")","v":""},null,null,null,null,null,null,null,null,0]
[null,{"$f":"IF('DATA COLLECTION'!B92=\"\",\"\",'DATA COLLECTION'!B92)","v":""},null,{"$f":"IF('DATA COLLECTION'!D92=\"\",\"\",'DATA COLLECTION'!D92)","v":""},null,null,null,null,null,{"$f":"IF('DATA COLLECTION'!J92=\"\",\"\",'DATA COLLECTION'!J92)","v":""},null,null,{"$f":"IFERROR(VLOOKUP(R210,Table59[#All],16,FALSE),\"\")","v":""},null,null,null,null,{"$f":"IF(B210<>\"\",SUMPRODUCT((Table59[Assessor]=$J210)*(Table59[Number]=B210)*(Table59[ROW])),\"\")","v":""},null,null,null,null,null,null,null,null,0]
[null,{"$f":"IF('DATA COLLECTION'!B93=\"\",\"\",'DATA COLLECTION'!B93)","v":""},null,{"$f":"IF('DATA COLLECTION'!D93=\"\",\"\",'DATA COLLECTION'!D93)","v":""},null,null,null,null,null,{"$f":"IF('DATA COLLECTION'!J93=\"\",\"\",'DATA COLLECTION'!J93)","v":""},null,null,{"$f":"IFERROR(VLOOKUP(R211,Table59[#All],16,FALSE),\"\")","v":""},null,null,null,null,{"$f":"IF(B211<>\"\",SUMPRODUCT((Table59[Assessor]=$J211)*(Table59[Number]=B211)*(Table59[ROW])),\"\")","v":""},null,null,null,null,null,null,null,null,0]
[null,{"$f":"IF('DATA COLLECTION'!B94=\"\",\"\",'DATA COLLECTION'!B94)","v":""},null,{"$f":"IF('DATA COLLECTION'!D94=\"\",\"\",'DATA COLLECTION'!D94)","v":""},null,null,null,null,null,{"$f":"IF('DATA COLLECTION'!J94=\"\",\"\",'DATA COLLECTION'!J94)","v":""},null,null,{"$f":"IFERROR(VLOOKUP(R212,Table59[#All],16,FALSE),\"\")","v":""},null,null,null,null,{"$f":"IF(B212<>\"\",SUMPRODUCT((Table59[Assessor]=$J212)*(Table59[Number]=B212)*(Table59[ROW])),\"\")","v":""},null,null,null,null,null,null,null,null,0]
[null,{"$f":"IF('DATA COLLECTION'!B95=\"\",\"\",'DATA COLLECTION'!B95)","v":""},null,{"$f":"IF('DATA COLLECTION'!D95=\"\",\"\",'DATA COLLECTION'!D95)","v":""},null,null,null,null,null,{"$f":"IF('DATA COLLECTION'!J95=\"\",\"\",'DATA COLLECTION'!J95)","v":""},null,null,{"$f":"IFERROR(VLOOKUP(R213,Table59[#All],16,FALSE),\"\")","v":""},null,null,null,null,{"$f":"IF(B213<>\"\",SUMPRODUCT((Table59[Assessor]=$J213)*(Table59[Number]=B213)*(Table59[ROW])),\"\")","v":""},null,null,null,null,null,null,null,null,0]
[null,{"$f":"IF('DATA COLLECTION'!B96=\"\",\"\",'DATA COLLECTION'!B96)","v":""},null,{"$f":"IF('DATA COLLECTION'!D96=\"\",\"\",'DATA COLLECTION'!D96)","v":""},null,null,null,null,null,{"$f":"IF('DATA COLLECTION'!J96=\"\",\"\",'DATA COLLECTION'!J96)","v":""},null,null,{"$f":"IFERROR(VLOOKUP(R214,Table59[#All],16,FALSE),\"\")","v":""},null,null,null,null,{"$f":"IF(B214<>\"\",SUMPRODUCT((Table59[Assessor]=$J214)*(Table59[Number]=B214)*(Table59[ROW])),\"\")","v":""},null,null,null,null,null,null,null,null,0]
[null,{"$f":"IF('DATA COLLECTION'!B97=\"\",\"\",'DATA COLLECTION'!B97)","v":""},null,{"$f":"IF('DATA COLLECTION'!D97=\"\",\"\",'DATA COLLECTION'!D97)","v":""},null,null,null,null,null,{"$f":"IF('DATA COLLECTION'!J97=\"\",\"\",'DATA COLLECTION'!J97)","v":""},null,null,{"$f":"IFERROR(VLOOKUP(R215,Table59[#All],16,FALSE),\"\")","v":""},null,null,null,null,{"$f":"IF(B215<>\"\",SUMPRODUCT((Table59[Assessor]=$J215)*(Table59[Number]=B215)*(Table59[ROW])),\"\")","v":""},null,null,null,null,null,null,null,null,0]
[null,{"$f":"IF('DATA COLLECTION'!B98=\"\",\"\",'DATA COLLECTION'!B98)","v":""},null,{"$f":"IF('DATA COLLECTION'!D98=\"\",\"\",'DATA COLLECTION'!D98)","v":""},null,null,null,null,null,{"$f":"IF('DATA COLLECTION'!J98=\"\",\"\",'DATA COLLECTION'!J98)","v":""},null,null,{"$f":"IFERROR(VLOOKUP(R216,Table59[#All],16,FALSE),\"\")","v":""},null,null,null,null,{"$f":"IF(B216<>\"\",SUMPRODUCT((Table59[Assessor]=$J216)*(Table59[Number]=B216)*(Table59[ROW])),\"\")","v":""},null,null,null,null,null,null,null,null,0]
[null,{"$f":"IF('DATA COLLECTION'!B99=\"\",\"\",'DATA COLLECTION'!B99)","v":""},null,{"$f":"IF('DATA COLLECTION'!D99=\"\",\"\",'DATA COLLECTION'!D99)","v":""},null,null,null,null,null,{"$f":"IF('DATA COLLECTION'!J99=\"\",\"\",'DATA COLLECTION'!J99)","v":""},null,null,{"$f":"IFERROR(VLOOKUP(R217,Table59[#All],16,FALSE),\"\")","v":""},null,null,null,null,{"$f":"IF(B217<>\"\",SUMPRODUCT((Table59[Assessor]=$J217)*(Table59[Number]=B217)*(Table59[ROW])),\"\")","v":""},null,null,null,null,null,null,null,null,0]
[null,{"$f":"IF('DATA COLLECTION'!B100=\"\",\"\",'DATA COLLECTION'!B100)","v":""},null,{"$f":"IF('DATA COLLECTION'!D100=\"\",\"\",'DATA COLLECTION'!D100)","v":""},null,null,null,null,null,{"$f":"IF('DATA COLLECTION'!J100=\"\",\"\",'DATA COLLECTION'!J100)","v":""},null,null,{"$f":"IFERROR(VLOOKUP(R218,Table59[#All],16,FALSE),\"\")","v":""},null,null,null,null,{"$f":"IF(B218<>\"\",SUMPRODUCT((Table59[Assessor]=$J218)*(Table59[Number]=B218)*(Table59[ROW])),\"\")","v":""},null,null,null,null,null,null,null,null,0]
[null,{"$f":"IF('DATA COLLECTION'!B101=\"\",\"\",'DATA COLLECTION'!B101)","v":""},null,{"$f":"IF('DATA COLLECTION'!D101=\"\",\"\",'DATA COLLECTION'!D101)","v":""},null,null,null,null,null,{"$f":"IF('DATA COLLECTION'!J101=\"\",\"\",'DATA COLLECTION'!J101)","v":""},null,null,{"$f":"IFERROR(VLOOKUP(R219,Table59[#All],16,FALSE),\"\")","v":""},null,null,null,null,{"$f":"IF(B219<>\"\",SUMPRODUCT((Table59[Assessor]=$J219)*(Table59[Number]=B219)*(Table59[ROW])),\"\")","v":""},null,null,null,null,null,null,null,null,0]
[null,{"$f":"IF('DATA COLLECTION'!B102=\"\",\"\",'DATA COLLECTION'!B102)","v":""},null,{"$f":"IF('DATA COLLECTION'!D102=\"\",\"\",'DATA COLLECTION'!D102)","v":""},null,null,null,null,null,{"$f":"IF('DATA COLLECTION'!J102=\"\",\"\",'DATA COLLECTION'!J102)","v":""},null,null,{"$f":"IFERROR(VLOOKUP(R220,Table59[#All],16,FALSE),\"\")","v":""},null,null,null,null,{"$f":"IF(B220<>\"\",SUMPRODUCT((Table59[Assessor]=$J220)*(Table59[Number]=B220)*(Table59[ROW])),\"\")","v":""},null,null,null,null,null,null,null,null,0]
[null,{"$f":"IF('DATA COLLECTION'!B103=\"\",\"\",'DATA COLLECTION'!B103)","v":""},null,{"$f":"IF('DATA COLLECTION'!D103=\"\",\"\",'DATA COLLECTION'!D103)","v":""},null,null,null,null,null,{"$f":"IF('DATA COLLECTION'!J103=\"\",\"\",'DATA COLLECTION'!J103)","v":""},null,null,{"$f":"IFERROR(VLOOKUP(R221,Table59[#All],16,FALSE),\"\")","v":""},null,null,null,null,{"$f":"IF(B221<>\"\",SUMPRODUCT((Table59[Assessor]=$J221)*(Table59[Number]=B221)*(Table59[ROW])),\"\")","v":""},null,null,null,null,null,null,null,null,0]
[null,{"$f":"IF('DATA COLLECTION'!B104=\"\",\"\",'DATA COLLECTION'!B104)","v":""},null,{"$f":"IF('DATA COLLECTION'!D104=\"\",\"\",'DATA COLLECTION'!D104)","v":""},null,null,null,null,null,{"$f":"IF('DATA COLLECTION'!J104=\"\",\"\",'DATA COLLECTION'!J104)","v":""},null,null,{"$f":"IFERROR(VLOOKUP(R222,Table59[#All],16,FALSE),\"\")","v":""},null,null,null,null,{"$f":"IF(B222<>\"\",SUMPRODUCT((Table59[Assessor]=$J222)*(Table59[Number]=B222)*(Table59[ROW])),\"\")","v":""},null,null,null,null,null,null,null,null,0]
[null,{"$f":"IF('DATA COLLECTION'!B105=\"\",\"\",'DATA COLLECTION'!B105)","v":""},null,{"$f":"IF('DATA COLLECTION'!D105=\"\",\"\",'DATA COLLECTION'!D105)","v":""},null,null,null,null,null,{"$f":"IF('DATA COLLECTION'!J105=\"\",\"\",'DATA COLLECTION'!J105)","v":""},null,null,{"$f":"IFERROR(VLOOKUP(R223,Table59[#All],16,FALSE),\"\")","v":""},null,null,null,null,{"$f":"IF(B223<>\"\",SUMPRODUCT((Table59[Assessor]=$J223)*(Table59[Number]=B223)*(Table59[ROW])),\"\")","v":""},null,null,null,null,null,null,null,null,0]
[null,{"$f":"IF('DATA COLLECTION'!B106=\"\",\"\",'DATA COLLECTION'!B106)","v":""},null,{"$f":"IF('DATA COLLECTION'!D106=\"\",\"\",'DATA COLLECTION'!D106)","v":""},null,null,null,null,null,{"$f":"IF('DATA COLLECTION'!J106=\"\",\"\",'DATA COLLECTION'!J106)","v":""},null,null,{"$f":"IFERROR(VLOOKUP(R224,Table59[#All],16,FALSE),\"\")","v":""},null,null,null,null,{"$f":"IF(B224<>\"\",SUMPRODUCT((Table59[Assessor]=$J224)*(Table59[Number]=B224)*(Table59[ROW])),\"\")","v":""},null,null,null,null,null,null,null,null,0]
[null,{"$f":"IF('DATA COLLECTION'!B107=\"\",\"\",'DATA COLLECTION'!B107)","v":""},null,{"$f":"IF('DATA COLLECTION'!D107=\"\",\"\",'DATA COLLECTION'!D107)","v":""},null,null,null,null,null,{"$f":"IF('DATA COLLECTION'!J107=\"\",\"\",'DATA COLLECTION'!J107)","v":""},null,null,{"$f":"IFERROR(VLOOKUP(R225,Table59[#All],16,FALSE),\"\")","v":""},null,null,null,null,{"$f":"IF(B225<>\"\",SUMPRODUCT((Table59[Assessor]=$J225)*(Table59[Number]=B225)*(Table59[ROW])),\"\")","v":""},null,null,null,null,null,null,null,null,{"$f":"IF(B225<>\"\",1,0)","v":0}]
[null,{"$f":"IF('DATA COLLECTION'!B108=\"\",\"\",'DATA COLLECTION'!B108)","v":""},null,{"$f":"IF('DATA COLLECTION'!D108=\"\",\"\",'DATA COLLECTION'!D108)","v":""},null,null,null,null,null,{"$f":"IF('DATA COLLECTION'!J108=\"\",\"\",'DATA COLLECTION'!J108)","v":""},null,null,{"$f":"IFERROR(VLOOKUP(R226,Table59[#All],16,FALSE),\"\")","v":""},null,null,null,null,{"$f":"IF(B226<>\"\",SUMPRODUCT((Table59[Assessor]=$J226)*(Table59[Number]=B226)*(Table59[ROW])),\"\")","v":""},null,null,null,null,null,null,null,null,0]
[null,{"$f":"IF('DATA COLLECTION'!B109=\"\",\"\",'DATA COLLECTION'!B109)","v":""},null,{"$f":"IF('DATA COLLECTION'!D109=\"\",\"\",'DATA COLLECTION'!D109)","v":""},null,null,null,null,null,{"$f":"IF('DATA COLLECTION'!J109=\"\",\"\",'DATA COLLECTION'!J109)","v":""},null,null,{"$f":"IFERROR(VLOOKUP(R227,Table59[#All],16,FALSE),\"\")","v":""},null,null,null,null,{"$f":"IF(B227<>\"\",SUMPRODUCT((Table59[Assessor]=$J227)*(Table59[Number]=B227)*(Table59[ROW])),\"\")","v":""},null,null,null,null,null,null,null,null,0]
[null,{"$f":"IF('DATA COLLECTION'!B110=\"\",\"\",'DATA COLLECTION'!B110)","v":""},null,{"$f":"IF('DATA COLLECTION'!D110=\"\",\"\",'DATA COLLECTION'!D110)","v":""},null,null,null,null,null,{"$f":"IF('DATA COLLECTION'!J110=\"\",\"\",'DATA COLLECTION'!J110)","v":""},null,null,{"$f":"IFERROR(VLOOKUP(R228,Table59[#All],16,FALSE),\"\")","v":""},null,null,null,null,{"$f":"IF(B228<>\"\",SUMPRODUCT((Table59[Assessor]=$J228)*(Table59[Number]=B228)*(Table59[ROW])),\"\")","v":""},null,null,null,null,null,null,null,null,0]
[null,{"$f":"IF('DATA COLLECTION'!B111=\"\",\"\",'DATA COLLECTION'!B111)","v":""},null,{"$f":"IF('DATA COLLECTION'!D111=\"\",\"\",'DATA COLLECTION'!D111)","v":""},null,null,null,null,null,{"$f":"IF('DATA COLLECTION'!J111=\"\",\"\",'DATA COLLECTION'!J111)","v":""},null,null,{"$f":"IFERROR(VLOOKUP(R229,Table59[#All],16,FALSE),\"\")","v":""},null,null,null,null,{"$f":"IF(B229<>\"\",SUMPRODUCT((Table59[Assessor]=$J229)*(Table59[Number]=B229)*(Table59[ROW])),\"\")","v":""},null,null,null,null,null,null,null,null,0]
[null,{"$f":"IF('DATA COLLECTION'!B112=\"\",\"\",'DATA COLLECTION'!B112)","v":""},null,{"$f":"IF('DATA COLLECTION'!D112=\"\",\"\",'DATA COLLECTION'!D112)","v":""},null,null,null,null,null,{"$f":"IF('DATA COLLECTION'!J112=\"\",\"\",'DATA COLLECTION'!J112)","v":""},null,null,{"$f":"IFERROR(VLOOKUP(R230,Table59[#All],16,FALSE),\"\")","v":""},null,null,null,null,{"$f":"IF(B230<>\"\",SUMPRODUCT((Table59[Assessor]=$J230)*(Table59[Number]=B230)*(Table59[ROW])),\"\")","v":""},null,null,null,null,null,null,null,null,0]
[null,{"$f":"IF('DATA COLLECTION'!B113=\"\",\"\",'DATA COLLECTION'!B113)","v":""},null,{"$f":"IF('DATA COLLECTION'!D113=\"\",\"\",'DATA COLLECTION'!D113)","v":""},null,null,null,null,null,{"$f":"IF('DATA COLLECTION'!J113=\"\",\"\",'DATA COLLECTION'!J113)","v":""},null,null,{"$f":"IFERROR(VLOOKUP(R231,Table59[#All],16,FALSE),\"\")","v":""},null,null,null,null,{"$f":"IF(B231<>\"\",SUMPRODUCT((Table59[Assessor]=$J231)*(Table59[Number]=B231)*(Table59[ROW])),\"\")","v":""},null,null,null,null,null,null,null,null,0]
[null,{"$f":"IF('DATA COLLECTION'!B114=\"\",\"\",'DATA COLLECTION'!B114)","v":""},null,{"$f":"IF('DATA COLLECTION'!D114=\"\",\"\",'DATA COLLECTION'!D114)","v":""},null,null,null,null,null,{"$f":"IF('DATA COLLECTION'!J114=\"\",\"\",'DATA COLLECTION'!J114)","v":""},null,null,{"$f":"IFERROR(VLOOKUP(R232,Table59[#All],16,FALSE),\"\")","v":""},null,null,null,null,{"$f":"IF(B232<>\"\",SUMPRODUCT((Table59[Assessor]=$J232)*(Table59[Number]=B232)*(Table59[ROW])),\"\")","v":""},null,null,null,null,null,null,null,null,0]
[null,{"$f":"IF('DATA COLLECTION'!B115=\"\",\"\",'DATA COLLECTION'!B115)","v":""},null,{"$f":"IF('DATA COLLECTION'!D115=\"\",\"\",'DATA COLLECTION'!D115)","v":""},null,null,null,null,null,{"$f":"IF('DATA COLLECTION'!J115=\"\",\"\",'DATA COLLECTION'!J115)","v":""},null,null,{"$f":"IFERROR(VLOOKUP(R233,Table59[#All],16,FALSE),\"\")","v":""},null,null,null,null,{"$f":"IF(B233<>\"\",SUMPRODUCT((Table59[Assessor]=$J233)*(Table59[Number]=B233)*(Table59[ROW])),\"\")","v":""},null,null,null,null,null,null,null,null,0]
[null,{"$f":"IF('DATA COLLECTION'!B116=\"\",\"\",'DATA COLLECTION'!B116)","v":""},null,{"$f":"IF('DATA COLLECTION'!D116=\"\",\"\",'DATA COLLECTION'!D116)","v":""},null,null,null,null,null,{"$f":"IF('DATA COLLECTION'!J116=\"\",\"\",'DATA COLLECTION'!J116)","v":""},null,null,{"$f":"IFERROR(VLOOKUP(R234,Table59[#All],16,FALSE),\"\")","v":""},null,null,null,null,{"$f":"IF(B234<>\"\",SUMPRODUCT((Table59[Assessor]=$J234)*(Table59[Number]=B234)*(Table59[ROW])),\"\")","v":""},null,null,null,null,null,null,null,null,0]
[null,{"$f":"IF('DATA COLLECTION'!B117=\"\",\"\",'DATA COLLECTION'!B117)","v":""},null,{"$f":"IF('DATA COLLECTION'!D117=\"\",\"\",'DATA COLLECTION'!D117)","v":""},null,null,null,null,null,{"$f":"IF('DATA COLLECTION'!J117=\"\",\"\",'DATA COLLECTION'!J117)","v":""},null,null,{"$f":"IFERROR(VLOOKUP(R235,Table59[#All],16,FALSE),\"\")","v":""},null,null,null,null,{"$f":"IF(B235<>\"\",SUMPRODUCT((Table59[Assessor]=$J235)*(Table59[Number]=B235)*(Table59[ROW])),\"\")","v":""},null,null,null,null,null,null,null,null,0]
[null,{"$f":"IF('DATA COLLECTION'!B118=\"\",\"\",'DATA COLLECTION'!B118)","v":""},null,{"$f":"IF('DATA COLLECTION'!D118=\"\",\"\",'DATA COLLECTION'!D118)","v":""},null,null,null,null,null,{"$f":"IF('DATA COLLECTION'!J118=\"\",\"\",'DATA COLLECTION'!J118)","v":""},null,null,{"$f":"IFERROR(VLOOKUP(R236,Table59[#All],16,FALSE),\"\")","v":""},null,null,null,null,{"$f":"IF(B236<>\"\",SUMPRODUCT((Table59[Assessor]=$J236)*(Table59[Number]=B236)*(Table59[ROW])),\"\")","v":""},null,null,null,null,null,null,null,null,0]
[null,{"$f":"IF('DATA COLLECTION'!B119=\"\",\"\",'DATA COLLECTION'!B119)","v":""},null,{"$f":"IF('DATA COLLECTION'!D119=\"\",\"\",'DATA COLLECTION'!D119)","v":""},null,null,null,null,null,{"$f":"IF('DATA COLLECTION'!J119=\"\",\"\",'DATA COLLECTION'!J119)","v":""},null,null,{"$f":"IFERROR(VLOOKUP(R237,Table59[#All],16,FALSE),\"\")","v":""},null,null,null,null,{"$f":"IF(B237<>\"\",SUMPRODUCT((Table59[Assessor]=$J237)*(Table59[Number]=B237)*(Table59[ROW])),\"\")","v":""},null,null,null,null,null,null,null,null,0]
[null,{"$f":"IF('DATA COLLECTION'!B120=\"\",\"\",'DATA COLLECTION'!B120)","v":""},null,{"$f":"IF('DATA COLLECTION'!D120=\"\",\"\",'DATA COLLECTION'!D120)","v":""},null,null,null,null,null,{"$f":"IF('DATA COLLECTION'!J120=\"\",\"\",'DATA COLLECTION'!J120)","v":""},null,null,{"$f":"IFERROR(VLOOKUP(R238,Table59[#All],16,FALSE),\"\")","v":""},null,null,null,null,{"$f":"IF(B238<>\"\",SUMPRODUCT((Table59[Assessor]=$J238)*(Table59[Number]=B238)*(Table59[ROW])),\"\")","v":""},null,null,null,null,null,null,null,null,0]
[null,{"$f":"IF('DATA COLLECTION'!B121=\"\",\"\",'DATA COLLECTION'!B121)","v":""},null,{"$f":"IF('DATA COLLECTION'!D121=\"\",\"\",'DATA COLLECTION'!D121)","v":""},null,null,null,null,null,{"$f":"IF('DATA COLLECTION'!J121=\"\",\"\",'DATA COLLECTION'!J121)","v":""},null,null,{"$f":"IFERROR(VLOOKUP(R239,Table59[#All],16,FALSE),\"\")","v":""},null,null,null,null,{"$f":"IF(B239<>\"\",SUMPRODUCT((Table59[Assessor]=$J239)*(Table59[Number]=B239)*(Table59[ROW])),\"\")","v":""},null,null,null,null,null,null,null,null,0]
[null,{"$f":"IF('DATA COLLECTION'!B122=\"\",\"\",'DATA COLLECTION'!B122)","v":""},null,{"$f":"IF('DATA COLLECTION'!D122=\"\",\"\",'DATA COLLECTION'!D122)","v":""},null,null,null,null,null,{"$f":"IF('DATA COLLECTION'!J122=\"\",\"\",'DATA COLLECTION'!J122)","v":""},null,null,{"$f":"IFERROR(VLOOKUP(R240,Table59[#All],16,FALSE),\"\")","v":""},null,null,null,null,{"$f":"IF(B240<>\"\",SUMPRODUCT((Table59[Assessor]=$J240)*(Table59[Number]=B240)*(Table59[ROW])),\"\")","v":""},null,null,null,null,null,null,null,null,0]
[null,{"$f":"IF('DATA COLLECTION'!B123=\"\",\"\",'DATA COLLECTION'!B123)","v":""},null,{"$f":"IF('DATA COLLECTION'!D123=\"\",\"\",'DATA COLLECTION'!D123)","v":""},null,null,null,null,null,{"$f":"IF('DATA COLLECTION'!J123=\"\",\"\",'DATA COLLECTION'!J123)","v":""},null,null,{"$f":"IFERROR(VLOOKUP(R241,Table59[#All],16,FALSE),\"\")","v":""},null,null,null,null,{"$f":"IF(B241<>\"\",SUMPRODUCT((Table59[Assessor]=$J241)*(Table59[Number]=B241)*(Table59[ROW])),\"\")","v":""},null,null,null,null,null,null,null,null,0]
[null,{"$f":"IF('DATA COLLECTION'!B124=\"\",\"\",'DATA COLLECTION'!B124)","v":""},null,{"$f":"IF('DATA COLLECTION'!D124=\"\",\"\",'DATA COLLECTION'!D124)","v":""},null,null,null,null,null,{"$f":"IF('DATA COLLECTION'!J124=\"\",\"\",'DATA COLLECTION'!J124)","v":""},null,null,{"$f":"IFERROR(VLOOKUP(R242,Table59[#All],16,FALSE),\"\")","v":""},null,null,null,null,{"$f":"IF(B242<>\"\",SUMPRODUCT((Table59[Assessor]=$J242)*(Table59[Number]=B242)*(Table59[ROW])),\"\")","v":""},null,null,null,null,null,null,null,null,0]
[null,{"$f":"IF('DATA COLLECTION'!B125=\"\",\"\",'DATA COLLECTION'!B125)","v":""},null,{"$f":"IF('DATA COLLECTION'!D125=\"\",\"\",'DATA COLLECTION'!D125)","v":""},null,null,null,null,null,{"$f":"IF('DATA COLLECTION'!J125=\"\",\"\",'DATA COLLECTION'!J125)","v":""},null,null,{"$f":"IFERROR(VLOOKUP(R243,Table59[#All],16,FALSE),\"\")","v":""},null,null,null,null,{"$f":"IF(B243<>\"\",SUMPRODUCT((Table59[Assessor]=$J243)*(Table59[Number]=B243)*(Table59[ROW])),\"\")","v":""},null,null,null,null,null,null,null,null,0]
[null,{"$f":"IF('DATA COLLECTION'!B126=\"\",\"\",'DATA COLLECTION'!B126)","v":""},null,{"$f":"IF('DATA COLLECTION'!D126=\"\",\"\",'DATA COLLECTION'!D126)","v":""},null,null,null,null,null,{"$f":"IF('DATA COLLECTION'!J126=\"\",\"\",'DATA COLLECTION'!J126)","v":""},null,null,{"$f":"IFERROR(VLOOKUP(R244,Table59[#All],16,FALSE),\"\")","v":""},null,null,null,null,{"$f":"IF(B244<>\"\",SUMPRODUCT((Table59[Assessor]=$J244)*(Table59[Number]=B244)*(Table59[ROW])),\"\")","v":""},null,null,null,null,null,null,null,null,0]
[null,{"$f":"IF('DATA COLLECTION'!B127=\"\",\"\",'DATA COLLECTION'!B127)","v":""},null,{"$f":"IF('DATA COLLECTION'!D127=\"\",\"\",'DATA COLLECTION'!D127)","v":""},null,null,null,null,null,{"$f":"IF('DATA COLLECTION'!J127=\"\",\"\",'DATA COLLECTION'!J127)","v":""},null,null,{"$f":"IFERROR(VLOOKUP(R245,Table59[#All],16,FALSE),\"\")","v":""},null,null,null,null,{"$f":"IF(B245<>\"\",SUMPRODUCT((Table59[Assessor]=$J245)*(Table59[Number]=B245)*(Table59[ROW])),\"\")","v":""},null,null,null,null,null,null,null,null,0]
[null,{"$f":"IF('DATA COLLECTION'!B128=\"\",\"\",'DATA COLLECTION'!B128)","v":""},null,{"$f":"IF('DATA COLLECTION'!D128=\"\",\"\",'DATA COLLECTION'!D128)","v":""},null,null,null,null,null,{"$f":"IF('DATA COLLECTION'!J128=\"\",\"\",'DATA COLLECTION'!J128)","v":""},null,null,{"$f":"IFERROR(VLOOKUP(R246,Table59[#All],16,FALSE),\"\")","v":""},null,null,null,null,{"$f":"IF(B246<>\"\",SUMPRODUCT((Table59[Assessor]=$J246)*(Table59[Number]=B246)*(Table59[ROW])),\"\")","v":""},null,null,null,null,null,null,null,null,0]
[null,{"$f":"IF('DATA COLLECTION'!B129=\"\",\"\",'DATA COLLECTION'!B129)","v":""},null,{"$f":"IF('DATA COLLECTION'!D129=\"\",\"\",'DATA COLLECTION'!D129)","v":""},null,null,null,null,null,{"$f":"IF('DATA COLLECTION'!J129=\"\",\"\",'DATA COLLECTION'!J129)","v":""},null,null,{"$f":"IFERROR(VLOOKUP(R247,Table59[#All],16,FALSE),\"\")","v":""},null,null,null,null,{"$f":"IF(B247<>\"\",SUMPRODUCT((Table59[Assessor]=$J247)*(Table59[Number]=B247)*(Table59[ROW])),\"\")","v":""},null,null,null,null,null,null,null,null,0]
[null,{"$f":"IF('DATA COLLECTION'!B130=\"\",\"\",'DATA COLLECTION'!B130)","v":""},null,{"$f":"IF('DATA COLLECTION'!D130=\"\",\"\",'DATA COLLECTION'!D130)","v":""},null,null,null,null,null,{"$f":"IF('DATA COLLECTION'!J130=\"\",\"\",'DATA COLLECTION'!J130)","v":""},null,null,{"$f":"IFERROR(VLOOKUP(R248,Table59[#All],16,FALSE),\"\")","v":""},null,null,null,null,{"$f":"IF(B248<>\"\",SUMPRODUCT((Table59[Assessor]=$J248)*(Table59[Number]=B248)*(Table59[ROW])),\"\")","v":""},null,null,null,null,null,null,null,null,0]
[null,{"$f":"IF('DATA COLLECTION'!B131=\"\",\"\",'DATA COLLECTION'!B131)","v":""},null,{"$f":"IF('DATA COLLECTION'!D131=\"\",\"\",'DATA COLLECTION'!D131)","v":""},null,null,null,null,null,{"$f":"IF('DATA COLLECTION'!J131=\"\",\"\",'DATA COLLECTION'!J131)","v":""},null,null,{"$f":"IFERROR(VLOOKUP(R249,Table59[#All],16,FALSE),\"\")","v":""},null,null,null,null,{"$f":"IF(B249<>\"\",SUMPRODUCT((Table59[Assessor]=$J249)*(Table59[Number]=B249)*(Table59[ROW])),\"\")","v":""},null,null,null,null,null,null,null,null,0]
[null,{"$f":"IF('DATA COLLECTION'!B132=\"\",\"\",'DATA COLLECTION'!B132)","v":""},null,{"$f":"IF('DATA COLLECTION'!D132=\"\",\"\",'DATA COLLECTION'!D132)","v":""},null,null,null,null,null,{"$f":"IF('DATA COLLECTION'!J132=\"\",\"\",'DATA COLLECTION'!J132)","v":""},null,null,{"$f":"IFERROR(VLOOKUP(R250,Table59[#All],16,FALSE),\"\")","v":""},null,null,null,null,{"$f":"IF(B250<>\"\",SUMPRODUCT((Table59[Assessor]=$J250)*(Table59[Number]=B250)*(Table59[ROW])),\"\")","v":""},null,null,null,null,null,null,null,null,0]
[null,{"$f":"IF('DATA COLLECTION'!B133=\"\",\"\",'DATA COLLECTION'!B133)","v":""},null,{"$f":"IF('DATA COLLECTION'!D133=\"\",\"\",'DATA COLLECTION'!D133)","v":""},null,null,null,null,null,{"$f":"IF('DATA COLLECTION'!J133=\"\",\"\",'DATA COLLECTION'!J133)","v":""},null,null,{"$f":"IFERROR(VLOOKUP(R251,Table59[#All],16,FALSE),\"\")","v":""},null,null,null,null,{"$f":"IF(B251<>\"\",SUMPRODUCT((Table59[Assessor]=$J251)*(Table59[Number]=B251)*(Table59[ROW])),\"\")","v":""},null,null,null,null,null,null,null,null,0]
[null,{"$f":"IF('DATA COLLECTION'!B134=\"\",\"\",'DATA COLLECTION'!B134)","v":""},null,{"$f":"IF('DATA COLLECTION'!D134=\"\",\"\",'DATA COLLECTION'!D134)","v":""},null,null,null,null,null,{"$f":"IF('DATA COLLECTION'!J134=\"\",\"\",'DATA COLLECTION'!J134)","v":""},null,null,{"$f":"IFERROR(VLOOKUP(R252,Table59[#All],16,FALSE),\"\")","v":""},null,null,null,null,{"$f":"IF(B252<>\"\",SUMPRODUCT((Table59[Assessor]=$J252)*(Table59[Number]=B252)*(Table59[ROW])),\"\")","v":""},null,null,null,null,null,null,null,null,0]
[null,{"$f":"IF('DATA COLLECTION'!B135=\"\",\"\",'DATA COLLECTION'!B135)","v":""},null,{"$f":"IF('DATA COLLECTION'!D135=\"\",\"\",'DATA COLLECTION'!D135)","v":""},null,null,null,null,null,{"$f":"IF('DATA COLLECTION'!J135=\"\",\"\",'DATA COLLECTION'!J135)","v":""},null,null,{"$f":"IFERROR(VLOOKUP(R253,Table59[#All],16,FALSE),\"\")","v":""},null,null,null,null,{"$f":"IF(B253<>\"\",SUMPRODUCT((Table59[Assessor]=$J253)*(Table59[Number]=B253)*(Table59[ROW])),\"\")","v":""},null,null,null,null,null,null,null,null,0]
[null,{"$f":"IF('DATA COLLECTION'!B136=\"\",\"\",'DATA COLLECTION'!B136)","v":""},null,{"$f":"IF('DATA COLLECTION'!D136=\"\",\"\",'DATA COLLECTION'!D136)","v":""},null,null,null,null,null,{"$f":"IF('DATA COLLECTION'!J136=\"\",\"\",'DATA COLLECTION'!J136)","v":""},null,null,{"$f":"IFERROR(VLOOKUP(R254,Table59[#All],16,FALSE),\"\")","v":""},null,null,null,null,{"$f":"IF(B254<>\"\",SUMPRODUCT((Table59[Assessor]=$J254)*(Table59[Number]=B254)*(Table59[ROW])),\"\")","v":""},null,null,null,null,null,null,null,null,0]
[null,{"$f":"IF('DATA COLLECTION'!B137=\"\",\"\",'DATA COLLECTION'!B137)","v":""},null,{"$f":"IF('DATA COLLECTION'!D137=\"\",\"\",'DATA COLLECTION'!D137)","v":""},null,null,null,null,null,{"$f":"IF('DATA COLLECTION'!J137=\"\",\"\",'DATA COLLECTION'!J137)","v":""},null,null,{"$f":"IFERROR(VLOOKUP(R255,Table59[#All],16,FALSE),\"\")","v":""},null,null,null,null,{"$f":"IF(B255<>\"\",SUMPRODUCT((Table59[Assessor]=$J255)*(Table59[Number]=B255)*(Table59[ROW])),\"\")","v":""},null,null,null,null,null,null,null,null,0]
[null,{"$f":"IF('DATA COLLECTION'!B138=\"\",\"\",'DATA COLLECTION'!B138)","v":""},null,{"$f":"IF('DATA COLLECTION'!D138=\"\",\"\",'DATA COLLECTION'!D138)","v":""},null,null,null,null,null,{"$f":"IF('DATA COLLECTION'!J138=\"\",\"\",'DATA COLLECTION'!J138)","v":""},null,null,{"$f":"IFERROR(VLOOKUP(R256,Table59[#All],16,FALSE),\"\")","v":""},null,null,null,null,{"$f":"IF(B256<>\"\",SUMPRODUCT((Table59[Assessor]=$J256)*(Table59[Number]=B256)*(Table59[ROW])),\"\")","v":""},null,null,null,null,null,null,null,null,0]
[null,{"$f":"IF('DATA COLLECTION'!B139=\"\",\"\",'DATA COLLECTION'!B139)","v":""},null,{"$f":"IF('DATA COLLECTION'!D139=\"\",\"\",'DATA COLLECTION'!D139)","v":""},null,null,null,null,null,{"$f":"IF('DATA COLLECTION'!J139=\"\",\"\",'DATA COLLECTION'!J139)","v":""},null,null,{"$f":"IFERROR(VLOOKUP(R257,Table59[#All],16,FALSE),\"\")","v":""},null,null,null,null,{"$f":"IF(B257<>\"\",SUMPRODUCT((Table59[Assessor]=$J257)*(Table59[Number]=B257)*(Table59[ROW])),\"\")","v":""},null,null,null,null,null,null,null,null,0]
[null,{"$f":"IF('DATA COLLECTION'!B140=\"\",\"\",'DATA COLLECTION'!B140)","v":""},null,{"$f":"IF('DATA COLLECTION'!D140=\"\",\"\",'DATA COLLECTION'!D140)","v":""},null,null,null,null,null,{"$f":"IF('DATA COLLECTION'!J140=\"\",\"\",'DATA COLLECTION'!J140)","v":""},null,null,{"$f":"IFERROR(VLOOKUP(R258,Table59[#All],16,FALSE),\"\")","v":""},null,null,null,null,{"$f":"IF(B258<>\"\",SUMPRODUCT((Table59[Assessor]=$J258)*(Table59[Number]=B258)*(Table59[ROW])),\"\")","v":""},null,null,null,null,null,null,null,null,0]
[null,{"$f":"IF('DATA COLLECTION'!B141=\"\",\"\",'DATA COLLECTION'!B141)","v":""},null,{"$f":"IF('DATA COLLECTION'!D141=\"\",\"\",'DATA COLLECTION'!D141)","v":""},null,null,null,null,null,{"$f":"IF('DATA COLLECTION'!J141=\"\",\"\",'DATA COLLECTION'!J141)","v":""},null,null,{"$f":"IFERROR(VLOOKUP(R259,Table59[#All],16,FALSE),\"\")","v":""},null,null,null,null,{"$f":"IF(B259<>\"\",SUMPRODUCT((Table59[Assessor]=$J259)*(Table59[Number]=B259)*(Table59[ROW])),\"\")","v":""},null,null,null,null,null,null,null,null,0]
[null,null,null,null,null,null,null,null,null,null,null,null,null,null,null,null,null,null,null,null,null,null,null,null,null,null,1]
[null,null,null,null,null,null,null,null,null,null,null,null,null,null,null,null,null,null,null,null,null,null,null,null,null,null,1]
[null,null,null,null,null,null,null,null,null,null,null,null,null,null,null,null,null,null,null,null,null,null,null,null,null,null,1]
[null,"(Optional) Step 2: Export the Workforce Insights to PDF",null,null,null,null,null,null,null,null,null,null,null,null,null,null,null,null,null,null,null,null,null,null,null,null,1]
[null,null,null,null,null,null,null,null,null,null,null,null,null,null,null,null,null,null,null,null,null,null,null,null,null,null,1]
[null,"INSTRUCTIONS: Click the blue button below to Export the Workforce Insights section to a PDF. The report will be exported to reflect today's date by default, but the date that appears on the report may be adjusted using the date box below. ",null,null,null,null,null,null,null,null,null,null,null,null,null,null,null,null,null,null,null,null,null,null,null,null,1]
[null,null,null,null,null,null,null,null,null,null,null,null,null,null,null,null,null,null,null,null,null,null,null,null,null,null,1]
[null,null,null,null,null,null,null,null,null,null,null,null,null,null,null,{"$f":"TODAY()","v":"2023-08-01"},{"$f":"TEXT(P267,\"mm/dd/yyyy\")","v":"08/01/2023"},null,null,null,null,null,null,null,null,null,1]
[null,null,null,null,null,null,null,null,null,null,null,null,null,null,"Enter Date to be reflected on Summary (if different from Today): MM/DD/YY",null,{"$f":"TEXT(P268,\"mm/dd/yyyy\")","v":"01/00/1900"},null,null,null,null,null,null,null,null,null,1]
[null,null,null,null,null,null,null,null,null,null,null,null,null,null,null,null,null,null,null,null,null,null,null,null,null,null,1]
[null,null,null,null,null,null,null,null,null,null,null,null,null,null,null,null,null,null,null,null,null,null,null,null,null,null,1]
[null,null,null,null,null,null,null,null,null,null,null,null,null,null,null,null,null,null,null,null,null,null,null,null,null,null,1]
[null,null,null,null,null,null,null,null,null,null,null,null,null,null,null,null,null,null,null,null,null,null,null,null,null,null,1]
[null,null,"(Optional) Step 2(a): Export the Summary to PDF if Not Using Macros",null,null,null,null,null,null,null,null,null,null,null,null,null,null,null,null,null,null,null,null,null,null,null,1]
[null,null,null,null,null,null,null,null,null,null,null,null,null,null,null,null,null,null,null,null,null,null,null,null,null,null,1]
[null,null,"If chosen not to use Macros, the workforce insights section can be exported to PDF by going to the file menu and print. Select \"Microsoft Print to PDF\" as the printer and click \"Print\". Use the same procedures descripted in the Step 2 to change the summary date if needed.",null,null,null,null,null,null,null,null,null,null,null,null,null,null,null,null,null,null,null,null,null,null,null,1]
[null,null,null,null,null,null,null,null,null,null,null,null,null,null,null,null,null,null,null,null,null,null,null,null,null,null,1]
[null,null,null,null,null,null,null,null,null,null,null,null,null,null,null,null,null,null,null,null,null,null,null,null,null,null,1]
[null,null,null,null,null,null,null,null,null,null,null,null,null,null,null,null,null,null,null,null,null,null,null,null,null,null,1]
[null,"(Optional) Step 3: Remove Submitted Assessment Data",null,null,null,null,null,null,null,null,null,null,null,null,null,null,null,null,null,null,null,null,null,null,null,null,1]
[null,null,null,null,null,null,null,null,null,null,null,null,null,null,null,null,null,null,null,null,null,null,null,null,null,null,1]
[null,"INSTRUCTIONS: In the event submitted assessment data needs to be removed, go to the row number of the assessment data that should be removed (first column of the table) and click on the cell with the correct row number. Right click and go to \"Delete\" and then \"Table Rows\". If the assessment data needs to be reentered, complete another assessment.",null,null,null,null,null,null,null,null,null,null,null,null,null,null,null,null,null,null,null,null,null,null,null,null,1]
[null,null,null,null,null,null,null,null,null,null,null,null,null,null,null,null,null,null,null,null,null,null,null,null,null,null,1]
[null,null,null,null,null,null,null,null,null,null,null,null,null,null,null,null,null,null,null,null,null,null,null,null,null,null,1]
[null,null,null,null,null,null,null,null,null,null,null,null,null,null,null,null,null,null,null,null,null,null,null,null,null,null,1]
[null,null,null,null,null,null,null,null,null,null,null,null,null,null,null,null,null,null,null,null,null,null,null,null,null,null,1]
[null,null,null,null,null,null,null,null,null,null,null,null,null,null,null,null,null,null,null,null,null,null,null,null,null,null,0]
[null,null,null,null,null,null,null,null,null,null,null,null,null,null,null,null,null,null,null,null,null,null,null,null,null,null,0]
["ROW","Title","Number","Assessor","Date","Overall Score","Vacancy Risk Score","Recruitment Score","Knowledge Management Score","Learning and Development Score","Operational Impact Score","Strategic Objectives Impact Score","Impact from Environment Score","Position Specific Elements Score","Additional Questions Score","Criticality","What is the likelihood the position will become vacant within 1 year?","What is the likelihood the position will become vacant within 5 years?","Is the incumbent currently eligible to retire? ","Will the incumbent be eligible to retire within 5 years?","Is this a single incumbent position?","What is the degree of turnover this position has experienced in the past?","What is the degree of external candidate availability for this position?","What is the degree of recruitment challenges for this position in the past?","What is the degree of competition for qualified candidates for this position?","What is the degree this position requires unique skills or knowledge?","What is the degree specialized knowledge or expertise is required?","What is the degree specialized experience is required?","What is the degree of difficulty for developing internal talent for this position?","What is the level of current bench strength within the agency for this position?","To what degree does the agency have development plans/programs for internal talent?","What is the degree the agency can prepare individuals for this role internally?","What is the degree external sources are used to develop internal talent for this position?","What is the likelihood internal candidates will be prepared for this role within 1 year?","What is the likelihood internal candidates will be prepared for this role within 5 years?","What is the degree the agency would experience operational challenges or potential risks if this position was vacant?","To what degree would the agency experience challenges meeting legislative/regulatory requirements if this position was vacant?","To what degree would the agency experience challenges providing their services to customers if this position was vacant?","To what degree would the agency experience challenges to workplace health, safety, and security if this position was vacant?","What is the likelihood this position would be deemed \"essential\" for emergency situations?","What is the degree this position is limited to specific agency geographic locations?","What is the likelihood the agency could be susceptible to other risks if this position was vacant?","What is the degree the agency would experience challenges in achieving strategic objectives if this position was vacant?","What is the degree potential social or demographic shifts could impact recruitment, retention, or development of this position?","What is the degree potential new technology or innovations could impact recruitment, retention, or development of this position?","What is the degree potential economic shifts could impact recruitment, retention, or development of this position?","What is the degree potential political or regulatory shifts could impact recruitment, retention, or development of this position?","What is the degree this position performs specialized responsibilities? ","ADQ Scale","ADQ Yes/NO","ADQ Scale2","ADQ Yes/NO2","ADQ Scale3","ADQ Yes/NO3","ADQ Scale4","ADQ Yes/NO4","ADQ Scale5","ADQ Yes/NO5","ADQ Scale6","ADQ Yes/NO6","ADQ Scale7","ADQ Yes/NO7","ADQ Scale8","ADQ Yes/NO8","ADQ Scale9","ADQ Yes/NO9","ADQ Scale10","ADQ Yes/NO10","Internal Department","Sub-Agency/Division","Line of Service","Location","EEO Code","Classification","Criticality Visibility"]
[{"$f":"ROW()","v":289},null,null,null,null,null,null,null,null,null,null,null,null,null,null,null,null,null,null,null,null,null,null,null,null,null,null,null,null,null,null,null,null,null,null,null,null,null,null,null,null,null,null,null,null,null,null,null,null,null,null,null,null,null,null,null,null,null,null,null,null,null,null,null,null,null,null,null,{"$f":"IFERROR(VLOOKUP(C289,'DATA COLLECTION'!$C$161:$P$260,3,FALSE),\"\")","v":""},{"$f":"IFERROR(VLOOKUP(C289,'DATA COLLECTION'!$C$161:$P$260,5,FALSE),\"\")","v":""},{"$f":"IFERROR(VLOOKUP(C289,'DATA COLLECTION'!$C$161:$P$260,7,FALSE),\"\")","v":""},{"$f":"IFERROR(VLOOKUP(C289,'DATA COLLECTION'!$C$161:$P$260,9,FALSE),\"\")","v":""},{"$f":"IFERROR(VLOOKUP(C289,'DATA COLLECTION'!$C$161:$P$260,11,FALSE),\"\")","v":""},{"$f":"IFERROR(VLOOKUP(C289,'DATA COLLECTION'!$C$161:$P$260,13,FALSE),\"\")","v":""},{"$f":"IF(P289=\"Critical\",1,0)","v":0}]

{"sheet":"CENTRAL DATA","index":6,"n_rows":140,"n_cols":13,"rows_kept":140,"cut":false,"hidden":true,"merged":[[5,2,7,14],[8,2,9,14]]}
[]
[]
[]
[]
[]
[null,null,"CENTRAL DATA"]
[]
[]
[null,null,"This tab serves as a central place for all data for drop down lists or look up formulas within the tool. "]
[]
[]
["Agency Name","Secretariate","Ageny Number",null,"Yes/No",null,"Question Types",null,"And/Or",null,"Data Process",null,"Home Tab Pictures"]
["Assistive Technology Loan Fund Authority","Health and Human Resources",null,null,"Yes",null,{"$f":"'BUILD ASSESSMENT'!C523","v":"Likelihood…"},null,"And",null,"Self",null,"LOCKED"]
["Blue Ridge Community College","Higher Education",291,null,"No",null,{"$f":"'BUILD ASSESSMENT'!C524","v":"Degree…"},null,"Or",null,"From Others",null,"UNLOCKED"]
["Board of Accountancy","Finance",226,null,null,null,{"$f":"'BUILD ASSESSMENT'!C525","v":"Strength…"}]
["Center for Innovative Technology","Independent",null,null,null,null,{"$f":"'BUILD ASSESSMENT'!C526","v":"Agree/Disagree"}]
["Central Virginia Community College","Higher Education",292,null,null,null,{"$f":"'BUILD ASSESSMENT'!C527","v":"Yes/No"}]
["Christopher Newport University","Higher Education",242,null,null,null,{"$f":"'BUILD ASSESSMENT'!C528","v":"Other"}]
["Commonwealth's Attorneys' Services Council","Public Safety and Homeland Security"]
["Compensation Board","Administration",157]
["Mountain Gateway Community College","Higher Education",287]
["Danville Community College ","Higher Education",279]
["Department for the Blind and Vision Impaired","Health and Human Resources",702]
["Department for the Deaf and Hard of Hearing","Health and Human Resources",751]
["Department of Accounts","Finance",151]
["Department for Aging and Rehabilitative Services","Health and Human Resources",262]
["Department of Aviation","Transportation",841]
["Department of Behavioral Health and Developmental Services","Health and Human Resources",720]
["Department of Corrections","Public Safety and Homeland Security",701]
["Department of Criminal Justice Services","Public Safety and Homeland Security",140]
["Department of Education","Education",201]
["Department of Elections","Administration",132]
["Department of Emergency Management","Public Safety and Homeland Security",127]
["Department of Energy","Commerce and Trade",409]
["Department of Environmental Quality","Natural Resources",440]
["Department of Forensic Science","Public Safety and Homeland Security",778]
["Department of Forestry","Agriculture and Forestry",411]
["Department of General Services","Administration",194]
["Department of Health Professions","Health and Human Resources",223]
["Department of Historic Resources","Natural Resources",423]
["Department of Housing & Community Development","Commerce and Trade",165]
["Department of Human Resources Management","Administration",129]
["Department of Juvenile Justice","Public Safety and Homeland Security",777]
["Department of Labor and Industry","Commerce and Trade",181]
["Department of Medical Assistance Services","Health and Human Resources",602]
["Department of Military Affairs","Veterans and Defense Affairs",123]
["Department of Motor Vehicles","Transportation",154]
["Department of Planning and Budget","Administration",122]
["Department of Professional and Occupational Regulation","Commerce and Trade",222]
["Department of Rail and Public Transportation","Transportation",505]
["Department of Small Business and Supplier Diversity","Commerce and Trade",350]
["Department of Social Services","Health and Human Resources",765]
["Department of State Police","Public Safety and Homeland Security",156]
["Department of Taxation","Finance",161]
["Department of the Treasury","Finance",152]
["Department of Transportation","Transportation",501]
["Department of Veterans Services","Veterans and Defense Affairs",912]
["Department of Wildlife Resources","Natural Resources",403]
["Eastern Shore Community College","Higher Education",284]
["Foundation for Healthy Youth","Health and Human Resources",852]
["Frontier Culture Museum of Virginia","Education",239]
["George Mason University","Higher Education",247]
["Germanna Community College","Higher Education",297]
["Gunston Hall","Education",417]
["J. Sargeant Reynolds Community College","Higher Education",283]
["James Madison University","Higher Education",216]
["Jamestown-Yorktown Foundation","Education",425]
["Brightpoint Community College","Higher Education",290]
["Library of Virginia","Education",202]
["Longwood University","Higher Education",214]
["Laurel Ridge Community College","Higher Education",298]
["Marine Resources Commission","Natural Resources",402]
["Motor Vehicle Dealer Board","Transportation",506]
["Mountain Empire Community College","Higher Education",299]
["New College Institute","Higher Education",938]
["New River Community College","Higher Education",275]
["Norfolk State University","Higher Education",213]
["Northern Virginia Community College","Higher Education",280]
["Northern Virginia Mental Health Institute","Health and Human Resources"]
["Office of the State Inspector General","Independent",147]
["Old Dominion University","Higher Education",221]
["Patrick & Henry Community College","Higher Education",285]
["Paul D. Camp Community College","Higher Education",277]
["Piedmont Virginia Community College","Higher Education",282]
["Radford University","Higher Education",217]
["Rappahannock Community College","Higher Education",278]
["Richard Bland College","Higher Education",241]
["Sitter and Barfoot Veterans Care Center","Veterans and Defense Affairs",922]
["Southern Virginia Higher Education Center","Higher Education",937]
["Southside Virginia Community College","Higher Education",276]
["Southwest Virginia Community College","Higher Education",294]
["Southwest Virginia Higher Education Center","Higher Education",948]
["State Corporation Commission","Independent",171]
["State Council for Higher Education for Virginia","Education",245]
["The College of William and Mary","Higher Education",204]
["The Science Museum of Virginia","Education",146]
["Virginia Peninsula Community College","Higher Education",293]
["Tidewater Community College","Higher Education",295]
["University of Mary Washington","Higher Education",215]
["University of Virginia","Higher Education",207]
["University of Virginia at Wise","Higher Education",246]
["University of Virginia Medical Center","Higher Education",209]
["VCCS Shared Services Center","Higher Education",270]
["VCCS System Office","Higher Education",270]
["Virginia Alcoholic Beverage Control","Independent",999]
["Virginia Board for People with Disabilities","Health and Human Resources",606]
["Virginia Commercial Space Flight Authority","Transportation"]
["Virginia Commission for the Arts","Education",148]
["Virginia Commonwealth University","Higher Education",236]
["Virginia Commonwealth University Health Systems Authority","Independent"]
["Virginia Community College System","Higher Education",261]
["Virginia Department of Agriculture and Consumer Services","Agriculture and Forestry",301]
["Virginia Department of Conservation and Recreation","Natural Resources",199]
["Virginia Department of Fire Programs","Public Safety and Homeland Security",960]
["Virginia Department of Health","Health and Human Resources",601]
["Virginia Economic Development Partnership","Commerce and Trade",310]
["Virginia Employment Commission","Commerce and Trade",182]
["Virginia Highlands Community College","Higher Education",296]
["Virginia Housing Development Authority","Commerce and Trade"]
["Virginia Information Technologies Agency","Administration",136]
["Virginia Lottery","Independent",172]
["Virginia Military Institute","Higher Education",211]
["Virginia Museum of Fine Arts","Education",238]
["Virginia Museum of Natural History","Education",942]
["Virginia Parole Board","Public Safety and Homeland Security",766]
["Virginia Polytechnic Institute and State University","Higher Education",208]
["Virginia Port Authority","Transportation",407]
["Virginia Racing Commission","Agriculture and Forestry",405]
["Virginia Resources Authority","Finance"]
["Virginia Retirement System","Independent",158]
["Virginia School for the Deaf and the Blind","Education",218]
["Virginia State University","Higher Education",212]
["Virginia Tobacco Region Revitalization Commission","Commerce and Trade",851]
["Virginia Tourism Corporation","Commerce and Trade",320]
["Virginia Veterans Care Center","Veterans and Defense Affairs",128]
["Virginia Western Community College","Higher Education",286]
["Virginia Workers' Compensation Commission","Independent",191]
["Virginia529 College Savings Plan","Independent",174]
["Wilson Workforce Rehabilitation Center","Health and Human Resources",203]
["Wytheville Community College","Higher Education",288]

{"sheet":"CENTRAL ANALYSIS","index":7,"n_rows":68,"n_cols":20,"rows_kept":68,"cut":false,"hidden":true,"merged":[[26,0,27,1],[26,3,27,4],[5,2,7,14],[8,2,9,14],[18,0,19,1],[18,3,19,4]]}
[]
[]
[]
[]
[]
[null,null,"CENTRAL ANALYSIS"]
[]
[]
[null,null,"This tab serves as a central place for all calculations for charts and tables. The yellow highlighted cells identify what the information is corresponding to throughout the workbook."]
[]
[]
[]
["Build Assessment Progress",null,null,null,"Data Collection Progress",null,null,null,"Additional Questions and Scales for Filter",null,null,null,"Collect Import Total","Summary Import Total"]
["Total Steps",35,null,null,"Total Steps",{"$f":"1+(SUM('DATA COLLECTION'!W42:W141)*3)","v":1},null,null,{"$f":"'BUILD ASSESSMENT'!C468","v":0},{"$f":"'BUILD ASSESSMENT'!O468","v":0},null,null,null,{"$f":"COUNTA(Table59[[#All],[Number]])-1","v":0}]
["Steps Completed",{"$f":"COUNTA('BUILD ASSESSMENT'!J22,'BUILD ASSESSMENT'!E25,'BUILD ASSESSMENT'!P46:P51,'BUILD ASSESSMENT'!P60:P62,'BUILD ASSESSMENT'!P71:P73,'BUILD ASSESSMENT'!P82:P88,'BUILD ASSESSMENT'!P97:P103,'BUILD ASSESSMENT'!P112,'BUILD ASSESSMENT'!P454,'BUILD ASSESSMENT'!P551,'BUILD ASSESSMENT'!P442:P445)","v":0},{"$f":"B15/B14","v":0},null,"Steps Completed",{"$f":"IF('DATA COLLECTION'!N22<>\"\"<1,0)+SUM('DATA COLLECTION'!Y42:Y141)","v":0},{"$f":"F15/F14","v":0},null,{"$f":"'BUILD ASSESSMENT'!C469","v":0},{"$f":"'BUILD ASSESSMENT'!O469","v":0}]
["Steps Remaining",{"$f":"B14-B15","v":35},{"$f":"1-C15","v":1},null,"Steps Remaining",{"$f":"F14-F15","v":1},{"$f":"1-G15","v":1},null,{"$f":"'BUILD ASSESSMENT'!C470","v":0},{"$f":"'BUILD ASSESSMENT'!O470","v":0}]
[null,null,null,null,null,null,null,null,{"$f":"'BUILD ASSESSMENT'!C471","v":0},{"$f":"'BUILD ASSESSMENT'!O471","v":0}]
["Conditional Formatting for Question Buttons",null,null,null,null,null,null,null,{"$f":"'BUILD ASSESSMENT'!C472","v":0},{"$f":"'BUILD ASSESSMENT'!O472","v":0}]
["Add Question",null,null,"Remove Last Question",null,null,null,null,{"$f":"'BUILD ASSESSMENT'!C473","v":0},{"$f":"'BUILD ASSESSMENT'!O473","v":0}]
[null,null,null,null,null,null,null,null,{"$f":"'BUILD ASSESSMENT'!C474","v":0},{"$f":"'BUILD ASSESSMENT'!O474","v":0}]
[null,null,null,null,null,null,null,null,{"$f":"'BUILD ASSESSMENT'!C475","v":0},{"$f":"'BUILD ASSESSMENT'!O475","v":0}]
[null,null,null,null,null,null,null,null,{"$f":"'BUILD ASSESSMENT'!C476","v":0},{"$f":"'BUILD ASSESSMENT'!O476","v":0}]
["Question Item Visibility",null,null,null,null,null,null,null,{"$f":"'BUILD ASSESSMENT'!C477","v":0},{"$f":"'BUILD ASSESSMENT'!O477","v":0}]
["Total Questions",{"$f":"IF('BUILD ASSESSMENT'!$P$485=\"\",'CENTRAL ANALYSIS'!C24,'BUILD ASSESSMENT'!$P$485)","v":0}]
[]
["Conditional Formatting for Position Buttons"]
["Add Position",null,null,"Remove Last Position"]
[]
[]
[]
["Position Item Visibility"]
["Total Questions",{"$f":"IF('DATA COLLECTION'!$P$149=\"\",'CENTRAL ANALYSIS'!C32,'DATA COLLECTION'!$P$149)","v":0}]
[]
["Workforce Insights Overall Critical Roles Percentage"]
["Positions Assessed",{"$f":"SUBTOTAL(3,Table59[Criticality])","v":0},"Critical Roles","Not Critical"]
["Critial Positions",{"$f":"SUBTOTAL(9,Table59[Criticality Visibility])","v":0},{"$f":"B36/B35","v":{"$error":"#DIV/0!"}},{"$f":"1-C36","v":{"$error":"#DIV/0!"}}]
[null,"Threshold"]
["Overall Score",{"$f":"'BUILD ASSESSMENT'!P551","v":0}]
["Vacancy Risk Score",{"$f":"'BUILD ASSESSMENT'!N561","v":0}]
["Recruitment Score",{"$f":"'BUILD ASSESSMENT'!N562","v":0}]
["Knowledge Management Score",{"$f":"'BUILD ASSESSMENT'!N563","v":0}]
["Learning and Development Score",{"$f":"'BUILD ASSESSMENT'!N564","v":0}]
["Operational Impact Score",{"$f":"'BUILD ASSESSMENT'!N565","v":0}]
["Strategic Objectives Impact Score",{"$f":"'BUILD ASSESSMENT'!N566","v":0}]
["Impact from Environment Score",{"$f":"'BUILD ASSESSMENT'!N567","v":0}]
["Position Specific Elements Score",{"$f":"'BUILD ASSESSMENT'!N568","v":0}]
["Additional Questions Score",{"$f":"'BUILD ASSESSMENT'!N569","v":0}]
[]
["Chart"]
[null,"Potential Min","Min","Avg.","Max","Potential Max",null,null,"Potential Min","Min","Avg.","Max","Potential Max",null,null,"Potential Min","Min","Avg.","Max","Potential Max"]
["Overall Score",{"$f":"F51/6","v":0},{"$f":"SUBTOTAL(5,Table59[Overall Score])","v":0},{"$f":"SUBTOTAL(1,Table59[Overall Score])","v":{"$error":"#DIV/0!"}},{"$f":"SUBTOTAL(4,Table59[Overall Score])","v":0},{"$f":"'BUILD ASSESSMENT'!P550","v":0},null,"Overall Score",0,{"$f":"C51/F51","v":{"$error":"#DIV/0!"}},{"$f":"D51/F51","v":{"$error":"#DIV/0!"}},{"$f":"E51/F51","v":{"$error":"#DIV/0!"}},1,null,{"$f":"H60","v":"Additional Questions Score"},{"$f":"I60","v":0},{"$f":"J60","v":{"$error":"#DIV/0!"}},{"$f":"K60-J60","v":{"$error":"#DIV/0!"}},{"$f":"L60-SUM(Q51:R51)","v":{"$error":"#DIV/0!"}},{"$f":"M51-SUM(Q51:S51)","v":{"$error":"#DIV/0!"}}]
["Vacancy Risk Score",{"$f":"F52/6","v":0},{"$f":"SUBTOTAL(5,Table59[Vacancy Risk Score])","v":0},{"$f":"SUBTOTAL(1,Table59[Vacancy Risk Score])","v":{"$error":"#DIV/0!"}},{"$f":"SUBTOTAL(4,Table59[Vacancy Risk Score])","v":0},{"$f":"'BUILD ASSESSMENT'!F561","v":0},null,"Vacancy Risk Score",0,{"$f":"C52/F52","v":{"$error":"#DIV/0!"}},{"$f":"D52/F52","v":{"$error":"#DIV/0!"}},{"$f":"E52/F52","v":{"$error":"#DIV/0!"}},1,null,{"$f":"H59","v":"Position Specific Elements Score"},{"$f":"I59","v":0},{"$f":"J59","v":{"$error":"#DIV/0!"}},{"$f":"K59-J59","v":{"$error":"#DIV/0!"}},{"$f":"L59-SUM(Q52:R52)","v":{"$error":"#DIV/0!"}},{"$f":"M52-SUM(Q52:S52)","v":{"$error":"#DIV/0!"}}]
["Recruitment Score",0,{"$f":"SUBTOTAL(5,Table59[Recruitment Score])","v":0},{"$f":"SUBTOTAL(1,Table59[Recruitment Score])","v":{"$error":"#DIV/0!"}},{"$f":"SUBTOTAL(4,Table59[Recruitment Score])","v":0},{"$f":"'BUILD ASSESSMENT'!F562","v":0},null,"Recruitment Score",0,{"$error":"#DIV/0!"},{"$error":"#DIV/0!"},{"$error":"#DIV/0!"},1,null,{"$f":"H58","v":"Impact from Environment Score"},{"$f":"I58","v":0},{"$f":"J58","v":{"$error":"#DIV/0!"}},{"$f":"K58-J58","v":{"$error":"#DIV/0!"}},{"$f":"L58-SUM(Q53:R53)","v":{"$error":"#DIV/0!"}},{"$error":"#DIV/0!"}]
["Knowledge Management Score",0,{"$f":"SUBTOTAL(5,Table59[Knowledge Management Score])","v":0},{"$f":"SUBTOTAL(1,Table59[Knowledge Management Score])","v":{"$error":"#DIV/0!"}},{"$f":"SUBTOTAL(4,Table59[Knowledge Management Score])","v":0},{"$f":"'BUILD ASSESSMENT'!F563","v":0},null,"Knowledge Management Score",0,{"$error":"#DIV/0!"},{"$error":"#DIV/0!"},{"$error":"#DIV/0!"},1,null,{"$f":"H57","v":"Strategic Objectives Impact Score"},{"$f":"I57","v":0},{"$f":"J57","v":{"$error":"#DIV/0!"}},{"$f":"K57-J57","v":{"$error":"#DIV/0!"}},{"$f":"L57-SUM(Q54:R54)","v":{"$error":"#DIV/0!"}},{"$f":"M54-SUM(Q54:S54)","v":{"$error":"#DIV/0!"}}]
["Learning and Development Score",0,{"$f":"SUBTOTAL(5,Table59[Learning and Development Score])","v":0},{"$f":"SUBTOTAL(1,Table59[Learning and Development Score])","v":{"$error":"#DIV/0!"}},{"$f":"SUBTOTAL(4,Table59[Learning and Development Score])","v":0},{"$f":"'BUILD ASSESSMENT'!F564","v":0},null,"Learning and Development Score",0,{"$error":"#DIV/0!"},{"$error":"#DIV/0!"},{"$error":"#DIV/0!"},1,null,{"$f":"H56","v":"Operational Impact Score"},{"$f":"I56","v":0},{"$f":"J56","v":{"$error":"#DIV/0!"}},{"$f":"K56-J56","v":{"$error":"#DIV/0!"}},{"$f":"L56-SUM(Q55:R55)","v":{"$error":"#DIV/0!"}},{"$error":"#DIV/0!"}]
["Operational Impact Score",0,{"$f":"SUBTOTAL(5,Table59[Operational Impact Score])","v":0},{"$f":"SUBTOTAL(1,Table59[Operational Impact Score])","v":{"$error":"#DIV/0!"}},{"$f":"SUBTOTAL(4,Table59[Operational Impact Score])","v":0},{"$f":"'BUILD ASSESSMENT'!F565","v":0},null,"Operational Impact Score",0,{"$error":"#DIV/0!"},{"$error":"#DIV/0!"},{"$error":"#DIV/0!"},1,null,{"$f":"H55","v":"Learning and Development Score"},{"$f":"I55","v":0},{"$f":"J55","v":{"$error":"#DIV/0!"}},{"$f":"K55-J55","v":{"$error":"#DIV/0!"}},{"$f":"L55-SUM(Q56:R56)","v":{"$error":"#DIV/0!"}},{"$error":"#DIV/0!"}]
["Strategic Objectives Impact Score",0,{"$f":"SUBTOTAL(5,Table59[Strategic Objectives Impact Score])","v":0},{"$f":"SUBTOTAL(1,Table59[Strategic Objectives Impact Score])","v":{"$error":"#DIV/0!"}},{"$f":"SUBTOTAL(4,Table59[Strategic Objectives Impact Score])","v":0},{"$f":"'BUILD ASSESSMENT'!F566","v":0},null,"Strategic Objectives Impact Score",0,{"$error":"#DIV/0!"},{"$error":"#DIV/0!"},{"$error":"#DIV/0!"},1,null,{"$f":"H54","v":"Knowledge Management Score"},{"$f":"I54","v":0},{"$f":"J54","v":{"$error":"#DIV/0!"}},{"$f":"K54-J54","v":{"$error":"#DIV/0!"}},{"$f":"L54-SUM(Q57:R57)","v":{"$error":"#DIV/0!"}},{"$error":"#DIV/0!"}]
["Impact from Environment Score",0,{"$f":"SUBTOTAL(5,Table59[Impact from Environment Score])","v":0},{"$f":"SUBTOTAL(1,Table59[Impact from Environment Score])","v":{"$error":"#DIV/0!"}},{"$f":"SUBTOTAL(4,Table59[Impact from Environment Score])","v":0},{"$f":"'BUILD ASSESSMENT'!F567","v":0},null,"Impact from Environment Score",0,{"$error":"#DIV/0!"},{"$error":"#DIV/0!"},{"$error":"#DIV/0!"},1,null,{"$f":"H53","v":"Recruitment Score"},{"$f":"I53","v":0},{"$f":"J53","v":{"$error":"#DIV/0!"}},{"$f":"K53-J53","v":{"$error":"#DIV/0!"}},{"$f":"L53-SUM(Q58:R58)","v":{"$error":"#DIV/0!"}},{"$error":"#DIV/0!"}]
["Position Specific Elements Score",0,{"$f":"SUBTOTAL(5,Table59[Position Specific Elements Score])","v":0},{"$f":"SUBTOTAL(1,Table59[Position Specific Elements Score])","v":{"$error":"#DIV/0!"}},{"$f":"SUBTOTAL(4,Table59[Position Specific Elements Score])","v":0},{"$f":"'BUILD ASSESSMENT'!F568","v":0},null,"Position Specific Elements Score",0,{"$error":"#DIV/0!"},{"$error":"#DIV/0!"},{"$error":"#DIV/0!"},1,null,{"$f":"H52","v":"Vacancy Risk Score"},{"$f":"I52","v":0},{"$f":"J52","v":{"$error":"#DIV/0!"}},{"$f":"K52-J52","v":{"$error":"#DIV/0!"}},{"$f":"L52-SUM(Q59:R59)","v":{"$error":"#DIV/0!"}},{"$error":"#DIV/0!"}]
["Additional Questions Score",0,{"$f":"SUBTOTAL(5,Table59[Additional Questions Score])","v":0},{"$f":"SUBTOTAL(1,Table59[Additional Questions Score])","v":{"$error":"#DIV/0!"}},{"$f":"SUBTOTAL(4,Table59[Additional Questions Score])","v":0},{"$f":"'BUILD ASSESSMENT'!F569","v":0},null,"Additional Questions Score",0,{"$error":"#DIV/0!"},{"$error":"#DIV/0!"},{"$error":"#DIV/0!"},1,null,{"$f":"H51","v":"Overall Score"},{"$f":"I51","v":0},{"$f":"J51","v":{"$error":"#DIV/0!"}},{"$f":"K51-J51","v":{"$error":"#DIV/0!"}},{"$f":"L51-SUM(Q60:R60)","v":{"$error":"#DIV/0!"}},{"$error":"#DIV/0!"}]
[]
[]
["Assessment Creatation Array"]
[]
["Total Assessments",{"$f":"B32","v":0}]
[]
["Position Number","Title","Assessor","Date"]
[660042195,"Last test again","Ikora","2022-05-21"]

{"sheet":"DHRM ADMIN","index":8,"n_rows":29,"n_cols":16,"rows_kept":29,"cut":false,"hidden":true,"merged":[[5,2,7,14],[8,2,9,14],[11,1,12,15],[20,1,21,15],[23,3,23,15]]}
[]
[]
[]
[]
[]
[null,null,"DHRM ADMIN"]
[]
[]
[null,null,"The DHRM Admin tab is for annual updates, such as changes to Fiscal Years, and tracks the maintenance of the tool versions."]
[]
[]
[null,"File Maintenance"]
[]
[]
[null,null,null,null,null,null,null,null,null,null,null,null,null,null,"To update the Fiscal Year references throughout the workbook, enter the fiscal year of the reporting period:",2023]
[null,null,null,null,null,null,null,null,null,null,null,null,null,null,"To change the number of years in the workforce insights, how many prior years should this tool include (MAX OF 5):",2]
[]
[]
[]
[]
[null,"Version Notes"]
[]
[]
[null,null,"Version Number","Version Notes"]
[]
[null,null,"Version 2023.1","Initial FY 2023 Released for Agencies"]
[]
[null,null,"Version 2023.2","Reworked the Import Assessment Process"]
[null,null,null,"Reworked the Import Data Table Process"]

{"sheet":"IMPORTED DATA","index":9,"n_rows":504,"n_cols":16,"rows_kept":504,"cut":false,"hidden":true,"merged":[[5,2,7,14],[10,1,10,15],[347,1,347,15]]}
[]
[]
[]
[]
[]
[null,null,"IMPORTED DATA"]
[]
[]
[]
[]
[null,"AGENCY PROFILE IMPORTED DATA"]
[null,null,null,null,null,null,null,null,null,null,null,null,null,{"$f":"CONCATENATE(\"FY\",RIGHT('DHRM ADMIN'!$P$15,2)-2)","v":"FY21"},{"$f":"CONCATENATE(\"FY\",RIGHT('DHRM ADMIN'!$P$15,2)-1)","v":"FY22"},{"$f":"CONCATENATE(\"FY\",RIGHT('DHRM ADMIN'!$P$15,2))","v":"FY23"}]
[null,"Classifications","Descirption","Executive Team Position #","Workign Title","Degree of Sep","Appointed","Age","YOS","And/OR","Age+YOS",null,"Is the Agency current using the Cardinal Human Capital Management System?"]
[]
[]
[]
[]
[]
[]
[]
[]
[]
[]
[]
[]
[]
[]
[]
[]
[]
[]
[]
[]
[]
[]
[]
[]
[]
[]
[]
[]
[]
[]
[]
[]
[]
[]
[]
[]
[]
[]
[]
[]
[]
[]
[]
[]
[]
[]
[]
[]
[]
[]
[]
[]
[]
[]
[]
[]
[]
[]
[]
[]
[]
[]
[]
[]
[]
[]
[]
[]
[]
[]
[]
[]
[]
[]
[]
[]
[]
[]
[]
[]
[]
[]
[]
[]
[]
[]
[]
[]
[]
[]
[]
[]
[]
[]
[]
[]
[]
[]
[]
[]
[]
[]
[]
[]
[]
[]
[]
[]
[]
[]
[]
[]
[]
[]
[]
[]
[]
[]
[]
[]
[]
[]
[]
[]
[]
[]
[]
[]
[]
[]
[]
[]
[]
[]
[]
[]
[]
[]
[]
[]
[]
[]
[]
[]
[]
[]
[]
[]
[]
[]
[]
[]
[]
[]
[]
[]
[]
[]
[]
[]
[]
[]
[]
[]
[]
[]
[]
[]
[]
[]
[]
[]
[]
[]
[]
[]
[]
[]
[]
[]
[]
[]
[]
[]
[]
[]
[]
[]
[]
[]
[]
[]
[]
[]
[]
[]
[]
[]
[]
[]
[]
[]
[]
[]
[]
[]
[]
[]
[]
[]
[]
[]
[]
[]
[]
[]
[]
[]
[]
[]
[]
[]
[]
[]
[]
[]
[]
[]
[]
[]
[]
[]
[]
[]
[]
[]
[]
[]
[]
[]
[]
[]
[]
[]
[]
[]
[]
[]
[]
[]
[]
[]
[]
[]
[]
[]
[]
[]
[]
[]
[]
[]
[]
[]
[]
[]
[]
[]
[]
[]
[]
[]
[]
[]
[]
[]
[]
[]
[]
[]
[]
[]
[]
[]
[]
[]
[]
[]
[]
[]
[]
[]
[]
[]
[]
[]
[]
[]
[]
[]
[]
[]
[]
[]
[]
[]
[]
[]
[]
[]
[]
[]
[]
[]
[]
[]
[]
[]
[]
[]
[]
[]
[]
[]
[]
[]
[]
[]
[]
[]
[]
[]
[]
[]
[null,"CRITIAL ROLES TOOL IMPORTED DATA"]
[]
[null,"Agency Name"]
[null,"Secretariate"]
[null,"Agency Number"]
[null,"Agency Mission"]
[null,"What is the likelihood the position will become vacant within 1 year?"]
[null,"What is the likelihood the position will become vacant within 5 years?"]
[null,"Is the incumbent currently eligible to retire? "]
[null,"Will the incumbent be eligible to retire within 5 years?"]
[null,"Is this a single incumbent position?"]
[null,"What is the degree of turnover this position has experienced in the past?"]
[null,"What is the degree of external candidate availability for this position?"]
[null,"What is the degree of recruitment challenges for this position in the past?"]
[null,"What is the degree of competition for qualified candidates for this position?"]
[null,"What is the degree this position requires unique skills or knowledge?"]
[null,"What is the degree specialized knowledge or expertise is required?"]
[null,"What is the degree specialized experience is required?"]
[null,"What is the degree of difficulty for developing internal talent for this position?"]
[null,"What is the level of current bench strength within the agency for this position?"]
[null,"To what degree does the agency have development plans/programs for internal talent?"]
[null,"What is the degree the agency can prepare individuals for this role internally?"]
[null,"What is the degree external sources are used to develop internal talent for this position?"]
[null,"What is the likelihood internal candidates will be prepared for this role within 1 year?"]
[null,"What is the likelihood internal candidates will be prepared for this role within 5 years?"]
[null,"What is the degree the agency would experience operational challenges or potential risks if this position was vacant?"]
[null,"To what degree would the agency experience challenges meeting legislative/regulatory requirements if this position was vacant?"]
[null,"To what degree would the agency experience challenges providing their services to customers if this position was vacant?"]
[null,"To what degree would the agency experience challenges to workplace health, safety, and security if this position was vacant?"]
[null,"What is the likelihood this position would be deemed \"essential\" for emergency situations?"]
[null,"What is the degree this position is limited to specific agency geographic locations?"]
[null,"What is the likelihood the agency could be susceptible to other risks if this position was vacant?"]
[null,"What is the degree the agency would experience challenges in achieving strategic objectives if this position was vacant?"]
[null,"Objective 1"]
[null,1.1000000000000001]
[null,1.2]
[null,1.3]
[null,1.4]
[null,1.5]
[null,"Objective 2"]
[null,2.1]
[null,2.2000000000000002]
[null,2.2999999999999998]
[null,2.4]
[null,2.5]
[null,"Objective 3"]
[null,3.1]
[null,3.2]
[null,3.3]
[null,3.4]
[null,3.5]
[null,"Objective 4"]
[null,4.0999999999999996]
[null,4.2]
[null,4.3]
[null,4.4000000000000004]
[null,4.5]
[null,"Objective 5"]
[null,5.0999999999999996]
[null,5.2]
[null,5.3]
[null,5.4]
[null,5.5]
[null,"Objective 6"]
[null,6.1]
[null,6.2]
[null,6.3]
[null,6.4]
[null,6.5]
[null,"Objective 7"]
[null,7.1]
[null,7.2]
[null,7.3]
[null,7.4]
[null,7.5]
[null,"Objective 8"]
[null,8.1]
[null,8.1999999999999993]
[null,8.3000000000000007]
[null,8.4]
[null,8.5]
[null,"Objective 9"]
[null,9.1]
[null,9.1999999999999993]
[null,9.3000000000000007]
[null,9.4]
[null,9.5]
[null,"Objective 10"]
[null,10.1]
[null,10.199999999999999]
[null,10.3]
[null,10.4]
[null,10.5]
[null,"Objective 11"]
[null,11.1]
[null,11.2]
[null,11.3]
[null,11.4]
[null,11.5]
[null,"Objective 12"]
[null,12.1]
[null,12.2]
[null,12.3]
[null,12.4]
[null,12.5,null,null,null,null,"Number of Questions"]
[null,"Objective 13",null,null,null,null,"Number of Positions"]
[null,13.1]
[null,13.2]
[null,13.3]
[null,13.4]
[null,13.5]
[null,"Objective 14"]
[null,14.1]
[null,14.2]
[null,14.3]
[null,14.4]
[null,14.5]
[null,"Objective 15"]
[null,15.1]
[null,15.2]
[null,15.3]
[null,15.4]
[null,15.5]
[null,"What is the degree potential social or demographic shifts could impact recruitment, retention, or development of this position?"]
[null,"What is the degree potential new technology or innovations could impact recruitment, retention, or development of this position?"]
[null,"What is the degree potential economic shifts could impact recruitment, retention, or development of this position?"]
[null,"What is the degree potential political or regulatory shifts could impact recruitment, retention, or development of this position?"]
[null,"What is the degree this position performs specialized responsibilities? "]
[null,"Additional Question 1"]
[null,"Additional Question 2"]
[null,"Additional Question 3"]
[null,"Additional Question 4"]
[null,"Additional Question 5"]
[null,"Additional Question 6"]
[null,"Additional Question 7"]
[null,"Additional Question 8"]
[null,"Additional Question 9"]
[null,"Additional Question 10"]
[null,"Additional Data Label 1"]
[null,"Additional Data Label 2"]
[null,"Additional Data Label 3"]
[null,"Additional Data Label 4"]
[null,"Additional Data Label 5"]
[null,"Additional Data Label 6"]
[null,"Additional Steps or Closing Remarks"]
[null,"Overall Threshold"]
[null,"Vacancy Risk Threshold"]
[null,"Recruitment Threshold"]
[null,"Knowledge Management Threshold"]
[null,"Development Threshold"]
[null,"Operational Impact Threshold"]
[null,"Strategic Impact Threshold"]
[null,"Environment Threshold"]
[null,"Position Elements Threshold"]
[null,"Additional Questions Threshold"]
[null,"Include Result in Assessment"]
[null,"Data Collection Process"]

{"sheet":"TRANSFORMED DATA","index":10,"n_rows":316,"n_cols":49,"rows_kept":316,"cut":false,"hidden":true,"merged":[[3,21,7,32],[0,21,0,27],[310,5,313,18],[315,16,315,18],[105,20,105,21],[105,22,105,27],[105,28,105,30],[105,31,105,32],[105,33,105,34],[106,20,106,21],[106,22,106,27],[106,28,106,30],[106,31,106,32],[106,33,106,34],[109,20,109,21],[109,22,109,27],[109,28,109,30],[109,31,109,32],[109,33,109,34],[107,20,107,21],[107,22,107,27],[107,28,107,30],[107,31,107,32],[107,33,107,34],[108,20,108,21],[108,22,108,27],[108,28,108,30],[108,31,108,32],[108,33,108,34],[101,20,101,21],[101,22,101,27],[101,28,101,30],[101,31,101,32],[101,33,101,34],[102,20,102,21],[102,22,102,27],[102,28,102,30],[102,31,102,32],[102,33,102,34],[103,20,103,21],[103,22,103,27],[103,28,103,30],[103,31,103,32],[103,33,103,34],[104,20,104,21],[104,22,104,27],[104,28,104,30],[104,31,104,32],[104,33,104,34],[97,20,97,21],[97,22,97,27],[97,28,97,30],[97,31,97,32],[97,33,97,34],[98,20,98,21],[98,22,98,27],[98,28,98,30],[98,31,98,32],[98,33,98,34],[99,20,99,21],[99,22,99,27],[99,28,99,30],[99,31,99,32],[99,33,99,34],[100,20,100,21],[100,22,100,27],[100,28,100,30],[100,31,100,32],[100,33,100,34],[93,20,93,21],[93,22,93,27],[93,28,93,30],[93,31,93,32],[93,33,93,34],[94,20,94,21],[94,22,94,27],[94,28,94,30],[94,31,94,32],[94,33,94,34],[95,20,95,21],[95,22,95,27],[95,28,95,30],[95,31,95,32],[95,33,95,34],[96,20,96,21],[96,22,96,27],[96,28,96,30],[96,31,96,32],[96,33,96,34],[89,20,89,21],[89,22,89,27],[89,28,89,30],[89,31,89,32],[89,33,89,34],[90,20,90,21],[90,22,90,27],[90,28,90,30],[90,31,90,32],[90,33,90,34],[91,20,91,21],[91,22,91,27],[91,28,91,30],[91,31,91,32],[91,33,91,34],[92,20,92,21],[92,22,92,27],[92,28,92,30],[92,31,92,32],[92,33,92,34],[85,20,85,21],[85,22,85,27],[85,28,85,30],[85,31,85,32],[85,33,85,34],[86,20,86,21],[86,22,86,27],[86,28,86,30],[86,31,86,32],[86,33,86,34],[87,20,87,21],[87,22,87,27],[87,28,87,30],[87,31,87,32],[87,33,87,34],[88,20,88,21],[88,22,88,27],[88,28,88,30],[88,31,88,32],[88,33,88,34],[81,20,81,21],[81,22,81,27],[81,28,81,30],[81,31,81,32],[81,33,81,34],[82,20,82,21],[82,22,82,27],[82,28,82,30],[82,31,82,32],[82,33,82,34],[83,20,83,21],[83,22,83,27],[83,28,83,30],[83,31,83,32],[83,33,83,34],[84,20,84,21],[84,22,84,27],[84,28,84,30],[84,31,84,32],[84,33,84,34],[77,20,77,21],[77,22,77,27],[77,28,77,30],[77,31,77,32],[77,33,77,34],[78,20,78,21],[78,22,78,27],[78,28,78,30],[78,31,78,32],[78,33,78,34],[79,20,79,21],[79,22,79,27],[79,28,79,30],[79,31,79,32],[79,33,79,34],[80,20,80,21],[80,22,80,27],[80,28,80,30],[80,31,80,32],[80,33,80,34],[73,20,73,21],[73,22,73,27],[73,28,73,30],[73,31,73,32],[73,33,73,34],[74,20,74,21],[74,22,74,27],[74,28,74,30],[74,31,74,32],[74,33,74,34],[75,20,75,21],[75,22,75,27],[75,28,75,30],[75,31,75,32],[75,33,75,34],[76,20,76,21],[76,22,76,27],[76,28,76,30],[76,31,76,32],[76,33,76,34],[69,20,69,21],[69,22,69,27],[69,28,69,30],[69,31,69,32],[69,33,69,34],[70,20,70,21],[70,22,70,27],[70,28,70,30],[70,31,70,32],[70,33,70,34],[71,20,71,21],[71,22,71,27],[71,28,71,30],[71,31,71,32],[71,33,71,34],[72,20,72,21],[72,22,72,27],[72,28,72,30],[72,31,72,32],[72,33,72,34],[65,20,65,21],[65,22,65,27],[65,28,65,30],[65,31,65,32],[65,33,65,34],[66,20,66,21],[66,22,66,27],[66,28,66,30],[66,31,66,32],[66,33,66,34],[67,20,67,21],[67,22,67,27],[67,28,67,30],[67,31,67,32],[67,33,67,34],[68,20,68,21],[68,22,68,27],[68,28,68,30],[68,31,68,32],[68,33,68,34],[61,20,61,21],[61,22,61,27],[61,28,61,30],[61,31,61,32],[61,33,61,34],[62,20,62,21],[62,22,62,27],[62,28,62,30],[62,31,62,32],[62,33,62,34],[63,20,63,21],[63,22,63,27],[63,28,63,30],[63,31,63,32],[63,33,63,34],[64,20,64,21],[64,22,64,27],[64,28,64,30],[64,31,64,32],[64,33,64,34],[57,20,57,21],[57,22,57,27],[57,28,57,30],[57,31,57,32],[57,33,57,34],[58,20,58,21],[58,22,58,27],[58,28,58,30],[58,31,58,32],[58,33,58,34],[59,20,59,21],[59,22,59,27],[59,28,59,30],[59,31,59,32],[59,33,59,34],[60,20,60,21],[60,22,60,27],[60,28,60,30],[60,31,60,32],[60,33,60,34],[53,20,53,21],[53,22,53,27],[53,28,53,30],[53,31,53,32],[53,33,53,34],[54,20,54,21],[54,22,54,27],[54,28,54,30],[54,31,54,32],[54,33,54,34],[55,20,55,21],[55,22,55,27],[55,28,55,30],[55,31,55,32],[55,33,55,34],[56,20,56,21],[56,22,56,27],[56,28,56,30],[56,31,56,32],[56,33,56,34],[49,20,49,21],[49,22,49,27],[49,28,49,30],[49,31,49,32],[49,33,49,34],[50,20,50,21],[50,22,50,27],[50,28,50,30],[50,31,50,32],[50,33,50,34],[51,20,51,21],[51,22,51,27],[51,28,51,30],[51,31,51,32],[51,33,51,34],[52,20,52,21],[52,22,52,27],[52,28,52,30],[52,31,52,32],[52,33,52,34],[45,20,45,21],[45,22,45,27],[45,28,45,30],[45,31,45,32],[45,33,45,34],[46,20,46,21],[46,22,46,27],[46,28,46,30],[46,31,46,32],[46,33,46,34],[47,20,47,21],[47,22,47,27],[47,28,47,30],[47,31,47,32],[47,33,47,34],[48,20,48,21],[48,22,48,27],[48,28,48,30],[48,31,48,32],[48,33,48,34],[41,20,41,21],[41,22,41,27],[41,28,41,30],[41,31,41,32],[41,33,41,34],[42,20,42,21],[42,22,42,27],[42,28,42,30],[42,31,42,32],[42,33,42,34],[43,20,43,21],[43,22,43,27],[43,28,43,30],[43,31,43,32],[43,33,43,34],[44,20,44,21],[44,22,44,27],[44,28,44,30],[44,31,44,32],[44,33,44,34],[37,20,37,21],[37,22,37,27],[37,28,37,30],[37,31,37,32],[37,33,37,34],[38,20,38,21],[38,22,38,27],[38,28,38,30],[38,31,38,32],[38,33,38,34],[39,20,39,21],[39,22,39,27],[39,28,39,30],[39,31,39,32],[39,33,39,34],[40,20,40,21],[40,22,40,27],[40,28,40,30],[40,31,40,32],[40,33,40,34],[33,22,33,27],[33,28,33,30],[33,31,33,32],[33,33,33,34],[34,20,34,21],[34,22,34,27],[34,28,34,30],[34,31,34,32],[34,33,34,34],[35,20,35,21],[35,22,35,27],[35,28,35,30],[35,31,35,32],[35,33,35,34],[36,20,36,21],[36,22,36,27],[36,28,36,30],[36,31,36,32],[36,33,36,34],[29,31,29,32],[29,33,29,34],[30,20,30,21],[30,22,30,27],[30,28,30,30],[30,31,30,32],[30,33,30,34],[31,20,31,21],[31,22,31,27],[31,28,31,30],[31,31,31,32],[31,33,31,34],[32,20,32,21],[32,22,32,27],[32,28,32,30],[32,31,32,32],[32,33,32,34],[25,31,25,32],[25,33,25,34],[26,20,26,21],[26,22,26,27],[26,28,26,30],[26,31,26,32],[26,33,26,34],[27,20,27,21],[27,22,27,27],[27,28,27,30],[27,31,27,32],[27,33,27,34],[28,20,28,21],[28,22,28,27],[28,28,28,30],[28,31,28,32],[28,33,28,34],[21,31,21,32],[21,33,21,34],[22,20,22,21],[22,22,22,27],[22,28,22,30],[22,31,22,32],[22,33,22,34],[23,20,23,21],[23,22,23,27],[23,28,23,30],[23,31,23,32],[23,33,23,34],[24,20,24,21],[24,22,24,27],[24,28,24,30],[24,31,24,32],[24,33,24,34],[17,31,17,32],[17,33,17,34],[18,20,18,21],[18,22,18,27],[18,28,18,30],[18,31,18,32],[18,33,18,34],[19,20,19,21],[19,22,19,27],[19,28,19,30],[19,31,19,32],[19,33,19,34],[20,20,20,21],[20,22,20,27],[20,28,20,30],[20,31,20,32],[20,33,20,34],[13,31,13,32],[13,33,13,34],[14,20,14,21],[14,22,14,27],[14,28,14,30],[14,31,14,32],[14,33,14,34],[15,20,15,21],[15,22,15,27],[15,28,15,30],[15,31,15,32],[15,33,15,34],[16,20,16,21],[16,22,16,27],[16,28,16,30],[16,31,16,32],[16,33,16,34],[9,31,9,32],[9,33,9,34],[10,20,10,21],[10,22,10,27],[10,28,10,30],[10,31,10,32],[10,33,10,34],[11,20,11,21],[11,22,11,27],[11,28,11,30],[11,31,11,32],[11,33,11,34],[12,20,12,21],[12,22,12,27],[12,28,12,30],[12,31,12,32],[12,33,12,34],[299,5,299,16],[300,5,300,16],[301,5,301,16],[302,17,302,18],[303,17,303,18],[304,17,304,18],[305,17,305,18],[307,7,307,8],[307,9,307,10],[307,11,307,12],[307,13,307,14],[307,15,307,16],[307,17,307,18],[9,20,9,21],[9,22,9,27],[9,28,9,30],[13,20,13,21],[13,22,13,27],[13,28,13,30],[17,20,17,21],[17,22,17,27],[17,28,17,30],[21,20,21,21],[21,22,21,27],[21,28,21,30],[25,20,25,21],[25,22,25,27],[25,28,25,30],[29,20,29,21],[29,22,29,27],[29,28,29,30],[33,20,33,21],[260,9,262,17],[260,18,262,18],[263,9,265,17],[263,18,265,18],[266,9,268,17],[266,18,268,18],[269,9,271,17],[269,18,271,18],[272,9,274,17],[272,18,274,18],[275,6,275,17],[276,7,278,17],[276,18,278,18],[279,9,281,17],[279,18,281,18],[301,17,301,18],[282,9,284,17],[282,18,284,18],[285,9,287,17],[285,18,287,18],[288,9,290,17],[288,18,290,18],[291,9,293,17],[291,18,293,18],[296,17,296,18],[297,17,297,18],[298,17,298,18],[299,17,299,18],[300,17,300,18],[297,5,297,16],[296,5,296,16],[298,5,298,16],[234,9,236,17],[234,18,236,18],[237,6,237,17],[238,7,240,17],[238,18,240,18],[241,9,243,17],[241,18,243,18],[244,9,246,17],[244,18,246,18],[247,9,249,17],[247,18,249,18],[250,9,252,17],[250,18,252,18],[253,9,255,17],[253,18,255,18],[256,6,256,17],[257,7,259,17],[257,18,259,18],[209,9,211,17],[209,18,211,18],[212,9,214,17],[212,18,214,18],[215,9,217,17],[215,18,217,18],[218,6,218,17],[219,7,221,17],[219,18,221,18],[222,9,224,17],[222,18,224,18],[225,9,227,17],[225,18,227,18],[228,9,230,17],[228,18,230,18],[231,9,233,17],[231,18,233,18],[184,9,186,17],[184,18,186,18],[187,9,189,17],[187,18,189,18],[190,9,192,17],[190,18,192,18],[193,9,195,17],[193,18,195,18],[196,9,198,17],[196,18,198,18],[199,6,199,17],[200,7,202,17],[200,18,202,18],[203,9,205,17],[203,18,205,18],[206,9,208,17],[206,18,208,18],[158,9,160,17],[158,18,160,18],[161,6,161,17],[162,7,164,17],[162,18,164,18],[165,9,167,17],[165,18,167,18],[168,9,170,17],[168,18,170,18],[171,9,173,17],[171,18,173,18],[174,9,176,17],[174,18,176,18],[177,9,179,17],[177,18,179,18],[180,6,180,17],[181,7,183,17],[181,18,183,18],[133,9,135,17],[133,18,135,18],[136,9,138,17],[136,18,138,18],[139,9,141,17],[139,18,141,18],[142,6,142,17],[143,7,145,17],[143,18,145,18],[146,9,148,17],[146,18,148,18],[149,9,151,17],[149,18,151,18],[152,9,154,17],[152,18,154,18],[155,9,157,17],[155,18,157,18],[89,9,91,17],[89,18,91,18],[92,9,94,17],[92,18,94,18],[95,9,97,17],[95,18,97,18],[98,9,100,17],[98,18,100,18],[101,9,103,17],[101,18,103,18],[104,6,104,17],[105,7,107,17],[105,18,107,18],[108,9,110,17],[108,18,110,18],[111,9,113,17],[111,18,113,18],[63,9,65,17],[63,18,65,18],[66,6,66,17],[67,7,69,17],[67,18,69,18],[70,9,72,17],[70,18,72,18],[73,9,75,17],[73,18,75,18],[76,9,78,17],[76,18,78,18],[79,9,81,17],[79,18,81,18],[82,9,84,17],[82,18,84,18],[85,6,85,17],[86,7,88,17],[86,18,88,18],[38,9,40,17],[38,18,40,18],[41,9,43,17],[41,18,43,18],[44,9,46,17],[44,18,46,18],[47,6,47,17],[48,7,50,17],[48,18,50,18],[51,9,53,17],[51,18,53,18],[54,9,56,17],[54,18,56,18],[57,9,59,17],[57,18,59,18],[60,9,62,17],[60,18,62,18],[10,18,12,18],[13,9,15,17],[13,18,15,18],[16,9,18,17],[16,18,18,18],[19,9,21,17],[19,18,21,18],[22,9,24,17],[22,18,24,18],[25,9,27,17],[25,18,27,18],[28,6,28,17],[29,7,31,17],[29,18,31,18],[32,9,34,17],[32,18,34,18],[35,9,37,17],[35,18,37,18],[19,1,19,2],[20,1,20,2],[21,1,21,2],[22,1,22,2],[23,1,23,2],[24,1,24,2],[13,1,13,2],[14,1,14,2],[15,1,15,2],[16,1,16,2],[17,1,17,2],[18,1,18,2],[5,4,7,16],[9,1,9,2],[9,3,9,4],[10,1,10,2],[11,1,11,2],[12,1,12,2],[9,6,9,17],[10,7,12,17],[37,1,37,2],[38,1,38,2],[39,1,39,2],[40,1,40,2],[41,1,41,2],[42,1,42,2],[31,1,31,2],[32,1,32,2],[33,1,33,2],[34,1,34,2],[35,1,35,2],[36,1,36,2],[25,1,25,2],[26,1,26,2],[27,1,27,2],[28,1,28,2],[29,1,29,2],[30,1,30,2],[55,1,55,2],[56,1,56,2],[57,1,57,2],[58,1,58,2],[59,1,59,2],[60,1,60,2],[49,1,49,2],[50,1,50,2],[51,1,51,2],[52,1,52,2],[53,1,53,2],[54,1,54,2],[43,1,43,2],[44,1,44,2],[45,1,45,2],[46,1,46,2],[47,1,47,2],[48,1,48,2],[73,1,73,2],[74,1,74,2],[75,1,75,2],[76,1,76,2],[77,1,77,2],[78,1,78,2],[67,1,67,2],[68,1,68,2],[69,1,69,2],[70,1,70,2],[71,1,71,2],[72,1,72,2],[61,1,61,2],[62,1,62,2],[63,1,63,2],[64,1,64,2],[65,1,65,2],[66,1,66,2],[101,1,101,2],[102,1,102,2],[91,1,91,2],[92,1,92,2],[93,1,93,2],[94,1,94,2],[95,1,95,2],[96,1,96,2],[85,1,85,2],[86,1,86,2],[87,1,87,2],[88,1,88,2],[89,1,89,2],[90,1,90,2],[79,1,79,2],[80,1,80,2],[81,1,81,2],[82,1,82,2],[83,1,83,2],[84,1,84,2],[25,3,25,4],[26,3,26,4],[27,3,27,4],[28,3,28,4],[29,3,29,4],[30,3,30,4],[19,3,19,4],[20,3,20,4],[21,3,21,4],[22,3,22,4],[23,3,23,4],[24,3,24,4],[109,1,109,2],[10,3,10,4],[11,3,11,4],[12,3,12,4],[13,3,13,4],[14,3,14,4],[15,3,15,4],[16,3,16,4],[17,3,17,4],[18,3,18,4],[103,1,103,2],[104,1,104,2],[105,1,105,2],[106,1,106,2],[107,1,107,2],[108,1,108,2],[97,1,97,2],[98,1,98,2],[99,1,99,2],[100,1,100,2],[43,3,43,4],[44,3,44,4],[45,3,45,4],[46,3,46,4],[47,3,47,4],[48,3,48,4],[37,3,37,4],[38,3,38,4],[39,3,39,4],[40,3,40,4],[41,3,41,4],[42,3,42,4],[31,3,31,4],[32,3,32,4],[33,3,33,4],[34,3,34,4],[35,3,35,4],[36,3,36,4],[61,3,61,4],[62,3,62,4],[63,3,63,4],[64,3,64,4],[65,3,65,4],[66,3,66,4],[55,3,55,4],[56,3,56,4],[57,3,57,4],[58,3,58,4],[59,3,59,4],[60,3,60,4],[49,3,49,4],[50,3,50,4],[51,3,51,4],[52,3,52,4],[53,3,53,4],[54,3,54,4],[88,3,88,4],[89,3,89,4],[90,3,90,4],[79,3,79,4],[80,3,80,4],[81,3,81,4],[82,3,82,4],[83,3,83,4],[84,3,84,4],[73,3,73,4],[74,3,74,4],[75,3,75,4],[76,3,76,4],[77,3,77,4],[78,3,78,4],[67,3,67,4],[68,3,68,4],[69,3,69,4],[70,3,70,4],[71,3,71,4],[72,3,72,4],[9,36,9,37],[9,38,9,39],[9,40,9,41],[9,42,9,43],[9,44,9,45],[10,36,10,37],[10,38,10,39],[10,40,10,41],[10,42,10,43],[10,44,10,45],[109,3,109,4],[103,3,103,4],[104,3,104,4],[105,3,105,4],[106,3,106,4],[107,3,107,4],[108,3,108,4],[97,3,97,4],[98,3,98,4],[99,3,99,4],[100,3,100,4],[101,3,101,4],[102,3,102,4],[91,3,91,4],[92,3,92,4],[93,3,93,4],[94,3,94,4],[95,3,95,4],[96,3,96,4],[85,3,85,4],[86,3,86,4],[87,3,87,4],[13,36,13,37],[13,38,13,39],[13,40,13,41],[13,42,13,43],[13,44,13,45],[14,36,14,37],[14,38,14,39],[14,40,14,41],[14,42,14,43],[14,44,14,45],[11,36,11,37],[11,38,11,39],[11,40,11,41],[11,42,11,43],[11,44,11,45],[12,36,12,37],[12,38,12,39],[12,40,12,41],[12,42,12,43],[12,44,12,45],[17,36,17,37],[17,38,17,39],[17,40,17,41],[17,42,17,43],[17,44,17,45],[18,36,18,37],[18,38,18,39],[18,40,18,41],[18,42,18,43],[18,44,18,45],[15,36,15,37],[15,38,15,39],[15,40,15,41],[15,42,15,43],[15,44,15,45],[16,36,16,37],[16,38,16,39],[16,40,16,41],[16,42,16,43],[16,44,16,45],[21,36,21,37],[21,38,21,39],[21,40,21,41],[21,42,21,43],[21,44,21,45],[22,36,22,37],[22,38,22,39],[22,40,22,41],[22,42,22,43],[22,44,22,45],[19,36,19,37],[19,38,19,39],[19,40,19,41],[19,42,19,43],[19,44,19,45],[20,36,20,37],[20,38,20,39],[20,40,20,41],[20,42,20,43],[20,44,20,45],[25,36,25,37],[25,38,25,39],[25,40,25,41],[25,42,25,43],[25,44,25,45],[26,36,26,37],[26,38,26,39],[26,40,26,41],[26,42,26,43],[26,44,26,45],[23,36,23,37],[23,38,23,39],[23,40,23,41],[23,42,23,43]],"merged_total":1640,"flags":["merged_cut"]}
[null,null,null,null,null,null,null,null,null,null,null,null,null,null,null,null,null,null,null,null,"Agency Name",{"$f":"IF('IMPORTED DATA'!C350<>\"\",'IMPORTED DATA'!C350,IF(OR('IMPORTED DATA'!P16<>\"\",'IMPORTED DATA'!P16<>0),'IMPORTED DATA'!P16,\"\"))","v":""}]
[null,null,null,null,null,null,null,null,null,null,null,null,null,null,null,null,null,null,null,null,"Secretariate"]
[null,null,null,null,null,null,null,null,null,null,null,null,null,null,null,null,null,null,null,null,"Agency Number"]
[null,null,null,null,null,null,null,null,null,null,null,null,null,null,null,null,null,null,null,null,"Agency Mission",{"$f":"IF('IMPORTED DATA'!C353<>\"\",'IMPORTED DATA'!C353,IF(OR('IMPORTED DATA'!P19<>\"\",'IMPORTED DATA'!P19=0),'IMPORTED DATA'!P19,\"\"))","v":0}]
[]
[null,null,null,null,"TRANSFORMED DATA"]
[]
[]
[null,null,null,null,null,null,null,null,null,null,null,null,null,null,null,null,null,null,null,null,"Position Number",null,"Working Title",null,null,null,null,null,"Assessor Name",null,null,"Generated",null,"Imported",null,null,"Position Number",null,"Internal Department",null,"Sub-Agency/Division",null,"Line of Service",null,"Location",null,"EEO",null,"Class"]
["Position Number","EEO Code",null,"Classification",null,null,"Strategic Element",null,null,null,null,null,null,null,null,null,null,null,"Include"]
[null,null,null,null,null,null,"Objective",{"$f":"IF('IMPORTED DATA'!C381<>\"\",'IMPORTED DATA'!C381,IF('IMPORTED DATA'!P96<>\"\",'IMPORTED DATA'!P96,\"\"))","v":""},null,null,null,null,null,null,null,null,null,null,{"$f":"IF('IMPORTED DATA'!D381<>0,'IMPORTED DATA'!D381,\"\")","v":""},null,{"$f":"IF('IMPORTED DATA'!G351=\"\",\"\",'IMPORTED DATA'!G351)","v":""},null,{"$f":"IF('IMPORTED DATA'!H351=\"\",\"\",'IMPORTED DATA'!H351)","v":""},null,null,null,null,null,{"$f":"IF('IMPORTED DATA'!I351=\"\",\"\",'IMPORTED DATA'!I351)","v":""},null,null,{"$f":"IF('IMPORTED DATA'!J351=\"\",\"\",'IMPORTED DATA'!J351)","v":""},null,{"$f":"IF('IMPORTED DATA'!K351=\"\",\"\",'IMPORTED DATA'!K351)","v":""},null,null,{"$f":"IF('IMPORTED DATA'!M351=\"\",\"\",'IMPORTED DATA'!M351)","v":""},null,{"$f":"IF('IMPORTED DATA'!N351=\"\",\"\",'IMPORTED DATA'!N351)","v":""},null,{"$f":"IF('IMPORTED DATA'!O351=\"\",\"\",'IMPORTED DATA'!O351)","v":""},null,{"$f":"IF('IMPORTED DATA'!P351=\"\",\"\",'IMPORTED DATA'!P351)","v":""},null,{"$f":"IF('IMPORTED DATA'!Q351=\"\",\"\",'IMPORTED DATA'!Q351)","v":""},null,{"$f":"IF('IMPORTED DATA'!R351=\"\",\"\",'IMPORTED DATA'!R351)","v":""},null,{"$f":"IF('IMPORTED DATA'!S351=\"\",\"\",'IMPORTED DATA'!S351)","v":""}]
[null,null,null,null,null,null,null,null,null,null,null,null,null,null,null,null,null,null,null,null,{"$f":"IF('IMPORTED DATA'!G352=\"\",\"\",'IMPORTED DATA'!G352)","v":""},null,{"$f":"IF('IMPORTED DATA'!H352=\"\",\"\",'IMPORTED DATA'!H352)","v":""},null,null,null,null,null,{"$f":"IF('IMPORTED DATA'!I352=\"\",\"\",'IMPORTED DATA'!I352)","v":""},null,null,{"$f":"IF('IMPORTED DATA'!J352=\"\",\"\",'IMPORTED DATA'!J352)","v":""},null,{"$f":"IF('IMPORTED DATA'!K352=\"\",\"\",'IMPORTED DATA'!K352)","v":""},null,null,{"$f":"IF('IMPORTED DATA'!M352=\"\",\"\",'IMPORTED DATA'!M352)","v":""},null,{"$f":"IF('IMPORTED DATA'!N352=\"\",\"\",'IMPORTED DATA'!N352)","v":""},null,{"$f":"IF('IMPORTED DATA'!O352=\"\",\"\",'IMPORTED DATA'!O352)","v":""},null,{"$f":"IF('IMPORTED DATA'!P352=\"\",\"\",'IMPORTED DATA'!R352)","v":""},null,{"$f":"IF('IMPORTED DATA'!Q352=\"\",\"\",'IMPORTED DATA'!S352)","v":""},null,{"$f":"IF('IMPORTED DATA'!T352=\"\",\"\",'IMPORTED DATA'!#REF!)","v":""},null,{"$f":"IF('IMPORTED DATA'!U352=\"\",\"\",'IMPORTED DATA'!#REF!)","v":""}]
[null,null,null,null,null,null,null,null,null,null,null,null,null,null,null,null,null,null,null,null,{"$f":"IF('IMPORTED DATA'!G353=\"\",\"\",'IMPORTED DATA'!G353)","v":""},null,{"$f":"IF('IMPORTED DATA'!H353=\"\",\"\",'IMPORTED DATA'!H353)","v":""},null,null,null,null,null,{"$f":"IF('IMPORTED DATA'!I353=\"\",\"\",'IMPORTED DATA'!I353)","v":""},null,null,{"$f":"IF('IMPORTED DATA'!J353=\"\",\"\",'IMPORTED DATA'!J353)","v":""},null,{"$f":"IF('IMPORTED DATA'!K353=\"\",\"\",'IMPORTED DATA'!K353)","v":""},null,null,{"$f":"IF('IMPORTED DATA'!M353=\"\",\"\",'IMPORTED DATA'!M353)","v":""},null,{"$f":"IF('IMPORTED DATA'!N353=\"\",\"\",'IMPORTED DATA'!N353)","v":""},null,{"$f":"IF('IMPORTED DATA'!O353=\"\",\"\",'IMPORTED DATA'!O353)","v":""},null,{"$f":"IF('IMPORTED DATA'!P353=\"\",\"\",'IMPORTED DATA'!R353)","v":""},null,{"$f":"IF('IMPORTED DATA'!Q353=\"\",\"\",'IMPORTED DATA'!S353)","v":""},null,{"$f":"IF('IMPORTED DATA'!T353=\"\",\"\",'IMPORTED DATA'!#REF!)","v":""},null,{"$f":"IF('IMPORTED DATA'!U353=\"\",\"\",'IMPORTED DATA'!#REF!)","v":""}]
[null,null,null,null,null,null,null,null,"Action Item",{"$f":"IF('IMPORTED DATA'!C382<>\"\",'IMPORTED DATA'!C382,IF('IMPORTED DATA'!P97<>\"\",'IMPORTED DATA'!P97,\"\"))","v":""},null,null,null,null,null,null,null,null,{"$f":"IF('IMPORTED DATA'!D382<>0,'IMPORTED DATA'!D382,\"\")","v":""},null,{"$f":"IF('IMPORTED DATA'!G354=\"\",\"\",'IMPORTED DATA'!G354)","v":""},null,{"$f":"IF('IMPORTED DATA'!H354=\"\",\"\",'IMPORTED DATA'!H354)","v":""},null,null,null,null,null,{"$f":"IF('IMPORTED DATA'!I354=\"\",\"\",'IMPORTED DATA'!I354)","v":""},null,null,{"$f":"IF('IMPORTED DATA'!J354=\"\",\"\",'IMPORTED DATA'!J354)","v":""},null,{"$f":"IF('IMPORTED DATA'!K354=\"\",\"\",'IMPORTED DATA'!K354)","v":""},null,null,{"$f":"IF('IMPORTED DATA'!M354=\"\",\"\",'IMPORTED DATA'!M354)","v":""},null,{"$f":"IF('IMPORTED DATA'!N354=\"\",\"\",'IMPORTED DATA'!N354)","v":""},null,{"$f":"IF('IMPORTED DATA'!O354=\"\",\"\",'IMPORTED DATA'!O354)","v":""},null,{"$f":"IF('IMPORTED DATA'!P354=\"\",\"\",'IMPORTED DATA'!R354)","v":""},null,{"$f":"IF('IMPORTED DATA'!Q354=\"\",\"\",'IMPORTED DATA'!S354)","v":""},null,{"$f":"IF('IMPORTED DATA'!T354=\"\",\"\",'IMPORTED DATA'!#REF!)","v":""},null,{"$f":"IF('IMPORTED DATA'!U354=\"\",\"\",'IMPORTED DATA'!#REF!)","v":""}]
[null,null,null,null,null,null,null,null,null,null,null,null,null,null,null,null,null,null,null,null,{"$f":"IF('IMPORTED DATA'!G355=\"\",\"\",'IMPORTED DATA'!G355)","v":""},null,{"$f":"IF('IMPORTED DATA'!H355=\"\",\"\",'IMPORTED DATA'!H355)","v":""},null,null,null,null,null,{"$f":"IF('IMPORTED DATA'!I355=\"\",\"\",'IMPORTED DATA'!I355)","v":""},null,null,{"$f":"IF('IMPORTED DATA'!J355=\"\",\"\",'IMPORTED DATA'!J355)","v":""},null,{"$f":"IF('IMPORTED DATA'!K355=\"\",\"\",'IMPORTED DATA'!K355)","v":""},null,null,{"$f":"IF('IMPORTED DATA'!M355=\"\",\"\",'IMPORTED DATA'!M355)","v":""},null,{"$f":"IF('IMPORTED DATA'!N355=\"\",\"\",'IMPORTED DATA'!N355)","v":""},null,{"$f":"IF('IMPORTED DATA'!O355=\"\",\"\",'IMPORTED DATA'!O355)","v":""},null,{"$f":"IF('IMPORTED DATA'!P355=\"\",\"\",'IMPORTED DATA'!R355)","v":""},null,{"$f":"IF('IMPORTED DATA'!Q355=\"\",\"\",'IMPORTED DATA'!S355)","v":""},null,{"$f":"IF('IMPORTED DATA'!T355=\"\",\"\",'IMPORTED DATA'!#REF!)","v":""},null,{"$f":"IF('IMPORTED DATA'!U355=\"\",\"\",'IMPORTED DATA'!#REF!)","v":""}]
[null,null,null,null,null,null,null,null,null,null,null,null,null,null,null,null,null,null,null,null,{"$f":"IF('IMPORTED DATA'!G356=\"\",\"\",'IMPORTED DATA'!G356)","v":""},null,{"$f":"IF('IMPORTED DATA'!H356=\"\",\"\",'IMPORTED DATA'!H356)","v":""},null,null,null,null,null,{"$f":"IF('IMPORTED DATA'!I356=\"\",\"\",'IMPORTED DATA'!I356)","v":""},null,null,{"$f":"IF('IMPORTED DATA'!J356=\"\",\"\",'IMPORTED DATA'!J356)","v":""},null,{"$f":"IF('IMPORTED DATA'!K356=\"\",\"\",'IMPORTED DATA'!K356)","v":""},null,null,{"$f":"IF('IMPORTED DATA'!M356=\"\",\"\",'IMPORTED DATA'!M356)","v":""},null,{"$f":"IF('IMPORTED DATA'!N356=\"\",\"\",'IMPORTED DATA'!N356)","v":""},null,{"$f":"IF('IMPORTED DATA'!O356=\"\",\"\",'IMPORTED DATA'!O356)","v":""},null,{"$f":"IF('IMPORTED DATA'!P356=\"\",\"\",'IMPORTED DATA'!R356)","v":""},null,{"$f":"IF('IMPORTED DATA'!Q356=\"\",\"\",'IMPORTED DATA'!S356)","v":""},null,{"$f":"IF('IMPORTED DATA'!T356=\"\",\"\",'IMPORTED DATA'!#REF!)","v":""},null,{"$f":"IF('IMPORTED DATA'!U356=\"\",\"\",'IMPORTED DATA'!#REF!)","v":""}]
[null,null,null,null,null,null,null,null,"Action Item",{"$f":"IF('IMPORTED DATA'!C383<>\"\",'IMPORTED DATA'!C383,IF('IMPORTED DATA'!P98<>\"\",'IMPORTED DATA'!P98,\"\"))","v":""},null,null,null,null,null,null,null,null,{"$f":"IF('IMPORTED DATA'!D383<>0,'IMPORTED DATA'!D383,\"\")","v":""},null,{"$f":"IF('IMPORTED DATA'!G357=\"\",\"\",'IMPORTED DATA'!G357)","v":""},null,{"$f":"IF('IMPORTED DATA'!H357=\"\",\"\",'IMPORTED DATA'!H357)","v":""},null,null,null,null,null,{"$f":"IF('IMPORTED DATA'!I357=\"\",\"\",'IMPORTED DATA'!I357)","v":""},null,null,{"$f":"IF('IMPORTED DATA'!J357=\"\",\"\",'IMPORTED DATA'!J357)","v":""},null,{"$f":"IF('IMPORTED DATA'!K357=\"\",\"\",'IMPORTED DATA'!K357)","v":""},null,null,{"$f":"IF('IMPORTED DATA'!M357=\"\",\"\",'IMPORTED DATA'!M357)","v":""},null,{"$f":"IF('IMPORTED DATA'!N357=\"\",\"\",'IMPORTED DATA'!N357)","v":""},null,{"$f":"IF('IMPORTED DATA'!O357=\"\",\"\",'IMPORTED DATA'!O357)","v":""},null,{"$f":"IF('IMPORTED DATA'!P357=\"\",\"\",'IMPORTED DATA'!R357)","v":""},null,{"$f":"IF('IMPORTED DATA'!Q357=\"\",\"\",'IMPORTED DATA'!S357)","v":""},null,{"$f":"IF('IMPORTED DATA'!T357=\"\",\"\",'IMPORTED DATA'!#REF!)","v":""},null,{"$f":"IF('IMPORTED DATA'!U357=\"\",\"\",'IMPORTED DATA'!#REF!)","v":""}]
[null,null,null,null,null,null,null,null,null,null,null,null,null,null,null,null,null,null,null,null,{"$f":"IF('IMPORTED DATA'!G358=\"\",\"\",'IMPORTED DATA'!G358)","v":""},null,{"$f":"IF('IMPORTED DATA'!H358=\"\",\"\",'IMPORTED DATA'!H358)","v":""},null,null,null,null,null,{"$f":"IF('IMPORTED DATA'!I358=\"\",\"\",'IMPORTED DATA'!I358)","v":""},null,null,{"$f":"IF('IMPORTED DATA'!J358=\"\",\"\",'IMPORTED DATA'!J358)","v":""},null,{"$f":"IF('IMPORTED DATA'!K358=\"\",\"\",'IMPORTED DATA'!K358)","v":""},null,null,{"$f":"IF('IMPORTED DATA'!M358=\"\",\"\",'IMPORTED DATA'!M358)","v":""},null,{"$f":"IF('IMPORTED DATA'!N358=\"\",\"\",'IMPORTED DATA'!N358)","v":""},null,{"$f":"IF('IMPORTED DATA'!O358=\"\",\"\",'IMPORTED DATA'!O358)","v":""},null,{"$f":"IF('IMPORTED DATA'!P358=\"\",\"\",'IMPORTED DATA'!R358)","v":""},null,{"$f":"IF('IMPORTED DATA'!Q358=\"\",\"\",'IMPORTED DATA'!S358)","v":""},null,{"$f":"IF('IMPORTED DATA'!T358=\"\",\"\",'IMPORTED DATA'!#REF!)","v":""},null,{"$f":"IF('IMPORTED DATA'!U358=\"\",\"\",'IMPORTED DATA'!#REF!)","v":""}]
[null,null,null,null,null,null,null,null,null,null,null,null,null,null,null,null,null,null,null,null,{"$f":"IF('IMPORTED DATA'!G359=\"\",\"\",'IMPORTED DATA'!G359)","v":""},null,{"$f":"IF('IMPORTED DATA'!H359=\"\",\"\",'IMPORTED DATA'!H359)","v":""},null,null,null,null,null,{"$f":"IF('IMPORTED DATA'!I359=\"\",\"\",'IMPORTED DATA'!I359)","v":""},null,null,{"$f":"IF('IMPORTED DATA'!J359=\"\",\"\",'IMPORTED DATA'!J359)","v":""},null,{"$f":"IF('IMPORTED DATA'!K359=\"\",\"\",'IMPORTED DATA'!K359)","v":""},null,null,{"$f":"IF('IMPORTED DATA'!M359=\"\",\"\",'IMPORTED DATA'!M359)","v":""},null,{"$f":"IF('IMPORTED DATA'!N359=\"\",\"\",'IMPORTED DATA'!N359)","v":""},null,{"$f":"IF('IMPORTED DATA'!O359=\"\",\"\",'IMPORTED DATA'!O359)","v":""},null,{"$f":"IF('IMPORTED DATA'!P359=\"\",\"\",'IMPORTED DATA'!R359)","v":""},null,{"$f":"IF('IMPORTED DATA'!Q359=\"\",\"\",'IMPORTED DATA'!S359)","v":""},null,{"$f":"IF('IMPORTED DATA'!T359=\"\",\"\",'IMPORTED DATA'!#REF!)","v":""},null,{"$f":"IF('IMPORTED DATA'!U359=\"\",\"\",'IMPORTED DATA'!#REF!)","v":""}]
[null,null,null,null,null,null,null,null,"Action Item",{"$f":"IF('IMPORTED DATA'!C384<>\"\",'IMPORTED DATA'!C384,IF('IMPORTED DATA'!P99<>\"\",'IMPORTED DATA'!P99,\"\"))","v":""},null,null,null,null,null,null,null,null,{"$f":"IF('IMPORTED DATA'!D384<>0,'IMPORTED DATA'!D384,\"\")","v":""},null,{"$f":"IF('IMPORTED DATA'!G360=\"\",\"\",'IMPORTED DATA'!G360)","v":""},null,{"$f":"IF('IMPORTED DATA'!H360=\"\",\"\",'IMPORTED DATA'!H360)","v":""},null,null,null,null,null,{"$f":"IF('IMPORTED DATA'!I360=\"\",\"\",'IMPORTED DATA'!I360)","v":""},null,null,{"$f":"IF('IMPORTED DATA'!J360=\"\",\"\",'IMPORTED DATA'!J360)","v":""},null,{"$f":"IF('IMPORTED DATA'!K360=\"\",\"\",'IMPORTED DATA'!K360)","v":""},null,null,{"$f":"IF('IMPORTED DATA'!M360=\"\",\"\",'IMPORTED DATA'!M360)","v":""},null,{"$f":"IF('IMPORTED DATA'!N360=\"\",\"\",'IMPORTED DATA'!N360)","v":""},null,{"$f":"IF('IMPORTED DATA'!O360=\"\",\"\",'IMPORTED DATA'!O360)","v":""},null,{"$f":"IF('IMPORTED DATA'!P360=\"\",\"\",'IMPORTED DATA'!R360)","v":""},null,{"$f":"IF('IMPORTED DATA'!Q360=\"\",\"\",'IMPORTED DATA'!S360)","v":""},null,{"$f":"IF('IMPORTED DATA'!T360=\"\",\"\",'IMPORTED DATA'!#REF!)","v":""},null,{"$f":"IF('IMPORTED DATA'!U360=\"\",\"\",'IMPORTED DATA'!#REF!)","v":""}]
[null,null,null,null,null,null,null,null,null,null,null,null,null,null,null,null,null,null,null,null,{"$f":"IF('IMPORTED DATA'!G361=\"\",\"\",'IMPORTED DATA'!G361)","v":""},null,{"$f":"IF('IMPORTED DATA'!H361=\"\",\"\",'IMPORTED DATA'!H361)","v":""},null,null,null,null,null,{"$f":"IF('IMPORTED DATA'!I361=\"\",\"\",'IMPORTED DATA'!I361)","v":""},null,null,{"$f":"IF('IMPORTED DATA'!J361=\"\",\"\",'IMPORTED DATA'!J361)","v":""},null,{"$f":"IF('IMPORTED DATA'!K361=\"\",\"\",'IMPORTED DATA'!K361)","v":""},null,null,{"$f":"IF('IMPORTED DATA'!M361=\"\",\"\",'IMPORTED DATA'!M361)","v":""},null,{"$f":"IF('IMPORTED DATA'!N361=\"\",\"\",'IMPORTED DATA'!N361)","v":""},null,{"$f":"IF('IMPORTED DATA'!O361=\"\",\"\",'IMPORTED DATA'!O361)","v":""},null,{"$f":"IF('IMPORTED DATA'!P361=\"\",\"\",'IMPORTED DATA'!R361)","v":""},null,{"$f":"IF('IMPORTED DATA'!Q361=\"\",\"\",'IMPORTED DATA'!S361)","v":""},null,{"$f":"IF('IMPORTED DATA'!T361=\"\",\"\",'IMPORTED DATA'!#REF!)","v":""},null,{"$f":"IF('IMPORTED DATA'!U361=\"\",\"\",'IMPORTED DATA'!#REF!)","v":""}]
[null,null,null,null,null,null,null,null,null,null,null,null,null,null,null,null,null,null,null,null,{"$f":"IF('IMPORTED DATA'!G362=\"\",\"\",'IMPORTED DATA'!G362)","v":""},null,{"$f":"IF('IMPORTED DATA'!H362=\"\",\"\",'IMPORTED DATA'!H362)","v":""},null,null,null,null,null,{"$f":"IF('IMPORTED DATA'!I362=\"\",\"\",'IMPORTED DATA'!I362)","v":""},null,null,{"$f":"IF('IMPORTED DATA'!J362=\"\",\"\",'IMPORTED DATA'!J362)","v":""},null,{"$f":"IF('IMPORTED DATA'!K362=\"\",\"\",'IMPORTED DATA'!K362)","v":""},null,null,{"$f":"IF('IMPORTED DATA'!M362=\"\",\"\",'IMPORTED DATA'!M362)","v":""},null,{"$f":"IF('IMPORTED DATA'!N362=\"\",\"\",'IMPORTED DATA'!N362)","v":""},null,{"$f":"IF('IMPORTED DATA'!O362=\"\",\"\",'IMPORTED DATA'!O362)","v":""},null,{"$f":"IF('IMPORTED DATA'!P362=\"\",\"\",'IMPORTED DATA'!R362)","v":""},null,{"$f":"IF('IMPORTED DATA'!Q362=\"\",\"\",'IMPORTED DATA'!S362)","v":""},null,{"$f":"IF('IMPORTED DATA'!T362=\"\",\"\",'IMPORTED DATA'!#REF!)","v":""},null,{"$f":"IF('IMPORTED DATA'!U362=\"\",\"\",'IMPORTED DATA'!#REF!)","v":""}]
[null,null,null,null,null,null,null,null,"Action Item",{"$f":"IF('IMPORTED DATA'!C385<>\"\",'IMPORTED DATA'!C385,IF('IMPORTED DATA'!P100<>\"\",'IMPORTED DATA'!P100,\"\"))","v":""},null,null,null,null,null,null,null,null,{"$f":"IF('IMPORTED DATA'!D385<>0,'IMPORTED DATA'!D385,\"\")","v":""},null,{"$f":"IF('IMPORTED DATA'!G363=\"\",\"\",'IMPORTED DATA'!G363)","v":""},null,{"$f":"IF('IMPORTED DATA'!H363=\"\",\"\",'IMPORTED DATA'!H363)","v":""},null,null,null,null,null,{"$f":"IF('IMPORTED DATA'!I363=\"\",\"\",'IMPORTED DATA'!I363)","v":""},null,null,{"$f":"IF('IMPORTED DATA'!J363=\"\",\"\",'IMPORTED DATA'!J363)","v":""},null,{"$f":"IF('IMPORTED DATA'!K363=\"\",\"\",'IMPORTED DATA'!K363)","v":""},null,null,{"$f":"IF('IMPORTED DATA'!M363=\"\",\"\",'IMPORTED DATA'!M363)","v":""},null,{"$f":"IF('IMPORTED DATA'!N363=\"\",\"\",'IMPORTED DATA'!N363)","v":""},null,{"$f":"IF('IMPORTED DATA'!O363=\"\",\"\",'IMPORTED DATA'!O363)","v":""},null,{"$f":"IF('IMPORTED DATA'!P363=\"\",\"\",'IMPORTED DATA'!R363)","v":""},null,{"$f":"IF('IMPORTED DATA'!Q363=\"\",\"\",'IMPORTED DATA'!S363)","v":""},null,{"$f":"IF('IMPORTED DATA'!T363=\"\",\"\",'IMPORTED DATA'!#REF!)","v":""},null,{"$f":"IF('IMPORTED DATA'!U363=\"\",\"\",'IMPORTED DATA'!#REF!)","v":""}]
[null,null,null,null,null,null,null,null,null,null,null,null,null,null,null,null,null,null,null,null,{"$f":"IF('IMPORTED DATA'!G364=\"\",\"\",'IMPORTED DATA'!G364)","v":""},null,{"$f":"IF('IMPORTED DATA'!H364=\"\",\"\",'IMPORTED DATA'!H364)","v":""},null,null,null,null,null,{"$f":"IF('IMPORTED DATA'!I364=\"\",\"\",'IMPORTED DATA'!I364)","v":""},null,null,{"$f":"IF('IMPORTED DATA'!J364=\"\",\"\",'IMPORTED DATA'!J364)","v":""},null,{"$f":"IF('IMPORTED DATA'!K364=\"\",\"\",'IMPORTED DATA'!K364)","v":""},null,null,{"$f":"IF('IMPORTED DATA'!M364=\"\",\"\",'IMPORTED DATA'!M364)","v":""},null,{"$f":"IF('IMPORTED DATA'!N364=\"\",\"\",'IMPORTED DATA'!N364)","v":""},null,{"$f":"IF('IMPORTED DATA'!O364=\"\",\"\",'IMPORTED DATA'!O364)","v":""},null,{"$f":"IF('IMPORTED DATA'!P364=\"\",\"\",'IMPORTED DATA'!R364)","v":""},null,{"$f":"IF('IMPORTED DATA'!Q364=\"\",\"\",'IMPORTED DATA'!S364)","v":""},null,{"$f":"IF('IMPORTED DATA'!T364=\"\",\"\",'IMPORTED DATA'!#REF!)","v":""},null,{"$f":"IF('IMPORTED DATA'!U364=\"\",\"\",'IMPORTED DATA'!#REF!)","v":""}]
[null,null,null,null,null,null,null,null,null,null,null,null,null,null,null,null,null,null,null,null,{"$f":"IF('IMPORTED DATA'!G365=\"\",\"\",'IMPORTED DATA'!G365)","v":""},null,{"$f":"IF('IMPORTED DATA'!H365=\"\",\"\",'IMPORTED DATA'!H365)","v":""},null,null,null,null,null,{"$f":"IF('IMPORTED DATA'!I365=\"\",\"\",'IMPORTED DATA'!I365)","v":""},null,null,{"$f":"IF('IMPORTED DATA'!J365=\"\",\"\",'IMPORTED DATA'!J365)","v":""},null,{"$f":"IF('IMPORTED DATA'!K365=\"\",\"\",'IMPORTED DATA'!K365)","v":""},null,null,{"$f":"IF('IMPORTED DATA'!M365=\"\",\"\",'IMPORTED DATA'!M365)","v":""},null,{"$f":"IF('IMPORTED DATA'!N365=\"\",\"\",'IMPORTED DATA'!N365)","v":""},null,{"$f":"IF('IMPORTED DATA'!O365=\"\",\"\",'IMPORTED DATA'!O365)","v":""},null,{"$f":"IF('IMPORTED DATA'!P365=\"\",\"\",'IMPORTED DATA'!R365)","v":""},null,{"$f":"IF('IMPORTED DATA'!Q365=\"\",\"\",'IMPORTED DATA'!S365)","v":""},null,{"$f":"IF('IMPORTED DATA'!T365=\"\",\"\",'IMPORTED DATA'!#REF!)","v":""},null,{"$f":"IF('IMPORTED DATA'!U365=\"\",\"\",'IMPORTED DATA'!#REF!)","v":""}]
[null,null,null,null,null,null,null,null,"Action Item",{"$f":"IF('IMPORTED DATA'!C386<>\"\",'IMPORTED DATA'!C386,IF('IMPORTED DATA'!P101<>\"\",'IMPORTED DATA'!P101,\"\"))","v":""},null,null,null,null,null,null,null,null,{"$f":"IF('IMPORTED DATA'!D386<>0,'IMPORTED DATA'!D386,\"\")","v":""},null,{"$f":"IF('IMPORTED DATA'!G366=\"\",\"\",'IMPORTED DATA'!G366)","v":""},null,{"$f":"IF('IMPORTED DATA'!H366=\"\",\"\",'IMPORTED DATA'!H366)","v":""},null,null,null,null,null,{"$f":"IF('IMPORTED DATA'!I366=\"\",\"\",'IMPORTED DATA'!I366)","v":""},null,null,{"$f":"IF('IMPORTED DATA'!J366=\"\",\"\",'IMPORTED DATA'!J366)","v":""},null,{"$f":"IF('IMPORTED DATA'!K366=\"\",\"\",'IMPORTED DATA'!K366)","v":""},null,null,{"$f":"IF('IMPORTED DATA'!M366=\"\",\"\",'IMPORTED DATA'!M366)","v":""},null,{"$f":"IF('IMPORTED DATA'!N366=\"\",\"\",'IMPORTED DATA'!N366)","v":""},null,{"$f":"IF('IMPORTED DATA'!O366=\"\",\"\",'IMPORTED DATA'!O366)","v":""},null,{"$f":"IF('IMPORTED DATA'!P366=\"\",\"\",'IMPORTED DATA'!R366)","v":""},null,{"$f":"IF('IMPORTED DATA'!Q366=\"\",\"\",'IMPORTED DATA'!S366)","v":""},null,{"$f":"IF('IMPORTED DATA'!T366=\"\",\"\",'IMPORTED DATA'!#REF!)","v":""},null,{"$f":"IF('IMPORTED DATA'!U366=\"\",\"\",'IMPORTED DATA'!#REF!)","v":""}]
[null,null,null,null,null,null,null,null,null,null,null,null,null,null,null,null,null,null,null,null,{"$f":"IF('IMPORTED DATA'!G367=\"\",\"\",'IMPORTED DATA'!G367)","v":""},null,{"$f":"IF('IMPORTED DATA'!H367=\"\",\"\",'IMPORTED DATA'!H367)","v":""},null,null,null,null,null,{"$f":"IF('IMPORTED DATA'!I367=\"\",\"\",'IMPORTED DATA'!I367)","v":""},null,null,{"$f":"IF('IMPORTED DATA'!J367=\"\",\"\",'IMPORTED DATA'!J367)","v":""},null,{"$f":"IF('IMPORTED DATA'!K367=\"\",\"\",'IMPORTED DATA'!K367)","v":""},null,null,{"$f":"IF('IMPORTED DATA'!M367=\"\",\"\",'IMPORTED DATA'!M367)","v":""},null,{"$f":"IF('IMPORTED DATA'!N367=\"\",\"\",'IMPORTED DATA'!N367)","v":""},null,{"$f":"IF('IMPORTED DATA'!O367=\"\",\"\",'IMPORTED DATA'!O367)","v":""},null,{"$f":"IF('IMPORTED DATA'!P367=\"\",\"\",'IMPORTED DATA'!R367)","v":""},null,{"$f":"IF('IMPORTED DATA'!Q367=\"\",\"\",'IMPORTED DATA'!S367)","v":""},null,{"$f":"IF('IMPORTED DATA'!T367=\"\",\"\",'IMPORTED DATA'!#REF!)","v":""},null,{"$f":"IF('IMPORTED DATA'!U367=\"\",\"\",'IMPORTED DATA'!#REF!)","v":""}]
[null,null,null,null,null,null,null,null,null,null,null,null,null,null,null,null,null,null,null,null,{"$f":"IF('IMPORTED DATA'!G368=\"\",\"\",'IMPORTED DATA'!G368)","v":""},null,{"$f":"IF('IMPORTED DATA'!H368=\"\",\"\",'IMPORTED DATA'!H368)","v":""},null,null,null,null,null,{"$f":"IF('IMPORTED DATA'!I368=\"\",\"\",'IMPORTED DATA'!I368)","v":""},null,null,{"$f":"IF('IMPORTED DATA'!J368=\"\",\"\",'IMPORTED DATA'!J368)","v":""},null,{"$f":"IF('IMPORTED DATA'!K368=\"\",\"\",'IMPORTED DATA'!K368)","v":""},null,null,{"$f":"IF('IMPORTED DATA'!M368=\"\",\"\",'IMPORTED DATA'!M368)","v":""},null,{"$f":"IF('IMPORTED DATA'!N368=\"\",\"\",'IMPORTED DATA'!N368)","v":""},null,{"$f":"IF('IMPORTED DATA'!O368=\"\",\"\",'IMPORTED DATA'!O368)","v":""},null,{"$f":"IF('IMPORTED DATA'!P368=\"\",\"\",'IMPORTED DATA'!R368)","v":""},null,{"$f":"IF('IMPORTED DATA'!Q368=\"\",\"\",'IMPORTED DATA'!S368)","v":""},null,{"$f":"IF('IMPORTED DATA'!T368=\"\",\"\",'IMPORTED DATA'!#REF!)","v":""},null,{"$f":"IF('IMPORTED DATA'!U368=\"\",\"\",'IMPORTED DATA'!#REF!)","v":""}]
[null,null,null,null,null,null,"Strategic Element",null,null,null,null,null,null,null,null,null,null,null,"Include",null,{"$f":"IF('IMPORTED DATA'!G369=\"\",\"\",'IMPORTED DATA'!G369)","v":""},null,{"$f":"IF('IMPORTED DATA'!H369=\"\",\"\",'IMPORTED DATA'!H369)","v":""},null,null,null,null,null,{"$f":"IF('IMPORTED DATA'!I369=\"\",\"\",'IMPORTED DATA'!I369)","v":""},null,null,{"$f":"IF('IMPORTED DATA'!J369=\"\",\"\",'IMPORTED DATA'!J369)","v":""},null,{"$f":"IF('IMPORTED DATA'!K369=\"\",\"\",'IMPORTED DATA'!K369)","v":""},null,null,{"$f":"IF('IMPORTED DATA'!M369=\"\",\"\",'IMPORTED DATA'!M369)","v":""},null,{"$f":"IF('IMPORTED DATA'!N369=\"\",\"\",'IMPORTED DATA'!N369)","v":""},null,{"$f":"IF('IMPORTED DATA'!O369=\"\",\"\",'IMPORTED DATA'!O369)","v":""},null,{"$f":"IF('IMPORTED DATA'!P369=\"\",\"\",'IMPORTED DATA'!R369)","v":""},null,{"$f":"IF('IMPORTED DATA'!Q369=\"\",\"\",'IMPORTED DATA'!S369)","v":""},null,{"$f":"IF('IMPORTED DATA'!T369=\"\",\"\",'IMPORTED DATA'!#REF!)","v":""},null,{"$f":"IF('IMPORTED DATA'!U369=\"\",\"\",'IMPORTED DATA'!#REF!)","v":""}]
[null,null,null,null,null,null,"Objective",{"$f":"IF('IMPORTED DATA'!C387<>\"\",'IMPORTED DATA'!C387,IF('IMPORTED DATA'!P102<>\"\",'IMPORTED DATA'!P102,\"\"))","v":""},null,null,null,null,null,null,null,null,null,null,{"$f":"IF('IMPORTED DATA'!D387<>0,'IMPORTED DATA'!D387,\"\")","v":""},null,{"$f":"IF('IMPORTED DATA'!G370=\"\",\"\",'IMPORTED DATA'!G370)","v":""},null,{"$f":"IF('IMPORTED DATA'!H370=\"\",\"\",'IMPORTED DATA'!H370)","v":""},null,null,null,null,null,{"$f":"IF('IMPORTED DATA'!I370=\"\",\"\",'IMPORTED DATA'!I370)","v":""},null,null,{"$f":"IF('IMPORTED DATA'!J370=\"\",\"\",'IMPORTED DATA'!J370)","v":""},null,{"$f":"IF('IMPORTED DATA'!K370=\"\",\"\",'IMPORTED DATA'!K370)","v":""},null,null,{"$f":"IF('IMPORTED DATA'!M370=\"\",\"\",'IMPORTED DATA'!M370)","v":""},null,{"$f":"IF('IMPORTED DATA'!N370=\"\",\"\",'IMPORTED DATA'!N370)","v":""},null,{"$f":"IF('IMPORTED DATA'!O370=\"\",\"\",'IMPORTED DATA'!O370)","v":""},null,{"$f":"IF('IMPORTED DATA'!P370=\"\",\"\",'IMPORTED DATA'!R370)","v":""},null,{"$f":"IF('IMPORTED DATA'!Q370=\"\",\"\",'IMPORTED DATA'!S370)","v":""},null,{"$f":"IF('IMPORTED DATA'!T370=\"\",\"\",'IMPORTED DATA'!#REF!)","v":""},null,{"$f":"IF('IMPORTED DATA'!U370=\"\",\"\",'IMPORTED DATA'!#REF!)","v":""}]
[null,null,null,null,null,null,null,null,null,null,null,null,null,null,null,null,null,null,null,null,{"$f":"IF('IMPORTED DATA'!G371=\"\",\"\",'IMPORTED DATA'!G371)","v":""},null,{"$f":"IF('IMPORTED DATA'!H371=\"\",\"\",'IMPORTED DATA'!H371)","v":""},null,null,null,null,null,{"$f":"IF('IMPORTED DATA'!I371=\"\",\"\",'IMPORTED DATA'!I371)","v":""},null,null,{"$f":"IF('IMPORTED DATA'!J371=\"\",\"\",'IMPORTED DATA'!J371)","v":""},null,{"$f":"IF('IMPORTED DATA'!K371=\"\",\"\",'IMPORTED DATA'!K371)","v":""},null,null,{"$f":"IF('IMPORTED DATA'!M371=\"\",\"\",'IMPORTED DATA'!M371)","v":""},null,{"$f":"IF('IMPORTED DATA'!N371=\"\",\"\",'IMPORTED DATA'!N371)","v":""},null,{"$f":"IF('IMPORTED DATA'!O371=\"\",\"\",'IMPORTED DATA'!O371)","v":""},null,{"$f":"IF('IMPORTED DATA'!P371=\"\",\"\",'IMPORTED DATA'!R371)","v":""},null,{"$f":"IF('IMPORTED DATA'!Q371=\"\",\"\",'IMPORTED DATA'!S371)","v":""},null,{"$f":"IF('IMPORTED DATA'!T371=\"\",\"\",'IMPORTED DATA'!#REF!)","v":""},null,{"$f":"IF('IMPORTED DATA'!U371=\"\",\"\",'IMPORTED DATA'!#REF!)","v":""}]
[null,null,null,null,null,null,null,null,null,null,null,null,null,null,null,null,null,null,null,null,{"$f":"IF('IMPORTED DATA'!G372=\"\",\"\",'IMPORTED DATA'!G372)","v":""},null,{"$f":"IF('IMPORTED DATA'!H372=\"\",\"\",'IMPORTED DATA'!H372)","v":""},null,null,null,null,null,{"$f":"IF('IMPORTED DATA'!I372=\"\",\"\",'IMPORTED DATA'!I372)","v":""},null,null,{"$f":"IF('IMPORTED DATA'!J372=\"\",\"\",'IMPORTED DATA'!J372)","v":""},null,{"$f":"IF('IMPORTED DATA'!K372=\"\",\"\",'IMPORTED DATA'!K372)","v":""},null,null,{"$f":"IF('IMPORTED DATA'!M372=\"\",\"\",'IMPORTED DATA'!M372)","v":""},null,{"$f":"IF('IMPORTED DATA'!N372=\"\",\"\",'IMPORTED DATA'!N372)","v":""},null,{"$f":"IF('IMPORTED DATA'!O372=\"\",\"\",'IMPORTED DATA'!O372)","v":""},null,{"$f":"IF('IMPORTED DATA'!P372=\"\",\"\",'IMPORTED DATA'!R372)","v":""},null,{"$f":"IF('IMPORTED DATA'!Q372=\"\",\"\",'IMPORTED DATA'!S372)","v":""},null,{"$f":"IF('IMPORTED DATA'!T372=\"\",\"\",'IMPORTED DATA'!#REF!)","v":""},null,{"$f":"IF('IMPORTED DATA'!U372=\"\",\"\",'IMPORTED DATA'!#REF!)","v":""}]
[null,null,null,null,null,null,null,null,"Action Item",{"$f":"IF('IMPORTED DATA'!C388<>\"\",'IMPORTED DATA'!C388,IF('IMPORTED DATA'!P103<>\"\",'IMPORTED DATA'!P103,\"\"))","v":""},null,null,null,null,null,null,null,null,{"$f":"IF('IMPORTED DATA'!D388<>0,'IMPORTED DATA'!D388,\"\")","v":""},null,{"$f":"IF('IMPORTED DATA'!G373=\"\",\"\",'IMPORTED DATA'!G373)","v":""},null,{"$f":"IF('IMPORTED DATA'!H373=\"\",\"\",'IMPORTED DATA'!H373)","v":""},null,null,null,null,null,{"$f":"IF('IMPORTED DATA'!I373=\"\",\"\",'IMPORTED DATA'!I373)","v":""},null,null,{"$f":"IF('IMPORTED DATA'!J373=\"\",\"\",'IMPORTED DATA'!J373)","v":""},null,{"$f":"IF('IMPORTED DATA'!K373=\"\",\"\",'IMPORTED DATA'!K373)","v":""},null,null,{"$f":"IF('IMPORTED DATA'!M373=\"\",\"\",'IMPORTED DATA'!M373)","v":""},null,{"$f":"IF('IMPORTED DATA'!N373=\"\",\"\",'IMPORTED DATA'!N373)","v":""},null,{"$f":"IF('IMPORTED DATA'!O373=\"\",\"\",'IMPORTED DATA'!O373)","v":""},null,{"$f":"IF('IMPORTED DATA'!P373=\"\",\"\",'IMPORTED DATA'!R373)","v":""},null,{"$f":"IF('IMPORTED DATA'!Q373=\"\",\"\",'IMPORTED DATA'!S373)","v":""},null,{"$f":"IF('IMPORTED DATA'!T373=\"\",\"\",'IMPORTED DATA'!#REF!)","v":""},null,{"$f":"IF('IMPORTED DATA'!U373=\"\",\"\",'IMPORTED DATA'!#REF!)","v":""}]
[null,null,null,null,null,null,null,null,null,null,null,null,null,null,null,null,null,null,null,null,{"$f":"IF('IMPORTED DATA'!G374=\"\",\"\",'IMPORTED DATA'!G374)","v":""},null,{"$f":"IF('IMPORTED DATA'!H374=\"\",\"\",'IMPORTED DATA'!H374)","v":""},null,null,null,null,null,{"$f":"IF('IMPORTED DATA'!I374=\"\",\"\",'IMPORTED DATA'!I374)","v":""},null,null,{"$f":"IF('IMPORTED DATA'!J374=\"\",\"\",'IMPORTED DATA'!J374)","v":""},null,{"$f":"IF('IMPORTED DATA'!K374=\"\",\"\",'IMPORTED DATA'!K374)","v":""},null,null,{"$f":"IF('IMPORTED DATA'!M374=\"\",\"\",'IMPORTED DATA'!M374)","v":""},null,{"$f":"IF('IMPORTED DATA'!N374=\"\",\"\",'IMPORTED DATA'!N374)","v":""},null,{"$f":"IF('IMPORTED DATA'!O374=\"\",\"\",'IMPORTED DATA'!O374)","v":""},null,{"$f":"IF('IMPORTED DATA'!P374=\"\",\"\",'IMPORTED DATA'!R374)","v":""},null,{"$f":"IF('IMPORTED DATA'!Q374=\"\",\"\",'IMPORTED DATA'!S374)","v":""},null,{"$f":"IF('IMPORTED DATA'!T374=\"\",\"\",'IMPORTED DATA'!#REF!)","v":""},null,{"$f":"IF('IMPORTED DATA'!U374=\"\",\"\",'IMPORTED DATA'!#REF!)","v":""}]
[null,null,null,null,null,null,null,null,null,null,null,null,null,null,null,null,null,null,null,null,{"$f":"IF('IMPORTED DATA'!G375=\"\",\"\",'IMPORTED DATA'!G375)","v":""},null,{"$f":"IF('IMPORTED DATA'!H375=\"\",\"\",'IMPORTED DATA'!H375)","v":""},null,null,null,null,null,{"$f":"IF('IMPORTED DATA'!I375=\"\",\"\",'IMPORTED DATA'!I375)","v":""},null,null,{"$f":"IF('IMPORTED DATA'!J375=\"\",\"\",'IMPORTED DATA'!J375)","v":""},null,{"$f":"IF('IMPORTED DATA'!K375=\"\",\"\",'IMPORTED DATA'!K375)","v":""},null,null,{"$f":"IF('IMPORTED DATA'!M375=\"\",\"\",'IMPORTED DATA'!M375)","v":""},null,{"$f":"IF('IMPORTED DATA'!N375=\"\",\"\",'IMPORTED DATA'!N375)","v":""},null,{"$f":"IF('IMPORTED DATA'!O375=\"\",\"\",'IMPORTED DATA'!O375)","v":""},null,{"$f":"IF('IMPORTED DATA'!P375=\"\",\"\",'IMPORTED DATA'!R375)","v":""},null,{"$f":"IF('IMPORTED DATA'!Q375=\"\",\"\",'IMPORTED DATA'!S375)","v":""},null,{"$f":"IF('IMPORTED DATA'!T375=\"\",\"\",'IMPORTED DATA'!#REF!)","v":""},null,{"$f":"IF('IMPORTED DATA'!U375=\"\",\"\",'IMPORTED DATA'!#REF!)","v":""}]
[null,null,null,null,null,null,null,null,"Action Item",{"$f":"IF('IMPORTED DATA'!C389<>\"\",'IMPORTED DATA'!C389,IF('IMPORTED DATA'!P104<>\"\",'IMPORTED DATA'!P104,\"\"))","v":""},null,null,null,null,null,null,null,null,{"$f":"IF('IMPORTED DATA'!D389<>0,'IMPORTED DATA'!D389,\"\")","v":""},null,{"$f":"IF('IMPORTED DATA'!G376=\"\",\"\",'IMPORTED DATA'!G376)","v":""},null,{"$f":"IF('IMPORTED DATA'!H376=\"\",\"\",'IMPORTED DATA'!H376)","v":""},null,null,null,null,null,{"$f":"IF('IMPORTED DATA'!I376=\"\",\"\",'IMPORTED DATA'!I376)","v":""},null,null,{"$f":"IF('IMPORTED DATA'!J376=\"\",\"\",'IMPORTED DATA'!J376)","v":""},null,{"$f":"IF('IMPORTED DATA'!K376=\"\",\"\",'IMPORTED DATA'!K376)","v":""},null,null,{"$f":"IF('IMPORTED DATA'!M376=\"\",\"\",'IMPORTED DATA'!M376)","v":""},null,{"$f":"IF('IMPORTED DATA'!N376=\"\",\"\",'IMPORTED DATA'!N376)","v":""},null,{"$f":"IF('IMPORTED DATA'!O376=\"\",\"\",'IMPORTED DATA'!O376)","v":""},null,{"$f":"IF('IMPORTED DATA'!P376=\"\",\"\",'IMPORTED DATA'!R376)","v":""},null,{"$f":"IF('IMPORTED DATA'!Q376=\"\",\"\",'IMPORTED DATA'!S376)","v":""},null,{"$f":"IF('IMPORTED DATA'!T376=\"\",\"\",'IMPORTED DATA'!#REF!)","v":""},null,{"$f":"IF('IMPORTED DATA'!U376=\"\",\"\",'IMPORTED DATA'!#REF!)","v":""}]
[null,null,null,null,null,null,null,null,null,null,null,null,null,null,null,null,null,null,null,null,{"$f":"IF('IMPORTED DATA'!G377=\"\",\"\",'IMPORTED DATA'!G377)","v":""},null,{"$f":"IF('IMPORTED DATA'!H377=\"\",\"\",'IMPORTED DATA'!H377)","v":""},null,null,null,null,null,{"$f":"IF('IMPORTED DATA'!I377=\"\",\"\",'IMPORTED DATA'!I377)","v":""},null,null,{"$f":"IF('IMPORTED DATA'!J377=\"\",\"\",'IMPORTED DATA'!J377)","v":""},null,{"$f":"IF('IMPORTED DATA'!K377=\"\",\"\",'IMPORTED DATA'!K377)","v":""},null,null,{"$f":"IF('IMPORTED DATA'!M377=\"\",\"\",'IMPORTED DATA'!M377)","v":""},null,{"$f":"IF('IMPORTED DATA'!N377=\"\",\"\",'IMPORTED DATA'!N377)","v":""},null,{"$f":"IF('IMPORTED DATA'!O377=\"\",\"\",'IMPORTED DATA'!O377)","v":""},null,{"$f":"IF('IMPORTED DATA'!P377=\"\",\"\",'IMPORTED DATA'!R377)","v":""},null,{"$f":"IF('IMPORTED DATA'!Q377=\"\",\"\",'IMPORTED DATA'!S377)","v":""},null,{"$f":"IF('IMPORTED DATA'!T377=\"\",\"\",'IMPORTED DATA'!#REF!)","v":""},null,{"$f":"IF('IMPORTED DATA'!U377=\"\",\"\",'IMPORTED DATA'!#REF!)","v":""}]
[null,null,null,null,null,null,null,null,null,null,null,null,null,null,null,null,null,null,null,null,{"$f":"IF('IMPORTED DATA'!G378=\"\",\"\",'IMPORTED DATA'!G378)","v":""},null,{"$f":"IF('IMPORTED DATA'!H378=\"\",\"\",'IMPORTED DATA'!H378)","v":""},null,null,null,null,null,{"$f":"IF('IMPORTED DATA'!I378=\"\",\"\",'IMPORTED DATA'!I378)","v":""},null,null,{"$f":"IF('IMPORTED DATA'!J378=\"\",\"\",'IMPORTED DATA'!J378)","v":""},null,{"$f":"IF('IMPORTED DATA'!K378=\"\",\"\",'IMPORTED DATA'!K378)","v":""},null,null,{"$f":"IF('IMPORTED DATA'!M378=\"\",\"\",'IMPORTED DATA'!M378)","v":""},null,{"$f":"IF('IMPORTED DATA'!N378=\"\",\"\",'IMPORTED DATA'!N378)","v":""},null,{"$f":"IF('IMPORTED DATA'!O378=\"\",\"\",'IMPORTED DATA'!O378)","v":""},null,{"$f":"IF('IMPORTED DATA'!P378=\"\",\"\",'IMPORTED DATA'!R378)","v":""},null,{"$f":"IF('IMPORTED DATA'!Q378=\"\",\"\",'IMPORTED DATA'!S378)","v":""},null,{"$f":"IF('IMPORTED DATA'!T378=\"\",\"\",'IMPORTED DATA'!#REF!)","v":""},null,{"$f":"IF('IMPORTED DATA'!U378=\"\",\"\",'IMPORTED DATA'!#REF!)","v":""}]
[null,null,null,null,null,null,null,null,"Action Item",{"$f":"IF('IMPORTED DATA'!C390<>\"\",'IMPORTED DATA'!C390,IF('IMPORTED DATA'!P105<>\"\",'IMPORTED DATA'!P105,\"\"))","v":""},null,null,null,null,null,null,null,null,{"$f":"IF('IMPORTED DATA'!D390<>0,'IMPORTED DATA'!D390,\"\")","v":""},null,{"$f":"IF('IMPORTED DATA'!G379=\"\",\"\",'IMPORTED DATA'!G379)","v":""},null,{"$f":"IF('IMPORTED DATA'!H379=\"\",\"\",'IMPORTED DATA'!H379)","v":""},null,null,null,null,null,{"$f":"IF('IMPORTED DATA'!I379=\"\",\"\",'IMPORTED DATA'!I379)","v":""},null,null,{"$f":"IF('IMPORTED DATA'!J379=\"\",\"\",'IMPORTED DATA'!J379)","v":""},null,{"$f":"IF('IMPORTED DATA'!K379=\"\",\"\",'IMPORTED DATA'!K379)","v":""},null,null,{"$f":"IF('IMPORTED DATA'!M379=\"\",\"\",'IMPORTED DATA'!M379)","v":""},null,{"$f":"IF('IMPORTED DATA'!N379=\"\",\"\",'IMPORTED DATA'!N379)","v":""},null,{"$f":"IF('IMPORTED DATA'!O379=\"\",\"\",'IMPORTED DATA'!O379)","v":""},null,{"$f":"IF('IMPORTED DATA'!P379=\"\",\"\",'IMPORTED DATA'!R379)","v":""},null,{"$f":"IF('IMPORTED DATA'!Q379=\"\",\"\",'IMPORTED DATA'!S379)","v":""},null,{"$f":"IF('IMPORTED DATA'!T379=\"\",\"\",'IMPORTED DATA'!#REF!)","v":""},null,{"$f":"IF('IMPORTED DATA'!U379=\"\",\"\",'IMPORTED DATA'!#REF!)","v":""}]
[null,null,null,null,null,null,null,null,null,null,null,null,null,null,null,null,null,null,null,null,{"$f":"IF('IMPORTED DATA'!G380=\"\",\"\",'IMPORTED DATA'!G380)","v":""},null,{"$f":"IF('IMPORTED DATA'!H380=\"\",\"\",'IMPORTED DATA'!H380)","v":""},null,null,null,null,null,{"$f":"IF('IMPORTED DATA'!I380=\"\",\"\",'IMPORTED DATA'!I380)","v":""},null,null,{"$f":"IF('IMPORTED DATA'!J380=\"\",\"\",'IMPORTED DATA'!J380)","v":""},null,{"$f":"IF('IMPORTED DATA'!K380=\"\",\"\",'IMPORTED DATA'!K380)","v":""},null,null,{"$f":"IF('IMPORTED DATA'!M380=\"\",\"\",'IMPORTED DATA'!M380)","v":""},null,{"$f":"IF('IMPORTED DATA'!N380=\"\",\"\",'IMPORTED DATA'!N380)","v":""},null,{"$f":"IF('IMPORTED DATA'!O380=\"\",\"\",'IMPORTED DATA'!O380)","v":""},null,{"$f":"IF('IMPORTED DATA'!P380=\"\",\"\",'IMPORTED DATA'!R380)","v":""},null,{"$f":"IF('IMPORTED DATA'!Q380=\"\",\"\",'IMPORTED DATA'!S380)","v":""},null,{"$f":"IF('IMPORTED DATA'!T380=\"\",\"\",'IMPORTED DATA'!#REF!)","v":""},null,{"$f":"IF('IMPORTED DATA'!U380=\"\",\"\",'IMPORTED DATA'!#REF!)","v":""}]
[null,null,null,null,null,null,null,null,null,null,null,null,null,null,null,null,null,null,null,null,{"$f":"IF('IMPORTED DATA'!G381=\"\",\"\",'IMPORTED DATA'!G381)","v":""},null,{"$f":"IF('IMPORTED DATA'!H381=\"\",\"\",'IMPORTED DATA'!H381)","v":""},null,null,null,null,null,{"$f":"IF('IMPORTED DATA'!I381=\"\",\"\",'IMPORTED DATA'!I381)","v":""},null,null,{"$f":"IF('IMPORTED DATA'!J381=\"\",\"\",'IMPORTED DATA'!J381)","v":""},null,{"$f":"IF('IMPORTED DATA'!K381=\"\",\"\",'IMPORTED DATA'!K381)","v":""},null,null,{"$f":"IF('IMPORTED DATA'!M381=\"\",\"\",'IMPORTED DATA'!M381)","v":""},null,{"$f":"IF('IMPORTED DATA'!N381=\"\",\"\",'IMPORTED DATA'!N381)","v":""},null,{"$f":"IF('IMPORTED DATA'!O381=\"\",\"\",'IMPORTED DATA'!O381)","v":""},null,{"$f":"IF('IMPORTED DATA'!P381=\"\",\"\",'IMPORTED DATA'!R381)","v":""},null,{"$f":"IF('IMPORTED DATA'!Q381=\"\",\"\",'IMPORTED DATA'!S381)","v":""},null,{"$f":"IF('IMPORTED DATA'!T381=\"\",\"\",'IMPORTED DATA'!#REF!)","v":""},null,{"$f":"IF('IMPORTED DATA'!U381=\"\",\"\",'IMPORTED DATA'!#REF!)","v":""}]
[null,null,null,null,null,null,null,null,"Action Item",{"$f":"IF('IMPORTED DATA'!C391<>\"\",'IMPORTED DATA'!C391,IF('IMPORTED DATA'!P106<>\"\",'IMPORTED DATA'!P106,\"\"))","v":""},null,null,null,null,null,null,null,null,{"$f":"IF('IMPORTED DATA'!D391<>0,'IMPORTED DATA'!D391,\"\")","v":""},null,{"$f":"IF('IMPORTED DATA'!G382=\"\",\"\",'IMPORTED DATA'!G382)","v":""},null,{"$f":"IF('IMPORTED DATA'!H382=\"\",\"\",'IMPORTED DATA'!H382)","v":""},null,null,null,null,null,{"$f":"IF('IMPORTED DATA'!I382=\"\",\"\",'IMPORTED DATA'!I382)","v":""},null,null,{"$f":"IF('IMPORTED DATA'!J382=\"\",\"\",'IMPORTED DATA'!J382)","v":""},null,{"$f":"IF('IMPORTED DATA'!K382=\"\",\"\",'IMPORTED DATA'!K382)","v":""},null,null,{"$f":"IF('IMPORTED DATA'!M382=\"\",\"\",'IMPORTED DATA'!M382)","v":""},null,{"$f":"IF('IMPORTED DATA'!N382=\"\",\"\",'IMPORTED DATA'!N382)","v":""},null,{"$f":"IF('IMPORTED DATA'!O382=\"\",\"\",'IMPORTED DATA'!O382)","v":""},null,{"$f":"IF('IMPORTED DATA'!P382=\"\",\"\",'IMPORTED DATA'!R382)","v":""},null,{"$f":"IF('IMPORTED DATA'!Q382=\"\",\"\",'IMPORTED DATA'!S382)","v":""},null,{"$f":"IF('IMPORTED DATA'!T382=\"\",\"\",'IMPORTED DATA'!#REF!)","v":""},null,{"$f":"IF('IMPORTED DATA'!U382=\"\",\"\",'IMPORTED DATA'!#REF!)","v":""}]
[null,null,null,null,null,null,null,null,null,null,null,null,null,null,null,null,null,null,null,null,{"$f":"IF('IMPORTED DATA'!G383=\"\",\"\",'IMPORTED DATA'!G383)","v":""},null,{"$f":"IF('IMPORTED DATA'!H383=\"\",\"\",'IMPORTED DATA'!H383)","v":""},null,null,null,null,null,{"$f":"IF('IMPORTED DATA'!I383=\"\",\"\",'IMPORTED DATA'!I383)","v":""},null,null,{"$f":"IF('IMPORTED DATA'!J383=\"\",\"\",'IMPORTED DATA'!J383)","v":""},null,{"$f":"IF('IMPORTED DATA'!K383=\"\",\"\",'IMPORTED DATA'!K383)","v":""},null,null,{"$f":"IF('IMPORTED DATA'!M383=\"\",\"\",'IMPORTED DATA'!M383)","v":""},null,{"$f":"IF('IMPORTED DATA'!N383=\"\",\"\",'IMPORTED DATA'!N383)","v":""},null,{"$f":"IF('IMPORTED DATA'!O383=\"\",\"\",'IMPORTED DATA'!O383)","v":""},null,{"$f":"IF('IMPORTED DATA'!P383=\"\",\"\",'IMPORTED DATA'!R383)","v":""},null,{"$f":"IF('IMPORTED DATA'!Q383=\"\",\"\",'IMPORTED DATA'!S383)","v":""},null,{"$f":"IF('IMPORTED DATA'!T383=\"\",\"\",'IMPORTED DATA'!#REF!)","v":""},null,{"$f":"IF('IMPORTED DATA'!U383=\"\",\"\",'IMPORTED DATA'!#REF!)","v":""}]
[null,null,null,null,null,null,null,null,null,null,null,null,null,null,null,null,null,null,null,null,{"$f":"IF('IMPORTED DATA'!G384=\"\",\"\",'IMPORTED DATA'!G384)","v":""},null,{"$f":"IF('IMPORTED DATA'!H384=\"\",\"\",'IMPORTED DATA'!H384)","v":""},null,null,null,null,null,{"$f":"IF('IMPORTED DATA'!I384=\"\",\"\",'IMPORTED DATA'!I384)","v":""},null,null,{"$f":"IF('IMPORTED DATA'!J384=\"\",\"\",'IMPORTED DATA'!J384)","v":""},null,{"$f":"IF('IMPORTED DATA'!K384=\"\",\"\",'IMPORTED DATA'!K384)","v":""},null,null,{"$f":"IF('IMPORTED DATA'!M384=\"\",\"\",'IMPORTED DATA'!M384)","v":""},null,{"$f":"IF('IMPORTED DATA'!N384=\"\",\"\",'IMPORTED DATA'!N384)","v":""},null,{"$f":"IF('IMPORTED DATA'!O384=\"\",\"\",'IMPORTED DATA'!O384)","v":""},null,{"$f":"IF('IMPORTED DATA'!P384=\"\",\"\",'IMPORTED DATA'!R384)","v":""},null,{"$f":"IF('IMPORTED DATA'!Q384=\"\",\"\",'IMPORTED DATA'!S384)","v":""},null,{"$f":"IF('IMPORTED DATA'!T384=\"\",\"\",'IMPORTED DATA'!#REF!)","v":""},null,{"$f":"IF('IMPORTED DATA'!U384=\"\",\"\",'IMPORTED DATA'!#REF!)","v":""}]
[null,null,null,null,null,null,null,null,"Action Item",{"$f":"IF('IMPORTED DATA'!C392<>\"\",'IMPORTED DATA'!C392,IF('IMPORTED DATA'!P107<>\"\",'IMPORTED DATA'!P107,\"\"))","v":""},null,null,null,null,null,null,null,null,{"$f":"IF('IMPORTED DATA'!D392<>0,'IMPORTED DATA'!D392,\"\")","v":""},null,{"$f":"IF('IMPORTED DATA'!G385=\"\",\"\",'IMPORTED DATA'!G385)","v":""},null,{"$f":"IF('IMPORTED DATA'!H385=\"\",\"\",'IMPORTED DATA'!H385)","v":""},null,null,null,null,null,{"$f":"IF('IMPORTED DATA'!I385=\"\",\"\",'IMPORTED DATA'!I385)","v":""},null,null,{"$f":"IF('IMPORTED DATA'!J385=\"\",\"\",'IMPORTED DATA'!J385)","v":""},null,{"$f":"IF('IMPORTED DATA'!K385=\"\",\"\",'IMPORTED DATA'!K385)","v":""},null,null,{"$f":"IF('IMPORTED DATA'!M385=\"\",\"\",'IMPORTED DATA'!M385)","v":""},null,{"$f":"IF('IMPORTED DATA'!N385=\"\",\"\",'IMPORTED DATA'!N385)","v":""},null,{"$f":"IF('IMPORTED DATA'!O385=\"\",\"\",'IMPORTED DATA'!O385)","v":""},null,{"$f":"IF('IMPORTED DATA'!P385=\"\",\"\",'IMPORTED DATA'!R385)","v":""},null,{"$f":"IF('IMPORTED DATA'!Q385=\"\",\"\",'IMPORTED DATA'!S385)","v":""},null,{"$f":"IF('IMPORTED DATA'!T385=\"\",\"\",'IMPORTED DATA'!#REF!)","v":""},null,{"$f":"IF('IMPORTED DATA'!U385=\"\",\"\",'IMPORTED DATA'!#REF!)","v":""}]
[null,null,null,null,null,null,null,null,null,null,null,null,null,null,null,null,null,null,null,null,{"$f":"IF('IMPORTED DATA'!G386=\"\",\"\",'IMPORTED DATA'!G386)","v":""},null,{"$f":"IF('IMPORTED DATA'!H386=\"\",\"\",'IMPORTED DATA'!H386)","v":""},null,null,null,null,null,{"$f":"IF('IMPORTED DATA'!I386=\"\",\"\",'IMPORTED DATA'!I386)","v":""},null,null,{"$f":"IF('IMPORTED DATA'!J386=\"\",\"\",'IMPORTED DATA'!J386)","v":""},null,{"$f":"IF('IMPORTED DATA'!K386=\"\",\"\",'IMPORTED DATA'!K386)","v":""},null,null,{"$f":"IF('IMPORTED DATA'!M386=\"\",\"\",'IMPORTED DATA'!M386)","v":""},null,{"$f":"IF('IMPORTED DATA'!N386=\"\",\"\",'IMPORTED DATA'!N386)","v":""},null,{"$f":"IF('IMPORTED DATA'!O386=\"\",\"\",'IMPORTED DATA'!O386)","v":""},null,{"$f":"IF('IMPORTED DATA'!P386=\"\",\"\",'IMPORTED DATA'!R386)","v":""},null,{"$f":"IF('IMPORTED DATA'!Q386=\"\",\"\",'IMPORTED DATA'!S386)","v":""},null,{"$f":"IF('IMPORTED DATA'!T386=\"\",\"\",'IMPORTED DATA'!#REF!)","v":""},null,{"$f":"IF('IMPORTED DATA'!U386=\"\",\"\",'IMPORTED DATA'!#REF!)","v":""}]
[null,null,null,null,null,null,null,null,null,null,null,null,null,null,null,null,null,null,null,null,{"$f":"IF('IMPORTED DATA'!G387=\"\",\"\",'IMPORTED DATA'!G387)","v":""},null,{"$f":"IF('IMPORTED DATA'!H387=\"\",\"\",'IMPORTED DATA'!H387)","v":""},null,null,null,null,null,{"$f":"IF('IMPORTED DATA'!I387=\"\",\"\",'IMPORTED DATA'!I387)","v":""},null,null,{"$f":"IF('IMPORTED DATA'!J387=\"\",\"\",'IMPORTED DATA'!J387)","v":""},null,{"$f":"IF('IMPORTED DATA'!K387=\"\",\"\",'IMPORTED DATA'!K387)","v":""},null,null,{"$f":"IF('IMPORTED DATA'!M387=\"\",\"\",'IMPORTED DATA'!M387)","v":""},null,{"$f":"IF('IMPORTED DATA'!N387=\"\",\"\",'IMPORTED DATA'!N387)","v":""},null,{"$f":"IF('IMPORTED DATA'!O387=\"\",\"\",'IMPORTED DATA'!O387)","v":""},null,{"$f":"IF('IMPORTED DATA'!P387=\"\",\"\",'IMPORTED DATA'!R387)","v":""},null,{"$f":"IF('IMPORTED DATA'!Q387=\"\",\"\",'IMPORTED DATA'!S387)","v":""},null,{"$f":"IF('IMPORTED DATA'!T387=\"\",\"\",'IMPORTED DATA'!#REF!)","v":""},null,{"$f":"IF('IMPORTED DATA'!U387=\"\",\"\",'IMPORTED DATA'!#REF!)","v":""}]
[null,null,null,null,null,null,"Strategic Element",null,null,null,null,null,null,null,null,null,null,null,"Include",null,{"$f":"IF('IMPORTED DATA'!G388=\"\",\"\",'IMPORTED DATA'!G388)","v":""},null,{"$f":"IF('IMPORTED DATA'!H388=\"\",\"\",'IMPORTED DATA'!H388)","v":""},null,null,null,null,null,{"$f":"IF('IMPORTED DATA'!I388=\"\",\"\",'IMPORTED DATA'!I388)","v":""},null,null,{"$f":"IF('IMPORTED DATA'!J388=\"\",\"\",'IMPORTED DATA'!J388)","v":""},null,{"$f":"IF('IMPORTED DATA'!K388=\"\",\"\",'IMPORTED DATA'!K388)","v":""},null,null,{"$f":"IF('IMPORTED DATA'!M388=\"\",\"\",'IMPORTED DATA'!M388)","v":""},null,{"$f":"IF('IMPORTED DATA'!N388=\"\",\"\",'IMPORTED DATA'!N388)","v":""},null,{"$f":"IF('IMPORTED DATA'!O388=\"\",\"\",'IMPORTED DATA'!O388)","v":""},null,{"$f":"IF('IMPORTED DATA'!P388=\"\",\"\",'IMPORTED DATA'!R388)","v":""},null,{"$f":"IF('IMPORTED DATA'!Q388=\"\",\"\",'IMPORTED DATA'!S388)","v":""},null,{"$f":"IF('IMPORTED DATA'!T388=\"\",\"\",'IMPORTED DATA'!#REF!)","v":""},null,{"$f":"IF('IMPORTED DATA'!U388=\"\",\"\",'IMPORTED DATA'!#REF!)","v":""}]
[null,null,null,null,null,null,"Objective",{"$f":"IF('IMPORTED DATA'!C393<>\"\",'IMPORTED DATA'!C393,IF('IMPORTED DATA'!P108<>\"\",'IMPORTED DATA'!P108,\"\"))","v":""},null,null,null,null,null,null,null,null,null,null,{"$f":"IF('IMPORTED DATA'!D393<>0,'IMPORTED DATA'!D393,\"\")","v":""},null,{"$f":"IF('IMPORTED DATA'!G389=\"\",\"\",'IMPORTED DATA'!G389)","v":""},null,{"$f":"IF('IMPORTED DATA'!H389=\"\",\"\",'IMPORTED DATA'!H389)","v":""},null,null,null,null,null,{"$f":"IF('IMPORTED DATA'!I389=\"\",\"\",'IMPORTED DATA'!I389)","v":""},null,null,{"$f":"IF('IMPORTED DATA'!J389=\"\",\"\",'IMPORTED DATA'!J389)","v":""},null,{"$f":"IF('IMPORTED DATA'!K389=\"\",\"\",'IMPORTED DATA'!K389)","v":""},null,null,{"$f":"IF('IMPORTED DATA'!M389=\"\",\"\",'IMPORTED DATA'!M389)","v":""},null,{"$f":"IF('IMPORTED DATA'!N389=\"\",\"\",'IMPORTED DATA'!N389)","v":""},null,{"$f":"IF('IMPORTED DATA'!O389=\"\",\"\",'IMPORTED DATA'!O389)","v":""},null,{"$f":"IF('IMPORTED DATA'!P389=\"\",\"\",'IMPORTED DATA'!R389)","v":""},null,{"$f":"IF('IMPORTED DATA'!Q389=\"\",\"\",'IMPORTED DATA'!S389)","v":""},null,{"$f":"IF('IMPORTED DATA'!T389=\"\",\"\",'IMPORTED DATA'!#REF!)","v":""},null,{"$f":"IF('IMPORTED DATA'!U389=\"\",\"\",'IMPORTED DATA'!#REF!)","v":""}]
[null,null,null,null,null,null,null,null,null,null,null,null,null,null,null,null,null,null,null,null,{"$f":"IF('IMPORTED DATA'!G390=\"\",\"\",'IMPORTED DATA'!G390)","v":""},null,{"$f":"IF('IMPORTED DATA'!H390=\"\",\"\",'IMPORTED DATA'!H390)","v":""},null,null,null,null,null,{"$f":"IF('IMPORTED DATA'!I390=\"\",\"\",'IMPORTED DATA'!I390)","v":""},null,null,{"$f":"IF('IMPORTED DATA'!J390=\"\",\"\",'IMPORTED DATA'!J390)","v":""},null,{"$f":"IF('IMPORTED DATA'!K390=\"\",\"\",'IMPORTED DATA'!K390)","v":""},null,null,{"$f":"IF('IMPORTED DATA'!M390=\"\",\"\",'IMPORTED DATA'!M390)","v":""},null,{"$f":"IF('IMPORTED DATA'!N390=\"\",\"\",'IMPORTED DATA'!N390)","v":""},null,{"$f":"IF('IMPORTED DATA'!O390=\"\",\"\",'IMPORTED DATA'!O390)","v":""},null,{"$f":"IF('IMPORTED DATA'!P390=\"\",\"\",'IMPORTED DATA'!R390)","v":""},null,{"$f":"IF('IMPORTED DATA'!Q390=\"\",\"\",'IMPORTED DATA'!S390)","v":""},null,{"$f":"IF('IMPORTED DATA'!T390=\"\",\"\",'IMPORTED DATA'!#REF!)","v":""},null,{"$f":"IF('IMPORTED DATA'!U390=\"\",\"\",'IMPORTED DATA'!#REF!)","v":""}]
[null,null,null,null,null,null,null,null,null,null,null,null,null,null,null,null,null,null,null,null,{"$f":"IF('IMPORTED DATA'!G391=\"\",\"\",'IMPORTED DATA'!G391)","v":""},null,{"$f":"IF('IMPORTED DATA'!H391=\"\",\"\",'IMPORTED DATA'!H391)","v":""},null,null,null,null,null,{"$f":"IF('IMPORTED DATA'!I391=\"\",\"\",'IMPORTED DATA'!I391)","v":""},null,null,{"$f":"IF('IMPORTED DATA'!J391=\"\",\"\",'IMPORTED DATA'!J391)","v":""},null,{"$f":"IF('IMPORTED DATA'!K391=\"\",\"\",'IMPORTED DATA'!K391)","v":""},null,null,{"$f":"IF('IMPORTED DATA'!M391=\"\",\"\",'IMPORTED DATA'!M391)","v":""},null,{"$f":"IF('IMPORTED DATA'!N391=\"\",\"\",'IMPORTED DATA'!N391)","v":""},null,{"$f":"IF('IMPORTED DATA'!O391=\"\",\"\",'IMPORTED DATA'!O391)","v":""},null,{"$f":"IF('IMPORTED DATA'!P391=\"\",\"\",'IMPORTED DATA'!R391)","v":""},null,{"$f":"IF('IMPORTED DATA'!Q391=\"\",\"\",'IMPORTED DATA'!S391)","v":""},null,{"$f":"IF('IMPORTED DATA'!T391=\"\",\"\",'IMPORTED DATA'!#REF!)","v":""},null,{"$f":"IF('IMPORTED DATA'!U391=\"\",\"\",'IMPORTED DATA'!#REF!)","v":""}]
[null,null,null,null,null,null,null,null,"Action Item",{"$f":"IF('IMPORTED DATA'!C394<>\"\",'IMPORTED DATA'!C394,IF('IMPORTED DATA'!P109<>\"\",'IMPORTED DATA'!P109,\"\"))","v":""},null,null,null,null,null,null,null,null,{"$f":"IF('IMPORTED DATA'!D394<>0,'IMPORTED DATA'!D394,\"\")","v":""},null,{"$f":"IF('IMPORTED DATA'!G392=\"\",\"\",'IMPORTED DATA'!G392)","v":""},null,{"$f":"IF('IMPORTED DATA'!H392=\"\",\"\",'IMPORTED DATA'!H392)","v":""},null,null,null,null,null,{"$f":"IF('IMPORTED DATA'!I392=\"\",\"\",'IMPORTED DATA'!I392)","v":""},null,null,{"$f":"IF('IMPORTED DATA'!J392=\"\",\"\",'IMPORTED DATA'!J392)","v":""},null,{"$f":"IF('IMPORTED DATA'!K392=\"\",\"\",'IMPORTED DATA'!K392)","v":""},null,null,{"$f":"IF('IMPORTED DATA'!M392=\"\",\"\",'IMPORTED DATA'!M392)","v":""},null,{"$f":"IF('IMPORTED DATA'!N392=\"\",\"\",'IMPORTED DATA'!N392)","v":""},null,{"$f":"IF('IMPORTED DATA'!O392=\"\",\"\",'IMPORTED DATA'!O392)","v":""},null,{"$f":"IF('IMPORTED DATA'!P392=\"\",\"\",'IMPORTED DATA'!R392)","v":""},null,{"$f":"IF('IMPORTED DATA'!Q392=\"\",\"\",'IMPORTED DATA'!S392)","v":""},null,{"$f":"IF('IMPORTED DATA'!T392=\"\",\"\",'IMPORTED DATA'!#REF!)","v":""},null,{"$f":"IF('IMPORTED DATA'!U392=\"\",\"\",'IMPORTED DATA'!#REF!)","v":""}]
[null,null,null,null,null,null,null,null,null,null,null,null,null,null,null,null,null,null,null,null,{"$f":"IF('IMPORTED DATA'!G393=\"\",\"\",'IMPORTED DATA'!G393)","v":""},null,{"$f":"IF('IMPORTED DATA'!H393=\"\",\"\",'IMPORTED DATA'!H393)","v":""},null,null,null,null,null,{"$f":"IF('IMPORTED DATA'!I393=\"\",\"\",'IMPORTED DATA'!I393)","v":""},null,null,{"$f":"IF('IMPORTED DATA'!J393=\"\",\"\",'IMPORTED DATA'!J393)","v":""},null,{"$f":"IF('IMPORTED DATA'!K393=\"\",\"\",'IMPORTED DATA'!K393)","v":""},null,null,{"$f":"IF('IMPORTED DATA'!M393=\"\",\"\",'IMPORTED DATA'!M393)","v":""},null,{"$f":"IF('IMPORTED DATA'!N393=\"\",\"\",'IMPORTED DATA'!N393)","v":""},null,{"$f":"IF('IMPORTED DATA'!O393=\"\",\"\",'IMPORTED DATA'!O393)","v":""},null,{"$f":"IF('IMPORTED DATA'!P393=\"\",\"\",'IMPORTED DATA'!R393)","v":""},null,{"$f":"IF('IMPORTED DATA'!Q393=\"\",\"\",'IMPORTED DATA'!S393)","v":""},null,{"$f":"IF('IMPORTED DATA'!T393=\"\",\"\",'IMPORTED DATA'!#REF!)","v":""},null,{"$f":"IF('IMPORTED DATA'!U393=\"\",\"\",'IMPORTED DATA'!#REF!)","v":""}]
[null,null,null,null,null,null,null,null,null,null,null,null,null,null,null,null,null,null,null,null,{"$f":"IF('IMPORTED DATA'!G394=\"\",\"\",'IMPORTED DATA'!G394)","v":""},null,{"$f":"IF('IMPORTED DATA'!H394=\"\",\"\",'IMPORTED DATA'!H394)","v":""},null,null,null,null,null,{"$f":"IF('IMPORTED DATA'!I394=\"\",\"\",'IMPORTED DATA'!I394)","v":""},null,null,{"$f":"IF('IMPORTED DATA'!J394=\"\",\"\",'IMPORTED DATA'!J394)","v":""},null,{"$f":"IF('IMPORTED DATA'!K394=\"\",\"\",'IMPORTED DATA'!K394)","v":""},null,null,{"$f":"IF('IMPORTED DATA'!M394=\"\",\"\",'IMPORTED DATA'!M394)","v":""},null,{"$f":"IF('IMPORTED DATA'!N394=\"\",\"\",'IMPORTED DATA'!N394)","v":""},null,{"$f":"IF('IMPORTED DATA'!O394=\"\",\"\",'IMPORTED DATA'!O394)","v":""},null,{"$f":"IF('IMPORTED DATA'!P394=\"\",\"\",'IMPORTED DATA'!R394)","v":""},null,{"$f":"IF('IMPORTED DATA'!Q394=\"\",\"\",'IMPORTED DATA'!S394)","v":""},null,{"$f":"IF('IMPORTED DATA'!T394=\"\",\"\",'IMPORTED DATA'!#REF!)","v":""},null,{"$f":"IF('IMPORTED DATA'!U394=\"\",\"\",'IMPORTED DATA'!#REF!)","v":""}]
[null,null,null,null,null,null,null,null,"Action Item",{"$f":"IF('IMPORTED DATA'!C395<>\"\",'IMPORTED DATA'!C395,IF('IMPORTED DATA'!P110<>\"\",'IMPORTED DATA'!P110,\"\"))","v":""},null,null,null,null,null,null,null,null,{"$f":"IF('IMPORTED DATA'!D395<>0,'IMPORTED DATA'!D395,\"\")","v":""},null,{"$f":"IF('IMPORTED DATA'!G395=\"\",\"\",'IMPORTED DATA'!G395)","v":""},null,{"$f":"IF('IMPORTED DATA'!H395=\"\",\"\",'IMPORTED DATA'!H395)","v":""},null,null,null,null,null,{"$f":"IF('IMPORTED DATA'!I395=\"\",\"\",'IMPORTED DATA'!I395)","v":""},null,null,{"$f":"IF('IMPORTED DATA'!J395=\"\",\"\",'IMPORTED DATA'!J395)","v":""},null,{"$f":"IF('IMPORTED DATA'!K395=\"\",\"\",'IMPORTED DATA'!K395)","v":""},null,null,{"$f":"IF('IMPORTED DATA'!M395=\"\",\"\",'IMPORTED DATA'!M395)","v":""},null,{"$f":"IF('IMPORTED DATA'!N395=\"\",\"\",'IMPORTED DATA'!N395)","v":""},null,{"$f":"IF('IMPORTED DATA'!O395=\"\",\"\",'IMPORTED DATA'!O395)","v":""},null,{"$f":"IF('IMPORTED DATA'!P395=\"\",\"\",'IMPORTED DATA'!R395)","v":""},null,{"$f":"IF('IMPORTED DATA'!Q395=\"\",\"\",'IMPORTED DATA'!S395)","v":""},null,{"$f":"IF('IMPORTED DATA'!T395=\"\",\"\",'IMPORTED DATA'!#REF!)","v":""},null,{"$f":"IF('IMPORTED DATA'!U395=\"\",\"\",'IMPORTED DATA'!#REF!)","v":""}]
[null,null,null,null,null,null,null,null,null,null,null,null,null,null,null,null,null,null,null,null,{"$f":"IF('IMPORTED DATA'!G396=\"\",\"\",'IMPORTED DATA'!G396)","v":""},null,{"$f":"IF('IMPORTED DATA'!H396=\"\",\"\",'IMPORTED DATA'!H396)","v":""},null,null,null,null,null,{"$f":"IF('IMPORTED DATA'!I396=\"\",\"\",'IMPORTED DATA'!I396)","v":""},null,null,{"$f":"IF('IMPORTED DATA'!J396=\"\",\"\",'IMPORTED DATA'!J396)","v":""},null,{"$f":"IF('IMPORTED DATA'!K396=\"\",\"\",'IMPORTED DATA'!K396)","v":""},null,null,{"$f":"IF('IMPORTED DATA'!M396=\"\",\"\",'IMPORTED DATA'!M396)","v":""},null,{"$f":"IF('IMPORTED DATA'!N396=\"\",\"\",'IMPORTED DATA'!N396)","v":""},null,{"$f":"IF('IMPORTED DATA'!O396=\"\",\"\",'IMPORTED DATA'!O396)","v":""},null,{"$f":"IF('IMPORTED DATA'!P396=\"\",\"\",'IMPORTED DATA'!R396)","v":""},null,{"$f":"IF('IMPORTED DATA'!Q396=\"\",\"\",'IMPORTED DATA'!S396)","v":""},null,{"$f":"IF('IMPORTED DATA'!T396=\"\",\"\",'IMPORTED DATA'!#REF!)","v":""},null,{"$f":"IF('IMPORTED DATA'!U396=\"\",\"\",'IMPORTED DATA'!#REF!)","v":""}]
[null,null,null,null,null,null,null,null,null,null,null,null,null,null,null,null,null,null,null,null,{"$f":"IF('IMPORTED DATA'!G397=\"\",\"\",'IMPORTED DATA'!G397)","v":""},null,{"$f":"IF('IMPORTED DATA'!H397=\"\",\"\",'IMPORTED DATA'!H397)","v":""},null,null,null,null,null,{"$f":"IF('IMPORTED DATA'!I397=\"\",\"\",'IMPORTED DATA'!I397)","v":""},null,null,{"$f":"IF('IMPORTED DATA'!J397=\"\",\"\",'IMPORTED DATA'!J397)","v":""},null,{"$f":"IF('IMPORTED DATA'!K397=\"\",\"\",'IMPORTED DATA'!K397)","v":""},null,null,{"$f":"IF('IMPORTED DATA'!M397=\"\",\"\",'IMPORTED DATA'!M397)","v":""},null,{"$f":"IF('IMPORTED DATA'!N397=\"\",\"\",'IMPORTED DATA'!N397)","v":""},null,{"$f":"IF('IMPORTED DATA'!O397=\"\",\"\",'IMPORTED DATA'!O397)","v":""},null,{"$f":"IF('IMPORTED DATA'!P397=\"\",\"\",'IMPORTED DATA'!R397)","v":""},null,{"$f":"IF('IMPORTED DATA'!Q397=\"\",\"\",'IMPORTED DATA'!S397)","v":""},null,{"$f":"IF('IMPORTED DATA'!T397=\"\",\"\",'IMPORTED DATA'!#REF!)","v":""},null,{"$f":"IF('IMPORTED DATA'!U397=\"\",\"\",'IMPORTED DATA'!#REF!)","v":""}]
[null,null,null,null,null,null,null,null,"Action Item",{"$f":"IF('IMPORTED DATA'!C396<>\"\",'IMPORTED DATA'!C396,IF('IMPORTED DATA'!P111<>\"\",'IMPORTED DATA'!P111,\"\"))","v":""},null,null,null,null,null,null,null,null,{"$f":"IF('IMPORTED DATA'!D396<>0,'IMPORTED DATA'!D396,\"\")","v":""},null,{"$f":"IF('IMPORTED DATA'!G398=\"\",\"\",'IMPORTED DATA'!G398)","v":""},null,{"$f":"IF('IMPORTED DATA'!H398=\"\",\"\",'IMPORTED DATA'!H398)","v":""},null,null,null,null,null,{"$f":"IF('IMPORTED DATA'!I398=\"\",\"\",'IMPORTED DATA'!I398)","v":""},null,null,{"$f":"IF('IMPORTED DATA'!J398=\"\",\"\",'IMPORTED DATA'!J398)","v":""},null,{"$f":"IF('IMPORTED DATA'!K398=\"\",\"\",'IMPORTED DATA'!K398)","v":""},null,null,{"$f":"IF('IMPORTED DATA'!M398=\"\",\"\",'IMPORTED DATA'!M398)","v":""},null,{"$f":"IF('IMPORTED DATA'!N398=\"\",\"\",'IMPORTED DATA'!N398)","v":""},null,{"$f":"IF('IMPORTED DATA'!O398=\"\",\"\",'IMPORTED DATA'!O398)","v":""},null,{"$f":"IF('IMPORTED DATA'!P398=\"\",\"\",'IMPORTED DATA'!R398)","v":""},null,{"$f":"IF('IMPORTED DATA'!Q398=\"\",\"\",'IMPORTED DATA'!S398)","v":""},null,{"$f":"IF('IMPORTED DATA'!T398=\"\",\"\",'IMPORTED DATA'!#REF!)","v":""},null,{"$f":"IF('IMPORTED DATA'!U398=\"\",\"\",'IMPORTED DATA'!#REF!)","v":""}]
[null,null,null,null,null,null,null,null,null,null,null,null,null,null,null,null,null,null,null,null,{"$f":"IF('IMPORTED DATA'!G399=\"\",\"\",'IMPORTED DATA'!G399)","v":""},null,{"$f":"IF('IMPORTED DATA'!H399=\"\",\"\",'IMPORTED DATA'!H399)","v":""},null,null,null,null,null,{"$f":"IF('IMPORTED DATA'!I399=\"\",\"\",'IMPORTED DATA'!I399)","v":""},null,null,{"$f":"IF('IMPORTED DATA'!J399=\"\",\"\",'IMPORTED DATA'!J399)","v":""},null,{"$f":"IF('IMPORTED DATA'!K399=\"\",\"\",'IMPORTED DATA'!K399)","v":""},null,null,{"$f":"IF('IMPORTED DATA'!M399=\"\",\"\",'IMPORTED DATA'!M399)","v":""},null,{"$f":"IF('IMPORTED DATA'!N399=\"\",\"\",'IMPORTED DATA'!N399)","v":""},null,{"$f":"IF('IMPORTED DATA'!O399=\"\",\"\",'IMPORTED DATA'!O399)","v":""},null,{"$f":"IF('IMPORTED DATA'!P399=\"\",\"\",'IMPORTED DATA'!R399)","v":""},null,{"$f":"IF('IMPORTED DATA'!Q399=\"\",\"\",'IMPORTED DATA'!S399)","v":""},null,{"$f":"IF('IMPORTED DATA'!T399=\"\",\"\",'IMPORTED DATA'!#REF!)","v":""},null,{"$f":"IF('IMPORTED DATA'!U399=\"\",\"\",'IMPORTED DATA'!#REF!)","v":""}]
[null,null,null,null,null,null,null,null,null,null,null,null,null,null,null,null,null,null,null,null,{"$f":"IF('IMPORTED DATA'!G400=\"\",\"\",'IMPORTED DATA'!G400)","v":""},null,{"$f":"IF('IMPORTED DATA'!H400=\"\",\"\",'IMPORTED DATA'!H400)","v":""},null,null,null,null,null,{"$f":"IF('IMPORTED DATA'!I400=\"\",\"\",'IMPORTED DATA'!I400)","v":""},null,null,{"$f":"IF('IMPORTED DATA'!J400=\"\",\"\",'IMPORTED DATA'!J400)","v":""},null,{"$f":"IF('IMPORTED DATA'!K400=\"\",\"\",'IMPORTED DATA'!K400)","v":""},null,null,{"$f":"IF('IMPORTED DATA'!M400=\"\",\"\",'IMPORTED DATA'!M400)","v":""},null,{"$f":"IF('IMPORTED DATA'!N400=\"\",\"\",'IMPORTED DATA'!N400)","v":""},null,{"$f":"IF('IMPORTED DATA'!O400=\"\",\"\",'IMPORTED DATA'!O400)","v":""},null,{"$f":"IF('IMPORTED DATA'!P400=\"\",\"\",'IMPORTED DATA'!R400)","v":""},null,{"$f":"IF('IMPORTED DATA'!Q400=\"\",\"\",'IMPORTED DATA'!S400)","v":""},null,{"$f":"IF('IMPORTED DATA'!T400=\"\",\"\",'IMPORTED DATA'!#REF!)","v":""},null,{"$f":"IF('IMPORTED DATA'!U400=\"\",\"\",'IMPORTED DATA'!#REF!)","v":""}]
[null,null,null,null,null,null,null,null,"Action Item",{"$f":"IF('IMPORTED DATA'!C397<>\"\",'IMPORTED DATA'!C397,IF('IMPORTED DATA'!P112<>\"\",'IMPORTED DATA'!P112,\"\"))","v":""},null,null,null,null,null,null,null,null,{"$f":"IF('IMPORTED DATA'!D397<>0,'IMPORTED DATA'!D397,\"\")","v":""},null,{"$f":"IF('IMPORTED DATA'!G401=\"\",\"\",'IMPORTED DATA'!G401)","v":""},null,{"$f":"IF('IMPORTED DATA'!H401=\"\",\"\",'IMPORTED DATA'!H401)","v":""},null,null,null,null,null,{"$f":"IF('IMPORTED DATA'!I401=\"\",\"\",'IMPORTED DATA'!I401)","v":""},null,null,{"$f":"IF('IMPORTED DATA'!J401=\"\",\"\",'IMPORTED DATA'!J401)","v":""},null,{"$f":"IF('IMPORTED DATA'!K401=\"\",\"\",'IMPORTED DATA'!K401)","v":""},null,null,{"$f":"IF('IMPORTED DATA'!M401=\"\",\"\",'IMPORTED DATA'!M401)","v":""},null,{"$f":"IF('IMPORTED DATA'!N401=\"\",\"\",'IMPORTED DATA'!N401)","v":""},null,{"$f":"IF('IMPORTED DATA'!O401=\"\",\"\",'IMPORTED DATA'!O401)","v":""},null,{"$f":"IF('IMPORTED DATA'!P401=\"\",\"\",'IMPORTED DATA'!R401)","v":""},null,{"$f":"IF('IMPORTED DATA'!Q401=\"\",\"\",'IMPORTED DATA'!S401)","v":""},null,{"$f":"IF('IMPORTED DATA'!T401=\"\",\"\",'IMPORTED DATA'!#REF!)","v":""},null,{"$f":"IF('IMPORTED DATA'!U401=\"\",\"\",'IMPORTED DATA'!#REF!)","v":""}]
[null,null,null,null,null,null,null,null,null,null,null,null,null,null,null,null,null,null,null,null,{"$f":"IF('IMPORTED DATA'!G402=\"\",\"\",'IMPORTED DATA'!G402)","v":""},null,{"$f":"IF('IMPORTED DATA'!H402=\"\",\"\",'IMPORTED DATA'!H402)","v":""},null,null,null,null,null,{"$f":"IF('IMPORTED DATA'!I402=\"\",\"\",'IMPORTED DATA'!I402)","v":""},null,null,{"$f":"IF('IMPORTED DATA'!J402=\"\",\"\",'IMPORTED DATA'!J402)","v":""},null,{"$f":"IF('IMPORTED DATA'!K402=\"\",\"\",'IMPORTED DATA'!K402)","v":""},null,null,{"$f":"IF('IMPORTED DATA'!M402=\"\",\"\",'IMPORTED DATA'!M402)","v":""},null,{"$f":"IF('IMPORTED DATA'!N402=\"\",\"\",'IMPORTED DATA'!N402)","v":""},null,{"$f":"IF('IMPORTED DATA'!O402=\"\",\"\",'IMPORTED DATA'!O402)","v":""},null,{"$f":"IF('IMPORTED DATA'!P402=\"\",\"\",'IMPORTED DATA'!R402)","v":""},null,{"$f":"IF('IMPORTED DATA'!Q402=\"\",\"\",'IMPORTED DATA'!S402)","v":""},null,{"$f":"IF('IMPORTED DATA'!T402=\"\",\"\",'IMPORTED DATA'!#REF!)","v":""},null,{"$f":"IF('IMPORTED DATA'!U402=\"\",\"\",'IMPORTED DATA'!#REF!)","v":""}]
[null,null,null,null,null,null,null,null,null,null,null,null,null,null,null,null,null,null,null,null,{"$f":"IF('IMPORTED DATA'!G403=\"\",\"\",'IMPORTED DATA'!G403)","v":""},null,{"$f":"IF('IMPORTED DATA'!H403=\"\",\"\",'IMPORTED DATA'!H403)","v":""},null,null,null,null,null,{"$f":"IF('IMPORTED DATA'!I403=\"\",\"\",'IMPORTED DATA'!I403)","v":""},null,null,{"$f":"IF('IMPORTED DATA'!J403=\"\",\"\",'IMPORTED DATA'!J403)","v":""},null,{"$f":"IF('IMPORTED DATA'!K403=\"\",\"\",'IMPORTED DATA'!K403)","v":""},null,null,{"$f":"IF('IMPORTED DATA'!M403=\"\",\"\",'IMPORTED DATA'!M403)","v":""},null,{"$f":"IF('IMPORTED DATA'!N403=\"\",\"\",'IMPORTED DATA'!N403)","v":""},null,{"$f":"IF('IMPORTED DATA'!O403=\"\",\"\",'IMPORTED DATA'!O403)","v":""},null,{"$f":"IF('IMPORTED DATA'!P403=\"\",\"\",'IMPORTED DATA'!R403)","v":""},null,{"$f":"IF('IMPORTED DATA'!Q403=\"\",\"\",'IMPORTED DATA'!S403)","v":""},null,{"$f":"IF('IMPORTED DATA'!T403=\"\",\"\",'IMPORTED DATA'!#REF!)","v":""},null,{"$f":"IF('IMPORTED DATA'!U403=\"\",\"\",'IMPORTED DATA'!#REF!)","v":""}]
[null,null,null,null,null,null,null,null,"Action Item",{"$f":"IF('IMPORTED DATA'!C398<>\"\",'IMPORTED DATA'!C398,IF('IMPORTED DATA'!P113<>\"\",'IMPORTED DATA'!P113,\"\"))","v":""},null,null,null,null,null,null,null,null,{"$f":"IF('IMPORTED DATA'!D398<>0,'IMPORTED DATA'!D398,\"\")","v":""},null,{"$f":"IF('IMPORTED DATA'!G404=\"\",\"\",'IMPORTED DATA'!G404)","v":""},null,{"$f":"IF('IMPORTED DATA'!H404=\"\",\"\",'IMPORTED DATA'!H404)","v":""},null,null,null,null,null,{"$f":"IF('IMPORTED DATA'!I404=\"\",\"\",'IMPORTED DATA'!I404)","v":""},null,null,{"$f":"IF('IMPORTED DATA'!J404=\"\",\"\",'IMPORTED DATA'!J404)","v":""},null,{"$f":"IF('IMPORTED DATA'!K404=\"\",\"\",'IMPORTED DATA'!K404)","v":""},null,null,{"$f":"IF('IMPORTED DATA'!M404=\"\",\"\",'IMPORTED DATA'!M404)","v":""},null,{"$f":"IF('IMPORTED DATA'!N404=\"\",\"\",'IMPORTED DATA'!N404)","v":""},null,{"$f":"IF('IMPORTED DATA'!O404=\"\",\"\",'IMPORTED DATA'!O404)","v":""},null,{"$f":"IF('IMPORTED DATA'!P404=\"\",\"\",'IMPORTED DATA'!R404)","v":""},null,{"$f":"IF('IMPORTED DATA'!Q404=\"\",\"\",'IMPORTED DATA'!S404)","v":""},null,{"$f":"IF('IMPORTED DATA'!T404=\"\",\"\",'IMPORTED DATA'!#REF!)","v":""},null,{"$f":"IF('IMPORTED DATA'!U404=\"\",\"\",'IMPORTED DATA'!#REF!)","v":""}]
[null,null,null,null,null,null,null,null,null,null,null,null,null,null,null,null,null,null,null,null,{"$f":"IF('IMPORTED DATA'!G405=\"\",\"\",'IMPORTED DATA'!G405)","v":""},null,{"$f":"IF('IMPORTED DATA'!H405=\"\",\"\",'IMPORTED DATA'!H405)","v":""},null,null,null,null,null,{"$f":"IF('IMPORTED DATA'!I405=\"\",\"\",'IMPORTED DATA'!I405)","v":""},null,null,{"$f":"IF('IMPORTED DATA'!J405=\"\",\"\",'IMPORTED DATA'!J405)","v":""},null,{"$f":"IF('IMPORTED DATA'!K405=\"\",\"\",'IMPORTED DATA'!K405)","v":""},null,null,{"$f":"IF('IMPORTED DATA'!M405=\"\",\"\",'IMPORTED DATA'!M405)","v":""},null,{"$f":"IF('IMPORTED DATA'!N405=\"\",\"\",'IMPORTED DATA'!N405)","v":""},null,{"$f":"IF('IMPORTED DATA'!O405=\"\",\"\",'IMPORTED DATA'!O405)","v":""},null,{"$f":"IF('IMPORTED DATA'!P405=\"\",\"\",'IMPORTED DATA'!R405)","v":""},null,{"$f":"IF('IMPORTED DATA'!Q405=\"\",\"\",'IMPORTED DATA'!S405)","v":""},null,{"$f":"IF('IMPORTED DATA'!T405=\"\",\"\",'IMPORTED DATA'!#REF!)","v":""},null,{"$f":"IF('IMPORTED DATA'!U405=\"\",\"\",'IMPORTED DATA'!#REF!)","v":""}]
[null,null,null,null,null,null,null,null,null,null,null,null,null,null,null,null,null,null,null,null,{"$f":"IF('IMPORTED DATA'!G406=\"\",\"\",'IMPORTED DATA'!G406)","v":""},null,{"$f":"IF('IMPORTED DATA'!H406=\"\",\"\",'IMPORTED DATA'!H406)","v":""},null,null,null,null,null,{"$f":"IF('IMPORTED DATA'!I406=\"\",\"\",'IMPORTED DATA'!I406)","v":""},null,null,{"$f":"IF('IMPORTED DATA'!J406=\"\",\"\",'IMPORTED DATA'!J406)","v":""},null,{"$f":"IF('IMPORTED DATA'!K406=\"\",\"\",'IMPORTED DATA'!K406)","v":""},null,null,{"$f":"IF('IMPORTED DATA'!M406=\"\",\"\",'IMPORTED DATA'!M406)","v":""},null,{"$f":"IF('IMPORTED DATA'!N406=\"\",\"\",'IMPORTED DATA'!N406)","v":""},null,{"$f":"IF('IMPORTED DATA'!O406=\"\",\"\",'IMPORTED DATA'!O406)","v":""},null,{"$f":"IF('IMPORTED DATA'!P406=\"\",\"\",'IMPORTED DATA'!R406)","v":""},null,{"$f":"IF('IMPORTED DATA'!Q406=\"\",\"\",'IMPORTED DATA'!S406)","v":""},null,{"$f":"IF('IMPORTED DATA'!T406=\"\",\"\",'IMPORTED DATA'!#REF!)","v":""},null,{"$f":"IF('IMPORTED DATA'!U406=\"\",\"\",'IMPORTED DATA'!#REF!)","v":""}]
[null,null,null,null,null,null,"Strategic Element",null,null,null,null,null,null,null,null,null,null,null,"Include",null,{"$f":"IF('IMPORTED DATA'!G407=\"\",\"\",'IMPORTED DATA'!G407)","v":""},null,{"$f":"IF('IMPORTED DATA'!H407=\"\",\"\",'IMPORTED DATA'!H407)","v":""},null,null,null,null,null,{"$f":"IF('IMPORTED DATA'!I407=\"\",\"\",'IMPORTED DATA'!I407)","v":""},null,null,{"$f":"IF('IMPORTED DATA'!J407=\"\",\"\",'IMPORTED DATA'!J407)","v":""},null,{"$f":"IF('IMPORTED DATA'!K407=\"\",\"\",'IMPORTED DATA'!K407)","v":""},null,null,{"$f":"IF('IMPORTED DATA'!M407=\"\",\"\",'IMPORTED DATA'!M407)","v":""},null,{"$f":"IF('IMPORTED DATA'!N407=\"\",\"\",'IMPORTED DATA'!N407)","v":""},null,{"$f":"IF('IMPORTED DATA'!O407=\"\",\"\",'IMPORTED DATA'!O407)","v":""},null,{"$f":"IF('IMPORTED DATA'!P407=\"\",\"\",'IMPORTED DATA'!R407)","v":""},null,{"$f":"IF('IMPORTED DATA'!Q407=\"\",\"\",'IMPORTED DATA'!S407)","v":""},null,{"$f":"IF('IMPORTED DATA'!T407=\"\",\"\",'IMPORTED DATA'!#REF!)","v":""},null,{"$f":"IF('IMPORTED DATA'!U407=\"\",\"\",'IMPORTED DATA'!#REF!)","v":""}]
[null,null,null,null,null,null,"Objective",{"$f":"IF('IMPORTED DATA'!C399<>\"\",'IMPORTED DATA'!C399,IF('IMPORTED DATA'!P114<>\"\",'IMPORTED DATA'!P114,\"\"))","v":""},null,null,null,null,null,null,null,null,null,null,{"$f":"IF('IMPORTED DATA'!D399<>0,'IMPORTED DATA'!D399,\"\")","v":""},null,{"$f":"IF('IMPORTED DATA'!G408=\"\",\"\",'IMPORTED DATA'!G408)","v":""},null,{"$f":"IF('IMPORTED DATA'!H408=\"\",\"\",'IMPORTED DATA'!H408)","v":""},null,null,null,null,null,{"$f":"IF('IMPORTED DATA'!I408=\"\",\"\",'IMPORTED DATA'!I408)","v":""},null,null,{"$f":"IF('IMPORTED DATA'!J408=\"\",\"\",'IMPORTED DATA'!J408)","v":""},null,{"$f":"IF('IMPORTED DATA'!K408=\"\",\"\",'IMPORTED DATA'!K408)","v":""},null,null,{"$f":"IF('IMPORTED DATA'!M408=\"\",\"\",'IMPORTED DATA'!M408)","v":""},null,{"$f":"IF('IMPORTED DATA'!N408=\"\",\"\",'IMPORTED DATA'!N408)","v":""},null,{"$f":"IF('IMPORTED DATA'!O408=\"\",\"\",'IMPORTED DATA'!O408)","v":""},null,{"$f":"IF('IMPORTED DATA'!P408=\"\",\"\",'IMPORTED DATA'!R408)","v":""},null,{"$f":"IF('IMPORTED DATA'!Q408=\"\",\"\",'IMPORTED DATA'!S408)","v":""},null,{"$f":"IF('IMPORTED DATA'!T408=\"\",\"\",'IMPORTED DATA'!#REF!)","v":""},null,{"$f":"IF('IMPORTED DATA'!U408=\"\",\"\",'IMPORTED DATA'!#REF!)","v":""}]
[null,null,null,null,null,null,null,null,null,null,null,null,null,null,null,null,null,null,null,null,{"$f":"IF('IMPORTED DATA'!G409=\"\",\"\",'IMPORTED DATA'!G409)","v":""},null,{"$f":"IF('IMPORTED DATA'!H409=\"\",\"\",'IMPORTED DATA'!H409)","v":""},null,null,null,null,null,{"$f":"IF('IMPORTED DATA'!I409=\"\",\"\",'IMPORTED DATA'!I409)","v":""},null,null,{"$f":"IF('IMPORTED DATA'!J409=\"\",\"\",'IMPORTED DATA'!J409)","v":""},null,{"$f":"IF('IMPORTED DATA'!K409=\"\",\"\",'IMPORTED DATA'!K409)","v":""},null,null,{"$f":"IF('IMPORTED DATA'!M409=\"\",\"\",'IMPORTED DATA'!M409)","v":""},null,{"$f":"IF('IMPORTED DATA'!N409=\"\",\"\",'IMPORTED DATA'!N409)","v":""},null,{"$f":"IF('IMPORTED DATA'!O409=\"\",\"\",'IMPORTED DATA'!O409)","v":""},null,{"$f":"IF('IMPORTED DATA'!P409=\"\",\"\",'IMPORTED DATA'!R409)","v":""},null,{"$f":"IF('IMPORTED DATA'!Q409=\"\",\"\",'IMPORTED DATA'!S409)","v":""},null,{"$f":"IF('IMPORTED DATA'!T409=\"\",\"\",'IMPORTED DATA'!#REF!)","v":""},null,{"$f":"IF('IMPORTED DATA'!U409=\"\",\"\",'IMPORTED DATA'!#REF!)","v":""}]
[null,null,null,null,null,null,null,null,null,null,null,null,null,null,null,null,null,null,null,null,{"$f":"IF('IMPORTED DATA'!G410=\"\",\"\",'IMPORTED DATA'!G410)","v":""},null,{"$f":"IF('IMPORTED DATA'!H410=\"\",\"\",'IMPORTED DATA'!H410)","v":""},null,null,null,null,null,{"$f":"IF('IMPORTED DATA'!I410=\"\",\"\",'IMPORTED DATA'!I410)","v":""},null,null,{"$f":"IF('IMPORTED DATA'!J410=\"\",\"\",'IMPORTED DATA'!J410)","v":""},null,{"$f":"IF('IMPORTED DATA'!K410=\"\",\"\",'IMPORTED DATA'!K410)","v":""},null,null,{"$f":"IF('IMPORTED DATA'!M410=\"\",\"\",'IMPORTED DATA'!M410)","v":""},null,{"$f":"IF('IMPORTED DATA'!N410=\"\",\"\",'IMPORTED DATA'!N410)","v":""},null,{"$f":"IF('IMPORTED DATA'!O410=\"\",\"\",'IMPORTED DATA'!O410)","v":""},null,{"$f":"IF('IMPORTED DATA'!P410=\"\",\"\",'IMPORTED DATA'!R410)","v":""},null,{"$f":"IF('IMPORTED DATA'!Q410=\"\",\"\",'IMPORTED DATA'!S410)","v":""},null,{"$f":"IF('IMPORTED DATA'!T410=\"\",\"\",'IMPORTED DATA'!#REF!)","v":""},null,{"$f":"IF('IMPORTED DATA'!U410=\"\",\"\",'IMPORTED DATA'!#REF!)","v":""}]
[null,null,null,null,null,null,null,null,"Action Item",{"$f":"IF('IMPORTED DATA'!C400<>\"\",'IMPORTED DATA'!C400,IF('IMPORTED DATA'!P115<>\"\",'IMPORTED DATA'!P115,\"\"))","v":""},null,null,null,null,null,null,null,null,{"$f":"IF('IMPORTED DATA'!D400<>0,'IMPORTED DATA'!D400,\"\")","v":""},null,{"$f":"IF('IMPORTED DATA'!G411=\"\",\"\",'IMPORTED DATA'!G411)","v":""},null,{"$f":"IF('IMPORTED DATA'!H411=\"\",\"\",'IMPORTED DATA'!H411)","v":""},null,null,null,null,null,{"$f":"IF('IMPORTED DATA'!I411=\"\",\"\",'IMPORTED DATA'!I411)","v":""},null,null,{"$f":"IF('IMPORTED DATA'!J411=\"\",\"\",'IMPORTED DATA'!J411)","v":""},null,{"$f":"IF('IMPORTED DATA'!K411=\"\",\"\",'IMPORTED DATA'!K411)","v":""},null,null,{"$f":"IF('IMPORTED DATA'!M411=\"\",\"\",'IMPORTED DATA'!M411)","v":""},null,{"$f":"IF('IMPORTED DATA'!N411=\"\",\"\",'IMPORTED DATA'!N411)","v":""},null,{"$f":"IF('IMPORTED DATA'!O411=\"\",\"\",'IMPORTED DATA'!O411)","v":""},null,{"$f":"IF('IMPORTED DATA'!P411=\"\",\"\",'IMPORTED DATA'!R411)","v":""},null,{"$f":"IF('IMPORTED DATA'!Q411=\"\",\"\",'IMPORTED DATA'!S411)","v":""},null,{"$f":"IF('IMPORTED DATA'!T411=\"\",\"\",'IMPORTED DATA'!#REF!)","v":""},null,{"$f":"IF('IMPORTED DATA'!U411=\"\",\"\",'IMPORTED DATA'!#REF!)","v":""}]
[null,null,null,null,null,null,null,null,null,null,null,null,null,null,null,null,null,null,null,null,{"$f":"IF('IMPORTED DATA'!G412=\"\",\"\",'IMPORTED DATA'!G412)","v":""},null,{"$f":"IF('IMPORTED DATA'!H412=\"\",\"\",'IMPORTED DATA'!H412)","v":""},null,null,null,null,null,{"$f":"IF('IMPORTED DATA'!I412=\"\",\"\",'IMPORTED DATA'!I412)","v":""},null,null,{"$f":"IF('IMPORTED DATA'!J412=\"\",\"\",'IMPORTED DATA'!J412)","v":""},null,{"$f":"IF('IMPORTED DATA'!K412=\"\",\"\",'IMPORTED DATA'!K412)","v":""},null,null,{"$f":"IF('IMPORTED DATA'!M412=\"\",\"\",'IMPORTED DATA'!M412)","v":""},null,{"$f":"IF('IMPORTED DATA'!N412=\"\",\"\",'IMPORTED DATA'!N412)","v":""},null,{"$f":"IF('IMPORTED DATA'!O412=\"\",\"\",'IMPORTED DATA'!O412)","v":""},null,{"$f":"IF('IMPORTED DATA'!P412=\"\",\"\",'IMPORTED DATA'!R412)","v":""},null,{"$f":"IF('IMPORTED DATA'!Q412=\"\",\"\",'IMPORTED DATA'!S412)","v":""},null,{"$f":"IF('IMPORTED DATA'!T412=\"\",\"\",'IMPORTED DATA'!#REF!)","v":""},null,{"$f":"IF('IMPORTED DATA'!U412=\"\",\"\",'IMPORTED DATA'!#REF!)","v":""}]
[null,null,null,null,null,null,null,null,null,null,null,null,null,null,null,null,null,null,null,null,{"$f":"IF('IMPORTED DATA'!G413=\"\",\"\",'IMPORTED DATA'!G413)","v":""},null,{"$f":"IF('IMPORTED DATA'!H413=\"\",\"\",'IMPORTED DATA'!H413)","v":""},null,null,null,null,null,{"$f":"IF('IMPORTED DATA'!I413=\"\",\"\",'IMPORTED DATA'!I413)","v":""},null,null,{"$f":"IF('IMPORTED DATA'!J413=\"\",\"\",'IMPORTED DATA'!J413)","v":""},null,{"$f":"IF('IMPORTED DATA'!K413=\"\",\"\",'IMPORTED DATA'!K413)","v":""},null,null,{"$f":"IF('IMPORTED DATA'!M413=\"\",\"\",'IMPORTED DATA'!M413)","v":""},null,{"$f":"IF('IMPORTED DATA'!N413=\"\",\"\",'IMPORTED DATA'!N413)","v":""},null,{"$f":"IF('IMPORTED DATA'!O413=\"\",\"\",'IMPORTED DATA'!O413)","v":""},null,{"$f":"IF('IMPORTED DATA'!P413=\"\",\"\",'IMPORTED DATA'!R413)","v":""},null,{"$f":"IF('IMPORTED DATA'!Q413=\"\",\"\",'IMPORTED DATA'!S413)","v":""},null,{"$f":"IF('IMPORTED DATA'!T413=\"\",\"\",'IMPORTED DATA'!#REF!)","v":""},null,{"$f":"IF('IMPORTED DATA'!U413=\"\",\"\",'IMPORTED DATA'!#REF!)","v":""}]
[null,null,null,null,null,null,null,null,"Action Item",{"$f":"IF('IMPORTED DATA'!C401<>\"\",'IMPORTED DATA'!C401,IF('IMPORTED DATA'!P116<>\"\",'IMPORTED DATA'!P116,\"\"))","v":""},null,null,null,null,null,null,null,null,{"$f":"IF('IMPORTED DATA'!D401<>0,'IMPORTED DATA'!D401,\"\")","v":""},null,{"$f":"IF('IMPORTED DATA'!G414=\"\",\"\",'IMPORTED DATA'!G414)","v":""},null,{"$f":"IF('IMPORTED DATA'!H414=\"\",\"\",'IMPORTED DATA'!H414)","v":""},null,null,null,null,null,{"$f":"IF('IMPORTED DATA'!I414=\"\",\"\",'IMPORTED DATA'!I414)","v":""},null,null,{"$f":"IF('IMPORTED DATA'!J414=\"\",\"\",'IMPORTED DATA'!J414)","v":""},null,{"$f":"IF('IMPORTED DATA'!K414=\"\",\"\",'IMPORTED DATA'!K414)","v":""},null,null,{"$f":"IF('IMPORTED DATA'!M414=\"\",\"\",'IMPORTED DATA'!M414)","v":""},null,{"$f":"IF('IMPORTED DATA'!N414=\"\",\"\",'IMPORTED DATA'!N414)","v":""},null,{"$f":"IF('IMPORTED DATA'!O414=\"\",\"\",'IMPORTED DATA'!O414)","v":""},null,{"$f":"IF('IMPORTED DATA'!P414=\"\",\"\",'IMPORTED DATA'!R414)","v":""},null,{"$f":"IF('IMPORTED DATA'!Q414=\"\",\"\",'IMPORTED DATA'!S414)","v":""},null,{"$f":"IF('IMPORTED DATA'!T414=\"\",\"\",'IMPORTED DATA'!#REF!)","v":""},null,{"$f":"IF('IMPORTED DATA'!U414=\"\",\"\",'IMPORTED DATA'!#REF!)","v":""}]
[null,null,null,null,null,null,null,null,null,null,null,null,null,null,null,null,null,null,null,null,{"$f":"IF('IMPORTED DATA'!G415=\"\",\"\",'IMPORTED DATA'!G415)","v":""},null,{"$f":"IF('IMPORTED DATA'!H415=\"\",\"\",'IMPORTED DATA'!H415)","v":""},null,null,null,null,null,{"$f":"IF('IMPORTED DATA'!I415=\"\",\"\",'IMPORTED DATA'!I415)","v":""},null,null,{"$f":"IF('IMPORTED DATA'!J415=\"\",\"\",'IMPORTED DATA'!J415)","v":""},null,{"$f":"IF('IMPORTED DATA'!K415=\"\",\"\",'IMPORTED DATA'!K415)","v":""},null,null,{"$f":"IF('IMPORTED DATA'!M415=\"\",\"\",'IMPORTED DATA'!M415)","v":""},null,{"$f":"IF('IMPORTED DATA'!N415=\"\",\"\",'IMPORTED DATA'!N415)","v":""},null,{"$f":"IF('IMPORTED DATA'!O415=\"\",\"\",'IMPORTED DATA'!O415)","v":""},null,{"$f":"IF('IMPORTED DATA'!P415=\"\",\"\",'IMPORTED DATA'!R415)","v":""},null,{"$f":"IF('IMPORTED DATA'!Q415=\"\",\"\",'IMPORTED DATA'!S415)","v":""},null,{"$f":"IF('IMPORTED DATA'!T415=\"\",\"\",'IMPORTED DATA'!#REF!)","v":""},null,{"$f":"IF('IMPORTED DATA'!U415=\"\",\"\",'IMPORTED DATA'!#REF!)","v":""}]
[null,null,null,null,null,null,null,null,null,null,null,null,null,null,null,null,null,null,null,null,{"$f":"IF('IMPORTED DATA'!G416=\"\",\"\",'IMPORTED DATA'!G416)","v":""},null,{"$f":"IF('IMPORTED DATA'!H416=\"\",\"\",'IMPORTED DATA'!H416)","v":""},null,null,null,null,null,{"$f":"IF('IMPORTED DATA'!I416=\"\",\"\",'IMPORTED DATA'!I416)","v":""},null,null,{"$f":"IF('IMPORTED DATA'!J416=\"\",\"\",'IMPORTED DATA'!J416)","v":""},null,{"$f":"IF('IMPORTED DATA'!K416=\"\",\"\",'IMPORTED DATA'!K416)","v":""},null,null,{"$f":"IF('IMPORTED DATA'!M416=\"\",\"\",'IMPORTED DATA'!M416)","v":""},null,{"$f":"IF('IMPORTED DATA'!N416=\"\",\"\",'IMPORTED DATA'!N416)","v":""},null,{"$f":"IF('IMPORTED DATA'!O416=\"\",\"\",'IMPORTED DATA'!O416)","v":""},null,{"$f":"IF('IMPORTED DATA'!P416=\"\",\"\",'IMPORTED DATA'!R416)","v":""},null,{"$f":"IF('IMPORTED DATA'!Q416=\"\",\"\",'IMPORTED DATA'!S416)","v":""},null,{"$f":"IF('IMPORTED DATA'!T416=\"\",\"\",'IMPORTED DATA'!#REF!)","v":""},null,{"$f":"IF('IMPORTED DATA'!U416=\"\",\"\",'IMPORTED DATA'!#REF!)","v":""}]
[null,null,null,null,null,null,null,null,"Action Item",{"$f":"IF('IMPORTED DATA'!C402<>\"\",'IMPORTED DATA'!C402,IF('IMPORTED DATA'!P117<>\"\",'IMPORTED DATA'!P117,\"\"))","v":""},null,null,null,null,null,null,null,null,{"$f":"IF('IMPORTED DATA'!D402<>0,'IMPORTED DATA'!D402,\"\")","v":""},null,{"$f":"IF('IMPORTED DATA'!G417=\"\",\"\",'IMPORTED DATA'!G417)","v":""},null,{"$f":"IF('IMPORTED DATA'!H417=\"\",\"\",'IMPORTED DATA'!H417)","v":""},null,null,null,null,null,{"$f":"IF('IMPORTED DATA'!I417=\"\",\"\",'IMPORTED DATA'!I417)","v":""},null,null,{"$f":"IF('IMPORTED DATA'!J417=\"\",\"\",'IMPORTED DATA'!J417)","v":""},null,{"$f":"IF('IMPORTED DATA'!K417=\"\",\"\",'IMPORTED DATA'!K417)","v":""},null,null,{"$f":"IF('IMPORTED DATA'!M417=\"\",\"\",'IMPORTED DATA'!M417)","v":""},null,{"$f":"IF('IMPORTED DATA'!N417=\"\",\"\",'IMPORTED DATA'!N417)","v":""},null,{"$f":"IF('IMPORTED DATA'!O417=\"\",\"\",'IMPORTED DATA'!O417)","v":""},null,{"$f":"IF('IMPORTED DATA'!P417=\"\",\"\",'IMPORTED DATA'!R417)","v":""},null,{"$f":"IF('IMPORTED DATA'!Q417=\"\",\"\",'IMPORTED DATA'!S417)","v":""},null,{"$f":"IF('IMPORTED DATA'!T417=\"\",\"\",'IMPORTED DATA'!#REF!)","v":""},null,{"$f":"IF('IMPORTED DATA'!U417=\"\",\"\",'IMPORTED DATA'!#REF!)","v":""}]
[null,null,null,null,null,null,null,null,null,null,null,null,null,null,null,null,null,null,null,null,{"$f":"IF('IMPORTED DATA'!G418=\"\",\"\",'IMPORTED DATA'!G418)","v":""},null,{"$f":"IF('IMPORTED DATA'!H418=\"\",\"\",'IMPORTED DATA'!H418)","v":""},null,null,null,null,null,{"$f":"IF('IMPORTED DATA'!I418=\"\",\"\",'IMPORTED DATA'!I418)","v":""},null,null,{"$f":"IF('IMPORTED DATA'!J418=\"\",\"\",'IMPORTED DATA'!J418)","v":""},null,{"$f":"IF('IMPORTED DATA'!K418=\"\",\"\",'IMPORTED DATA'!K418)","v":""},null,null,{"$f":"IF('IMPORTED DATA'!M418=\"\",\"\",'IMPORTED DATA'!M418)","v":""},null,{"$f":"IF('IMPORTED DATA'!N418=\"\",\"\",'IMPORTED DATA'!N418)","v":""},null,{"$f":"IF('IMPORTED DATA'!O418=\"\",\"\",'IMPORTED DATA'!O418)","v":""},null,{"$f":"IF('IMPORTED DATA'!P418=\"\",\"\",'IMPORTED DATA'!R418)","v":""},null,{"$f":"IF('IMPORTED DATA'!Q418=\"\",\"\",'IMPORTED DATA'!S418)","v":""},null,{"$f":"IF('IMPORTED DATA'!T418=\"\",\"\",'IMPORTED DATA'!#REF!)","v":""},null,{"$f":"IF('IMPORTED DATA'!U418=\"\",\"\",'IMPORTED DATA'!#REF!)","v":""}]
[null,null,null,null,null,null,null,null,null,null,null,null,null,null,null,null,null,null,null,null,{"$f":"IF('IMPORTED DATA'!G419=\"\",\"\",'IMPORTED DATA'!G419)","v":""},null,{"$f":"IF('IMPORTED DATA'!H419=\"\",\"\",'IMPORTED DATA'!H419)","v":""},null,null,null,null,null,{"$f":"IF('IMPORTED DATA'!I419=\"\",\"\",'IMPORTED DATA'!I419)","v":""},null,null,{"$f":"IF('IMPORTED DATA'!J419=\"\",\"\",'IMPORTED DATA'!J419)","v":""},null,{"$f":"IF('IMPORTED DATA'!K419=\"\",\"\",'IMPORTED DATA'!K419)","v":""},null,null,{"$f":"IF('IMPORTED DATA'!M419=\"\",\"\",'IMPORTED DATA'!M419)","v":""},null,{"$f":"IF('IMPORTED DATA'!N419=\"\",\"\",'IMPORTED DATA'!N419)","v":""},null,{"$f":"IF('IMPORTED DATA'!O419=\"\",\"\",'IMPORTED DATA'!O419)","v":""},null,{"$f":"IF('IMPORTED DATA'!P419=\"\",\"\",'IMPORTED DATA'!R419)","v":""},null,{"$f":"IF('IMPORTED DATA'!Q419=\"\",\"\",'IMPORTED DATA'!S419)","v":""},null,{"$f":"IF('IMPORTED DATA'!T419=\"\",\"\",'IMPORTED DATA'!#REF!)","v":""},null,{"$f":"IF('IMPORTED DATA'!U419=\"\",\"\",'IMPORTED DATA'!#REF!)","v":""}]
[null,null,null,null,null,null,null,null,"Action Item",{"$f":"IF('IMPORTED DATA'!C403<>\"\",'IMPORTED DATA'!C403,IF('IMPORTED DATA'!P118<>\"\",'IMPORTED DATA'!P118,\"\"))","v":""},null,null,null,null,null,null,null,null,{"$f":"IF('IMPORTED DATA'!D403<>0,'IMPORTED DATA'!D403,\"\")","v":""},null,{"$f":"IF('IMPORTED DATA'!G420=\"\",\"\",'IMPORTED DATA'!G420)","v":""},null,{"$f":"IF('IMPORTED DATA'!H420=\"\",\"\",'IMPORTED DATA'!H420)","v":""},null,null,null,null,null,{"$f":"IF('IMPORTED DATA'!I420=\"\",\"\",'IMPORTED DATA'!I420)","v":""},null,null,{"$f":"IF('IMPORTED DATA'!J420=\"\",\"\",'IMPORTED DATA'!J420)","v":""},null,{"$f":"IF('IMPORTED DATA'!K420=\"\",\"\",'IMPORTED DATA'!K420)","v":""},null,null,{"$f":"IF('IMPORTED DATA'!M420=\"\",\"\",'IMPORTED DATA'!M420)","v":""},null,{"$f":"IF('IMPORTED DATA'!N420=\"\",\"\",'IMPORTED DATA'!N420)","v":""},null,{"$f":"IF('IMPORTED DATA'!O420=\"\",\"\",'IMPORTED DATA'!O420)","v":""},null,{"$f":"IF('IMPORTED DATA'!P420=\"\",\"\",'IMPORTED DATA'!R420)","v":""},null,{"$f":"IF('IMPORTED DATA'!Q420=\"\",\"\",'IMPORTED DATA'!S420)","v":""},null,{"$f":"IF('IMPORTED DATA'!T420=\"\",\"\",'IMPORTED DATA'!#REF!)","v":""},null,{"$f":"IF('IMPORTED DATA'!U420=\"\",\"\",'IMPORTED DATA'!#REF!)","v":""}]
[null,null,null,null,null,null,null,null,null,null,null,null,null,null,null,null,null,null,null,null,{"$f":"IF('IMPORTED DATA'!G421=\"\",\"\",'IMPORTED DATA'!G421)","v":""},null,{"$f":"IF('IMPORTED DATA'!H421=\"\",\"\",'IMPORTED DATA'!H421)","v":""},null,null,null,null,null,{"$f":"IF('IMPORTED DATA'!I421=\"\",\"\",'IMPORTED DATA'!I421)","v":""},null,null,{"$f":"IF('IMPORTED DATA'!J421=\"\",\"\",'IMPORTED DATA'!J421)","v":""},null,{"$f":"IF('IMPORTED DATA'!K421=\"\",\"\",'IMPORTED DATA'!K421)","v":""},null,null,{"$f":"IF('IMPORTED DATA'!M421=\"\",\"\",'IMPORTED DATA'!M421)","v":""},null,{"$f":"IF('IMPORTED DATA'!N421=\"\",\"\",'IMPORTED DATA'!N421)","v":""},null,{"$f":"IF('IMPORTED DATA'!O421=\"\",\"\",'IMPORTED DATA'!O421)","v":""},null,{"$f":"IF('IMPORTED DATA'!P421=\"\",\"\",'IMPORTED DATA'!R421)","v":""},null,{"$f":"IF('IMPORTED DATA'!Q421=\"\",\"\",'IMPORTED DATA'!S421)","v":""},null,{"$f":"IF('IMPORTED DATA'!T421=\"\",\"\",'IMPORTED DATA'!#REF!)","v":""},null,{"$f":"IF('IMPORTED DATA'!U421=\"\",\"\",'IMPORTED DATA'!#REF!)","v":""}]
[null,null,null,null,null,null,null,null,null,null,null,null,null,null,null,null,null,null,null,null,{"$f":"IF('IMPORTED DATA'!G422=\"\",\"\",'IMPORTED DATA'!G422)","v":""},null,{"$f":"IF('IMPORTED DATA'!H422=\"\",\"\",'IMPORTED DATA'!H422)","v":""},null,null,null,null,null,{"$f":"IF('IMPORTED DATA'!I422=\"\",\"\",'IMPORTED DATA'!I422)","v":""},null,null,{"$f":"IF('IMPORTED DATA'!J422=\"\",\"\",'IMPORTED DATA'!J422)","v":""},null,{"$f":"IF('IMPORTED DATA'!K422=\"\",\"\",'IMPORTED DATA'!K422)","v":""},null,null,{"$f":"IF('IMPORTED DATA'!M422=\"\",\"\",'IMPORTED DATA'!M422)","v":""},null,{"$f":"IF('IMPORTED DATA'!N422=\"\",\"\",'IMPORTED DATA'!N422)","v":""},null,{"$f":"IF('IMPORTED DATA'!O422=\"\",\"\",'IMPORTED DATA'!O422)","v":""},null,{"$f":"IF('IMPORTED DATA'!P422=\"\",\"\",'IMPORTED DATA'!R422)","v":""},null,{"$f":"IF('IMPORTED DATA'!Q422=\"\",\"\",'IMPORTED DATA'!S422)","v":""},null,{"$f":"IF('IMPORTED DATA'!T422=\"\",\"\",'IMPORTED DATA'!#REF!)","v":""},null,{"$f":"IF('IMPORTED DATA'!U422=\"\",\"\",'IMPORTED DATA'!#REF!)","v":""}]
[null,null,null,null,null,null,null,null,"Action Item",{"$f":"IF('IMPORTED DATA'!C404<>\"\",'IMPORTED DATA'!C404,IF('IMPORTED DATA'!P119<>\"\",'IMPORTED DATA'!P119,\"\"))","v":""},null,null,null,null,null,null,null,null,{"$f":"IF('IMPORTED DATA'!D404<>0,'IMPORTED DATA'!D404,\"\")","v":""},null,{"$f":"IF('IMPORTED DATA'!G423=\"\",\"\",'IMPORTED DATA'!G423)","v":""},null,{"$f":"IF('IMPORTED DATA'!H423=\"\",\"\",'IMPORTED DATA'!H423)","v":""},null,null,null,null,null,{"$f":"IF('IMPORTED DATA'!I423=\"\",\"\",'IMPORTED DATA'!I423)","v":""},null,null,{"$f":"IF('IMPORTED DATA'!J423=\"\",\"\",'IMPORTED DATA'!J423)","v":""},null,{"$f":"IF('IMPORTED DATA'!K423=\"\",\"\",'IMPORTED DATA'!K423)","v":""},null,null,{"$f":"IF('IMPORTED DATA'!M423=\"\",\"\",'IMPORTED DATA'!M423)","v":""},null,{"$f":"IF('IMPORTED DATA'!N423=\"\",\"\",'IMPORTED DATA'!N423)","v":""},null,{"$f":"IF('IMPORTED DATA'!O423=\"\",\"\",'IMPORTED DATA'!O423)","v":""},null,{"$f":"IF('IMPORTED DATA'!P423=\"\",\"\",'IMPORTED DATA'!R423)","v":""},null,{"$f":"IF('IMPORTED DATA'!Q423=\"\",\"\",'IMPORTED DATA'!S423)","v":""},null,{"$f":"IF('IMPORTED DATA'!T423=\"\",\"\",'IMPORTED DATA'!#REF!)","v":""},null,{"$f":"IF('IMPORTED DATA'!U423=\"\",\"\",'IMPORTED DATA'!#REF!)","v":""}]
[null,null,null,null,null,null,null,null,null,null,null,null,null,null,null,null,null,null,null,null,{"$f":"IF('IMPORTED DATA'!G424=\"\",\"\",'IMPORTED DATA'!G424)","v":""},null,{"$f":"IF('IMPORTED DATA'!H424=\"\",\"\",'IMPORTED DATA'!H424)","v":""},null,null,null,null,null,{"$f":"IF('IMPORTED DATA'!I424=\"\",\"\",'IMPORTED DATA'!I424)","v":""},null,null,{"$f":"IF('IMPORTED DATA'!J424=\"\",\"\",'IMPORTED DATA'!J424)","v":""},null,{"$f":"IF('IMPORTED DATA'!K424=\"\",\"\",'IMPORTED DATA'!K424)","v":""},null,null,{"$f":"IF('IMPORTED DATA'!M424=\"\",\"\",'IMPORTED DATA'!M424)","v":""},null,{"$f":"IF('IMPORTED DATA'!N424=\"\",\"\",'IMPORTED DATA'!N424)","v":""},null,{"$f":"IF('IMPORTED DATA'!O424=\"\",\"\",'IMPORTED DATA'!O424)","v":""},null,{"$f":"IF('IMPORTED DATA'!P424=\"\",\"\",'IMPORTED DATA'!R424)","v":""},null,{"$f":"IF('IMPORTED DATA'!Q424=\"\",\"\",'IMPORTED DATA'!S424)","v":""},null,{"$f":"IF('IMPORTED DATA'!T424=\"\",\"\",'IMPORTED DATA'!#REF!)","v":""},null,{"$f":"IF('IMPORTED DATA'!U424=\"\",\"\",'IMPORTED DATA'!#REF!)","v":""}]
[null,null,null,null,null,null,null,null,null,null,null,null,null,null,null,null,null,null,null,null,{"$f":"IF('IMPORTED DATA'!G425=\"\",\"\",'IMPORTED DATA'!G425)","v":""},null,{"$f":"IF('IMPORTED DATA'!H425=\"\",\"\",'IMPORTED DATA'!H425)","v":""},null,null,null,null,null,{"$f":"IF('IMPORTED DATA'!I425=\"\",\"\",'IMPORTED DATA'!I425)","v":""},null,null,{"$f":"IF('IMPORTED DATA'!J425=\"\",\"\",'IMPORTED DATA'!J425)","v":""},null,{"$f":"IF('IMPORTED DATA'!K425=\"\",\"\",'IMPORTED DATA'!K425)","v":""},null,null,{"$f":"IF('IMPORTED DATA'!M425=\"\",\"\",'IMPORTED DATA'!M425)","v":""},null,{"$f":"IF('IMPORTED DATA'!N425=\"\",\"\",'IMPORTED DATA'!N425)","v":""},null,{"$f":"IF('IMPORTED DATA'!O425=\"\",\"\",'IMPORTED DATA'!O425)","v":""},null,{"$f":"IF('IMPORTED DATA'!P425=\"\",\"\",'IMPORTED DATA'!R425)","v":""},null,{"$f":"IF('IMPORTED DATA'!Q425=\"\",\"\",'IMPORTED DATA'!S425)","v":""},null,{"$f":"IF('IMPORTED DATA'!T425=\"\",\"\",'IMPORTED DATA'!#REF!)","v":""},null,{"$f":"IF('IMPORTED DATA'!U425=\"\",\"\",'IMPORTED DATA'!#REF!)","v":""}]
[null,null,null,null,null,null,"Strategic Element",null,null,null,null,null,null,null,null,null,null,null,"Include",null,{"$f":"IF('IMPORTED DATA'!G426=\"\",\"\",'IMPORTED DATA'!G426)","v":""},null,{"$f":"IF('IMPORTED DATA'!H426=\"\",\"\",'IMPORTED DATA'!H426)","v":""},null,null,null,null,null,{"$f":"IF('IMPORTED DATA'!I426=\"\",\"\",'IMPORTED DATA'!I426)","v":""},null,null,{"$f":"IF('IMPORTED DATA'!J426=\"\",\"\",'IMPORTED DATA'!J426)","v":""},null,{"$f":"IF('IMPORTED DATA'!K426=\"\",\"\",'IMPORTED DATA'!K426)","v":""},null,null,{"$f":"IF('IMPORTED DATA'!M426=\"\",\"\",'IMPORTED DATA'!M426)","v":""},null,{"$f":"IF('IMPORTED DATA'!N426=\"\",\"\",'IMPORTED DATA'!N426)","v":""},null,{"$f":"IF('IMPORTED DATA'!O426=\"\",\"\",'IMPORTED DATA'!O426)","v":""},null,{"$f":"IF('IMPORTED DATA'!P426=\"\",\"\",'IMPORTED DATA'!R426)","v":""},null,{"$f":"IF('IMPORTED DATA'!Q426=\"\",\"\",'IMPORTED DATA'!S426)","v":""},null,{"$f":"IF('IMPORTED DATA'!T426=\"\",\"\",'IMPORTED DATA'!#REF!)","v":""},null,{"$f":"IF('IMPORTED DATA'!U426=\"\",\"\",'IMPORTED DATA'!#REF!)","v":""}]
[null,null,null,null,null,null,"Objective",{"$f":"IF('IMPORTED DATA'!C405<>\"\",'IMPORTED DATA'!C405,IF('IMPORTED DATA'!P120<>\"\",'IMPORTED DATA'!P120,\"\"))","v":""},null,null,null,null,null,null,null,null,null,null,{"$f":"IF('IMPORTED DATA'!D405<>0,'IMPORTED DATA'!D405,\"\")","v":""},null,{"$f":"IF('IMPORTED DATA'!G427=\"\",\"\",'IMPORTED DATA'!G427)","v":""},null,{"$f":"IF('IMPORTED DATA'!H427=\"\",\"\",'IMPORTED DATA'!H427)","v":""},null,null,null,null,null,{"$f":"IF('IMPORTED DATA'!I427=\"\",\"\",'IMPORTED DATA'!I427)","v":""},null,null,{"$f":"IF('IMPORTED DATA'!J427=\"\",\"\",'IMPORTED DATA'!J427)","v":""},null,{"$f":"IF('IMPORTED DATA'!K427=\"\",\"\",'IMPORTED DATA'!K427)","v":""},null,null,{"$f":"IF('IMPORTED DATA'!M427=\"\",\"\",'IMPORTED DATA'!M427)","v":""},null,{"$f":"IF('IMPORTED DATA'!N427=\"\",\"\",'IMPORTED DATA'!N427)","v":""},null,{"$f":"IF('IMPORTED DATA'!O427=\"\",\"\",'IMPORTED DATA'!O427)","v":""},null,{"$f":"IF('IMPORTED DATA'!P427=\"\",\"\",'IMPORTED DATA'!R427)","v":""},null,{"$f":"IF('IMPORTED DATA'!Q427=\"\",\"\",'IMPORTED DATA'!S427)","v":""},null,{"$f":"IF('IMPORTED DATA'!T427=\"\",\"\",'IMPORTED DATA'!#REF!)","v":""},null,{"$f":"IF('IMPORTED DATA'!U427=\"\",\"\",'IMPORTED DATA'!#REF!)","v":""}]
[null,null,null,null,null,null,null,null,null,null,null,null,null,null,null,null,null,null,null,null,{"$f":"IF('IMPORTED DATA'!G428=\"\",\"\",'IMPORTED DATA'!G428)","v":""},null,{"$f":"IF('IMPORTED DATA'!H428=\"\",\"\",'IMPORTED DATA'!H428)","v":""},null,null,null,null,null,{"$f":"IF('IMPORTED DATA'!I428=\"\",\"\",'IMPORTED DATA'!I428)","v":""},null,null,{"$f":"IF('IMPORTED DATA'!J428=\"\",\"\",'IMPORTED DATA'!J428)","v":""},null,{"$f":"IF('IMPORTED DATA'!K428=\"\",\"\",'IMPORTED DATA'!K428)","v":""},null,null,{"$f":"IF('IMPORTED DATA'!M428=\"\",\"\",'IMPORTED DATA'!M428)","v":""},null,{"$f":"IF('IMPORTED DATA'!N428=\"\",\"\",'IMPORTED DATA'!N428)","v":""},null,{"$f":"IF('IMPORTED DATA'!O428=\"\",\"\",'IMPORTED DATA'!O428)","v":""},null,{"$f":"IF('IMPORTED DATA'!P428=\"\",\"\",'IMPORTED DATA'!R428)","v":""},null,{"$f":"IF('IMPORTED DATA'!Q428=\"\",\"\",'IMPORTED DATA'!S428)","v":""},null,{"$f":"IF('IMPORTED DATA'!T428=\"\",\"\",'IMPORTED DATA'!#REF!)","v":""},null,{"$f":"IF('IMPORTED DATA'!U428=\"\",\"\",'IMPORTED DATA'!#REF!)","v":""}]
[null,null,null,null,null,null,null,null,null,null,null,null,null,null,null,null,null,null,null,null,{"$f":"IF('IMPORTED DATA'!G429=\"\",\"\",'IMPORTED DATA'!G429)","v":""},null,{"$f":"IF('IMPORTED DATA'!H429=\"\",\"\",'IMPORTED DATA'!H429)","v":""},null,null,null,null,null,{"$f":"IF('IMPORTED DATA'!I429=\"\",\"\",'IMPORTED DATA'!I429)","v":""},null,null,{"$f":"IF('IMPORTED DATA'!J429=\"\",\"\",'IMPORTED DATA'!J429)","v":""},null,{"$f":"IF('IMPORTED DATA'!K429=\"\",\"\",'IMPORTED DATA'!K429)","v":""},null,null,{"$f":"IF('IMPORTED DATA'!M429=\"\",\"\",'IMPORTED DATA'!M429)","v":""},null,{"$f":"IF('IMPORTED DATA'!N429=\"\",\"\",'IMPORTED DATA'!N429)","v":""},null,{"$f":"IF('IMPORTED DATA'!O429=\"\",\"\",'IMPORTED DATA'!O429)","v":""},null,{"$f":"IF('IMPORTED DATA'!P429=\"\",\"\",'IMPORTED DATA'!R429)","v":""},null,{"$f":"IF('IMPORTED DATA'!Q429=\"\",\"\",'IMPORTED DATA'!S429)","v":""},null,{"$f":"IF('IMPORTED DATA'!T429=\"\",\"\",'IMPORTED DATA'!#REF!)","v":""},null,{"$f":"IF('IMPORTED DATA'!U429=\"\",\"\",'IMPORTED DATA'!#REF!)","v":""}]
[null,null,null,null,null,null,null,null,"Action Item",{"$f":"IF('IMPORTED DATA'!C406<>\"\",'IMPORTED DATA'!C406,IF('IMPORTED DATA'!P121<>\"\",'IMPORTED DATA'!P121,\"\"))","v":""},null,null,null,null,null,null,null,null,{"$f":"IF('IMPORTED DATA'!D406<>0,'IMPORTED DATA'!D406,\"\")","v":""},null,{"$f":"IF('IMPORTED DATA'!G430=\"\",\"\",'IMPORTED DATA'!G430)","v":""},null,{"$f":"IF('IMPORTED DATA'!H430=\"\",\"\",'IMPORTED DATA'!H430)","v":""},null,null,null,null,null,{"$f":"IF('IMPORTED DATA'!I430=\"\",\"\",'IMPORTED DATA'!I430)","v":""},null,null,{"$f":"IF('IMPORTED DATA'!J430=\"\",\"\",'IMPORTED DATA'!J430)","v":""},null,{"$f":"IF('IMPORTED DATA'!K430=\"\",\"\",'IMPORTED DATA'!K430)","v":""},null,null,{"$f":"IF('IMPORTED DATA'!M430=\"\",\"\",'IMPORTED DATA'!M430)","v":""},null,{"$f":"IF('IMPORTED DATA'!N430=\"\",\"\",'IMPORTED DATA'!N430)","v":""},null,{"$f":"IF('IMPORTED DATA'!O430=\"\",\"\",'IMPORTED DATA'!O430)","v":""},null,{"$f":"IF('IMPORTED DATA'!P430=\"\",\"\",'IMPORTED DATA'!R430)","v":""},null,{"$f":"IF('IMPORTED DATA'!Q430=\"\",\"\",'IMPORTED DATA'!S430)","v":""},null,{"$f":"IF('IMPORTED DATA'!T430=\"\",\"\",'IMPORTED DATA'!#REF!)","v":""},null,{"$f":"IF('IMPORTED DATA'!U430=\"\",\"\",'IMPORTED DATA'!#REF!)","v":""}]
[null,null,null,null,null,null,null,null,null,null,null,null,null,null,null,null,null,null,null,null,{"$f":"IF('IMPORTED DATA'!G431=\"\",\"\",'IMPORTED DATA'!G431)","v":""},null,{"$f":"IF('IMPORTED DATA'!H431=\"\",\"\",'IMPORTED DATA'!H431)","v":""},null,null,null,null,null,{"$f":"IF('IMPORTED DATA'!I431=\"\",\"\",'IMPORTED DATA'!I431)","v":""},null,null,{"$f":"IF('IMPORTED DATA'!J431=\"\",\"\",'IMPORTED DATA'!J431)","v":""},null,{"$f":"IF('IMPORTED DATA'!K431=\"\",\"\",'IMPORTED DATA'!K431)","v":""},null,null,{"$f":"IF('IMPORTED DATA'!M431=\"\",\"\",'IMPORTED DATA'!M431)","v":""},null,{"$f":"IF('IMPORTED DATA'!N431=\"\",\"\",'IMPORTED DATA'!N431)","v":""},null,{"$f":"IF('IMPORTED DATA'!O431=\"\",\"\",'IMPORTED DATA'!O431)","v":""},null,{"$f":"IF('IMPORTED DATA'!P431=\"\",\"\",'IMPORTED DATA'!R431)","v":""},null,{"$f":"IF('IMPORTED DATA'!Q431=\"\",\"\",'IMPORTED DATA'!S431)","v":""},null,{"$f":"IF('IMPORTED DATA'!T431=\"\",\"\",'IMPORTED DATA'!#REF!)","v":""},null,{"$f":"IF('IMPORTED DATA'!U431=\"\",\"\",'IMPORTED DATA'!#REF!)","v":""}]
[null,null,null,null,null,null,null,null,null,null,null,null,null,null,null,null,null,null,null,null,{"$f":"IF('IMPORTED DATA'!G432=\"\",\"\",'IMPORTED DATA'!G432)","v":""},null,{"$f":"IF('IMPORTED DATA'!H432=\"\",\"\",'IMPORTED DATA'!H432)","v":""},null,null,null,null,null,{"$f":"IF('IMPORTED DATA'!I432=\"\",\"\",'IMPORTED DATA'!I432)","v":""},null,null,{"$f":"IF('IMPORTED DATA'!J432=\"\",\"\",'IMPORTED DATA'!J432)","v":""},null,{"$f":"IF('IMPORTED DATA'!K432=\"\",\"\",'IMPORTED DATA'!K432)","v":""},null,null,{"$f":"IF('IMPORTED DATA'!M432=\"\",\"\",'IMPORTED DATA'!M432)","v":""},null,{"$f":"IF('IMPORTED DATA'!N432=\"\",\"\",'IMPORTED DATA'!N432)","v":""},null,{"$f":"IF('IMPORTED DATA'!O432=\"\",\"\",'IMPORTED DATA'!O432)","v":""},null,{"$f":"IF('IMPORTED DATA'!P432=\"\",\"\",'IMPORTED DATA'!R432)","v":""},null,{"$f":"IF('IMPORTED DATA'!Q432=\"\",\"\",'IMPORTED DATA'!S432)","v":""},null,{"$f":"IF('IMPORTED DATA'!T432=\"\",\"\",'IMPORTED DATA'!#REF!)","v":""},null,{"$f":"IF('IMPORTED DATA'!U432=\"\",\"\",'IMPORTED DATA'!#REF!)","v":""}]
[null,null,null,null,null,null,null,null,"Action Item",{"$f":"IF('IMPORTED DATA'!C407<>\"\",'IMPORTED DATA'!C407,IF('IMPORTED DATA'!P122<>\"\",'IMPORTED DATA'!P122,\"\"))","v":""},null,null,null,null,null,null,null,null,{"$f":"IF('IMPORTED DATA'!D407<>0,'IMPORTED DATA'!D407,\"\")","v":""},null,{"$f":"IF('IMPORTED DATA'!G433=\"\",\"\",'IMPORTED DATA'!G433)","v":""},null,{"$f":"IF('IMPORTED DATA'!H433=\"\",\"\",'IMPORTED DATA'!H433)","v":""},null,null,null,null,null,{"$f":"IF('IMPORTED DATA'!I433=\"\",\"\",'IMPORTED DATA'!I433)","v":""},null,null,{"$f":"IF('IMPORTED DATA'!J433=\"\",\"\",'IMPORTED DATA'!J433)","v":""},null,{"$f":"IF('IMPORTED DATA'!K433=\"\",\"\",'IMPORTED DATA'!K433)","v":""},null,null,{"$f":"IF('IMPORTED DATA'!M433=\"\",\"\",'IMPORTED DATA'!M433)","v":""},null,{"$f":"IF('IMPORTED DATA'!N433=\"\",\"\",'IMPORTED DATA'!N433)","v":""},null,{"$f":"IF('IMPORTED DATA'!O433=\"\",\"\",'IMPORTED DATA'!O433)","v":""},null,{"$f":"IF('IMPORTED DATA'!P433=\"\",\"\",'IMPORTED DATA'!R433)","v":""},null,{"$f":"IF('IMPORTED DATA'!Q433=\"\",\"\",'IMPORTED DATA'!S433)","v":""},null,{"$f":"IF('IMPORTED DATA'!T433=\"\",\"\",'IMPORTED DATA'!#REF!)","v":""},null,{"$f":"IF('IMPORTED DATA'!U433=\"\",\"\",'IMPORTED DATA'!#REF!)","v":""}]
[null,null,null,null,null,null,null,null,null,null,null,null,null,null,null,null,null,null,null,null,{"$f":"IF('IMPORTED DATA'!G434=\"\",\"\",'IMPORTED DATA'!G434)","v":""},null,{"$f":"IF('IMPORTED DATA'!H434=\"\",\"\",'IMPORTED DATA'!H434)","v":""},null,null,null,null,null,{"$f":"IF('IMPORTED DATA'!I434=\"\",\"\",'IMPORTED DATA'!I434)","v":""},null,null,{"$f":"IF('IMPORTED DATA'!J434=\"\",\"\",'IMPORTED DATA'!J434)","v":""},null,{"$f":"IF('IMPORTED DATA'!K434=\"\",\"\",'IMPORTED DATA'!K434)","v":""},null,null,{"$f":"IF('IMPORTED DATA'!M434=\"\",\"\",'IMPORTED DATA'!M434)","v":""},null,{"$f":"IF('IMPORTED DATA'!N434=\"\",\"\",'IMPORTED DATA'!N434)","v":""},null,{"$f":"IF('IMPORTED DATA'!O434=\"\",\"\",'IMPORTED DATA'!O434)","v":""},null,{"$f":"IF('IMPORTED DATA'!P434=\"\",\"\",'IMPORTED DATA'!R434)","v":""},null,{"$f":"IF('IMPORTED DATA'!Q434=\"\",\"\",'IMPORTED DATA'!S434)","v":""},null,{"$f":"IF('IMPORTED DATA'!T434=\"\",\"\",'IMPORTED DATA'!#REF!)","v":""},null,{"$f":"IF('IMPORTED DATA'!U434=\"\",\"\",'IMPORTED DATA'!#REF!)","v":""}]
[null,null,null,null,null,null,null,null,null,null,null,null,null,null,null,null,null,null,null,null,{"$f":"IF('IMPORTED DATA'!G435=\"\",\"\",'IMPORTED DATA'!G435)","v":""},null,{"$f":"IF('IMPORTED DATA'!H435=\"\",\"\",'IMPORTED DATA'!H435)","v":""},null,null,null,null,null,{"$f":"IF('IMPORTED DATA'!I435=\"\",\"\",'IMPORTED DATA'!I435)","v":""},null,null,{"$f":"IF('IMPORTED DATA'!J435=\"\",\"\",'IMPORTED DATA'!J435)","v":""},null,{"$f":"IF('IMPORTED DATA'!K435=\"\",\"\",'IMPORTED DATA'!K435)","v":""},null,null,{"$f":"IF('IMPORTED DATA'!M435=\"\",\"\",'IMPORTED DATA'!M435)","v":""},null,{"$f":"IF('IMPORTED DATA'!N435=\"\",\"\",'IMPORTED DATA'!N435)","v":""},null,{"$f":"IF('IMPORTED DATA'!O435=\"\",\"\",'IMPORTED DATA'!O435)","v":""},null,{"$f":"IF('IMPORTED DATA'!P435=\"\",\"\",'IMPORTED DATA'!R435)","v":""},null,{"$f":"IF('IMPORTED DATA'!Q435=\"\",\"\",'IMPORTED DATA'!S435)","v":""},null,{"$f":"IF('IMPORTED DATA'!T435=\"\",\"\",'IMPORTED DATA'!#REF!)","v":""},null,{"$f":"IF('IMPORTED DATA'!U435=\"\",\"\",'IMPORTED DATA'!#REF!)","v":""}]
[null,null,null,null,null,null,null,null,"Action Item",{"$f":"IF('IMPORTED DATA'!C408<>\"\",'IMPORTED DATA'!C408,IF('IMPORTED DATA'!P123<>\"\",'IMPORTED DATA'!P123,\"\"))","v":""},null,null,null,null,null,null,null,null,{"$f":"IF('IMPORTED DATA'!D408<>0,'IMPORTED DATA'!D408,\"\")","v":""},null,{"$f":"IF('IMPORTED DATA'!G436=\"\",\"\",'IMPORTED DATA'!G436)","v":""},null,{"$f":"IF('IMPORTED DATA'!H436=\"\",\"\",'IMPORTED DATA'!H436)","v":""},null,null,null,null,null,{"$f":"IF('IMPORTED DATA'!I436=\"\",\"\",'IMPORTED DATA'!I436)","v":""},null,null,{"$f":"IF('IMPORTED DATA'!J436=\"\",\"\",'IMPORTED DATA'!J436)","v":""},null,{"$f":"IF('IMPORTED DATA'!K436=\"\",\"\",'IMPORTED DATA'!K436)","v":""},null,null,{"$f":"IF('IMPORTED DATA'!M436=\"\",\"\",'IMPORTED DATA'!M436)","v":""},null,{"$f":"IF('IMPORTED DATA'!N436=\"\",\"\",'IMPORTED DATA'!N436)","v":""},null,{"$f":"IF('IMPORTED DATA'!O436=\"\",\"\",'IMPORTED DATA'!O436)","v":""},null,{"$f":"IF('IMPORTED DATA'!P436=\"\",\"\",'IMPORTED DATA'!R436)","v":""},null,{"$f":"IF('IMPORTED DATA'!Q436=\"\",\"\",'IMPORTED DATA'!S436)","v":""},null,{"$f":"IF('IMPORTED DATA'!T436=\"\",\"\",'IMPORTED DATA'!#REF!)","v":""},null,{"$f":"IF('IMPORTED DATA'!U436=\"\",\"\",'IMPORTED DATA'!#REF!)","v":""}]
[null,null,null,null,null,null,null,null,null,null,null,null,null,null,null,null,null,null,null,null,{"$f":"IF('IMPORTED DATA'!G437=\"\",\"\",'IMPORTED DATA'!G437)","v":""},null,{"$f":"IF('IMPORTED DATA'!H437=\"\",\"\",'IMPORTED DATA'!H437)","v":""},null,null,null,null,null,{"$f":"IF('IMPORTED DATA'!I437=\"\",\"\",'IMPORTED DATA'!I437)","v":""},null,null,{"$f":"IF('IMPORTED DATA'!J437=\"\",\"\",'IMPORTED DATA'!J437)","v":""},null,{"$f":"IF('IMPORTED DATA'!K437=\"\",\"\",'IMPORTED DATA'!K437)","v":""},null,null,{"$f":"IF('IMPORTED DATA'!M437=\"\",\"\",'IMPORTED DATA'!M437)","v":""},null,{"$f":"IF('IMPORTED DATA'!N437=\"\",\"\",'IMPORTED DATA'!N437)","v":""},null,{"$f":"IF('IMPORTED DATA'!O437=\"\",\"\",'IMPORTED DATA'!O437)","v":""},null,{"$f":"IF('IMPORTED DATA'!P437=\"\",\"\",'IMPORTED DATA'!R437)","v":""},null,{"$f":"IF('IMPORTED DATA'!Q437=\"\",\"\",'IMPORTED DATA'!S437)","v":""},null,{"$f":"IF('IMPORTED DATA'!T437=\"\",\"\",'IMPORTED DATA'!#REF!)","v":""},null,{"$f":"IF('IMPORTED DATA'!U437=\"\",\"\",'IMPORTED DATA'!#REF!)","v":""}]
[null,null,null,null,null,null,null,null,null,null,null,null,null,null,null,null,null,null,null,null,{"$f":"IF('IMPORTED DATA'!G438=\"\",\"\",'IMPORTED DATA'!G438)","v":""},null,{"$f":"IF('IMPORTED DATA'!H438=\"\",\"\",'IMPORTED DATA'!H438)","v":""},null,null,null,null,null,{"$f":"IF('IMPORTED DATA'!I438=\"\",\"\",'IMPORTED DATA'!I438)","v":""},null,null,{"$f":"IF('IMPORTED DATA'!J438=\"\",\"\",'IMPORTED DATA'!J438)","v":""},null,{"$f":"IF('IMPORTED DATA'!K438=\"\",\"\",'IMPORTED DATA'!K438)","v":""},null,null,{"$f":"IF('IMPORTED DATA'!M438=\"\",\"\",'IMPORTED DATA'!M438)","v":""},null,{"$f":"IF('IMPORTED DATA'!N438=\"\",\"\",'IMPORTED DATA'!N438)","v":""},null,{"$f":"IF('IMPORTED DATA'!O438=\"\",\"\",'IMPORTED DATA'!O438)","v":""},null,{"$f":"IF('IMPORTED DATA'!P438=\"\",\"\",'IMPORTED DATA'!R438)","v":""},null,{"$f":"IF('IMPORTED DATA'!Q438=\"\",\"\",'IMPORTED DATA'!S438)","v":""},null,{"$f":"IF('IMPORTED DATA'!T438=\"\",\"\",'IMPORTED DATA'!#REF!)","v":""},null,{"$f":"IF('IMPORTED DATA'!U438=\"\",\"\",'IMPORTED DATA'!#REF!)","v":""}]
[null,null,null,null,null,null,null,null,"Action Item",{"$f":"IF('IMPORTED DATA'!C409<>\"\",'IMPORTED DATA'!C409,IF('IMPORTED DATA'!P124<>\"\",'IMPORTED DATA'!P124,\"\"))","v":""},null,null,null,null,null,null,null,null,{"$f":"IF('IMPORTED DATA'!D409<>0,'IMPORTED DATA'!D409,\"\")","v":""},null,{"$f":"IF('IMPORTED DATA'!G439=\"\",\"\",'IMPORTED DATA'!G439)","v":""},null,{"$f":"IF('IMPORTED DATA'!H439=\"\",\"\",'IMPORTED DATA'!H439)","v":""},null,null,null,null,null,{"$f":"IF('IMPORTED DATA'!I439=\"\",\"\",'IMPORTED DATA'!I439)","v":""},null,null,{"$f":"IF('IMPORTED DATA'!J439=\"\",\"\",'IMPORTED DATA'!J439)","v":""},null,{"$f":"IF('IMPORTED DATA'!K439=\"\",\"\",'IMPORTED DATA'!K439)","v":""},null,null,{"$f":"IF('IMPORTED DATA'!M439=\"\",\"\",'IMPORTED DATA'!M439)","v":""},null,{"$f":"IF('IMPORTED DATA'!N439=\"\",\"\",'IMPORTED DATA'!N439)","v":""},null,{"$f":"IF('IMPORTED DATA'!O439=\"\",\"\",'IMPORTED DATA'!O439)","v":""},null,{"$f":"IF('IMPORTED DATA'!P439=\"\",\"\",'IMPORTED DATA'!R439)","v":""},null,{"$f":"IF('IMPORTED DATA'!Q439=\"\",\"\",'IMPORTED DATA'!S439)","v":""},null,{"$f":"IF('IMPORTED DATA'!T439=\"\",\"\",'IMPORTED DATA'!#REF!)","v":""},null,{"$f":"IF('IMPORTED DATA'!U439=\"\",\"\",'IMPORTED DATA'!#REF!)","v":""}]
[null,null,null,null,null,null,null,null,null,null,null,null,null,null,null,null,null,null,null,null,{"$f":"IF('IMPORTED DATA'!G440=\"\",\"\",'IMPORTED DATA'!G440)","v":""},null,{"$f":"IF('IMPORTED DATA'!H440=\"\",\"\",'IMPORTED DATA'!H440)","v":""},null,null,null,null,null,{"$f":"IF('IMPORTED DATA'!I440=\"\",\"\",'IMPORTED DATA'!I440)","v":""},null,null,{"$f":"IF('IMPORTED DATA'!J440=\"\",\"\",'IMPORTED DATA'!J440)","v":""},null,{"$f":"IF('IMPORTED DATA'!K440=\"\",\"\",'IMPORTED DATA'!K440)","v":""},null,null,{"$f":"IF('IMPORTED DATA'!M440=\"\",\"\",'IMPORTED DATA'!M440)","v":""},null,{"$f":"IF('IMPORTED DATA'!N440=\"\",\"\",'IMPORTED DATA'!N440)","v":""},null,{"$f":"IF('IMPORTED DATA'!O440=\"\",\"\",'IMPORTED DATA'!O440)","v":""},null,{"$f":"IF('IMPORTED DATA'!P440=\"\",\"\",'IMPORTED DATA'!R440)","v":""},null,{"$f":"IF('IMPORTED DATA'!Q440=\"\",\"\",'IMPORTED DATA'!S440)","v":""},null,{"$f":"IF('IMPORTED DATA'!T440=\"\",\"\",'IMPORTED DATA'!#REF!)","v":""},null,{"$f":"IF('IMPORTED DATA'!U440=\"\",\"\",'IMPORTED DATA'!#REF!)","v":""}]
[null,null,null,null,null,null,null,null,null,null,null,null,null,null,null,null,null,null,null,null,{"$f":"IF('IMPORTED DATA'!G441=\"\",\"\",'IMPORTED DATA'!G441)","v":""},null,{"$f":"IF('IMPORTED DATA'!H441=\"\",\"\",'IMPORTED DATA'!H441)","v":""},null,null,null,null,null,{"$f":"IF('IMPORTED DATA'!I441=\"\",\"\",'IMPORTED DATA'!I441)","v":""},null,null,{"$f":"IF('IMPORTED DATA'!J441=\"\",\"\",'IMPORTED DATA'!J441)","v":""},null,{"$f":"IF('IMPORTED DATA'!K441=\"\",\"\",'IMPORTED DATA'!K441)","v":""},null,null,{"$f":"IF('IMPORTED DATA'!M441=\"\",\"\",'IMPORTED DATA'!M441)","v":""},null,{"$f":"IF('IMPORTED DATA'!N441=\"\",\"\",'IMPORTED DATA'!N441)","v":""},null,{"$f":"IF('IMPORTED DATA'!O441=\"\",\"\",'IMPORTED DATA'!O441)","v":""},null,{"$f":"IF('IMPORTED DATA'!P441=\"\",\"\",'IMPORTED DATA'!R441)","v":""},null,{"$f":"IF('IMPORTED DATA'!Q441=\"\",\"\",'IMPORTED DATA'!S441)","v":""},null,{"$f":"IF('IMPORTED DATA'!T441=\"\",\"\",'IMPORTED DATA'!#REF!)","v":""},null,{"$f":"IF('IMPORTED DATA'!U441=\"\",\"\",'IMPORTED DATA'!#REF!)","v":""}]
[null,null,null,null,null,null,null,null,"Action Item",{"$f":"IF('IMPORTED DATA'!C410<>\"\",'IMPORTED DATA'!C410,IF('IMPORTED DATA'!P125<>\"\",'IMPORTED DATA'!P125,\"\"))","v":""},null,null,null,null,null,null,null,null,{"$f":"IF('IMPORTED DATA'!D410<>0,'IMPORTED DATA'!D410,\"\")","v":""},null,{"$f":"IF('IMPORTED DATA'!G442=\"\",\"\",'IMPORTED DATA'!G442)","v":""},null,{"$f":"IF('IMPORTED DATA'!H442=\"\",\"\",'IMPORTED DATA'!H442)","v":""},null,null,null,null,null,{"$f":"IF('IMPORTED DATA'!I442=\"\",\"\",'IMPORTED DATA'!I442)","v":""},null,null,{"$f":"IF('IMPORTED DATA'!J442=\"\",\"\",'IMPORTED DATA'!J442)","v":""},null,{"$f":"IF('IMPORTED DATA'!K442=\"\",\"\",'IMPORTED DATA'!K442)","v":""},null,null,{"$f":"IF('IMPORTED DATA'!M442=\"\",\"\",'IMPORTED DATA'!M442)","v":""},null,{"$f":"IF('IMPORTED DATA'!N442=\"\",\"\",'IMPORTED DATA'!N442)","v":""},null,{"$f":"IF('IMPORTED DATA'!O442=\"\",\"\",'IMPORTED DATA'!O442)","v":""},null,{"$f":"IF('IMPORTED DATA'!P442=\"\",\"\",'IMPORTED DATA'!R442)","v":""},null,{"$f":"IF('IMPORTED DATA'!Q442=\"\",\"\",'IMPORTED DATA'!S442)","v":""},null,{"$f":"IF('IMPORTED DATA'!T442=\"\",\"\",'IMPORTED DATA'!#REF!)","v":""},null,{"$f":"IF('IMPORTED DATA'!U442=\"\",\"\",'IMPORTED DATA'!#REF!)","v":""}]
[null,null,null,null,null,null,null,null,null,null,null,null,null,null,null,null,null,null,null,null,{"$f":"IF('IMPORTED DATA'!G443=\"\",\"\",'IMPORTED DATA'!G443)","v":""},null,{"$f":"IF('IMPORTED DATA'!H443=\"\",\"\",'IMPORTED DATA'!H443)","v":""},null,null,null,null,null,{"$f":"IF('IMPORTED DATA'!I443=\"\",\"\",'IMPORTED DATA'!I443)","v":""},null,null,{"$f":"IF('IMPORTED DATA'!J443=\"\",\"\",'IMPORTED DATA'!J443)","v":""},null,{"$f":"IF('IMPORTED DATA'!K443=\"\",\"\",'IMPORTED DATA'!K443)","v":""},null,null,{"$f":"IF('IMPORTED DATA'!M443=\"\",\"\",'IMPORTED DATA'!M443)","v":""},null,{"$f":"IF('IMPORTED DATA'!N443=\"\",\"\",'IMPORTED DATA'!N443)","v":""},null,{"$f":"IF('IMPORTED DATA'!O443=\"\",\"\",'IMPORTED DATA'!O443)","v":""},null,{"$f":"IF('IMPORTED DATA'!P443=\"\",\"\",'IMPORTED DATA'!R443)","v":""},null,{"$f":"IF('IMPORTED DATA'!Q443=\"\",\"\",'IMPORTED DATA'!S443)","v":""},null,{"$f":"IF('IMPORTED DATA'!T443=\"\",\"\",'IMPORTED DATA'!#REF!)","v":""},null,{"$f":"IF('IMPORTED DATA'!U443=\"\",\"\",'IMPORTED DATA'!#REF!)","v":""}]
[null,null,null,null,null,null,null,null,null,null,null,null,null,null,null,null,null,null,null,null,{"$f":"IF('IMPORTED DATA'!G444=\"\",\"\",'IMPORTED DATA'!G444)","v":""},null,{"$f":"IF('IMPORTED DATA'!H444=\"\",\"\",'IMPORTED DATA'!H444)","v":""},null,null,null,null,null,{"$f":"IF('IMPORTED DATA'!I444=\"\",\"\",'IMPORTED DATA'!I444)","v":""},null,null,{"$f":"IF('IMPORTED DATA'!J444=\"\",\"\",'IMPORTED DATA'!J444)","v":""},null,{"$f":"IF('IMPORTED DATA'!K444=\"\",\"\",'IMPORTED DATA'!K444)","v":""},null,null,{"$f":"IF('IMPORTED DATA'!M444=\"\",\"\",'IMPORTED DATA'!M444)","v":""},null,{"$f":"IF('IMPORTED DATA'!N444=\"\",\"\",'IMPORTED DATA'!N444)","v":""},null,{"$f":"IF('IMPORTED DATA'!O444=\"\",\"\",'IMPORTED DATA'!O444)","v":""},null,{"$f":"IF('IMPORTED DATA'!P444=\"\",\"\",'IMPORTED DATA'!R444)","v":""},null,{"$f":"IF('IMPORTED DATA'!Q444=\"\",\"\",'IMPORTED DATA'!S444)","v":""},null,{"$f":"IF('IMPORTED DATA'!T444=\"\",\"\",'IMPORTED DATA'!#REF!)","v":""},null,{"$f":"IF('IMPORTED DATA'!U444=\"\",\"\",'IMPORTED DATA'!#REF!)","v":""}]
[null,null,null,null,null,null,"Strategic Element",null,null,null,null,null,null,null,null,null,null,null,"Include",null,{"$f":"IF('IMPORTED DATA'!G445=\"\",\"\",'IMPORTED DATA'!G445)","v":""},null,{"$f":"IF('IMPORTED DATA'!H445=\"\",\"\",'IMPORTED DATA'!H445)","v":""},null,null,null,null,null,{"$f":"IF('IMPORTED DATA'!I445=\"\",\"\",'IMPORTED DATA'!I445)","v":""},null,null,{"$f":"IF('IMPORTED DATA'!J445=\"\",\"\",'IMPORTED DATA'!J445)","v":""},null,{"$f":"IF('IMPORTED DATA'!K445=\"\",\"\",'IMPORTED DATA'!K445)","v":""},null,null,{"$f":"IF('IMPORTED DATA'!M445=\"\",\"\",'IMPORTED DATA'!M445)","v":""},null,{"$f":"IF('IMPORTED DATA'!N445=\"\",\"\",'IMPORTED DATA'!N445)","v":""},null,{"$f":"IF('IMPORTED DATA'!O445=\"\",\"\",'IMPORTED DATA'!O445)","v":""},null,{"$f":"IF('IMPORTED DATA'!P445=\"\",\"\",'IMPORTED DATA'!R445)","v":""},null,{"$f":"IF('IMPORTED DATA'!Q445=\"\",\"\",'IMPORTED DATA'!S445)","v":""},null,{"$f":"IF('IMPORTED DATA'!T445=\"\",\"\",'IMPORTED DATA'!#REF!)","v":""},null,{"$f":"IF('IMPORTED DATA'!U445=\"\",\"\",'IMPORTED DATA'!#REF!)","v":""}]
[null,null,null,null,null,null,"Objective",{"$f":"IF('IMPORTED DATA'!C411<>\"\",'IMPORTED DATA'!C411,IF('IMPORTED DATA'!P126<>\"\",'IMPORTED DATA'!P126,\"\"))","v":""},null,null,null,null,null,null,null,null,null,null,{"$f":"IF('IMPORTED DATA'!D411<>0,'IMPORTED DATA'!D411,\"\")","v":""},null,{"$f":"IF('IMPORTED DATA'!G446=\"\",\"\",'IMPORTED DATA'!G446)","v":""},null,{"$f":"IF('IMPORTED DATA'!H446=\"\",\"\",'IMPORTED DATA'!H446)","v":""},null,null,null,null,null,{"$f":"IF('IMPORTED DATA'!I446=\"\",\"\",'IMPORTED DATA'!I446)","v":""},null,null,{"$f":"IF('IMPORTED DATA'!J446=\"\",\"\",'IMPORTED DATA'!J446)","v":""},null,{"$f":"IF('IMPORTED DATA'!K446=\"\",\"\",'IMPORTED DATA'!K446)","v":""},null,null,{"$f":"IF('IMPORTED DATA'!M446=\"\",\"\",'IMPORTED DATA'!M446)","v":""},null,{"$f":"IF('IMPORTED DATA'!N446=\"\",\"\",'IMPORTED DATA'!N446)","v":""},null,{"$f":"IF('IMPORTED DATA'!O446=\"\",\"\",'IMPORTED DATA'!O446)","v":""},null,{"$f":"IF('IMPORTED DATA'!P446=\"\",\"\",'IMPORTED DATA'!R446)","v":""},null,{"$f":"IF('IMPORTED DATA'!Q446=\"\",\"\",'IMPORTED DATA'!S446)","v":""},null,{"$f":"IF('IMPORTED DATA'!T446=\"\",\"\",'IMPORTED DATA'!#REF!)","v":""},null,{"$f":"IF('IMPORTED DATA'!U446=\"\",\"\",'IMPORTED DATA'!#REF!)","v":""}]
[null,null,null,null,null,null,null,null,null,null,null,null,null,null,null,null,null,null,null,null,{"$f":"IF('IMPORTED DATA'!G447=\"\",\"\",'IMPORTED DATA'!G447)","v":""},null,{"$f":"IF('IMPORTED DATA'!H447=\"\",\"\",'IMPORTED DATA'!H447)","v":""},null,null,null,null,null,{"$f":"IF('IMPORTED DATA'!I447=\"\",\"\",'IMPORTED DATA'!I447)","v":""},null,null,{"$f":"IF('IMPORTED DATA'!J447=\"\",\"\",'IMPORTED DATA'!J447)","v":""},null,{"$f":"IF('IMPORTED DATA'!K447=\"\",\"\",'IMPORTED DATA'!K447)","v":""},null,null,{"$f":"IF('IMPORTED DATA'!M447=\"\",\"\",'IMPORTED DATA'!M447)","v":""},null,{"$f":"IF('IMPORTED DATA'!N447=\"\",\"\",'IMPORTED DATA'!N447)","v":""},null,{"$f":"IF('IMPORTED DATA'!O447=\"\",\"\",'IMPORTED DATA'!O447)","v":""},null,{"$f":"IF('IMPORTED DATA'!P447=\"\",\"\",'IMPORTED DATA'!R447)","v":""},null,{"$f":"IF('IMPORTED DATA'!Q447=\"\",\"\",'IMPORTED DATA'!S447)","v":""},null,{"$f":"IF('IMPORTED DATA'!T447=\"\",\"\",'IMPORTED DATA'!#REF!)","v":""},null,{"$f":"IF('IMPORTED DATA'!U447=\"\",\"\",'IMPORTED DATA'!#REF!)","v":""}]
[null,null,null,null,null,null,null,null,null,null,null,null,null,null,null,null,null,null,null,null,{"$f":"IF('IMPORTED DATA'!G448=\"\",\"\",'IMPORTED DATA'!G448)","v":""},null,{"$f":"IF('IMPORTED DATA'!H448=\"\",\"\",'IMPORTED DATA'!H448)","v":""},null,null,null,null,null,{"$f":"IF('IMPORTED DATA'!I448=\"\",\"\",'IMPORTED DATA'!I448)","v":""},null,null,{"$f":"IF('IMPORTED DATA'!J448=\"\",\"\",'IMPORTED DATA'!J448)","v":""},null,{"$f":"IF('IMPORTED DATA'!K448=\"\",\"\",'IMPORTED DATA'!K448)","v":""},null,null,{"$f":"IF('IMPORTED DATA'!M448=\"\",\"\",'IMPORTED DATA'!M448)","v":""},null,{"$f":"IF('IMPORTED DATA'!N448=\"\",\"\",'IMPORTED DATA'!N448)","v":""},null,{"$f":"IF('IMPORTED DATA'!O448=\"\",\"\",'IMPORTED DATA'!O448)","v":""},null,{"$f":"IF('IMPORTED DATA'!P448=\"\",\"\",'IMPORTED DATA'!R448)","v":""},null,{"$f":"IF('IMPORTED DATA'!Q448=\"\",\"\",'IMPORTED DATA'!S448)","v":""},null,{"$f":"IF('IMPORTED DATA'!T448=\"\",\"\",'IMPORTED DATA'!#REF!)","v":""},null,{"$f":"IF('IMPORTED DATA'!U448=\"\",\"\",'IMPORTED DATA'!#REF!)","v":""}]
[null,null,null,null,null,null,null,null,"Action Item",{"$f":"IF('IMPORTED DATA'!C412<>\"\",'IMPORTED DATA'!C412,IF('IMPORTED DATA'!P127<>\"\",'IMPORTED DATA'!P127,\"\"))","v":""},null,null,null,null,null,null,null,null,{"$f":"IF('IMPORTED DATA'!D412<>0,'IMPORTED DATA'!D412,\"\")","v":""},null,{"$f":"IF('IMPORTED DATA'!G449=\"\",\"\",'IMPORTED DATA'!G449)","v":""},null,{"$f":"IF('IMPORTED DATA'!H449=\"\",\"\",'IMPORTED DATA'!H449)","v":""},null,null,null,null,null,{"$f":"IF('IMPORTED DATA'!I449=\"\",\"\",'IMPORTED DATA'!I449)","v":""},null,null,{"$f":"IF('IMPORTED DATA'!J449=\"\",\"\",'IMPORTED DATA'!J449)","v":""},null,{"$f":"IF('IMPORTED DATA'!K449=\"\",\"\",'IMPORTED DATA'!K449)","v":""},null,null,{"$f":"IF('IMPORTED DATA'!M449=\"\",\"\",'IMPORTED DATA'!M449)","v":""},null,{"$f":"IF('IMPORTED DATA'!N449=\"\",\"\",'IMPORTED DATA'!N449)","v":""},null,{"$f":"IF('IMPORTED DATA'!O449=\"\",\"\",'IMPORTED DATA'!O449)","v":""},null,{"$f":"IF('IMPORTED DATA'!P449=\"\",\"\",'IMPORTED DATA'!R449)","v":""},null,{"$f":"IF('IMPORTED DATA'!Q449=\"\",\"\",'IMPORTED DATA'!S449)","v":""},null,{"$f":"IF('IMPORTED DATA'!T449=\"\",\"\",'IMPORTED DATA'!#REF!)","v":""},null,{"$f":"IF('IMPORTED DATA'!U449=\"\",\"\",'IMPORTED DATA'!#REF!)","v":""}]
[null,null,null,null,null,null,null,null,null,null,null,null,null,null,null,null,null,null,null,null,{"$f":"IF('IMPORTED DATA'!G450=\"\",\"\",'IMPORTED DATA'!G450)","v":""},null,{"$f":"IF('IMPORTED DATA'!H450=\"\",\"\",'IMPORTED DATA'!H450)","v":""},null,null,null,null,null,{"$f":"IF('IMPORTED DATA'!I450=\"\",\"\",'IMPORTED DATA'!I450)","v":""},null,null,{"$f":"IF('IMPORTED DATA'!J450=\"\",\"\",'IMPORTED DATA'!J450)","v":""},null,{"$f":"IF('IMPORTED DATA'!K450=\"\",\"\",'IMPORTED DATA'!K450)","v":""},null,null,{"$f":"IF('IMPORTED DATA'!M450=\"\",\"\",'IMPORTED DATA'!M450)","v":""},null,{"$f":"IF('IMPORTED DATA'!N450=\"\",\"\",'IMPORTED DATA'!N450)","v":""},null,{"$f":"IF('IMPORTED DATA'!O450=\"\",\"\",'IMPORTED DATA'!O450)","v":""},null,{"$f":"IF('IMPORTED DATA'!P450=\"\",\"\",'IMPORTED DATA'!R450)","v":""},null,{"$f":"IF('IMPORTED DATA'!Q450=\"\",\"\",'IMPORTED DATA'!S450)","v":""},null,{"$f":"IF('IMPORTED DATA'!T450=\"\",\"\",'IMPORTED DATA'!#REF!)","v":""},null,{"$f":"IF('IMPORTED DATA'!U450=\"\",\"\",'IMPORTED DATA'!#REF!)","v":""}]
[]
[null,null,null,null,null,null,null,null,"Action Item",{"$f":"IF('IMPORTED DATA'!C413<>\"\",'IMPORTED DATA'!C413,IF('IMPORTED DATA'!P128<>\"\",'IMPORTED DATA'!P128,\"\"))","v":""},null,null,null,null,null,null,null,null,{"$f":"IF('IMPORTED DATA'!D413<>0,'IMPORTED DATA'!D413,\"\")","v":""}]
[]
[]
[null,null,null,null,null,null,null,null,"Action Item",{"$f":"IF('IMPORTED DATA'!C414<>\"\",'IMPORTED DATA'!C414,IF('IMPORTED DATA'!P129<>\"\",'IMPORTED DATA'!P129,\"\"))","v":""},null,null,null,null,null,null,null,null,{"$f":"IF('IMPORTED DATA'!D414<>0,'IMPORTED DATA'!D414,\"\")","v":""}]
[]
[]
[null,null,null,null,null,null,null,null,"Action Item",{"$f":"IF('IMPORTED DATA'!C415<>\"\",'IMPORTED DATA'!C415,IF('IMPORTED DATA'!P130<>\"\",'IMPORTED DATA'!P130,\"\"))","v":""},null,null,null,null,null,null,null,null,{"$f":"IF('IMPORTED DATA'!D415<>0,'IMPORTED DATA'!D415,\"\")","v":""}]
[]
[]
[null,null,null,null,null,null,null,null,"Action Item",{"$f":"IF('IMPORTED DATA'!C416<>\"\",'IMPORTED DATA'!C416,IF('IMPORTED DATA'!P131<>\"\",'IMPORTED DATA'!P131,\"\"))","v":""},null,null,null,null,null,null,null,null,{"$f":"IF('IMPORTED DATA'!D416<>0,'IMPORTED DATA'!D416,\"\")","v":""}]
[]
[]
[null,null,null,null,null,null,"Strategic Element",null,null,null,null,null,null,null,null,null,null,null,"Include"]
[null,null,null,null,null,null,"Objective",{"$f":"IF('IMPORTED DATA'!C417<>\"\",'IMPORTED DATA'!C417,IF('IMPORTED DATA'!P132<>\"\",'IMPORTED DATA'!P132,\"\"))","v":""},null,null,null,null,null,null,null,null,null,null,{"$f":"IF('IMPORTED DATA'!D417<>0,'IMPORTED DATA'!D417,\"\")","v":""}]
[]
[]
[null,null,null,null,null,null,null,null,"Action Item",{"$f":"IF('IMPORTED DATA'!C418<>\"\",'IMPORTED DATA'!C418,IF('IMPORTED DATA'!P133<>\"\",'IMPORTED DATA'!P133,\"\"))","v":""},null,null,null,null,null,null,null,null,{"$f":"IF('IMPORTED DATA'!D418<>0,'IMPORTED DATA'!D418,\"\")","v":""}]
[]
[]
[null,null,null,null,null,null,null,null,"Action Item",{"$f":"IF('IMPORTED DATA'!C419<>\"\",'IMPORTED DATA'!C419,IF('IMPORTED DATA'!P134<>\"\",'IMPORTED DATA'!P134,\"\"))","v":""},null,null,null,null,null,null,null,null,{"$f":"IF('IMPORTED DATA'!D419<>0,'IMPORTED DATA'!D419,\"\")","v":""}]
[]
[]
[null,null,null,null,null,null,null,null,"Action Item",{"$f":"IF('IMPORTED DATA'!C420<>\"\",'IMPORTED DATA'!C420,IF('IMPORTED DATA'!P135<>\"\",'IMPORTED DATA'!P135,\"\"))","v":""},null,null,null,null,null,null,null,null,{"$f":"IF('IMPORTED DATA'!D420<>0,'IMPORTED DATA'!D420,\"\")","v":""}]
[]
[]
[null,null,null,null,null,null,null,null,"Action Item",{"$f":"IF('IMPORTED DATA'!C421<>\"\",'IMPORTED DATA'!C421,IF('IMPORTED DATA'!P136<>\"\",'IMPORTED DATA'!P136,\"\"))","v":""},null,null,null,null,null,null,null,null,{"$f":"IF('IMPORTED DATA'!D421<>0,'IMPORTED DATA'!D421,\"\")","v":""}]
[]
[]
[null,null,null,null,null,null,null,null,"Action Item",{"$f":"IF('IMPORTED DATA'!C422<>\"\",'IMPORTED DATA'!C422,IF('IMPORTED DATA'!P137<>\"\",'IMPORTED DATA'!P137,\"\"))","v":""},null,null,null,null,null,null,null,null,{"$f":"IF('IMPORTED DATA'!D422<>0,'IMPORTED DATA'!D422,\"\")","v":""}]
[]
[]
[null,null,null,null,null,null,"Strategic Element",null,null,null,null,null,null,null,null,null,null,null,"Include"]
[null,null,null,null,null,null,"Objective",{"$f":"IF('IMPORTED DATA'!C423<>\"\",'IMPORTED DATA'!C423,IF('IMPORTED DATA'!P138<>\"\",'IMPORTED DATA'!P138,\"\"))","v":""},null,null,null,null,null,null,null,null,null,null,{"$f":"IF('IMPORTED DATA'!D423<>0,'IMPORTED DATA'!D423,\"\")","v":""}]
[]
[]
[null,null,null,null,null,null,null,null,"Action Item",{"$f":"IF('IMPORTED DATA'!C424<>\"\",'IMPORTED DATA'!C424,IF('IMPORTED DATA'!P139<>\"\",'IMPORTED DATA'!P139,\"\"))","v":""},null,null,null,null,null,null,null,null,{"$f":"IF('IMPORTED DATA'!D424<>0,'IMPORTED DATA'!D424,\"\")","v":""}]
[]
[]
[null,null,null,null,null,null,null,null,"Action Item",{"$f":"IF('IMPORTED DATA'!C425<>\"\",'IMPORTED DATA'!C425,IF('IMPORTED DATA'!P140<>\"\",'IMPORTED DATA'!P140,\"\"))","v":""},null,null,null,null,null,null,null,null,{"$f":"IF('IMPORTED DATA'!D425<>0,'IMPORTED DATA'!D425,\"\")","v":""}]
[]
[]
[null,null,null,null,null,null,null,null,"Action Item",{"$f":"IF('IMPORTED DATA'!C426<>\"\",'IMPORTED DATA'!C426,IF('IMPORTED DATA'!P141<>\"\",'IMPORTED DATA'!P141,\"\"))","v":""},null,null,null,null,null,null,null,null,{"$f":"IF('IMPORTED DATA'!D426<>0,'IMPORTED DATA'!D426,\"\")","v":""}]
[]
[]
[null,null,null,null,null,null,null,null,"Action Item",{"$f":"IF('IMPORTED DATA'!C427<>\"\",'IMPORTED DATA'!C427,IF('IMPORTED DATA'!P142<>\"\",'IMPORTED DATA'!P142,\"\"))","v":""},null,null,null,null,null,null,null,null,{"$f":"IF('IMPORTED DATA'!D427<>0,'IMPORTED DATA'!D427,\"\")","v":""}]
[]
[]
[null,null,null,null,null,null,null,null,"Action Item",{"$f":"IF('IMPORTED DATA'!C428<>\"\",'IMPORTED DATA'!C428,IF('IMPORTED DATA'!P143<>\"\",'IMPORTED DATA'!P143,\"\"))","v":""},null,null,null,null,null,null,null,null,{"$f":"IF('IMPORTED DATA'!D428<>0,'IMPORTED DATA'!D428,\"\")","v":""}]
[]
[]
[null,null,null,null,null,null,"Strategic Element",null,null,null,null,null,null,null,null,null,null,null,"Include"]
[null,null,null,null,null,null,"Objective",{"$f":"IF('IMPORTED DATA'!C429<>\"\",'IMPORTED DATA'!C429,IF('IMPORTED DATA'!P144<>\"\",'IMPORTED DATA'!P144,\"\"))","v":""},null,null,null,null,null,null,null,null,null,null,{"$f":"IF('IMPORTED DATA'!D429<>0,'IMPORTED DATA'!D429,\"\")","v":""}]
[]
[]
[null,null,null,null,null,null,null,null,"Action Item",{"$f":"IF('IMPORTED DATA'!C430<>\"\",'IMPORTED DATA'!C430,IF('IMPORTED DATA'!P145<>\"\",'IMPORTED DATA'!P145,\"\"))","v":""},null,null,null,null,null,null,null,null,{"$f":"IF('IMPORTED DATA'!D430<>0,'IMPORTED DATA'!D430,\"\")","v":""}]
[]
[]
[null,null,null,null,null,null,null,null,"Action Item",{"$f":"IF('IMPORTED DATA'!C431<>\"\",'IMPORTED DATA'!C431,IF('IMPORTED DATA'!P146<>\"\",'IMPORTED DATA'!P146,\"\"))","v":""},null,null,null,null,null,null,null,null,{"$f":"IF('IMPORTED DATA'!D431<>0,'IMPORTED DATA'!D431,\"\")","v":""}]
[]
[]
[null,null,null,null,null,null,null,null,"Action Item",{"$f":"IF('IMPORTED DATA'!C432<>\"\",'IMPORTED DATA'!C432,IF('IMPORTED DATA'!P147<>\"\",'IMPORTED DATA'!P147,\"\"))","v":""},null,null,null,null,null,null,null,null,{"$f":"IF('IMPORTED DATA'!D432<>0,'IMPORTED DATA'!D432,\"\")","v":""}]
[]
[]
[null,null,null,null,null,null,null,null,"Action Item",{"$f":"IF('IMPORTED DATA'!C433<>\"\",'IMPORTED DATA'!C433,IF('IMPORTED DATA'!P148<>\"\",'IMPORTED DATA'!P148,\"\"))","v":""},null,null,null,null,null,null,null,null,{"$f":"IF('IMPORTED DATA'!D433<>0,'IMPORTED DATA'!D433,\"\")","v":""}]
[]
[]
[null,null,null,null,null,null,null,null,"Action Item",{"$f":"IF('IMPORTED DATA'!C434<>\"\",'IMPORTED DATA'!C434,IF('IMPORTED DATA'!P149<>\"\",'IMPORTED DATA'!P149,\"\"))","v":""},null,null,null,null,null,null,null,null,{"$f":"IF('IMPORTED DATA'!D434<>0,'IMPORTED DATA'!D434,\"\")","v":""}]
[]
[]
[null,null,null,null,null,null,"Strategic Element",null,null,null,null,null,null,null,null,null,null,null,"Include"]
[null,null,null,null,null,null,"Objective",{"$f":"IF('IMPORTED DATA'!C435<>\"\",'IMPORTED DATA'!C435,IF('IMPORTED DATA'!P150<>\"\",'IMPORTED DATA'!P150,\"\"))","v":""},null,null,null,null,null,null,null,null,null,null,{"$f":"IF('IMPORTED DATA'!D435<>0,'IMPORTED DATA'!D435,\"\")","v":""}]
[]
[]
[null,null,null,null,null,null,null,null,"Action Item",{"$f":"IF('IMPORTED DATA'!C436<>\"\",'IMPORTED DATA'!C436,IF('IMPORTED DATA'!P151<>\"\",'IMPORTED DATA'!P151,\"\"))","v":""},null,null,null,null,null,null,null,null,{"$f":"IF('IMPORTED DATA'!D436<>0,'IMPORTED DATA'!D436,\"\")","v":""}]
[]
[]
[null,null,null,null,null,null,null,null,"Action Item",{"$f":"IF('IMPORTED DATA'!C437<>\"\",'IMPORTED DATA'!C437,IF('IMPORTED DATA'!P152<>\"\",'IMPORTED DATA'!P152,\"\"))","v":""},null,null,null,null,null,null,null,null,{"$f":"IF('IMPORTED DATA'!D437<>0,'IMPORTED DATA'!D437,\"\")","v":""}]
[]
[]
[null,null,null,null,null,null,null,null,"Action Item",{"$f":"IF('IMPORTED DATA'!C438<>\"\",'IMPORTED DATA'!C438,IF('IMPORTED DATA'!P153<>\"\",'IMPORTED DATA'!P153,\"\"))","v":""},null,null,null,null,null,null,null,null,{"$f":"IF('IMPORTED DATA'!D438<>0,'IMPORTED DATA'!D438,\"\")","v":""}]
[]
[]
[null,null,null,null,null,null,null,null,"Action Item",{"$f":"IF('IMPORTED DATA'!C439<>\"\",'IMPORTED DATA'!C439,IF('IMPORTED DATA'!P154<>\"\",'IMPORTED DATA'!P154,\"\"))","v":""},null,null,null,null,null,null,null,null,{"$f":"IF('IMPORTED DATA'!D439<>0,'IMPORTED DATA'!D439,\"\")","v":""}]
[]
[]
[null,null,null,null,null,null,null,null,"Action Item",{"$f":"IF('IMPORTED DATA'!C440<>\"\",'IMPORTED DATA'!C440,IF('IMPORTED DATA'!P155<>\"\",'IMPORTED DATA'!P155,\"\"))","v":""},null,null,null,null,null,null,null,null,{"$f":"IF('IMPORTED DATA'!D440<>0,'IMPORTED DATA'!D440,\"\")","v":""}]
[]
[]
[null,null,null,null,null,null,"Strategic Element",null,null,null,null,null,null,null,null,null,null,null,"Include"]
[null,null,null,null,null,null,"Objective",{"$f":"IF('IMPORTED DATA'!C441<>\"\",'IMPORTED DATA'!C441,IF('IMPORTED DATA'!P156<>\"\",'IMPORTED DATA'!P156,\"\"))","v":""},null,null,null,null,null,null,null,null,null,null,{"$f":"IF('IMPORTED DATA'!D441<>0,'IMPORTED DATA'!D441,\"\")","v":""}]
[]
[]
[null,null,null,null,null,null,null,null,"Action Item",{"$f":"IF('IMPORTED DATA'!C442<>\"\",'IMPORTED DATA'!C442,IF('IMPORTED DATA'!P157<>\"\",'IMPORTED DATA'!P157,\"\"))","v":""},null,null,null,null,null,null,null,null,{"$f":"IF('IMPORTED DATA'!D442<>0,'IMPORTED DATA'!D442,\"\")","v":""}]
[]
[]
[null,null,null,null,null,null,null,null,"Action Item",{"$f":"IF('IMPORTED DATA'!C443<>\"\",'IMPORTED DATA'!C443,IF('IMPORTED DATA'!P158<>\"\",'IMPORTED DATA'!P158,\"\"))","v":""},null,null,null,null,null,null,null,null,{"$f":"IF('IMPORTED DATA'!D443<>0,'IMPORTED DATA'!D443,\"\")","v":""}]
[]
[]
[null,null,null,null,null,null,null,null,"Action Item",{"$f":"IF('IMPORTED DATA'!C444<>\"\",'IMPORTED DATA'!C444,IF('IMPORTED DATA'!P159<>\"\",'IMPORTED DATA'!P159,\"\"))","v":""},null,null,null,null,null,null,null,null,{"$f":"IF('IMPORTED DATA'!D444<>0,'IMPORTED DATA'!D444,\"\")","v":""}]
[]
[]
[null,null,null,null,null,null,null,null,"Action Item",{"$f":"IF('IMPORTED DATA'!C445<>\"\",'IMPORTED DATA'!C445,IF('IMPORTED DATA'!P160<>\"\",'IMPORTED DATA'!P160,\"\"))","v":""},null,null,null,null,null,null,null,null,{"$f":"IF('IMPORTED DATA'!D445<>0,'IMPORTED DATA'!D445,\"\")","v":""}]
[]
[]
[null,null,null,null,null,null,null,null,"Action Item",{"$f":"IF('IMPORTED DATA'!C446<>\"\",'IMPORTED DATA'!C446,IF('IMPORTED DATA'!P161<>\"\",'IMPORTED DATA'!P161,\"\"))","v":""},null,null,null,null,null,null,null,null,{"$f":"IF('IMPORTED DATA'!D446<>0,'IMPORTED DATA'!D446,\"\")","v":""}]
[]
[]
[null,null,null,null,null,null,"Strategic Element",null,null,null,null,null,null,null,null,null,null,null,"Include"]
[null,null,null,null,null,null,"Objective",{"$f":"IF('IMPORTED DATA'!C447<>\"\",'IMPORTED DATA'!C447,IF('IMPORTED DATA'!P162<>\"\",'IMPORTED DATA'!P162,\"\"))","v":""},null,null,null,null,null,null,null,null,null,null,{"$f":"IF('IMPORTED DATA'!D447<>0,'IMPORTED DATA'!D447,\"\")","v":""}]
[]
[]
[null,null,null,null,null,null,null,null,"Action Item",{"$f":"IF('IMPORTED DATA'!C448<>\"\",'IMPORTED DATA'!C448,IF('IMPORTED DATA'!P163<>\"\",'IMPORTED DATA'!P163,\"\"))","v":""},null,null,null,null,null,null,null,null,{"$f":"IF('IMPORTED DATA'!D448<>0,'IMPORTED DATA'!D448,\"\")","v":""}]
[]
[]
[null,null,null,null,null,null,null,null,"Action Item",{"$f":"IF('IMPORTED DATA'!C449<>\"\",'IMPORTED DATA'!C449,IF('IMPORTED DATA'!P164<>\"\",'IMPORTED DATA'!P164,\"\"))","v":""},null,null,null,null,null,null,null,null,{"$f":"IF('IMPORTED DATA'!D449<>0,'IMPORTED DATA'!D449,\"\")","v":""}]
[]
[]
[null,null,null,null,null,null,null,null,"Action Item",{"$f":"IF('IMPORTED DATA'!C450<>\"\",'IMPORTED DATA'!C450,IF('IMPORTED DATA'!P165<>\"\",'IMPORTED DATA'!P165,\"\"))","v":""},null,null,null,null,null,null,null,null,{"$f":"IF('IMPORTED DATA'!D450<>0,'IMPORTED DATA'!D450,\"\")","v":""}]
[]
[]
[null,null,null,null,null,null,null,null,"Action Item",{"$f":"IF('IMPORTED DATA'!C451<>\"\",'IMPORTED DATA'!C451,IF('IMPORTED DATA'!P166<>\"\",'IMPORTED DATA'!P166,\"\"))","v":""},null,null,null,null,null,null,null,null,{"$f":"IF('IMPORTED DATA'!D451<>0,'IMPORTED DATA'!D451,\"\")","v":""}]
[]
[]
[null,null,null,null,null,null,null,null,"Action Item",{"$f":"IF('IMPORTED DATA'!C452<>\"\",'IMPORTED DATA'!C452,IF('IMPORTED DATA'!P167<>\"\",'IMPORTED DATA'!P167,\"\"))","v":""},null,null,null,null,null,null,null,null,{"$f":"IF('IMPORTED DATA'!D452<>0,'IMPORTED DATA'!D452,\"\")","v":""}]
[]
[]
[null,null,null,null,null,null,"Strategic Element",null,null,null,null,null,null,null,null,null,null,null,"Include"]
[null,null,null,null,null,null,"Objective",{"$f":"IF('IMPORTED DATA'!C453<>\"\",'IMPORTED DATA'!C453,IF('IMPORTED DATA'!P168<>\"\",'IMPORTED DATA'!P168,\"\"))","v":""},null,null,null,null,null,null,null,null,null,null,{"$f":"IF('IMPORTED DATA'!D453<>0,'IMPORTED DATA'!D453,\"\")","v":""}]
[]
[]
[null,null,null,null,null,null,null,null,"Action Item",{"$f":"IF('IMPORTED DATA'!C454<>\"\",'IMPORTED DATA'!C454,IF('IMPORTED DATA'!P169<>\"\",'IMPORTED DATA'!P169,\"\"))","v":""},null,null,null,null,null,null,null,null,{"$f":"IF('IMPORTED DATA'!D454<>0,'IMPORTED DATA'!D454,\"\")","v":""}]
[]
[]
[null,null,null,null,null,null,null,null,"Action Item",{"$f":"IF('IMPORTED DATA'!C455<>\"\",'IMPORTED DATA'!C455,IF('IMPORTED DATA'!P170<>\"\",'IMPORTED DATA'!P170,\"\"))","v":""},null,null,null,null,null,null,null,null,{"$f":"IF('IMPORTED DATA'!D455<>0,'IMPORTED DATA'!D455,\"\")","v":""}]
[]
[]
[null,null,null,null,null,null,null,null,"Action Item",{"$f":"IF('IMPORTED DATA'!C456<>\"\",'IMPORTED DATA'!C456,IF('IMPORTED DATA'!P171<>\"\",'IMPORTED DATA'!P171,\"\"))","v":""},null,null,null,null,null,null,null,null,{"$f":"IF('IMPORTED DATA'!D456<>0,'IMPORTED DATA'!D456,\"\")","v":""}]
[]
[]
[null,null,null,null,null,null,null,null,"Action Item",{"$f":"IF('IMPORTED DATA'!C457<>\"\",'IMPORTED DATA'!C457,IF('IMPORTED DATA'!P172<>\"\",'IMPORTED DATA'!P172,\"\"))","v":""},null,null,null,null,null,null,null,null,{"$f":"IF('IMPORTED DATA'!D457<>0,'IMPORTED DATA'!D457,\"\")","v":""}]
[]
[]
[null,null,null,null,null,null,null,null,"Action Item",{"$f":"IF('IMPORTED DATA'!C458<>\"\",'IMPORTED DATA'!C458,IF('IMPORTED DATA'!P173<>\"\",'IMPORTED DATA'!P173,\"\"))","v":""},null,null,null,null,null,null,null,null,{"$f":"IF('IMPORTED DATA'!D458<>0,'IMPORTED DATA'!D458,\"\")","v":""}]
[]
[]
[null,null,null,null,null,null,"Strategic Element",null,null,null,null,null,null,null,null,null,null,null,"Include"]
[null,null,null,null,null,null,"Objective",{"$f":"IF('IMPORTED DATA'!C459<>\"\",'IMPORTED DATA'!C459,IF('IMPORTED DATA'!P174<>\"\",'IMPORTED DATA'!P174,\"\"))","v":""},null,null,null,null,null,null,null,null,null,null,{"$f":"IF('IMPORTED DATA'!D459<>0,'IMPORTED DATA'!D459,\"\")","v":""}]
[]
[]
[null,null,null,null,null,null,null,null,"Action Item",{"$f":"IF('IMPORTED DATA'!C460<>\"\",'IMPORTED DATA'!C460,IF('IMPORTED DATA'!P175<>\"\",'IMPORTED DATA'!P175,\"\"))","v":""},null,null,null,null,null,null,null,null,{"$f":"IF('IMPORTED DATA'!D460<>0,'IMPORTED DATA'!D460,\"\")","v":""}]
[]
[]
[null,null,null,null,null,null,null,null,"Action Item",{"$f":"IF('IMPORTED DATA'!C461<>\"\",'IMPORTED DATA'!C461,IF('IMPORTED DATA'!P176<>\"\",'IMPORTED DATA'!P176,\"\"))","v":""},null,null,null,null,null,null,null,null,{"$f":"IF('IMPORTED DATA'!D461<>0,'IMPORTED DATA'!D461,\"\")","v":""}]
[]
[]
[null,null,null,null,null,null,null,null,"Action Item",{"$f":"IF('IMPORTED DATA'!C462<>\"\",'IMPORTED DATA'!C462,IF('IMPORTED DATA'!P177<>\"\",'IMPORTED DATA'!P177,\"\"))","v":""},null,null,null,null,null,null,null,null,{"$f":"IF('IMPORTED DATA'!D462<>0,'IMPORTED DATA'!D462,\"\")","v":""}]
[]
[]
[null,null,null,null,null,null,null,null,"Action Item",{"$f":"IF('IMPORTED DATA'!C463<>\"\",'IMPORTED DATA'!C463,IF('IMPORTED DATA'!P178<>\"\",'IMPORTED DATA'!P178,\"\"))","v":""},null,null,null,null,null,null,null,null,{"$f":"IF('IMPORTED DATA'!D463<>0,'IMPORTED DATA'!D463,\"\")","v":""}]
[]
[]
[null,null,null,null,null,null,null,null,"Action Item",{"$f":"IF('IMPORTED DATA'!C464<>\"\",'IMPORTED DATA'!C464,IF('IMPORTED DATA'!P179<>\"\",'IMPORTED DATA'!P179,\"\"))","v":""},null,null,null,null,null,null,null,null,{"$f":"IF('IMPORTED DATA'!D464<>0,'IMPORTED DATA'!D464,\"\")","v":""}]
[]
[]
[null,null,null,null,null,null,"Strategic Element",null,null,null,null,null,null,null,null,null,null,null,"Include"]
[null,null,null,null,null,null,"Objective",{"$f":"IF('IMPORTED DATA'!C465<>\"\",'IMPORTED DATA'!C465,IF('IMPORTED DATA'!P180<>\"\",'IMPORTED DATA'!P180,\"\"))","v":""},null,null,null,null,null,null,null,null,null,null,{"$f":"IF('IMPORTED DATA'!D465<>0,'IMPORTED DATA'!D465,\"\")","v":""}]
[]
[]
[null,null,null,null,null,null,null,null,"Action Item",{"$f":"IF('IMPORTED DATA'!C466<>\"\",'IMPORTED DATA'!C466,IF('IMPORTED DATA'!P181<>\"\",'IMPORTED DATA'!P181,\"\"))","v":""},null,null,null,null,null,null,null,null,{"$f":"IF('IMPORTED DATA'!D466<>0,'IMPORTED DATA'!D466,\"\")","v":""}]
[]
[]
[null,null,null,null,null,null,null,null,"Action Item",{"$f":"IF('IMPORTED DATA'!C467<>\"\",'IMPORTED DATA'!C467,IF('IMPORTED DATA'!P182<>\"\",'IMPORTED DATA'!P182,\"\"))","v":""},null,null,null,null,null,null,null,null,{"$f":"IF('IMPORTED DATA'!D467<>0,'IMPORTED DATA'!D467,\"\")","v":""}]
[]
[]
[null,null,null,null,null,null,null,null,"Action Item",{"$f":"IF('IMPORTED DATA'!C468<>\"\",'IMPORTED DATA'!C468,IF('IMPORTED DATA'!P183<>\"\",'IMPORTED DATA'!P183,\"\"))","v":""},null,null,null,null,null,null,null,null,{"$f":"IF('IMPORTED DATA'!D468<>0,'IMPORTED DATA'!D468,\"\")","v":""}]
[]
[]
[null,null,null,null,null,null,null,null,"Action Item",{"$f":"IF('IMPORTED DATA'!C469<>\"\",'IMPORTED DATA'!C469,IF('IMPORTED DATA'!P184<>\"\",'IMPORTED DATA'!P184,\"\"))","v":""},null,null,null,null,null,null,null,null,{"$f":"IF('IMPORTED DATA'!D469<>0,'IMPORTED DATA'!D469,\"\")","v":""}]
[]
[]
[null,null,null,null,null,null,null,null,"Action Item",{"$f":"IF('IMPORTED DATA'!C470<>\"\",'IMPORTED DATA'!C470,IF('IMPORTED DATA'!P185<>\"\",'IMPORTED DATA'!P185,\"\"))","v":""},null,null,null,null,null,null,null,null,{"$f":"IF('IMPORTED DATA'!D470<>0,'IMPORTED DATA'!D470,\"\")","v":""}]
[]
[]
[]
[]
[null,null,null,null,null,{"$f":"'IMPORTED DATA'!C476","v":0},null,null,null,null,null,null,null,null,null,null,null,{"$f":"'IMPORTED DATA'!D476","v":0}]
[null,null,null,null,null,{"$f":"'IMPORTED DATA'!C477","v":0},null,null,null,null,null,null,null,null,null,null,null,{"$f":"'IMPORTED DATA'!D477","v":0}]
[null,null,null,null,null,{"$f":"'IMPORTED DATA'!C478","v":0},null,null,null,null,null,null,null,null,null,null,null,{"$f":"'IMPORTED DATA'!D478","v":0}]
[null,null,null,null,null,{"$f":"'IMPORTED DATA'!C479","v":0},null,null,null,null,null,null,null,null,null,null,null,{"$f":"'IMPORTED DATA'!D479","v":0}]
[null,null,null,null,null,{"$f":"'IMPORTED DATA'!C480","v":0},null,null,null,null,null,null,null,null,null,null,null,{"$f":"'IMPORTED DATA'!D480","v":0}]
[null,null,null,null,null,{"$f":"'IMPORTED DATA'!C481","v":0},null,null,null,null,null,null,null,null,null,null,null,{"$f":"'IMPORTED DATA'!D481","v":0}]
[null,null,null,null,null,{"$f":"'IMPORTED DATA'!C482","v":0},null,null,null,null,null,null,null,null,null,null,null,{"$f":"'IMPORTED DATA'!D482","v":0}]
[null,null,null,null,null,{"$f":"'IMPORTED DATA'!C483","v":0},null,null,null,null,null,null,null,null,null,null,null,{"$f":"'IMPORTED DATA'!D483","v":0}]
[null,null,null,null,null,{"$f":"'IMPORTED DATA'!C484","v":0},null,null,null,null,null,null,null,null,null,null,null,{"$f":"'IMPORTED DATA'!D484","v":0}]
[null,null,null,null,null,{"$f":"'IMPORTED DATA'!C485","v":0},null,null,null,null,null,null,null,null,null,null,null,{"$f":"'IMPORTED DATA'!D485","v":0}]
[]
[null,null,null,null,null,null,null,{"$f":"'IMPORTED DATA'!C486","v":0},null,{"$f":"'IMPORTED DATA'!C487","v":0},null,{"$f":"'IMPORTED DATA'!C488","v":0},null,{"$f":"'IMPORTED DATA'!C489","v":0},null,{"$f":"'IMPORTED DATA'!C490","v":0},null,{"$f":"'IMPORTED DATA'!C491","v":0}]
[]
[]
[null,null,null,null,null,{"$f":"'IMPORTED DATA'!C492","v":0}]
[]
[]
[]
[]
[null,null,null,null,null,null,null,null,null,null,null,null,null,null,null,null,{"$f":"IF('IMPORTED DATA'!C504=\"\",\"\",'IMPORTED DATA'!C504)","v":""}]

{"sheet":"DATA EXPORT","index":11,"n_rows":167,"n_cols":18,"rows_kept":167,"cut":false,"hidden":true,"merged":[[5,2,7,16],[8,2,9,16]]}
[]
[]
[]
[]
[]
[null,null,"DATA EXPORT"]
[]
[]
[null,null,"The Data Export tab compilies information on this tool to be imported to other tools or templates."]
[]
[]
[]
["Agency Name",{"$f":"IF('BUILD ASSESSMENT'!J22=\"\",\"\",'BUILD ASSESSMENT'!J22)","v":""},null,null,null,"Position","Working Title","Assessor","Generated","Imported",null,"Position Number","Internal Department","Sub-Agency/Division","Line of Service","Location","EEO Code","Classification"]
["Secretariate",{"$f":"IF('BUILD ASSESSMENT'!J23=\"\",\"\",'BUILD ASSESSMENT'!J23)","v":""},null,null,null,{"$f":"IF('DATA COLLECTION'!B42=\"\",\"\",'DATA COLLECTION'!B42)","v":""},{"$f":"IF('DATA COLLECTION'!D42=\"\",\"\",'DATA COLLECTION'!D42)","v":""},{"$f":"IF('DATA COLLECTION'!J42=\"\",\"\",'DATA COLLECTION'!J42)","v":""},{"$f":"IF('DATA COLLECTION'!M42=\"\",\"\",'DATA COLLECTION'!M42)","v":""},{"$f":"IF('DATA COLLECTION'!O42=\"\",\"\",'DATA COLLECTION'!O42)","v":""},null,{"$f":"IF('DATA COLLECTION'!C161=\"\",\"\",'DATA COLLECTION'!C161)","v":""},{"$f":"IF('DATA COLLECTION'!E161=\"\",\"\",'DATA COLLECTION'!E161)","v":""},{"$f":"IF('DATA COLLECTION'!G161=\"\",\"\",'DATA COLLECTION'!G161)","v":""},{"$f":"IF('DATA COLLECTION'!I161=\"\",\"\",'DATA COLLECTION'!I161)","v":""},{"$f":"IF('DATA COLLECTION'!K161=\"\",\"\",'DATA COLLECTION'!K161)","v":""},{"$f":"IF('DATA COLLECTION'!M161=\"\",\"\",'DATA COLLECTION'!M161)","v":""},{"$f":"IF('DATA COLLECTION'!O161=\"\",\"\",'DATA COLLECTION'!O161)","v":""}]
["Agency Number",{"$f":"'BUILD ASSESSMENT'!P24","v":""},null,null,null,{"$f":"IF('DATA COLLECTION'!B43=\"\",\"\",'DATA COLLECTION'!B43)","v":""},{"$f":"IF('DATA COLLECTION'!D43=\"\",\"\",'DATA COLLECTION'!D43)","v":""},{"$f":"IF('DATA COLLECTION'!J43=\"\",\"\",'DATA COLLECTION'!J43)","v":""},{"$f":"IF('DATA COLLECTION'!M43=\"\",\"\",'DATA COLLECTION'!M43)","v":""},{"$f":"IF('DATA COLLECTION'!O43=\"\",\"\",'DATA COLLECTION'!O43)","v":""},null,{"$f":"IF('DATA COLLECTION'!C162=\"\",\"\",'DATA COLLECTION'!C162)","v":""},{"$f":"IF('DATA COLLECTION'!E162=\"\",\"\",'DATA COLLECTION'!E162)","v":""},{"$f":"IF('DATA COLLECTION'!G162=\"\",\"\",'DATA COLLECTION'!G162)","v":""},{"$f":"IF('DATA COLLECTION'!I162=\"\",\"\",'DATA COLLECTION'!I162)","v":""},{"$f":"IF('DATA COLLECTION'!K162=\"\",\"\",'DATA COLLECTION'!K162)","v":""},{"$f":"IF('DATA COLLECTION'!M162=\"\",\"\",'DATA COLLECTION'!M162)","v":""},{"$f":"IF('DATA COLLECTION'!O162=\"\",\"\",'DATA COLLECTION'!O162)","v":""}]
["Agency Mission",{"$f":"IF('BUILD ASSESSMENT'!E25=\"\",\"\",'BUILD ASSESSMENT'!E25)","v":""},null,null,null,{"$f":"IF('DATA COLLECTION'!B44=\"\",\"\",'DATA COLLECTION'!B44)","v":""},{"$f":"IF('DATA COLLECTION'!D44=\"\",\"\",'DATA COLLECTION'!D44)","v":""},{"$f":"IF('DATA COLLECTION'!J44=\"\",\"\",'DATA COLLECTION'!J44)","v":""},{"$f":"IF('DATA COLLECTION'!M44=\"\",\"\",'DATA COLLECTION'!M44)","v":""},{"$f":"IF('DATA COLLECTION'!O44=\"\",\"\",'DATA COLLECTION'!O44)","v":""},null,{"$f":"IF('DATA COLLECTION'!C163=\"\",\"\",'DATA COLLECTION'!C163)","v":""},{"$f":"IF('DATA COLLECTION'!E163=\"\",\"\",'DATA COLLECTION'!E163)","v":""},{"$f":"IF('DATA COLLECTION'!G163=\"\",\"\",'DATA COLLECTION'!G163)","v":""},{"$f":"IF('DATA COLLECTION'!I163=\"\",\"\",'DATA COLLECTION'!I163)","v":""},{"$f":"IF('DATA COLLECTION'!K163=\"\",\"\",'DATA COLLECTION'!K163)","v":""},{"$f":"IF('DATA COLLECTION'!M163=\"\",\"\",'DATA COLLECTION'!M163)","v":""},{"$f":"IF('DATA COLLECTION'!O163=\"\",\"\",'DATA COLLECTION'!O163)","v":""}]
["What is the likelihood the position will become vacant within 1 year?",{"$f":"IF('BUILD ASSESSMENT'!P46=\"\",\"\",'BUILD ASSESSMENT'!P46)","v":""},null,null,null,{"$f":"IF('DATA COLLECTION'!B45=\"\",\"\",'DATA COLLECTION'!B45)","v":""},{"$f":"IF('DATA COLLECTION'!D45=\"\",\"\",'DATA COLLECTION'!D45)","v":""},{"$f":"IF('DATA COLLECTION'!J45=\"\",\"\",'DATA COLLECTION'!J45)","v":""},{"$f":"IF('DATA COLLECTION'!M45=\"\",\"\",'DATA COLLECTION'!M45)","v":""},{"$f":"IF('DATA COLLECTION'!O45=\"\",\"\",'DATA COLLECTION'!O45)","v":""},null,{"$f":"IF('DATA COLLECTION'!C164=\"\",\"\",'DATA COLLECTION'!C164)","v":""},{"$f":"IF('DATA COLLECTION'!E164=\"\",\"\",'DATA COLLECTION'!E164)","v":""},{"$f":"IF('DATA COLLECTION'!G164=\"\",\"\",'DATA COLLECTION'!G164)","v":""},{"$f":"IF('DATA COLLECTION'!I164=\"\",\"\",'DATA COLLECTION'!I164)","v":""},{"$f":"IF('DATA COLLECTION'!K164=\"\",\"\",'DATA COLLECTION'!K164)","v":""},{"$f":"IF('DATA COLLECTION'!M164=\"\",\"\",'DATA COLLECTION'!M164)","v":""},{"$f":"IF('DATA COLLECTION'!O164=\"\",\"\",'DATA COLLECTION'!O164)","v":""}]
["What is the likelihood the position will become vacant within 5 years?",{"$f":"IF('BUILD ASSESSMENT'!P47=\"\",\"\",'BUILD ASSESSMENT'!P47)","v":""},null,null,null,{"$f":"IF('DATA COLLECTION'!B46=\"\",\"\",'DATA COLLECTION'!B46)","v":""},{"$f":"IF('DATA COLLECTION'!D46=\"\",\"\",'DATA COLLECTION'!D46)","v":""},{"$f":"IF('DATA COLLECTION'!J46=\"\",\"\",'DATA COLLECTION'!J46)","v":""},{"$f":"IF('DATA COLLECTION'!M46=\"\",\"\",'DATA COLLECTION'!M46)","v":""},{"$f":"IF('DATA COLLECTION'!O46=\"\",\"\",'DATA COLLECTION'!O46)","v":""},null,{"$f":"IF('DATA COLLECTION'!C165=\"\",\"\",'DATA COLLECTION'!C165)","v":""},{"$f":"IF('DATA COLLECTION'!E165=\"\",\"\",'DATA COLLECTION'!E165)","v":""},{"$f":"IF('DATA COLLECTION'!G165=\"\",\"\",'DATA COLLECTION'!G165)","v":""},{"$f":"IF('DATA COLLECTION'!I165=\"\",\"\",'DATA COLLECTION'!I165)","v":""},{"$f":"IF('DATA COLLECTION'!K165=\"\",\"\",'DATA COLLECTION'!K165)","v":""},{"$f":"IF('DATA COLLECTION'!M165=\"\",\"\",'DATA COLLECTION'!M165)","v":""},{"$f":"IF('DATA COLLECTION'!O165=\"\",\"\",'DATA COLLECTION'!O165)","v":""}]
["Is the incumbent currently eligible to retire? ",{"$f":"IF('BUILD ASSESSMENT'!P48=\"\",\"\",'BUILD ASSESSMENT'!P48)","v":""},null,null,null,{"$f":"IF('DATA COLLECTION'!B47=\"\",\"\",'DATA COLLECTION'!B47)","v":""},{"$f":"IF('DATA COLLECTION'!D47=\"\",\"\",'DATA COLLECTION'!D47)","v":""},{"$f":"IF('DATA COLLECTION'!J47=\"\",\"\",'DATA COLLECTION'!J47)","v":""},{"$f":"IF('DATA COLLECTION'!M47=\"\",\"\",'DATA COLLECTION'!M47)","v":""},{"$f":"IF('DATA COLLECTION'!O47=\"\",\"\",'DATA COLLECTION'!O47)","v":""},null,{"$f":"IF('DATA COLLECTION'!C166=\"\",\"\",'DATA COLLECTION'!C166)","v":""},{"$f":"IF('DATA COLLECTION'!E166=\"\",\"\",'DATA COLLECTION'!E166)","v":""},{"$f":"IF('DATA COLLECTION'!G166=\"\",\"\",'DATA COLLECTION'!G166)","v":""},{"$f":"IF('DATA COLLECTION'!I166=\"\",\"\",'DATA COLLECTION'!I166)","v":""},{"$f":"IF('DATA COLLECTION'!K166=\"\",\"\",'DATA COLLECTION'!K166)","v":""},{"$f":"IF('DATA COLLECTION'!M166=\"\",\"\",'DATA COLLECTION'!M166)","v":""},{"$f":"IF('DATA COLLECTION'!O166=\"\",\"\",'DATA COLLECTION'!O166)","v":""}]
["Will the incumbent be eligible to retire within 5 years?",{"$f":"IF('BUILD ASSESSMENT'!P49=\"\",\"\",'BUILD ASSESSMENT'!P49)","v":""},null,null,null,{"$f":"IF('DATA COLLECTION'!B48=\"\",\"\",'DATA COLLECTION'!B48)","v":""},{"$f":"IF('DATA COLLECTION'!D48=\"\",\"\",'DATA COLLECTION'!D48)","v":""},{"$f":"IF('DATA COLLECTION'!J48=\"\",\"\",'DATA COLLECTION'!J48)","v":""},{"$f":"IF('DATA COLLECTION'!M48=\"\",\"\",'DATA COLLECTION'!M48)","v":""},{"$f":"IF('DATA COLLECTION'!O48=\"\",\"\",'DATA COLLECTION'!O48)","v":""},null,{"$f":"IF('DATA COLLECTION'!C167=\"\",\"\",'DATA COLLECTION'!C167)","v":""},{"$f":"IF('DATA COLLECTION'!E167=\"\",\"\",'DATA COLLECTION'!E167)","v":""},{"$f":"IF('DATA COLLECTION'!G167=\"\",\"\",'DATA COLLECTION'!G167)","v":""},{"$f":"IF('DATA COLLECTION'!I167=\"\",\"\",'DATA COLLECTION'!I167)","v":""},{"$f":"IF('DATA COLLECTION'!K167=\"\",\"\",'DATA COLLECTION'!K167)","v":""},{"$f":"IF('DATA COLLECTION'!M167=\"\",\"\",'DATA COLLECTION'!M167)","v":""},{"$f":"IF('DATA COLLECTION'!O167=\"\",\"\",'DATA COLLECTION'!O167)","v":""}]
["Is this a single incumbent position?",{"$f":"IF('BUILD ASSESSMENT'!P50=\"\",\"\",'BUILD ASSESSMENT'!P50)","v":""},null,null,null,{"$f":"IF('DATA COLLECTION'!B49=\"\",\"\",'DATA COLLECTION'!B49)","v":""},{"$f":"IF('DATA COLLECTION'!D49=\"\",\"\",'DATA COLLECTION'!D49)","v":""},{"$f":"IF('DATA COLLECTION'!J49=\"\",\"\",'DATA COLLECTION'!J49)","v":""},{"$f":"IF('DATA COLLECTION'!M49=\"\",\"\",'DATA COLLECTION'!M49)","v":""},{"$f":"IF('DATA COLLECTION'!O49=\"\",\"\",'DATA COLLECTION'!O49)","v":""},null,{"$f":"IF('DATA COLLECTION'!C168=\"\",\"\",'DATA COLLECTION'!C168)","v":""},{"$f":"IF('DATA COLLECTION'!E168=\"\",\"\",'DATA COLLECTION'!E168)","v":""},{"$f":"IF('DATA COLLECTION'!G168=\"\",\"\",'DATA COLLECTION'!G168)","v":""},{"$f":"IF('DATA COLLECTION'!I168=\"\",\"\",'DATA COLLECTION'!I168)","v":""},{"$f":"IF('DATA COLLECTION'!K168=\"\",\"\",'DATA COLLECTION'!K168)","v":""},{"$f":"IF('DATA COLLECTION'!M168=\"\",\"\",'DATA COLLECTION'!M168)","v":""},{"$f":"IF('DATA COLLECTION'!O168=\"\",\"\",'DATA COLLECTION'!O168)","v":""}]
["What is the degree of turnover this position has experienced in the past?",{"$f":"IF('BUILD ASSESSMENT'!P51=\"\",\"\",'BUILD ASSESSMENT'!P51)","v":""},null,null,null,{"$f":"IF('DATA COLLECTION'!B50=\"\",\"\",'DATA COLLECTION'!B50)","v":""},{"$f":"IF('DATA COLLECTION'!D50=\"\",\"\",'DATA COLLECTION'!D50)","v":""},{"$f":"IF('DATA COLLECTION'!J50=\"\",\"\",'DATA COLLECTION'!J50)","v":""},{"$f":"IF('DATA COLLECTION'!M50=\"\",\"\",'DATA COLLECTION'!M50)","v":""},{"$f":"IF('DATA COLLECTION'!O50=\"\",\"\",'DATA COLLECTION'!O50)","v":""},null,{"$f":"IF('DATA COLLECTION'!C169=\"\",\"\",'DATA COLLECTION'!C169)","v":""},{"$f":"IF('DATA COLLECTION'!E169=\"\",\"\",'DATA COLLECTION'!E169)","v":""},{"$f":"IF('DATA COLLECTION'!G169=\"\",\"\",'DATA COLLECTION'!G169)","v":""},{"$f":"IF('DATA COLLECTION'!I169=\"\",\"\",'DATA COLLECTION'!I169)","v":""},{"$f":"IF('DATA COLLECTION'!K169=\"\",\"\",'DATA COLLECTION'!K169)","v":""},{"$f":"IF('DATA COLLECTION'!M169=\"\",\"\",'DATA COLLECTION'!M169)","v":""},{"$f":"IF('DATA COLLECTION'!O169=\"\",\"\",'DATA COLLECTION'!O169)","v":""}]
["What is the degree of external candidate availability for this position?",{"$f":"IF('BUILD ASSESSMENT'!P60=\"\",\"\",'BUILD ASSESSMENT'!P60)","v":""},null,null,null,{"$f":"IF('DATA COLLECTION'!B51=\"\",\"\",'DATA COLLECTION'!B51)","v":""},{"$f":"IF('DATA COLLECTION'!D51=\"\",\"\",'DATA COLLECTION'!D51)","v":""},{"$f":"IF('DATA COLLECTION'!J51=\"\",\"\",'DATA COLLECTION'!J51)","v":""},{"$f":"IF('DATA COLLECTION'!M51=\"\",\"\",'DATA COLLECTION'!M51)","v":""},{"$f":"IF('DATA COLLECTION'!O51=\"\",\"\",'DATA COLLECTION'!O51)","v":""},null,{"$f":"IF('DATA COLLECTION'!C170=\"\",\"\",'DATA COLLECTION'!C170)","v":""},{"$f":"IF('DATA COLLECTION'!E170=\"\",\"\",'DATA COLLECTION'!E170)","v":""},{"$f":"IF('DATA COLLECTION'!G170=\"\",\"\",'DATA COLLECTION'!G170)","v":""},{"$f":"IF('DATA COLLECTION'!I170=\"\",\"\",'DATA COLLECTION'!I170)","v":""},{"$f":"IF('DATA COLLECTION'!K170=\"\",\"\",'DATA COLLECTION'!K170)","v":""},{"$f":"IF('DATA COLLECTION'!M170=\"\",\"\",'DATA COLLECTION'!M170)","v":""},{"$f":"IF('DATA COLLECTION'!O170=\"\",\"\",'DATA COLLECTION'!O170)","v":""}]
["What is the degree of recruitment challenges for this position in the past?",{"$f":"IF('BUILD ASSESSMENT'!P61=\"\",\"\",'BUILD ASSESSMENT'!P61)","v":""},null,null,null,{"$f":"IF('DATA COLLECTION'!B52=\"\",\"\",'DATA COLLECTION'!B52)","v":""},{"$f":"IF('DATA COLLECTION'!D52=\"\",\"\",'DATA COLLECTION'!D52)","v":""},{"$f":"IF('DATA COLLECTION'!J52=\"\",\"\",'DATA COLLECTION'!J52)","v":""},{"$f":"IF('DATA COLLECTION'!M52=\"\",\"\",'DATA COLLECTION'!M52)","v":""},{"$f":"IF('DATA COLLECTION'!O52=\"\",\"\",'DATA COLLECTION'!O52)","v":""},null,{"$f":"IF('DATA COLLECTION'!C171=\"\",\"\",'DATA COLLECTION'!C171)","v":""},{"$f":"IF('DATA COLLECTION'!E171=\"\",\"\",'DATA COLLECTION'!E171)","v":""},{"$f":"IF('DATA COLLECTION'!G171=\"\",\"\",'DATA COLLECTION'!G171)","v":""},{"$f":"IF('DATA COLLECTION'!I171=\"\",\"\",'DATA COLLECTION'!I171)","v":""},{"$f":"IF('DATA COLLECTION'!K171=\"\",\"\",'DATA COLLECTION'!K171)","v":""},{"$f":"IF('DATA COLLECTION'!M171=\"\",\"\",'DATA COLLECTION'!M171)","v":""},{"$f":"IF('DATA COLLECTION'!O171=\"\",\"\",'DATA COLLECTION'!O171)","v":""}]
["What is the degree of competition for qualified candidates for this position?",{"$f":"IF('BUILD ASSESSMENT'!P62=\"\",\"\",'BUILD ASSESSMENT'!P62)","v":""},null,null,null,{"$f":"IF('DATA COLLECTION'!B53=\"\",\"\",'DATA COLLECTION'!B53)","v":""},{"$f":"IF('DATA COLLECTION'!D53=\"\",\"\",'DATA COLLECTION'!D53)","v":""},{"$f":"IF('DATA COLLECTION'!J53=\"\",\"\",'DATA COLLECTION'!J53)","v":""},{"$f":"IF('DATA COLLECTION'!M53=\"\",\"\",'DATA COLLECTION'!M53)","v":""},{"$f":"IF('DATA COLLECTION'!O53=\"\",\"\",'DATA COLLECTION'!O53)","v":""},null,{"$f":"IF('DATA COLLECTION'!C172=\"\",\"\",'DATA COLLECTION'!C172)","v":""},{"$f":"IF('DATA COLLECTION'!E172=\"\",\"\",'DATA COLLECTION'!E172)","v":""},{"$f":"IF('DATA COLLECTION'!G172=\"\",\"\",'DATA COLLECTION'!G172)","v":""},{"$f":"IF('DATA COLLECTION'!I172=\"\",\"\",'DATA COLLECTION'!I172)","v":""},{"$f":"IF('DATA COLLECTION'!K172=\"\",\"\",'DATA COLLECTION'!K172)","v":""},{"$f":"IF('DATA COLLECTION'!M172=\"\",\"\",'DATA COLLECTION'!M172)","v":""},{"$f":"IF('DATA COLLECTION'!O172=\"\",\"\",'DATA COLLECTION'!O172)","v":""}]
["What is the degree this position requires unique skills or knowledge?",{"$f":"IF('BUILD ASSESSMENT'!P71=\"\",\"\",'BUILD ASSESSMENT'!P71)","v":""},null,null,null,{"$f":"IF('DATA COLLECTION'!B54=\"\",\"\",'DATA COLLECTION'!B54)","v":""},{"$f":"IF('DATA COLLECTION'!D54=\"\",\"\",'DATA COLLECTION'!D54)","v":""},{"$f":"IF('DATA COLLECTION'!J54=\"\",\"\",'DATA COLLECTION'!J54)","v":""},{"$f":"IF('DATA COLLECTION'!M54=\"\",\"\",'DATA COLLECTION'!M54)","v":""},{"$f":"IF('DATA COLLECTION'!O54=\"\",\"\",'DATA COLLECTION'!O54)","v":""},null,{"$f":"IF('DATA COLLECTION'!C173=\"\",\"\",'DATA COLLECTION'!C173)","v":""},{"$f":"IF('DATA COLLECTION'!E173=\"\",\"\",'DATA COLLECTION'!E173)","v":""},{"$f":"IF('DATA COLLECTION'!G173=\"\",\"\",'DATA COLLECTION'!G173)","v":""},{"$f":"IF('DATA COLLECTION'!I173=\"\",\"\",'DATA COLLECTION'!I173)","v":""},{"$f":"IF('DATA COLLECTION'!K173=\"\",\"\",'DATA COLLECTION'!K173)","v":""},{"$f":"IF('DATA COLLECTION'!M173=\"\",\"\",'DATA COLLECTION'!M173)","v":""},{"$f":"IF('DATA COLLECTION'!O173=\"\",\"\",'DATA COLLECTION'!O173)","v":""}]
["What is the degree specialized knowledge or expertise is required?",{"$f":"IF('BUILD ASSESSMENT'!P72=\"\",\"\",'BUILD ASSESSMENT'!P72)","v":""},null,null,null,{"$f":"IF('DATA COLLECTION'!B55=\"\",\"\",'DATA COLLECTION'!B55)","v":""},{"$f":"IF('DATA COLLECTION'!D55=\"\",\"\",'DATA COLLECTION'!D55)","v":""},{"$f":"IF('DATA COLLECTION'!J55=\"\",\"\",'DATA COLLECTION'!J55)","v":""},{"$f":"IF('DATA COLLECTION'!M55=\"\",\"\",'DATA COLLECTION'!M55)","v":""},{"$f":"IF('DATA COLLECTION'!O55=\"\",\"\",'DATA COLLECTION'!O55)","v":""},null,{"$f":"IF('DATA COLLECTION'!C174=\"\",\"\",'DATA COLLECTION'!C174)","v":""},{"$f":"IF('DATA COLLECTION'!E174=\"\",\"\",'DATA COLLECTION'!E174)","v":""},{"$f":"IF('DATA COLLECTION'!G174=\"\",\"\",'DATA COLLECTION'!G174)","v":""},{"$f":"IF('DATA COLLECTION'!I174=\"\",\"\",'DATA COLLECTION'!I174)","v":""},{"$f":"IF('DATA COLLECTION'!K174=\"\",\"\",'DATA COLLECTION'!K174)","v":""},{"$f":"IF('DATA COLLECTION'!M174=\"\",\"\",'DATA COLLECTION'!M174)","v":""},{"$f":"IF('DATA COLLECTION'!O174=\"\",\"\",'DATA COLLECTION'!O174)","v":""}]
["What is the degree specialized experience is required?",{"$f":"IF('BUILD ASSESSMENT'!P73=\"\",\"\",'BUILD ASSESSMENT'!P73)","v":""},null,null,null,{"$f":"IF('DATA COLLECTION'!B56=\"\",\"\",'DATA COLLECTION'!B56)","v":""},{"$f":"IF('DATA COLLECTION'!D56=\"\",\"\",'DATA COLLECTION'!D56)","v":""},{"$f":"IF('DATA COLLECTION'!J56=\"\",\"\",'DATA COLLECTION'!J56)","v":""},{"$f":"IF('DATA COLLECTION'!M56=\"\",\"\",'DATA COLLECTION'!M56)","v":""},{"$f":"IF('DATA COLLECTION'!O56=\"\",\"\",'DATA COLLECTION'!O56)","v":""},null,{"$f":"IF('DATA COLLECTION'!C175=\"\",\"\",'DATA COLLECTION'!C175)","v":""},{"$f":"IF('DATA COLLECTION'!E175=\"\",\"\",'DATA COLLECTION'!E175)","v":""},{"$f":"IF('DATA COLLECTION'!G175=\"\",\"\",'DATA COLLECTION'!G175)","v":""},{"$f":"IF('DATA COLLECTION'!I175=\"\",\"\",'DATA COLLECTION'!I175)","v":""},{"$f":"IF('DATA COLLECTION'!K175=\"\",\"\",'DATA COLLECTION'!K175)","v":""},{"$f":"IF('DATA COLLECTION'!M175=\"\",\"\",'DATA COLLECTION'!M175)","v":""},{"$f":"IF('DATA COLLECTION'!O175=\"\",\"\",'DATA COLLECTION'!O175)","v":""}]
["What is the degree of difficulty for developing internal talent for this position?",{"$f":"IF('BUILD ASSESSMENT'!P82=\"\",\"\",'BUILD ASSESSMENT'!P82)","v":""},null,null,null,{"$f":"IF('DATA COLLECTION'!B57=\"\",\"\",'DATA COLLECTION'!B57)","v":""},{"$f":"IF('DATA COLLECTION'!D57=\"\",\"\",'DATA COLLECTION'!D57)","v":""},{"$f":"IF('DATA COLLECTION'!J57=\"\",\"\",'DATA COLLECTION'!J57)","v":""},{"$f":"IF('DATA COLLECTION'!M57=\"\",\"\",'DATA COLLECTION'!M57)","v":""},{"$f":"IF('DATA COLLECTION'!O57=\"\",\"\",'DATA COLLECTION'!O57)","v":""},null,{"$f":"IF('DATA COLLECTION'!C176=\"\",\"\",'DATA COLLECTION'!C176)","v":""},{"$f":"IF('DATA COLLECTION'!E176=\"\",\"\",'DATA COLLECTION'!E176)","v":""},{"$f":"IF('DATA COLLECTION'!G176=\"\",\"\",'DATA COLLECTION'!G176)","v":""},{"$f":"IF('DATA COLLECTION'!I176=\"\",\"\",'DATA COLLECTION'!I176)","v":""},{"$f":"IF('DATA COLLECTION'!K176=\"\",\"\",'DATA COLLECTION'!K176)","v":""},{"$f":"IF('DATA COLLECTION'!M176=\"\",\"\",'DATA COLLECTION'!M176)","v":""},{"$f":"IF('DATA COLLECTION'!O176=\"\",\"\",'DATA COLLECTION'!O176)","v":""}]
["What is the level of current bench strength within the agency for this position?",{"$f":"IF('BUILD ASSESSMENT'!P83=\"\",\"\",'BUILD ASSESSMENT'!P83)","v":""},null,null,null,{"$f":"IF('DATA COLLECTION'!B58=\"\",\"\",'DATA COLLECTION'!B58)","v":""},{"$f":"IF('DATA COLLECTION'!D58=\"\",\"\",'DATA COLLECTION'!D58)","v":""},{"$f":"IF('DATA COLLECTION'!J58=\"\",\"\",'DATA COLLECTION'!J58)","v":""},{"$f":"IF('DATA COLLECTION'!M58=\"\",\"\",'DATA COLLECTION'!M58)","v":""},{"$f":"IF('DATA COLLECTION'!O58=\"\",\"\",'DATA COLLECTION'!O58)","v":""},null,{"$f":"IF('DATA COLLECTION'!C177=\"\",\"\",'DATA COLLECTION'!C177)","v":""},{"$f":"IF('DATA COLLECTION'!E177=\"\",\"\",'DATA COLLECTION'!E177)","v":""},{"$f":"IF('DATA COLLECTION'!G177=\"\",\"\",'DATA COLLECTION'!G177)","v":""},{"$f":"IF('DATA COLLECTION'!I177=\"\",\"\",'DATA COLLECTION'!I177)","v":""},{"$f":"IF('DATA COLLECTION'!K177=\"\",\"\",'DATA COLLECTION'!K177)","v":""},{"$f":"IF('DATA COLLECTION'!M177=\"\",\"\",'DATA COLLECTION'!M177)","v":""},{"$f":"IF('DATA COLLECTION'!O177=\"\",\"\",'DATA COLLECTION'!O177)","v":""}]
["To what degree does the agency have development plans/programs for internal talent?",{"$f":"IF('BUILD ASSESSMENT'!P84=\"\",\"\",'BUILD ASSESSMENT'!P84)","v":""},null,null,null,{"$f":"IF('DATA COLLECTION'!B59=\"\",\"\",'DATA COLLECTION'!B59)","v":""},{"$f":"IF('DATA COLLECTION'!D59=\"\",\"\",'DATA COLLECTION'!D59)","v":""},{"$f":"IF('DATA COLLECTION'!J59=\"\",\"\",'DATA COLLECTION'!J59)","v":""},{"$f":"IF('DATA COLLECTION'!M59=\"\",\"\",'DATA COLLECTION'!M59)","v":""},{"$f":"IF('DATA COLLECTION'!O59=\"\",\"\",'DATA COLLECTION'!O59)","v":""},null,{"$f":"IF('DATA COLLECTION'!C178=\"\",\"\",'DATA COLLECTION'!C178)","v":""},{"$f":"IF('DATA COLLECTION'!E178=\"\",\"\",'DATA COLLECTION'!E178)","v":""},{"$f":"IF('DATA COLLECTION'!G178=\"\",\"\",'DATA COLLECTION'!G178)","v":""},{"$f":"IF('DATA COLLECTION'!I178=\"\",\"\",'DATA COLLECTION'!I178)","v":""},{"$f":"IF('DATA COLLECTION'!K178=\"\",\"\",'DATA COLLECTION'!K178)","v":""},{"$f":"IF('DATA COLLECTION'!M178=\"\",\"\",'DATA COLLECTION'!M178)","v":""},{"$f":"IF('DATA COLLECTION'!O178=\"\",\"\",'DATA COLLECTION'!O178)","v":""}]
["What is the degree the agency can prepare individuals for this role internally?",{"$f":"IF('BUILD ASSESSMENT'!P85=\"\",\"\",'BUILD ASSESSMENT'!P85)","v":""},null,null,null,{"$f":"IF('DATA COLLECTION'!B60=\"\",\"\",'DATA COLLECTION'!B60)","v":""},{"$f":"IF('DATA COLLECTION'!D60=\"\",\"\",'DATA COLLECTION'!D60)","v":""},{"$f":"IF('DATA COLLECTION'!J60=\"\",\"\",'DATA COLLECTION'!J60)","v":""},{"$f":"IF('DATA COLLECTION'!M60=\"\",\"\",'DATA COLLECTION'!M60)","v":""},{"$f":"IF('DATA COLLECTION'!O60=\"\",\"\",'DATA COLLECTION'!O60)","v":""},null,{"$f":"IF('DATA COLLECTION'!C179=\"\",\"\",'DATA COLLECTION'!C179)","v":""},{"$f":"IF('DATA COLLECTION'!E179=\"\",\"\",'DATA COLLECTION'!E179)","v":""},{"$f":"IF('DATA COLLECTION'!G179=\"\",\"\",'DATA COLLECTION'!G179)","v":""},{"$f":"IF('DATA COLLECTION'!I179=\"\",\"\",'DATA COLLECTION'!I179)","v":""},{"$f":"IF('DATA COLLECTION'!K179=\"\",\"\",'DATA COLLECTION'!K179)","v":""},{"$f":"IF('DATA COLLECTION'!M179=\"\",\"\",'DATA COLLECTION'!M179)","v":""},{"$f":"IF('DATA COLLECTION'!O179=\"\",\"\",'DATA COLLECTION'!O179)","v":""}]
["What is the degree external sources are used to develop internal talent for this position?",{"$f":"IF('BUILD ASSESSMENT'!P86=\"\",\"\",'BUILD ASSESSMENT'!P86)","v":""},null,null,null,{"$f":"IF('DATA COLLECTION'!B61=\"\",\"\",'DATA COLLECTION'!B61)","v":""},{"$f":"IF('DATA COLLECTION'!D61=\"\",\"\",'DATA COLLECTION'!D61)","v":""},{"$f":"IF('DATA COLLECTION'!J61=\"\",\"\",'DATA COLLECTION'!J61)","v":""},{"$f":"IF('DATA COLLECTION'!M61=\"\",\"\",'DATA COLLECTION'!M61)","v":""},{"$f":"IF('DATA COLLECTION'!O61=\"\",\"\",'DATA COLLECTION'!O61)","v":""},null,{"$f":"IF('DATA COLLECTION'!C180=\"\",\"\",'DATA COLLECTION'!C180)","v":""},{"$f":"IF('DATA COLLECTION'!E180=\"\",\"\",'DATA COLLECTION'!E180)","v":""},{"$f":"IF('DATA COLLECTION'!G180=\"\",\"\",'DATA COLLECTION'!G180)","v":""},{"$f":"IF('DATA COLLECTION'!I180=\"\",\"\",'DATA COLLECTION'!I180)","v":""},{"$f":"IF('DATA COLLECTION'!K180=\"\",\"\",'DATA COLLECTION'!K180)","v":""},{"$f":"IF('DATA COLLECTION'!M180=\"\",\"\",'DATA COLLECTION'!M180)","v":""},{"$f":"IF('DATA COLLECTION'!O180=\"\",\"\",'DATA COLLECTION'!O180)","v":""}]
["What is the likelihood internal candidates will be prepared for this role within 1 year?",{"$f":"IF('BUILD ASSESSMENT'!P87=\"\",\"\",'BUILD ASSESSMENT'!P87)","v":""},null,null,null,{"$f":"IF('DATA COLLECTION'!B62=\"\",\"\",'DATA COLLECTION'!B62)","v":""},{"$f":"IF('DATA COLLECTION'!D62=\"\",\"\",'DATA COLLECTION'!D62)","v":""},{"$f":"IF('DATA COLLECTION'!J62=\"\",\"\",'DATA COLLECTION'!J62)","v":""},{"$f":"IF('DATA COLLECTION'!M62=\"\",\"\",'DATA COLLECTION'!M62)","v":""},{"$f":"IF('DATA COLLECTION'!O62=\"\",\"\",'DATA COLLECTION'!O62)","v":""},null,{"$f":"IF('DATA COLLECTION'!C181=\"\",\"\",'DATA COLLECTION'!C181)","v":""},{"$f":"IF('DATA COLLECTION'!E181=\"\",\"\",'DATA COLLECTION'!E181)","v":""},{"$f":"IF('DATA COLLECTION'!G181=\"\",\"\",'DATA COLLECTION'!G181)","v":""},{"$f":"IF('DATA COLLECTION'!I181=\"\",\"\",'DATA COLLECTION'!I181)","v":""},{"$f":"IF('DATA COLLECTION'!K181=\"\",\"\",'DATA COLLECTION'!K181)","v":""},{"$f":"IF('DATA COLLECTION'!M181=\"\",\"\",'DATA COLLECTION'!M181)","v":""},{"$f":"IF('DATA COLLECTION'!O181=\"\",\"\",'DATA COLLECTION'!O181)","v":""}]
["What is the likelihood internal candidates will be prepared for this role within 5 years?",{"$f":"IF('BUILD ASSESSMENT'!P88=\"\",\"\",'BUILD ASSESSMENT'!P88)","v":""},null,null,null,{"$f":"IF('DATA COLLECTION'!B63=\"\",\"\",'DATA COLLECTION'!B63)","v":""},{"$f":"IF('DATA COLLECTION'!D63=\"\",\"\",'DATA COLLECTION'!D63)","v":""},{"$f":"IF('DATA COLLECTION'!J63=\"\",\"\",'DATA COLLECTION'!J63)","v":""},{"$f":"IF('DATA COLLECTION'!M63=\"\",\"\",'DATA COLLECTION'!M63)","v":""},{"$f":"IF('DATA COLLECTION'!O63=\"\",\"\",'DATA COLLECTION'!O63)","v":""},null,{"$f":"IF('DATA COLLECTION'!C182=\"\",\"\",'DATA COLLECTION'!C182)","v":""},{"$f":"IF('DATA COLLECTION'!E182=\"\",\"\",'DATA COLLECTION'!E182)","v":""},{"$f":"IF('DATA COLLECTION'!G182=\"\",\"\",'DATA COLLECTION'!G182)","v":""},{"$f":"IF('DATA COLLECTION'!I182=\"\",\"\",'DATA COLLECTION'!I182)","v":""},{"$f":"IF('DATA COLLECTION'!K182=\"\",\"\",'DATA COLLECTION'!K182)","v":""},{"$f":"IF('DATA COLLECTION'!M182=\"\",\"\",'DATA COLLECTION'!M182)","v":""},{"$f":"IF('DATA COLLECTION'!O182=\"\",\"\",'DATA COLLECTION'!O182)","v":""}]
["What is the degree the agency would experience operational challenges or potential risks if this position was vacant?",{"$f":"IF('BUILD ASSESSMENT'!P97=\"\",\"\",'BUILD ASSESSMENT'!P97)","v":""},null,null,null,{"$f":"IF('DATA COLLECTION'!B64=\"\",\"\",'DATA COLLECTION'!B64)","v":""},{"$f":"IF('DATA COLLECTION'!D64=\"\",\"\",'DATA COLLECTION'!D64)","v":""},{"$f":"IF('DATA COLLECTION'!J64=\"\",\"\",'DATA COLLECTION'!J64)","v":""},{"$f":"IF('DATA COLLECTION'!M64=\"\",\"\",'DATA COLLECTION'!M64)","v":""},{"$f":"IF('DATA COLLECTION'!O64=\"\",\"\",'DATA COLLECTION'!O64)","v":""},null,{"$f":"IF('DATA COLLECTION'!C183=\"\",\"\",'DATA COLLECTION'!C183)","v":""},{"$f":"IF('DATA COLLECTION'!E183=\"\",\"\",'DATA COLLECTION'!E183)","v":""},{"$f":"IF('DATA COLLECTION'!G183=\"\",\"\",'DATA COLLECTION'!G183)","v":""},{"$f":"IF('DATA COLLECTION'!I183=\"\",\"\",'DATA COLLECTION'!I183)","v":""},{"$f":"IF('DATA COLLECTION'!K183=\"\",\"\",'DATA COLLECTION'!K183)","v":""},{"$f":"IF('DATA COLLECTION'!M183=\"\",\"\",'DATA COLLECTION'!M183)","v":""},{"$f":"IF('DATA COLLECTION'!O183=\"\",\"\",'DATA COLLECTION'!O183)","v":""}]
["To what degree would the agency experience challenges meeting legislative/regulatory requirements if this position was vacant?",{"$f":"IF('BUILD ASSESSMENT'!P98=\"\",\"\",'BUILD ASSESSMENT'!P98)","v":""},null,null,null,{"$f":"IF('DATA COLLECTION'!B65=\"\",\"\",'DATA COLLECTION'!B65)","v":""},{"$f":"IF('DATA COLLECTION'!D65=\"\",\"\",'DATA COLLECTION'!D65)","v":""},{"$f":"IF('DATA COLLECTION'!J65=\"\",\"\",'DATA COLLECTION'!J65)","v":""},{"$f":"IF('DATA COLLECTION'!M65=\"\",\"\",'DATA COLLECTION'!M65)","v":""},{"$f":"IF('DATA COLLECTION'!O65=\"\",\"\",'DATA COLLECTION'!O65)","v":""},null,{"$f":"IF('DATA COLLECTION'!C184=\"\",\"\",'DATA COLLECTION'!C184)","v":""},{"$f":"IF('DATA COLLECTION'!E184=\"\",\"\",'DATA COLLECTION'!E184)","v":""},{"$f":"IF('DATA COLLECTION'!G184=\"\",\"\",'DATA COLLECTION'!G184)","v":""},{"$f":"IF('DATA COLLECTION'!I184=\"\",\"\",'DATA COLLECTION'!I184)","v":""},{"$f":"IF('DATA COLLECTION'!K184=\"\",\"\",'DATA COLLECTION'!K184)","v":""},{"$f":"IF('DATA COLLECTION'!M184=\"\",\"\",'DATA COLLECTION'!M184)","v":""},{"$f":"IF('DATA COLLECTION'!O184=\"\",\"\",'DATA COLLECTION'!O184)","v":""}]
["To what degree would the agency experience challenges providing their services to customers if this position was vacant?",{"$f":"IF('BUILD ASSESSMENT'!P99=\"\",\"\",'BUILD ASSESSMENT'!P99)","v":""},null,null,null,{"$f":"IF('DATA COLLECTION'!B66=\"\",\"\",'DATA COLLECTION'!B66)","v":""},{"$f":"IF('DATA COLLECTION'!D66=\"\",\"\",'DATA COLLECTION'!D66)","v":""},{"$f":"IF('DATA COLLECTION'!J66=\"\",\"\",'DATA COLLECTION'!J66)","v":""},{"$f":"IF('DATA COLLECTION'!M66=\"\",\"\",'DATA COLLECTION'!M66)","v":""},{"$f":"IF('DATA COLLECTION'!O66=\"\",\"\",'DATA COLLECTION'!O66)","v":""},null,{"$f":"IF('DATA COLLECTION'!C185=\"\",\"\",'DATA COLLECTION'!C185)","v":""},{"$f":"IF('DATA COLLECTION'!E185=\"\",\"\",'DATA COLLECTION'!E185)","v":""},{"$f":"IF('DATA COLLECTION'!G185=\"\",\"\",'DATA COLLECTION'!G185)","v":""},{"$f":"IF('DATA COLLECTION'!I185=\"\",\"\",'DATA COLLECTION'!I185)","v":""},{"$f":"IF('DATA COLLECTION'!K185=\"\",\"\",'DATA COLLECTION'!K185)","v":""},{"$f":"IF('DATA COLLECTION'!M185=\"\",\"\",'DATA COLLECTION'!M185)","v":""},{"$f":"IF('DATA COLLECTION'!O185=\"\",\"\",'DATA COLLECTION'!O185)","v":""}]
["To what degree would the agency experience challenges to workplace health, safety, and security if this position was vacant?",{"$f":"IF('BUILD ASSESSMENT'!P100=\"\",\"\",'BUILD ASSESSMENT'!P100)","v":""},null,null,null,{"$f":"IF('DATA COLLECTION'!B67=\"\",\"\",'DATA COLLECTION'!B67)","v":""},{"$f":"IF('DATA COLLECTION'!D67=\"\",\"\",'DATA COLLECTION'!D67)","v":""},{"$f":"IF('DATA COLLECTION'!J67=\"\",\"\",'DATA COLLECTION'!J67)","v":""},{"$f":"IF('DATA COLLECTION'!M67=\"\",\"\",'DATA COLLECTION'!M67)","v":""},{"$f":"IF('DATA COLLECTION'!O67=\"\",\"\",'DATA COLLECTION'!O67)","v":""},null,{"$f":"IF('DATA COLLECTION'!C186=\"\",\"\",'DATA COLLECTION'!C186)","v":""},{"$f":"IF('DATA COLLECTION'!E186=\"\",\"\",'DATA COLLECTION'!E186)","v":""},{"$f":"IF('DATA COLLECTION'!G186=\"\",\"\",'DATA COLLECTION'!G186)","v":""},{"$f":"IF('DATA COLLECTION'!I186=\"\",\"\",'DATA COLLECTION'!I186)","v":""},{"$f":"IF('DATA COLLECTION'!K186=\"\",\"\",'DATA COLLECTION'!K186)","v":""},{"$f":"IF('DATA COLLECTION'!M186=\"\",\"\",'DATA COLLECTION'!M186)","v":""},{"$f":"IF('DATA COLLECTION'!O186=\"\",\"\",'DATA COLLECTION'!O186)","v":""}]
["What is the likelihood this position would be deemed \"essential\" for emergency situations?",{"$f":"IF('BUILD ASSESSMENT'!P101=\"\",\"\",'BUILD ASSESSMENT'!P101)","v":""},null,null,null,{"$f":"IF('DATA COLLECTION'!B68=\"\",\"\",'DATA COLLECTION'!B68)","v":""},{"$f":"IF('DATA COLLECTION'!D68=\"\",\"\",'DATA COLLECTION'!D68)","v":""},{"$f":"IF('DATA COLLECTION'!J68=\"\",\"\",'DATA COLLECTION'!J68)","v":""},{"$f":"IF('DATA COLLECTION'!M68=\"\",\"\",'DATA COLLECTION'!M68)","v":""},{"$f":"IF('DATA COLLECTION'!O68=\"\",\"\",'DATA COLLECTION'!O68)","v":""},null,{"$f":"IF('DATA COLLECTION'!C187=\"\",\"\",'DATA COLLECTION'!C187)","v":""},{"$f":"IF('DATA COLLECTION'!E187=\"\",\"\",'DATA COLLECTION'!E187)","v":""},{"$f":"IF('DATA COLLECTION'!G187=\"\",\"\",'DATA COLLECTION'!G187)","v":""},{"$f":"IF('DATA COLLECTION'!I187=\"\",\"\",'DATA COLLECTION'!I187)","v":""},{"$f":"IF('DATA COLLECTION'!K187=\"\",\"\",'DATA COLLECTION'!K187)","v":""},{"$f":"IF('DATA COLLECTION'!M187=\"\",\"\",'DATA COLLECTION'!M187)","v":""},{"$f":"IF('DATA COLLECTION'!O187=\"\",\"\",'DATA COLLECTION'!O187)","v":""}]
["What is the degree this position is limited to specific agency geographic locations?",{"$f":"IF('BUILD ASSESSMENT'!P102=\"\",\"\",'BUILD ASSESSMENT'!P102)","v":""},null,null,null,{"$f":"IF('DATA COLLECTION'!B69=\"\",\"\",'DATA COLLECTION'!B69)","v":""},{"$f":"IF('DATA COLLECTION'!D69=\"\",\"\",'DATA COLLECTION'!D69)","v":""},{"$f":"IF('DATA COLLECTION'!J69=\"\",\"\",'DATA COLLECTION'!J69)","v":""},{"$f":"IF('DATA COLLECTION'!M69=\"\",\"\",'DATA COLLECTION'!M69)","v":""},{"$f":"IF('DATA COLLECTION'!O69=\"\",\"\",'DATA COLLECTION'!O69)","v":""},null,{"$f":"IF('DATA COLLECTION'!C188=\"\",\"\",'DATA COLLECTION'!C188)","v":""},{"$f":"IF('DATA COLLECTION'!E188=\"\",\"\",'DATA COLLECTION'!E188)","v":""},{"$f":"IF('DATA COLLECTION'!G188=\"\",\"\",'DATA COLLECTION'!G188)","v":""},{"$f":"IF('DATA COLLECTION'!I188=\"\",\"\",'DATA COLLECTION'!I188)","v":""},{"$f":"IF('DATA COLLECTION'!K188=\"\",\"\",'DATA COLLECTION'!K188)","v":""},{"$f":"IF('DATA COLLECTION'!M188=\"\",\"\",'DATA COLLECTION'!M188)","v":""},{"$f":"IF('DATA COLLECTION'!O188=\"\",\"\",'DATA COLLECTION'!O188)","v":""}]
["What is the likelihood the agency could be susceptible to other risks if this position was vacant?",{"$f":"IF('BUILD ASSESSMENT'!P103=\"\",\"\",'BUILD ASSESSMENT'!P103)","v":""},null,null,null,{"$f":"IF('DATA COLLECTION'!B70=\"\",\"\",'DATA COLLECTION'!B70)","v":""},{"$f":"IF('DATA COLLECTION'!D70=\"\",\"\",'DATA COLLECTION'!D70)","v":""},{"$f":"IF('DATA COLLECTION'!J70=\"\",\"\",'DATA COLLECTION'!J70)","v":""},{"$f":"IF('DATA COLLECTION'!M70=\"\",\"\",'DATA COLLECTION'!M70)","v":""},{"$f":"IF('DATA COLLECTION'!O70=\"\",\"\",'DATA COLLECTION'!O70)","v":""},null,{"$f":"IF('DATA COLLECTION'!C189=\"\",\"\",'DATA COLLECTION'!C189)","v":""},{"$f":"IF('DATA COLLECTION'!E189=\"\",\"\",'DATA COLLECTION'!E189)","v":""},{"$f":"IF('DATA COLLECTION'!G189=\"\",\"\",'DATA COLLECTION'!G189)","v":""},{"$f":"IF('DATA COLLECTION'!I189=\"\",\"\",'DATA COLLECTION'!I189)","v":""},{"$f":"IF('DATA COLLECTION'!K189=\"\",\"\",'DATA COLLECTION'!K189)","v":""},{"$f":"IF('DATA COLLECTION'!M189=\"\",\"\",'DATA COLLECTION'!M189)","v":""},{"$f":"IF('DATA COLLECTION'!O189=\"\",\"\",'DATA COLLECTION'!O189)","v":""}]
["What is the degree the agency would experience challenges in achieving strategic objectives if this position was vacant?",{"$f":"IF('BUILD ASSESSMENT'!P112=\"\",\"\",'BUILD ASSESSMENT'!P112)","v":""},null,null,null,{"$f":"IF('DATA COLLECTION'!B71=\"\",\"\",'DATA COLLECTION'!B71)","v":""},{"$f":"IF('DATA COLLECTION'!D71=\"\",\"\",'DATA COLLECTION'!D71)","v":""},{"$f":"IF('DATA COLLECTION'!J71=\"\",\"\",'DATA COLLECTION'!J71)","v":""},{"$f":"IF('DATA COLLECTION'!M71=\"\",\"\",'DATA COLLECTION'!M71)","v":""},{"$f":"IF('DATA COLLECTION'!O71=\"\",\"\",'DATA COLLECTION'!O71)","v":""},null,{"$f":"IF('DATA COLLECTION'!C190=\"\",\"\",'DATA COLLECTION'!C190)","v":""},{"$f":"IF('DATA COLLECTION'!E190=\"\",\"\",'DATA COLLECTION'!E190)","v":""},{"$f":"IF('DATA COLLECTION'!G190=\"\",\"\",'DATA COLLECTION'!G190)","v":""},{"$f":"IF('DATA COLLECTION'!I190=\"\",\"\",'DATA COLLECTION'!I190)","v":""},{"$f":"IF('DATA COLLECTION'!K190=\"\",\"\",'DATA COLLECTION'!K190)","v":""},{"$f":"IF('DATA COLLECTION'!M190=\"\",\"\",'DATA COLLECTION'!M190)","v":""},{"$f":"IF('DATA COLLECTION'!O190=\"\",\"\",'DATA COLLECTION'!O190)","v":""}]
["Objective 1",{"$f":"IF('BUILD ASSESSMENT'!E124=\"\",\"\",'BUILD ASSESSMENT'!E124)","v":""},{"$f":"IF('BUILD ASSESSMENT'!P124=\"\",\"\",'BUILD ASSESSMENT'!P124)","v":""},124,null,{"$f":"IF('DATA COLLECTION'!B72=\"\",\"\",'DATA COLLECTION'!B72)","v":""},{"$f":"IF('DATA COLLECTION'!D72=\"\",\"\",'DATA COLLECTION'!D72)","v":""},{"$f":"IF('DATA COLLECTION'!J72=\"\",\"\",'DATA COLLECTION'!J72)","v":""},{"$f":"IF('DATA COLLECTION'!M72=\"\",\"\",'DATA COLLECTION'!M72)","v":""},{"$f":"IF('DATA COLLECTION'!O72=\"\",\"\",'DATA COLLECTION'!O72)","v":""},null,{"$f":"IF('DATA COLLECTION'!C191=\"\",\"\",'DATA COLLECTION'!C191)","v":""},{"$f":"IF('DATA COLLECTION'!E191=\"\",\"\",'DATA COLLECTION'!E191)","v":""},{"$f":"IF('DATA COLLECTION'!G191=\"\",\"\",'DATA COLLECTION'!G191)","v":""},{"$f":"IF('DATA COLLECTION'!I191=\"\",\"\",'DATA COLLECTION'!I191)","v":""},{"$f":"IF('DATA COLLECTION'!K191=\"\",\"\",'DATA COLLECTION'!K191)","v":""},{"$f":"IF('DATA COLLECTION'!M191=\"\",\"\",'DATA COLLECTION'!M191)","v":""},{"$f":"IF('DATA COLLECTION'!O191=\"\",\"\",'DATA COLLECTION'!O191)","v":""}]
[1.1000000000000001,{"$f":"IF('BUILD ASSESSMENT'!G127=\"\",\"\",'BUILD ASSESSMENT'!G127)","v":""},{"$f":"IF('BUILD ASSESSMENT'!P127=\"\",\"\",'BUILD ASSESSMENT'!P127)","v":""},{"$f":"D44+3","v":127},null,{"$f":"IF('DATA COLLECTION'!B73=\"\",\"\",'DATA COLLECTION'!B73)","v":""},{"$f":"IF('DATA COLLECTION'!D73=\"\",\"\",'DATA COLLECTION'!D73)","v":""},{"$f":"IF('DATA COLLECTION'!J73=\"\",\"\",'DATA COLLECTION'!J73)","v":""},{"$f":"IF('DATA COLLECTION'!M73=\"\",\"\",'DATA COLLECTION'!M73)","v":""},{"$f":"IF('DATA COLLECTION'!O73=\"\",\"\",'DATA COLLECTION'!O73)","v":""},null,{"$f":"IF('DATA COLLECTION'!C192=\"\",\"\",'DATA COLLECTION'!C192)","v":""},{"$f":"IF('DATA COLLECTION'!E192=\"\",\"\",'DATA COLLECTION'!E192)","v":""},{"$f":"IF('DATA COLLECTION'!G192=\"\",\"\",'DATA COLLECTION'!G192)","v":""},{"$f":"IF('DATA COLLECTION'!I192=\"\",\"\",'DATA COLLECTION'!I192)","v":""},{"$f":"IF('DATA COLLECTION'!K192=\"\",\"\",'DATA COLLECTION'!K192)","v":""},{"$f":"IF('DATA COLLECTION'!M192=\"\",\"\",'DATA COLLECTION'!M192)","v":""},{"$f":"IF('DATA COLLECTION'!O192=\"\",\"\",'DATA COLLECTION'!O192)","v":""}]
[1.2,{"$f":"IF('BUILD ASSESSMENT'!G130=\"\",\"\",'BUILD ASSESSMENT'!G130)","v":""},{"$f":"IF('BUILD ASSESSMENT'!P130=\"\",\"\",'BUILD ASSESSMENT'!P130)","v":""},{"$f":"D45+3","v":130},null,{"$f":"IF('DATA COLLECTION'!B74=\"\",\"\",'DATA COLLECTION'!B74)","v":""},{"$f":"IF('DATA COLLECTION'!D74=\"\",\"\",'DATA COLLECTION'!D74)","v":""},{"$f":"IF('DATA COLLECTION'!J74=\"\",\"\",'DATA COLLECTION'!J74)","v":""},{"$f":"IF('DATA COLLECTION'!M74=\"\",\"\",'DATA COLLECTION'!M74)","v":""},{"$f":"IF('DATA COLLECTION'!O74=\"\",\"\",'DATA COLLECTION'!O74)","v":""},null,{"$f":"IF('DATA COLLECTION'!C193=\"\",\"\",'DATA COLLECTION'!C193)","v":""},{"$f":"IF('DATA COLLECTION'!E193=\"\",\"\",'DATA COLLECTION'!E193)","v":""},{"$f":"IF('DATA COLLECTION'!G193=\"\",\"\",'DATA COLLECTION'!G193)","v":""},{"$f":"IF('DATA COLLECTION'!I193=\"\",\"\",'DATA COLLECTION'!I193)","v":""},{"$f":"IF('DATA COLLECTION'!K193=\"\",\"\",'DATA COLLECTION'!K193)","v":""},{"$f":"IF('DATA COLLECTION'!M193=\"\",\"\",'DATA COLLECTION'!M193)","v":""},{"$f":"IF('DATA COLLECTION'!O193=\"\",\"\",'DATA COLLECTION'!O193)","v":""}]
[1.3,{"$f":"IF('BUILD ASSESSMENT'!G133=\"\",\"\",'BUILD ASSESSMENT'!G133)","v":""},{"$f":"IF('BUILD ASSESSMENT'!P133=\"\",\"\",'BUILD ASSESSMENT'!P133)","v":""},133,null,{"$f":"IF('DATA COLLECTION'!B75=\"\",\"\",'DATA COLLECTION'!B75)","v":""},{"$f":"IF('DATA COLLECTION'!D75=\"\",\"\",'DATA COLLECTION'!D75)","v":""},{"$f":"IF('DATA COLLECTION'!J75=\"\",\"\",'DATA COLLECTION'!J75)","v":""},{"$f":"IF('DATA COLLECTION'!M75=\"\",\"\",'DATA COLLECTION'!M75)","v":""},{"$f":"IF('DATA COLLECTION'!O75=\"\",\"\",'DATA COLLECTION'!O75)","v":""},null,{"$f":"IF('DATA COLLECTION'!C194=\"\",\"\",'DATA COLLECTION'!C194)","v":""},{"$f":"IF('DATA COLLECTION'!E194=\"\",\"\",'DATA COLLECTION'!E194)","v":""},{"$f":"IF('DATA COLLECTION'!G194=\"\",\"\",'DATA COLLECTION'!G194)","v":""},{"$f":"IF('DATA COLLECTION'!I194=\"\",\"\",'DATA COLLECTION'!I194)","v":""},{"$f":"IF('DATA COLLECTION'!K194=\"\",\"\",'DATA COLLECTION'!K194)","v":""},{"$f":"IF('DATA COLLECTION'!M194=\"\",\"\",'DATA COLLECTION'!M194)","v":""},{"$f":"IF('DATA COLLECTION'!O194=\"\",\"\",'DATA COLLECTION'!O194)","v":""}]
[1.4,{"$f":"IF('BUILD ASSESSMENT'!G136=\"\",\"\",'BUILD ASSESSMENT'!G136)","v":""},{"$f":"IF('BUILD ASSESSMENT'!P136=\"\",\"\",'BUILD ASSESSMENT'!P136)","v":""},136,null,{"$f":"IF('DATA COLLECTION'!B76=\"\",\"\",'DATA COLLECTION'!B76)","v":""},{"$f":"IF('DATA COLLECTION'!D76=\"\",\"\",'DATA COLLECTION'!D76)","v":""},{"$f":"IF('DATA COLLECTION'!J76=\"\",\"\",'DATA COLLECTION'!J76)","v":""},{"$f":"IF('DATA COLLECTION'!M76=\"\",\"\",'DATA COLLECTION'!M76)","v":""},{"$f":"IF('DATA COLLECTION'!O76=\"\",\"\",'DATA COLLECTION'!O76)","v":""},null,{"$f":"IF('DATA COLLECTION'!C195=\"\",\"\",'DATA COLLECTION'!C195)","v":""},{"$f":"IF('DATA COLLECTION'!E195=\"\",\"\",'DATA COLLECTION'!E195)","v":""},{"$f":"IF('DATA COLLECTION'!G195=\"\",\"\",'DATA COLLECTION'!G195)","v":""},{"$f":"IF('DATA COLLECTION'!I195=\"\",\"\",'DATA COLLECTION'!I195)","v":""},{"$f":"IF('DATA COLLECTION'!K195=\"\",\"\",'DATA COLLECTION'!K195)","v":""},{"$f":"IF('DATA COLLECTION'!M195=\"\",\"\",'DATA COLLECTION'!M195)","v":""},{"$f":"IF('DATA COLLECTION'!O195=\"\",\"\",'DATA COLLECTION'!O195)","v":""}]
[1.5,{"$f":"IF('BUILD ASSESSMENT'!G139=\"\",\"\",'BUILD ASSESSMENT'!G139)","v":""},{"$f":"IF('BUILD ASSESSMENT'!P139=\"\",\"\",'BUILD ASSESSMENT'!P139)","v":""},139,null,{"$f":"IF('DATA COLLECTION'!B77=\"\",\"\",'DATA COLLECTION'!B77)","v":""},{"$f":"IF('DATA COLLECTION'!D77=\"\",\"\",'DATA COLLECTION'!D77)","v":""},{"$f":"IF('DATA COLLECTION'!J77=\"\",\"\",'DATA COLLECTION'!J77)","v":""},{"$f":"IF('DATA COLLECTION'!M77=\"\",\"\",'DATA COLLECTION'!M77)","v":""},{"$f":"IF('DATA COLLECTION'!O77=\"\",\"\",'DATA COLLECTION'!O77)","v":""},null,{"$f":"IF('DATA COLLECTION'!C196=\"\",\"\",'DATA COLLECTION'!C196)","v":""},{"$f":"IF('DATA COLLECTION'!E196=\"\",\"\",'DATA COLLECTION'!E196)","v":""},{"$f":"IF('DATA COLLECTION'!G196=\"\",\"\",'DATA COLLECTION'!G196)","v":""},{"$f":"IF('DATA COLLECTION'!I196=\"\",\"\",'DATA COLLECTION'!I196)","v":""},{"$f":"IF('DATA COLLECTION'!K196=\"\",\"\",'DATA COLLECTION'!K196)","v":""},{"$f":"IF('DATA COLLECTION'!M196=\"\",\"\",'DATA COLLECTION'!M196)","v":""},{"$f":"IF('DATA COLLECTION'!O196=\"\",\"\",'DATA COLLECTION'!O196)","v":""}]
["Objective 2",{"$f":"IF('BUILD ASSESSMENT'!E143=\"\",\"\",'BUILD ASSESSMENT'!E143)","v":""},{"$f":"IF('BUILD ASSESSMENT'!P143=\"\",\"\",'BUILD ASSESSMENT'!P143)","v":""},{"$f":"D49+4","v":143},null,{"$f":"IF('DATA COLLECTION'!B78=\"\",\"\",'DATA COLLECTION'!B78)","v":""},{"$f":"IF('DATA COLLECTION'!D78=\"\",\"\",'DATA COLLECTION'!D78)","v":""},{"$f":"IF('DATA COLLECTION'!J78=\"\",\"\",'DATA COLLECTION'!J78)","v":""},{"$f":"IF('DATA COLLECTION'!M78=\"\",\"\",'DATA COLLECTION'!M78)","v":""},{"$f":"IF('DATA COLLECTION'!O78=\"\",\"\",'DATA COLLECTION'!O78)","v":""},null,{"$f":"IF('DATA COLLECTION'!C197=\"\",\"\",'DATA COLLECTION'!C197)","v":""},{"$f":"IF('DATA COLLECTION'!E197=\"\",\"\",'DATA COLLECTION'!E197)","v":""},{"$f":"IF('DATA COLLECTION'!G197=\"\",\"\",'DATA COLLECTION'!G197)","v":""},{"$f":"IF('DATA COLLECTION'!I197=\"\",\"\",'DATA COLLECTION'!I197)","v":""},{"$f":"IF('DATA COLLECTION'!K197=\"\",\"\",'DATA COLLECTION'!K197)","v":""},{"$f":"IF('DATA COLLECTION'!M197=\"\",\"\",'DATA COLLECTION'!M197)","v":""},{"$f":"IF('DATA COLLECTION'!O197=\"\",\"\",'DATA COLLECTION'!O197)","v":""}]
[2.1,{"$f":"IF('BUILD ASSESSMENT'!G146=\"\",\"\",'BUILD ASSESSMENT'!G146)","v":""},{"$f":"IF('BUILD ASSESSMENT'!P146=\"\",\"\",'BUILD ASSESSMENT'!P146)","v":""},{"$f":"D50+3","v":146},null,{"$f":"IF('DATA COLLECTION'!B79=\"\",\"\",'DATA COLLECTION'!B79)","v":""},{"$f":"IF('DATA COLLECTION'!D79=\"\",\"\",'DATA COLLECTION'!D79)","v":""},{"$f":"IF('DATA COLLECTION'!J79=\"\",\"\",'DATA COLLECTION'!J79)","v":""},{"$f":"IF('DATA COLLECTION'!M79=\"\",\"\",'DATA COLLECTION'!M79)","v":""},{"$f":"IF('DATA COLLECTION'!O79=\"\",\"\",'DATA COLLECTION'!O79)","v":""},null,{"$f":"IF('DATA COLLECTION'!C198=\"\",\"\",'DATA COLLECTION'!C198)","v":""},{"$f":"IF('DATA COLLECTION'!E198=\"\",\"\",'DATA COLLECTION'!E198)","v":""},{"$f":"IF('DATA COLLECTION'!G198=\"\",\"\",'DATA COLLECTION'!G198)","v":""},{"$f":"IF('DATA COLLECTION'!I198=\"\",\"\",'DATA COLLECTION'!I198)","v":""},{"$f":"IF('DATA COLLECTION'!K198=\"\",\"\",'DATA COLLECTION'!K198)","v":""},{"$f":"IF('DATA COLLECTION'!M198=\"\",\"\",'DATA COLLECTION'!M198)","v":""},{"$f":"IF('DATA COLLECTION'!O198=\"\",\"\",'DATA COLLECTION'!O198)","v":""}]
[2.2000000000000002,{"$f":"IF('BUILD ASSESSMENT'!G149=\"\",\"\",'BUILD ASSESSMENT'!G149)","v":""},{"$f":"IF('BUILD ASSESSMENT'!P149=\"\",\"\",'BUILD ASSESSMENT'!P149)","v":""},149,null,{"$f":"IF('DATA COLLECTION'!B80=\"\",\"\",'DATA COLLECTION'!B80)","v":""},{"$f":"IF('DATA COLLECTION'!D80=\"\",\"\",'DATA COLLECTION'!D80)","v":""},{"$f":"IF('DATA COLLECTION'!J80=\"\",\"\",'DATA COLLECTION'!J80)","v":""},{"$f":"IF('DATA COLLECTION'!M80=\"\",\"\",'DATA COLLECTION'!M80)","v":""},{"$f":"IF('DATA COLLECTION'!O80=\"\",\"\",'DATA COLLECTION'!O80)","v":""},null,{"$f":"IF('DATA COLLECTION'!C199=\"\",\"\",'DATA COLLECTION'!C199)","v":""},{"$f":"IF('DATA COLLECTION'!E199=\"\",\"\",'DATA COLLECTION'!E199)","v":""},{"$f":"IF('DATA COLLECTION'!G199=\"\",\"\",'DATA COLLECTION'!G199)","v":""},{"$f":"IF('DATA COLLECTION'!I199=\"\",\"\",'DATA COLLECTION'!I199)","v":""},{"$f":"IF('DATA COLLECTION'!K199=\"\",\"\",'DATA COLLECTION'!K199)","v":""},{"$f":"IF('DATA COLLECTION'!M199=\"\",\"\",'DATA COLLECTION'!M199)","v":""},{"$f":"IF('DATA COLLECTION'!O199=\"\",\"\",'DATA COLLECTION'!O199)","v":""}]
[2.2999999999999998,{"$f":"IF('BUILD ASSESSMENT'!G152=\"\",\"\",'BUILD ASSESSMENT'!G152)","v":""},{"$f":"IF('BUILD ASSESSMENT'!P152=\"\",\"\",'BUILD ASSESSMENT'!P152)","v":""},152,null,{"$f":"IF('DATA COLLECTION'!B81=\"\",\"\",'DATA COLLECTION'!B81)","v":""},{"$f":"IF('DATA COLLECTION'!D81=\"\",\"\",'DATA COLLECTION'!D81)","v":""},{"$f":"IF('DATA COLLECTION'!J81=\"\",\"\",'DATA COLLECTION'!J81)","v":""},{"$f":"IF('DATA COLLECTION'!M81=\"\",\"\",'DATA COLLECTION'!M81)","v":""},{"$f":"IF('DATA COLLECTION'!O81=\"\",\"\",'DATA COLLECTION'!O81)","v":""},null,{"$f":"IF('DATA COLLECTION'!C200=\"\",\"\",'DATA COLLECTION'!C200)","v":""},{"$f":"IF('DATA COLLECTION'!E200=\"\",\"\",'DATA COLLECTION'!E200)","v":""},{"$f":"IF('DATA COLLECTION'!G200=\"\",\"\",'DATA COLLECTION'!G200)","v":""},{"$f":"IF('DATA COLLECTION'!I200=\"\",\"\",'DATA COLLECTION'!I200)","v":""},{"$f":"IF('DATA COLLECTION'!K200=\"\",\"\",'DATA COLLECTION'!K200)","v":""},{"$f":"IF('DATA COLLECTION'!M200=\"\",\"\",'DATA COLLECTION'!M200)","v":""},{"$f":"IF('DATA COLLECTION'!O200=\"\",\"\",'DATA COLLECTION'!O200)","v":""}]
[2.4,{"$f":"IF('BUILD ASSESSMENT'!G155=\"\",\"\",'BUILD ASSESSMENT'!G155)","v":""},{"$f":"IF('BUILD ASSESSMENT'!P155=\"\",\"\",'BUILD ASSESSMENT'!P155)","v":""},155,null,{"$f":"IF('DATA COLLECTION'!B82=\"\",\"\",'DATA COLLECTION'!B82)","v":""},{"$f":"IF('DATA COLLECTION'!D82=\"\",\"\",'DATA COLLECTION'!D82)","v":""},{"$f":"IF('DATA COLLECTION'!J82=\"\",\"\",'DATA COLLECTION'!J82)","v":""},{"$f":"IF('DATA COLLECTION'!M82=\"\",\"\",'DATA COLLECTION'!M82)","v":""},{"$f":"IF('DATA COLLECTION'!O82=\"\",\"\",'DATA COLLECTION'!O82)","v":""},null,{"$f":"IF('DATA COLLECTION'!C201=\"\",\"\",'DATA COLLECTION'!C201)","v":""},{"$f":"IF('DATA COLLECTION'!E201=\"\",\"\",'DATA COLLECTION'!E201)","v":""},{"$f":"IF('DATA COLLECTION'!G201=\"\",\"\",'DATA COLLECTION'!G201)","v":""},{"$f":"IF('DATA COLLECTION'!I201=\"\",\"\",'DATA COLLECTION'!I201)","v":""},{"$f":"IF('DATA COLLECTION'!K201=\"\",\"\",'DATA COLLECTION'!K201)","v":""},{"$f":"IF('DATA COLLECTION'!M201=\"\",\"\",'DATA COLLECTION'!M201)","v":""},{"$f":"IF('DATA COLLECTION'!O201=\"\",\"\",'DATA COLLECTION'!O201)","v":""}]
[2.5,{"$f":"IF('BUILD ASSESSMENT'!G158=\"\",\"\",'BUILD ASSESSMENT'!G158)","v":""},{"$f":"IF('BUILD ASSESSMENT'!P158=\"\",\"\",'BUILD ASSESSMENT'!P158)","v":""},158,null,{"$f":"IF('DATA COLLECTION'!B83=\"\",\"\",'DATA COLLECTION'!B83)","v":""},{"$f":"IF('DATA COLLECTION'!D83=\"\",\"\",'DATA COLLECTION'!D83)","v":""},{"$f":"IF('DATA COLLECTION'!J83=\"\",\"\",'DATA COLLECTION'!J83)","v":""},{"$f":"IF('DATA COLLECTION'!M83=\"\",\"\",'DATA COLLECTION'!M83)","v":""},{"$f":"IF('DATA COLLECTION'!O83=\"\",\"\",'DATA COLLECTION'!O83)","v":""},null,{"$f":"IF('DATA COLLECTION'!C202=\"\",\"\",'DATA COLLECTION'!C202)","v":""},{"$f":"IF('DATA COLLECTION'!E202=\"\",\"\",'DATA COLLECTION'!E202)","v":""},{"$f":"IF('DATA COLLECTION'!G202=\"\",\"\",'DATA COLLECTION'!G202)","v":""},{"$f":"IF('DATA COLLECTION'!I202=\"\",\"\",'DATA COLLECTION'!I202)","v":""},{"$f":"IF('DATA COLLECTION'!K202=\"\",\"\",'DATA COLLECTION'!K202)","v":""},{"$f":"IF('DATA COLLECTION'!M202=\"\",\"\",'DATA COLLECTION'!M202)","v":""},{"$f":"IF('DATA COLLECTION'!O202=\"\",\"\",'DATA COLLECTION'!O202)","v":""}]
["Objective 3",{"$f":"IF('BUILD ASSESSMENT'!E162=\"\",\"\",'BUILD ASSESSMENT'!E162)","v":""},{"$f":"IF('BUILD ASSESSMENT'!P162=\"\",\"\",'BUILD ASSESSMENT'!P162)","v":""},{"$f":"D55+4","v":162},null,{"$f":"IF('DATA COLLECTION'!B84=\"\",\"\",'DATA COLLECTION'!B84)","v":""},{"$f":"IF('DATA COLLECTION'!D84=\"\",\"\",'DATA COLLECTION'!D84)","v":""},{"$f":"IF('DATA COLLECTION'!J84=\"\",\"\",'DATA COLLECTION'!J84)","v":""},{"$f":"IF('DATA COLLECTION'!M84=\"\",\"\",'DATA COLLECTION'!M84)","v":""},{"$f":"IF('DATA COLLECTION'!O84=\"\",\"\",'DATA COLLECTION'!O84)","v":""},null,{"$f":"IF('DATA COLLECTION'!C203=\"\",\"\",'DATA COLLECTION'!C203)","v":""},{"$f":"IF('DATA COLLECTION'!E203=\"\",\"\",'DATA COLLECTION'!E203)","v":""},{"$f":"IF('DATA COLLECTION'!G203=\"\",\"\",'DATA COLLECTION'!G203)","v":""},{"$f":"IF('DATA COLLECTION'!I203=\"\",\"\",'DATA COLLECTION'!I203)","v":""},{"$f":"IF('DATA COLLECTION'!K203=\"\",\"\",'DATA COLLECTION'!K203)","v":""},{"$f":"IF('DATA COLLECTION'!M203=\"\",\"\",'DATA COLLECTION'!M203)","v":""},{"$f":"IF('DATA COLLECTION'!O203=\"\",\"\",'DATA COLLECTION'!O203)","v":""}]
[3.1,{"$f":"IF('BUILD ASSESSMENT'!G165=\"\",\"\",'BUILD ASSESSMENT'!G165)","v":""},{"$f":"IF('BUILD ASSESSMENT'!P165=\"\",\"\",'BUILD ASSESSMENT'!P165)","v":""},{"$f":"D56+3","v":165},null,{"$f":"IF('DATA COLLECTION'!B85=\"\",\"\",'DATA COLLECTION'!B85)","v":""},{"$f":"IF('DATA COLLECTION'!D85=\"\",\"\",'DATA COLLECTION'!D85)","v":""},{"$f":"IF('DATA COLLECTION'!J85=\"\",\"\",'DATA COLLECTION'!J85)","v":""},{"$f":"IF('DATA COLLECTION'!M85=\"\",\"\",'DATA COLLECTION'!M85)","v":""},{"$f":"IF('DATA COLLECTION'!O85=\"\",\"\",'DATA COLLECTION'!O85)","v":""},null,{"$f":"IF('DATA COLLECTION'!C204=\"\",\"\",'DATA COLLECTION'!C204)","v":""},{"$f":"IF('DATA COLLECTION'!E204=\"\",\"\",'DATA COLLECTION'!E204)","v":""},{"$f":"IF('DATA COLLECTION'!G204=\"\",\"\",'DATA COLLECTION'!G204)","v":""},{"$f":"IF('DATA COLLECTION'!I204=\"\",\"\",'DATA COLLECTION'!I204)","v":""},{"$f":"IF('DATA COLLECTION'!K204=\"\",\"\",'DATA COLLECTION'!K204)","v":""},{"$f":"IF('DATA COLLECTION'!M204=\"\",\"\",'DATA COLLECTION'!M204)","v":""},{"$f":"IF('DATA COLLECTION'!O204=\"\",\"\",'DATA COLLECTION'!O204)","v":""}]
[3.2,{"$f":"IF('BUILD ASSESSMENT'!G168=\"\",\"\",'BUILD ASSESSMENT'!G168)","v":""},{"$f":"IF('BUILD ASSESSMENT'!P168=\"\",\"\",'BUILD ASSESSMENT'!P168)","v":""},168,null,{"$f":"IF('DATA COLLECTION'!B86=\"\",\"\",'DATA COLLECTION'!B86)","v":""},{"$f":"IF('DATA COLLECTION'!D86=\"\",\"\",'DATA COLLECTION'!D86)","v":""},{"$f":"IF('DATA COLLECTION'!J86=\"\",\"\",'DATA COLLECTION'!J86)","v":""},{"$f":"IF('DATA COLLECTION'!M86=\"\",\"\",'DATA COLLECTION'!M86)","v":""},{"$f":"IF('DATA COLLECTION'!O86=\"\",\"\",'DATA COLLECTION'!O86)","v":""},null,{"$f":"IF('DATA COLLECTION'!C205=\"\",\"\",'DATA COLLECTION'!C205)","v":""},{"$f":"IF('DATA COLLECTION'!E205=\"\",\"\",'DATA COLLECTION'!E205)","v":""},{"$f":"IF('DATA COLLECTION'!G205=\"\",\"\",'DATA COLLECTION'!G205)","v":""},{"$f":"IF('DATA COLLECTION'!I205=\"\",\"\",'DATA COLLECTION'!I205)","v":""},{"$f":"IF('DATA COLLECTION'!K205=\"\",\"\",'DATA COLLECTION'!K205)","v":""},{"$f":"IF('DATA COLLECTION'!M205=\"\",\"\",'DATA COLLECTION'!M205)","v":""},{"$f":"IF('DATA COLLECTION'!O205=\"\",\"\",'DATA COLLECTION'!O205)","v":""}]
[3.3,{"$f":"IF('BUILD ASSESSMENT'!G171=\"\",\"\",'BUILD ASSESSMENT'!G171)","v":""},{"$f":"IF('BUILD ASSESSMENT'!P171=\"\",\"\",'BUILD ASSESSMENT'!P171)","v":""},171,null,{"$f":"IF('DATA COLLECTION'!B87=\"\",\"\",'DATA COLLECTION'!B87)","v":""},{"$f":"IF('DATA COLLECTION'!D87=\"\",\"\",'DATA COLLECTION'!D87)","v":""},{"$f":"IF('DATA COLLECTION'!J87=\"\",\"\",'DATA COLLECTION'!J87)","v":""},{"$f":"IF('DATA COLLECTION'!M87=\"\",\"\",'DATA COLLECTION'!M87)","v":""},{"$f":"IF('DATA COLLECTION'!O87=\"\",\"\",'DATA COLLECTION'!O87)","v":""},null,{"$f":"IF('DATA COLLECTION'!C206=\"\",\"\",'DATA COLLECTION'!C206)","v":""},{"$f":"IF('DATA COLLECTION'!E206=\"\",\"\",'DATA COLLECTION'!E206)","v":""},{"$f":"IF('DATA COLLECTION'!G206=\"\",\"\",'DATA COLLECTION'!G206)","v":""},{"$f":"IF('DATA COLLECTION'!I206=\"\",\"\",'DATA COLLECTION'!I206)","v":""},{"$f":"IF('DATA COLLECTION'!K206=\"\",\"\",'DATA COLLECTION'!K206)","v":""},{"$f":"IF('DATA COLLECTION'!M206=\"\",\"\",'DATA COLLECTION'!M206)","v":""},{"$f":"IF('DATA COLLECTION'!O206=\"\",\"\",'DATA COLLECTION'!O206)","v":""}]
[3.4,{"$f":"IF('BUILD ASSESSMENT'!G174=\"\",\"\",'BUILD ASSESSMENT'!G174)","v":""},{"$f":"IF('BUILD ASSESSMENT'!P174=\"\",\"\",'BUILD ASSESSMENT'!P174)","v":""},174,null,{"$f":"IF('DATA COLLECTION'!B88=\"\",\"\",'DATA COLLECTION'!B88)","v":""},{"$f":"IF('DATA COLLECTION'!D88=\"\",\"\",'DATA COLLECTION'!D88)","v":""},{"$f":"IF('DATA COLLECTION'!J88=\"\",\"\",'DATA COLLECTION'!J88)","v":""},{"$f":"IF('DATA COLLECTION'!M88=\"\",\"\",'DATA COLLECTION'!M88)","v":""},{"$f":"IF('DATA COLLECTION'!O88=\"\",\"\",'DATA COLLECTION'!O88)","v":""},null,{"$f":"IF('DATA COLLECTION'!C207=\"\",\"\",'DATA COLLECTION'!C207)","v":""},{"$f":"IF('DATA COLLECTION'!E207=\"\",\"\",'DATA COLLECTION'!E207)","v":""},{"$f":"IF('DATA COLLECTION'!G207=\"\",\"\",'DATA COLLECTION'!G207)","v":""},{"$f":"IF('DATA COLLECTION'!I207=\"\",\"\",'DATA COLLECTION'!I207)","v":""},{"$f":"IF('DATA COLLECTION'!K207=\"\",\"\",'DATA COLLECTION'!K207)","v":""},{"$f":"IF('DATA COLLECTION'!M207=\"\",\"\",'DATA COLLECTION'!M207)","v":""},{"$f":"IF('DATA COLLECTION'!O207=\"\",\"\",'DATA COLLECTION'!O207)","v":""}]
[3.5,{"$f":"IF('BUILD ASSESSMENT'!G177=\"\",\"\",'BUILD ASSESSMENT'!G177)","v":""},{"$f":"IF('BUILD ASSESSMENT'!P177=\"\",\"\",'BUILD ASSESSMENT'!P177)","v":""},177,null,{"$f":"IF('DATA COLLECTION'!B89=\"\",\"\",'DATA COLLECTION'!B89)","v":""},{"$f":"IF('DATA COLLECTION'!D89=\"\",\"\",'DATA COLLECTION'!D89)","v":""},{"$f":"IF('DATA COLLECTION'!J89=\"\",\"\",'DATA COLLECTION'!J89)","v":""},{"$f":"IF('DATA COLLECTION'!M89=\"\",\"\",'DATA COLLECTION'!M89)","v":""},{"$f":"IF('DATA COLLECTION'!O89=\"\",\"\",'DATA COLLECTION'!O89)","v":""},null,{"$f":"IF('DATA COLLECTION'!C208=\"\",\"\",'DATA COLLECTION'!C208)","v":""},{"$f":"IF('DATA COLLECTION'!E208=\"\",\"\",'DATA COLLECTION'!E208)","v":""},{"$f":"IF('DATA COLLECTION'!G208=\"\",\"\",'DATA COLLECTION'!G208)","v":""},{"$f":"IF('DATA COLLECTION'!I208=\"\",\"\",'DATA COLLECTION'!I208)","v":""},{"$f":"IF('DATA COLLECTION'!K208=\"\",\"\",'DATA COLLECTION'!K208)","v":""},{"$f":"IF('DATA COLLECTION'!M208=\"\",\"\",'DATA COLLECTION'!M208)","v":""},{"$f":"IF('DATA COLLECTION'!O208=\"\",\"\",'DATA COLLECTION'!O208)","v":""}]
["Objective 4",{"$f":"IF('BUILD ASSESSMENT'!E181=\"\",\"\",'BUILD ASSESSMENT'!E181)","v":""},{"$f":"IF('BUILD ASSESSMENT'!P181=\"\",\"\",'BUILD ASSESSMENT'!P181)","v":""},{"$f":"D61+4","v":181},null,{"$f":"IF('DATA COLLECTION'!B90=\"\",\"\",'DATA COLLECTION'!B90)","v":""},{"$f":"IF('DATA COLLECTION'!D90=\"\",\"\",'DATA COLLECTION'!D90)","v":""},{"$f":"IF('DATA COLLECTION'!J90=\"\",\"\",'DATA COLLECTION'!J90)","v":""},{"$f":"IF('DATA COLLECTION'!M90=\"\",\"\",'DATA COLLECTION'!M90)","v":""},{"$f":"IF('DATA COLLECTION'!O90=\"\",\"\",'DATA COLLECTION'!O90)","v":""},null,{"$f":"IF('DATA COLLECTION'!C209=\"\",\"\",'DATA COLLECTION'!C209)","v":""},{"$f":"IF('DATA COLLECTION'!E209=\"\",\"\",'DATA COLLECTION'!E209)","v":""},{"$f":"IF('DATA COLLECTION'!G209=\"\",\"\",'DATA COLLECTION'!G209)","v":""},{"$f":"IF('DATA COLLECTION'!I209=\"\",\"\",'DATA COLLECTION'!I209)","v":""},{"$f":"IF('DATA COLLECTION'!K209=\"\",\"\",'DATA COLLECTION'!K209)","v":""},{"$f":"IF('DATA COLLECTION'!M209=\"\",\"\",'DATA COLLECTION'!M209)","v":""},{"$f":"IF('DATA COLLECTION'!O209=\"\",\"\",'DATA COLLECTION'!O209)","v":""}]
[4.0999999999999996,{"$f":"IF('BUILD ASSESSMENT'!G184=\"\",\"\",'BUILD ASSESSMENT'!G184)","v":""},{"$f":"IF('BUILD ASSESSMENT'!P184=\"\",\"\",'BUILD ASSESSMENT'!P184)","v":""},{"$f":"D62+3","v":184},null,{"$f":"IF('DATA COLLECTION'!B91=\"\",\"\",'DATA COLLECTION'!B91)","v":""},{"$f":"IF('DATA COLLECTION'!D91=\"\",\"\",'DATA COLLECTION'!D91)","v":""},{"$f":"IF('DATA COLLECTION'!J91=\"\",\"\",'DATA COLLECTION'!J91)","v":""},{"$f":"IF('DATA COLLECTION'!M91=\"\",\"\",'DATA COLLECTION'!M91)","v":""},{"$f":"IF('DATA COLLECTION'!O91=\"\",\"\",'DATA COLLECTION'!O91)","v":""},null,{"$f":"IF('DATA COLLECTION'!C210=\"\",\"\",'DATA COLLECTION'!C210)","v":""},{"$f":"IF('DATA COLLECTION'!E210=\"\",\"\",'DATA COLLECTION'!E210)","v":""},{"$f":"IF('DATA COLLECTION'!G210=\"\",\"\",'DATA COLLECTION'!G210)","v":""},{"$f":"IF('DATA COLLECTION'!I210=\"\",\"\",'DATA COLLECTION'!I210)","v":""},{"$f":"IF('DATA COLLECTION'!K210=\"\",\"\",'DATA COLLECTION'!K210)","v":""},{"$f":"IF('DATA COLLECTION'!M210=\"\",\"\",'DATA COLLECTION'!M210)","v":""},{"$f":"IF('DATA COLLECTION'!O210=\"\",\"\",'DATA COLLECTION'!O210)","v":""}]
[4.2,{"$f":"IF('BUILD ASSESSMENT'!G187=\"\",\"\",'BUILD ASSESSMENT'!G187)","v":""},{"$f":"IF('BUILD ASSESSMENT'!P187=\"\",\"\",'BUILD ASSESSMENT'!P187)","v":""},187,null,{"$f":"IF('DATA COLLECTION'!B92=\"\",\"\",'DATA COLLECTION'!B92)","v":""},{"$f":"IF('DATA COLLECTION'!D92=\"\",\"\",'DATA COLLECTION'!D92)","v":""},{"$f":"IF('DATA COLLECTION'!J92=\"\",\"\",'DATA COLLECTION'!J92)","v":""},{"$f":"IF('DATA COLLECTION'!M92=\"\",\"\",'DATA COLLECTION'!M92)","v":""},{"$f":"IF('DATA COLLECTION'!O92=\"\",\"\",'DATA COLLECTION'!O92)","v":""},null,{"$f":"IF('DATA COLLECTION'!C211=\"\",\"\",'DATA COLLECTION'!C211)","v":""},{"$f":"IF('DATA COLLECTION'!E211=\"\",\"\",'DATA COLLECTION'!E211)","v":""},{"$f":"IF('DATA COLLECTION'!G211=\"\",\"\",'DATA COLLECTION'!G211)","v":""},{"$f":"IF('DATA COLLECTION'!I211=\"\",\"\",'DATA COLLECTION'!I211)","v":""},{"$f":"IF('DATA COLLECTION'!K211=\"\",\"\",'DATA COLLECTION'!K211)","v":""},{"$f":"IF('DATA COLLECTION'!M211=\"\",\"\",'DATA COLLECTION'!M211)","v":""},{"$f":"IF('DATA COLLECTION'!O211=\"\",\"\",'DATA COLLECTION'!O211)","v":""}]
[4.3,{"$f":"IF('BUILD ASSESSMENT'!G190=\"\",\"\",'BUILD ASSESSMENT'!G190)","v":""},{"$f":"IF('BUILD ASSESSMENT'!P190=\"\",\"\",'BUILD ASSESSMENT'!P190)","v":""},190,null,{"$f":"IF('DATA COLLECTION'!B93=\"\",\"\",'DATA COLLECTION'!B93)","v":""},{"$f":"IF('DATA COLLECTION'!D93=\"\",\"\",'DATA COLLECTION'!D93)","v":""},{"$f":"IF('DATA COLLECTION'!J93=\"\",\"\",'DATA COLLECTION'!J93)","v":""},{"$f":"IF('DATA COLLECTION'!M93=\"\",\"\",'DATA COLLECTION'!M93)","v":""},{"$f":"IF('DATA COLLECTION'!O93=\"\",\"\",'DATA COLLECTION'!O93)","v":""},null,{"$f":"IF('DATA COLLECTION'!C212=\"\",\"\",'DATA COLLECTION'!C212)","v":""},{"$f":"IF('DATA COLLECTION'!E212=\"\",\"\",'DATA COLLECTION'!E212)","v":""},{"$f":"IF('DATA COLLECTION'!G212=\"\",\"\",'DATA COLLECTION'!G212)","v":""},{"$f":"IF('DATA COLLECTION'!I212=\"\",\"\",'DATA COLLECTION'!I212)","v":""},{"$f":"IF('DATA COLLECTION'!K212=\"\",\"\",'DATA COLLECTION'!K212)","v":""},{"$f":"IF('DATA COLLECTION'!M212=\"\",\"\",'DATA COLLECTION'!M212)","v":""},{"$f":"IF('DATA COLLECTION'!O212=\"\",\"\",'DATA COLLECTION'!O212)","v":""}]
[4.4000000000000004,{"$f":"IF('BUILD ASSESSMENT'!G193=\"\",\"\",'BUILD ASSESSMENT'!G193)","v":""},{"$f":"IF('BUILD ASSESSMENT'!P193=\"\",\"\",'BUILD ASSESSMENT'!P193)","v":""},193,null,{"$f":"IF('DATA COLLECTION'!B94=\"\",\"\",'DATA COLLECTION'!B94)","v":""},{"$f":"IF('DATA COLLECTION'!D94=\"\",\"\",'DATA COLLECTION'!D94)","v":""},{"$f":"IF('DATA COLLECTION'!J94=\"\",\"\",'DATA COLLECTION'!J94)","v":""},{"$f":"IF('DATA COLLECTION'!M94=\"\",\"\",'DATA COLLECTION'!M94)","v":""},{"$f":"IF('DATA COLLECTION'!O94=\"\",\"\",'DATA COLLECTION'!O94)","v":""},null,{"$f":"IF('DATA COLLECTION'!C213=\"\",\"\",'DATA COLLECTION'!C213)","v":""},{"$f":"IF('DATA COLLECTION'!E213=\"\",\"\",'DATA COLLECTION'!E213)","v":""},{"$f":"IF('DATA COLLECTION'!G213=\"\",\"\",'DATA COLLECTION'!G213)","v":""},{"$f":"IF('DATA COLLECTION'!I213=\"\",\"\",'DATA COLLECTION'!I213)","v":""},{"$f":"IF('DATA COLLECTION'!K213=\"\",\"\",'DATA COLLECTION'!K213)","v":""},{"$f":"IF('DATA COLLECTION'!M213=\"\",\"\",'DATA COLLECTION'!M213)","v":""},{"$f":"IF('DATA COLLECTION'!O213=\"\",\"\",'DATA COLLECTION'!O213)","v":""}]
[4.5,{"$f":"IF('BUILD ASSESSMENT'!G196=\"\",\"\",'BUILD ASSESSMENT'!G196)","v":""},{"$f":"IF('BUILD ASSESSMENT'!P196=\"\",\"\",'BUILD ASSESSMENT'!P196)","v":""},196,null,{"$f":"IF('DATA COLLECTION'!B95=\"\",\"\",'DATA COLLECTION'!B95)","v":""},{"$f":"IF('DATA COLLECTION'!D95=\"\",\"\",'DATA COLLECTION'!D95)","v":""},{"$f":"IF('DATA COLLECTION'!J95=\"\",\"\",'DATA COLLECTION'!J95)","v":""},{"$f":"IF('DATA COLLECTION'!M95=\"\",\"\",'DATA COLLECTION'!M95)","v":""},{"$f":"IF('DATA COLLECTION'!O95=\"\",\"\",'DATA COLLECTION'!O95)","v":""},null,{"$f":"IF('DATA COLLECTION'!C214=\"\",\"\",'DATA COLLECTION'!C214)","v":""},{"$f":"IF('DATA COLLECTION'!E214=\"\",\"\",'DATA COLLECTION'!E214)","v":""},{"$f":"IF('DATA COLLECTION'!G214=\"\",\"\",'DATA COLLECTION'!G214)","v":""},{"$f":"IF('DATA COLLECTION'!I214=\"\",\"\",'DATA COLLECTION'!I214)","v":""},{"$f":"IF('DATA COLLECTION'!K214=\"\",\"\",'DATA COLLECTION'!K214)","v":""},{"$f":"IF('DATA COLLECTION'!M214=\"\",\"\",'DATA COLLECTION'!M214)","v":""},{"$f":"IF('DATA COLLECTION'!O214=\"\",\"\",'DATA COLLECTION'!O214)","v":""}]
["Objective 5",{"$f":"IF('BUILD ASSESSMENT'!E200=\"\",\"\",'BUILD ASSESSMENT'!E200)","v":""},{"$f":"IF('BUILD ASSESSMENT'!P200=\"\",\"\",'BUILD ASSESSMENT'!P200)","v":""},{"$f":"D67+4","v":200},null,{"$f":"IF('DATA COLLECTION'!B96=\"\",\"\",'DATA COLLECTION'!B96)","v":""},{"$f":"IF('DATA COLLECTION'!D96=\"\",\"\",'DATA COLLECTION'!D96)","v":""},{"$f":"IF('DATA COLLECTION'!J96=\"\",\"\",'DATA COLLECTION'!J96)","v":""},{"$f":"IF('DATA COLLECTION'!M96=\"\",\"\",'DATA COLLECTION'!M96)","v":""},{"$f":"IF('DATA COLLECTION'!O96=\"\",\"\",'DATA COLLECTION'!O96)","v":""},null,{"$f":"IF('DATA COLLECTION'!C215=\"\",\"\",'DATA COLLECTION'!C215)","v":""},{"$f":"IF('DATA COLLECTION'!E215=\"\",\"\",'DATA COLLECTION'!E215)","v":""},{"$f":"IF('DATA COLLECTION'!G215=\"\",\"\",'DATA COLLECTION'!G215)","v":""},{"$f":"IF('DATA COLLECTION'!I215=\"\",\"\",'DATA COLLECTION'!I215)","v":""},{"$f":"IF('DATA COLLECTION'!K215=\"\",\"\",'DATA COLLECTION'!K215)","v":""},{"$f":"IF('DATA COLLECTION'!M215=\"\",\"\",'DATA COLLECTION'!M215)","v":""},{"$f":"IF('DATA COLLECTION'!O215=\"\",\"\",'DATA COLLECTION'!O215)","v":""}]
[5.0999999999999996,{"$f":"IF('BUILD ASSESSMENT'!G203=\"\",\"\",'BUILD ASSESSMENT'!G203)","v":""},{"$f":"IF('BUILD ASSESSMENT'!P203=\"\",\"\",'BUILD ASSESSMENT'!P203)","v":""},{"$f":"D68+3","v":203},null,{"$f":"IF('DATA COLLECTION'!B97=\"\",\"\",'DATA COLLECTION'!B97)","v":""},{"$f":"IF('DATA COLLECTION'!D97=\"\",\"\",'DATA COLLECTION'!D97)","v":""},{"$f":"IF('DATA COLLECTION'!J97=\"\",\"\",'DATA COLLECTION'!J97)","v":""},{"$f":"IF('DATA COLLECTION'!M97=\"\",\"\",'DATA COLLECTION'!M97)","v":""},{"$f":"IF('DATA COLLECTION'!O97=\"\",\"\",'DATA COLLECTION'!O97)","v":""},null,{"$f":"IF('DATA COLLECTION'!C216=\"\",\"\",'DATA COLLECTION'!C216)","v":""},{"$f":"IF('DATA COLLECTION'!E216=\"\",\"\",'DATA COLLECTION'!E216)","v":""},{"$f":"IF('DATA COLLECTION'!G216=\"\",\"\",'DATA COLLECTION'!G216)","v":""},{"$f":"IF('DATA COLLECTION'!I216=\"\",\"\",'DATA COLLECTION'!I216)","v":""},{"$f":"IF('DATA COLLECTION'!K216=\"\",\"\",'DATA COLLECTION'!K216)","v":""},{"$f":"IF('DATA COLLECTION'!M216=\"\",\"\",'DATA COLLECTION'!M216)","v":""},{"$f":"IF('DATA COLLECTION'!O216=\"\",\"\",'DATA COLLECTION'!O216)","v":""}]
[5.2,{"$f":"IF('BUILD ASSESSMENT'!G206=\"\",\"\",'BUILD ASSESSMENT'!G206)","v":""},{"$f":"IF('BUILD ASSESSMENT'!P206=\"\",\"\",'BUILD ASSESSMENT'!P206)","v":""},206,null,{"$f":"IF('DATA COLLECTION'!B98=\"\",\"\",'DATA COLLECTION'!B98)","v":""},{"$f":"IF('DATA COLLECTION'!D98=\"\",\"\",'DATA COLLECTION'!D98)","v":""},{"$f":"IF('DATA COLLECTION'!J98=\"\",\"\",'DATA COLLECTION'!J98)","v":""},{"$f":"IF('DATA COLLECTION'!M98=\"\",\"\",'DATA COLLECTION'!M98)","v":""},{"$f":"IF('DATA COLLECTION'!O98=\"\",\"\",'DATA COLLECTION'!O98)","v":""},null,{"$f":"IF('DATA COLLECTION'!C217=\"\",\"\",'DATA COLLECTION'!C217)","v":""},{"$f":"IF('DATA COLLECTION'!E217=\"\",\"\",'DATA COLLECTION'!E217)","v":""},{"$f":"IF('DATA COLLECTION'!G217=\"\",\"\",'DATA COLLECTION'!G217)","v":""},{"$f":"IF('DATA COLLECTION'!I217=\"\",\"\",'DATA COLLECTION'!I217)","v":""},{"$f":"IF('DATA COLLECTION'!K217=\"\",\"\",'DATA COLLECTION'!K217)","v":""},{"$f":"IF('DATA COLLECTION'!M217=\"\",\"\",'DATA COLLECTION'!M217)","v":""},{"$f":"IF('DATA COLLECTION'!O217=\"\",\"\",'DATA COLLECTION'!O217)","v":""}]
[5.3,{"$f":"IF('BUILD ASSESSMENT'!G209=\"\",\"\",'BUILD ASSESSMENT'!G209)","v":""},{"$f":"IF('BUILD ASSESSMENT'!P209=\"\",\"\",'BUILD ASSESSMENT'!P209)","v":""},209,null,{"$f":"IF('DATA COLLECTION'!B99=\"\",\"\",'DATA COLLECTION'!B99)","v":""},{"$f":"IF('DATA COLLECTION'!D99=\"\",\"\",'DATA COLLECTION'!D99)","v":""},{"$f":"IF('DATA COLLECTION'!J99=\"\",\"\",'DATA COLLECTION'!J99)","v":""},{"$f":"IF('DATA COLLECTION'!M99=\"\",\"\",'DATA COLLECTION'!M99)","v":""},{"$f":"IF('DATA COLLECTION'!O99=\"\",\"\",'DATA COLLECTION'!O99)","v":""},null,{"$f":"IF('DATA COLLECTION'!C218=\"\",\"\",'DATA COLLECTION'!C218)","v":""},{"$f":"IF('DATA COLLECTION'!E218=\"\",\"\",'DATA COLLECTION'!E218)","v":""},{"$f":"IF('DATA COLLECTION'!G218=\"\",\"\",'DATA COLLECTION'!G218)","v":""},{"$f":"IF('DATA COLLECTION'!I218=\"\",\"\",'DATA COLLECTION'!I218)","v":""},{"$f":"IF('DATA COLLECTION'!K218=\"\",\"\",'DATA COLLECTION'!K218)","v":""},{"$f":"IF('DATA COLLECTION'!M218=\"\",\"\",'DATA COLLECTION'!M218)","v":""},{"$f":"IF('DATA COLLECTION'!O218=\"\",\"\",'DATA COLLECTION'!O218)","v":""}]
[5.4,{"$f":"IF('BUILD ASSESSMENT'!G212=\"\",\"\",'BUILD ASSESSMENT'!G212)","v":""},{"$f":"IF('BUILD ASSESSMENT'!P212=\"\",\"\",'BUILD ASSESSMENT'!P212)","v":""},212,null,{"$f":"IF('DATA COLLECTION'!B100=\"\",\"\",'DATA COLLECTION'!B100)","v":""},{"$f":"IF('DATA COLLECTION'!D100=\"\",\"\",'DATA COLLECTION'!D100)","v":""},{"$f":"IF('DATA COLLECTION'!J100=\"\",\"\",'DATA COLLECTION'!J100)","v":""},{"$f":"IF('DATA COLLECTION'!M100=\"\",\"\",'DATA COLLECTION'!M100)","v":""},{"$f":"IF('DATA COLLECTION'!O100=\"\",\"\",'DATA COLLECTION'!O100)","v":""},null,{"$f":"IF('DATA COLLECTION'!C219=\"\",\"\",'DATA COLLECTION'!C219)","v":""},{"$f":"IF('DATA COLLECTION'!E219=\"\",\"\",'DATA COLLECTION'!E219)","v":""},{"$f":"IF('DATA COLLECTION'!G219=\"\",\"\",'DATA COLLECTION'!G219)","v":""},{"$f":"IF('DATA COLLECTION'!I219=\"\",\"\",'DATA COLLECTION'!I219)","v":""},{"$f":"IF('DATA COLLECTION'!K219=\"\",\"\",'DATA COLLECTION'!K219)","v":""},{"$f":"IF('DATA COLLECTION'!M219=\"\",\"\",'DATA COLLECTION'!M219)","v":""},{"$f":"IF('DATA COLLECTION'!O219=\"\",\"\",'DATA COLLECTION'!O219)","v":""}]
[5.5,{"$f":"IF('BUILD ASSESSMENT'!G215=\"\",\"\",'BUILD ASSESSMENT'!G215)","v":""},{"$f":"IF('BUILD ASSESSMENT'!P215=\"\",\"\",'BUILD ASSESSMENT'!P215)","v":""},215,null,{"$f":"IF('DATA COLLECTION'!B101=\"\",\"\",'DATA COLLECTION'!B101)","v":""},{"$f":"IF('DATA COLLECTION'!D101=\"\",\"\",'DATA COLLECTION'!D101)","v":""},{"$f":"IF('DATA COLLECTION'!J101=\"\",\"\",'DATA COLLECTION'!J101)","v":""},{"$f":"IF('DATA COLLECTION'!M101=\"\",\"\",'DATA COLLECTION'!M101)","v":""},{"$f":"IF('DATA COLLECTION'!O101=\"\",\"\",'DATA COLLECTION'!O101)","v":""},null,{"$f":"IF('DATA COLLECTION'!C220=\"\",\"\",'DATA COLLECTION'!C220)","v":""},{"$f":"IF('DATA COLLECTION'!E220=\"\",\"\",'DATA COLLECTION'!E220)","v":""},{"$f":"IF('DATA COLLECTION'!G220=\"\",\"\",'DATA COLLECTION'!G220)","v":""},{"$f":"IF('DATA COLLECTION'!I220=\"\",\"\",'DATA COLLECTION'!I220)","v":""},{"$f":"IF('DATA COLLECTION'!K220=\"\",\"\",'DATA COLLECTION'!K220)","v":""},{"$f":"IF('DATA COLLECTION'!M220=\"\",\"\",'DATA COLLECTION'!M220)","v":""},{"$f":"IF('DATA COLLECTION'!O220=\"\",\"\",'DATA COLLECTION'!O220)","v":""}]
["Objective 6",{"$f":"IF('BUILD ASSESSMENT'!E219=\"\",\"\",'BUILD ASSESSMENT'!E219)","v":""},{"$f":"IF('BUILD ASSESSMENT'!P219=\"\",\"\",'BUILD ASSESSMENT'!P219)","v":""},{"$f":"D73+4","v":219},null,{"$f":"IF('DATA COLLECTION'!B102=\"\",\"\",'DATA COLLECTION'!B102)","v":""},{"$f":"IF('DATA COLLECTION'!D102=\"\",\"\",'DATA COLLECTION'!D102)","v":""},{"$f":"IF('DATA COLLECTION'!J102=\"\",\"\",'DATA COLLECTION'!J102)","v":""},{"$f":"IF('DATA COLLECTION'!M102=\"\",\"\",'DATA COLLECTION'!M102)","v":""},{"$f":"IF('DATA COLLECTION'!O102=\"\",\"\",'DATA COLLECTION'!O102)","v":""},null,{"$f":"IF('DATA COLLECTION'!C221=\"\",\"\",'DATA COLLECTION'!C221)","v":""},{"$f":"IF('DATA COLLECTION'!E221=\"\",\"\",'DATA COLLECTION'!E221)","v":""},{"$f":"IF('DATA COLLECTION'!G221=\"\",\"\",'DATA COLLECTION'!G221)","v":""},{"$f":"IF('DATA COLLECTION'!I221=\"\",\"\",'DATA COLLECTION'!I221)","v":""},{"$f":"IF('DATA COLLECTION'!K221=\"\",\"\",'DATA COLLECTION'!K221)","v":""},{"$f":"IF('DATA COLLECTION'!M221=\"\",\"\",'DATA COLLECTION'!M221)","v":""},{"$f":"IF('DATA COLLECTION'!O221=\"\",\"\",'DATA COLLECTION'!O221)","v":""}]
[6.1,{"$f":"IF('BUILD ASSESSMENT'!G222=\"\",\"\",'BUILD ASSESSMENT'!G222)","v":""},{"$f":"IF('BUILD ASSESSMENT'!P222=\"\",\"\",'BUILD ASSESSMENT'!P222)","v":""},{"$f":"D74+3","v":222},null,{"$f":"IF('DATA COLLECTION'!B103=\"\",\"\",'DATA COLLECTION'!B103)","v":""},{"$f":"IF('DATA COLLECTION'!D103=\"\",\"\",'DATA COLLECTION'!D103)","v":""},{"$f":"IF('DATA COLLECTION'!J103=\"\",\"\",'DATA COLLECTION'!J103)","v":""},{"$f":"IF('DATA COLLECTION'!M103=\"\",\"\",'DATA COLLECTION'!M103)","v":""},{"$f":"IF('DATA COLLECTION'!O103=\"\",\"\",'DATA COLLECTION'!O103)","v":""},null,{"$f":"IF('DATA COLLECTION'!C222=\"\",\"\",'DATA COLLECTION'!C222)","v":""},{"$f":"IF('DATA COLLECTION'!E222=\"\",\"\",'DATA COLLECTION'!E222)","v":""},{"$f":"IF('DATA COLLECTION'!G222=\"\",\"\",'DATA COLLECTION'!G222)","v":""},{"$f":"IF('DATA COLLECTION'!I222=\"\",\"\",'DATA COLLECTION'!I222)","v":""},{"$f":"IF('DATA COLLECTION'!K222=\"\",\"\",'DATA COLLECTION'!K222)","v":""},{"$f":"IF('DATA COLLECTION'!M222=\"\",\"\",'DATA COLLECTION'!M222)","v":""},{"$f":"IF('DATA COLLECTION'!O222=\"\",\"\",'DATA COLLECTION'!O222)","v":""}]
[6.2,{"$f":"IF('BUILD ASSESSMENT'!G225=\"\",\"\",'BUILD ASSESSMENT'!G222)","v":""},{"$f":"IF('BUILD ASSESSMENT'!P225=\"\",\"\",'BUILD ASSESSMENT'!P225)","v":""},225,null,{"$f":"IF('DATA COLLECTION'!B104=\"\",\"\",'DATA COLLECTION'!B104)","v":""},{"$f":"IF('DATA COLLECTION'!D104=\"\",\"\",'DATA COLLECTION'!D104)","v":""},{"$f":"IF('DATA COLLECTION'!J104=\"\",\"\",'DATA COLLECTION'!J104)","v":""},{"$f":"IF('DATA COLLECTION'!M104=\"\",\"\",'DATA COLLECTION'!M104)","v":""},{"$f":"IF('DATA COLLECTION'!O104=\"\",\"\",'DATA COLLECTION'!O104)","v":""},null,{"$f":"IF('DATA COLLECTION'!C223=\"\",\"\",'DATA COLLECTION'!C223)","v":""},{"$f":"IF('DATA COLLECTION'!E223=\"\",\"\",'DATA COLLECTION'!E223)","v":""},{"$f":"IF('DATA COLLECTION'!G223=\"\",\"\",'DATA COLLECTION'!G223)","v":""},{"$f":"IF('DATA COLLECTION'!I223=\"\",\"\",'DATA COLLECTION'!I223)","v":""},{"$f":"IF('DATA COLLECTION'!K223=\"\",\"\",'DATA COLLECTION'!K223)","v":""},{"$f":"IF('DATA COLLECTION'!M223=\"\",\"\",'DATA COLLECTION'!M223)","v":""},{"$f":"IF('DATA COLLECTION'!O223=\"\",\"\",'DATA COLLECTION'!O223)","v":""}]
[6.3,{"$f":"IF('BUILD ASSESSMENT'!G228=\"\",\"\",'BUILD ASSESSMENT'!G222)","v":""},{"$f":"IF('BUILD ASSESSMENT'!P228=\"\",\"\",'BUILD ASSESSMENT'!P228)","v":""},228,null,{"$f":"IF('DATA COLLECTION'!B105=\"\",\"\",'DATA COLLECTION'!B105)","v":""},{"$f":"IF('DATA COLLECTION'!D105=\"\",\"\",'DATA COLLECTION'!D105)","v":""},{"$f":"IF('DATA COLLECTION'!J105=\"\",\"\",'DATA COLLECTION'!J105)","v":""},{"$f":"IF('DATA COLLECTION'!M105=\"\",\"\",'DATA COLLECTION'!M105)","v":""},{"$f":"IF('DATA COLLECTION'!O105=\"\",\"\",'DATA COLLECTION'!O105)","v":""},null,{"$f":"IF('DATA COLLECTION'!C224=\"\",\"\",'DATA COLLECTION'!C224)","v":""},{"$f":"IF('DATA COLLECTION'!E224=\"\",\"\",'DATA COLLECTION'!E224)","v":""},{"$f":"IF('DATA COLLECTION'!G224=\"\",\"\",'DATA COLLECTION'!G224)","v":""},{"$f":"IF('DATA COLLECTION'!I224=\"\",\"\",'DATA COLLECTION'!I224)","v":""},{"$f":"IF('DATA COLLECTION'!K224=\"\",\"\",'DATA COLLECTION'!K224)","v":""},{"$f":"IF('DATA COLLECTION'!M224=\"\",\"\",'DATA COLLECTION'!M224)","v":""},{"$f":"IF('DATA COLLECTION'!O224=\"\",\"\",'DATA COLLECTION'!O224)","v":""}]
[6.4,{"$f":"IF('BUILD ASSESSMENT'!G231=\"\",\"\",'BUILD ASSESSMENT'!G231)","v":""},{"$f":"IF('BUILD ASSESSMENT'!P231=\"\",\"\",'BUILD ASSESSMENT'!P231)","v":""},231,null,{"$f":"IF('DATA COLLECTION'!B106=\"\",\"\",'DATA COLLECTION'!B106)","v":""},{"$f":"IF('DATA COLLECTION'!D106=\"\",\"\",'DATA COLLECTION'!D106)","v":""},{"$f":"IF('DATA COLLECTION'!J106=\"\",\"\",'DATA COLLECTION'!J106)","v":""},{"$f":"IF('DATA COLLECTION'!M106=\"\",\"\",'DATA COLLECTION'!M106)","v":""},{"$f":"IF('DATA COLLECTION'!O106=\"\",\"\",'DATA COLLECTION'!O106)","v":""},null,{"$f":"IF('DATA COLLECTION'!C225=\"\",\"\",'DATA COLLECTION'!C225)","v":""},{"$f":"IF('DATA COLLECTION'!E225=\"\",\"\",'DATA COLLECTION'!E225)","v":""},{"$f":"IF('DATA COLLECTION'!G225=\"\",\"\",'DATA COLLECTION'!G225)","v":""},{"$f":"IF('DATA COLLECTION'!I225=\"\",\"\",'DATA COLLECTION'!I225)","v":""},{"$f":"IF('DATA COLLECTION'!K225=\"\",\"\",'DATA COLLECTION'!K225)","v":""},{"$f":"IF('DATA COLLECTION'!M225=\"\",\"\",'DATA COLLECTION'!M225)","v":""},{"$f":"IF('DATA COLLECTION'!O225=\"\",\"\",'DATA COLLECTION'!O225)","v":""}]
[6.5,{"$f":"IF('BUILD ASSESSMENT'!G234=\"\",\"\",'BUILD ASSESSMENT'!G234)","v":""},{"$f":"IF('BUILD ASSESSMENT'!P234=\"\",\"\",'BUILD ASSESSMENT'!P234)","v":""},234,null,{"$f":"IF('DATA COLLECTION'!B107=\"\",\"\",'DATA COLLECTION'!B107)","v":""},{"$f":"IF('DATA COLLECTION'!D107=\"\",\"\",'DATA COLLECTION'!D107)","v":""},{"$f":"IF('DATA COLLECTION'!J107=\"\",\"\",'DATA COLLECTION'!J107)","v":""},{"$f":"IF('DATA COLLECTION'!M107=\"\",\"\",'DATA COLLECTION'!M107)","v":""},{"$f":"IF('DATA COLLECTION'!O107=\"\",\"\",'DATA COLLECTION'!O107)","v":""},null,{"$f":"IF('DATA COLLECTION'!C226=\"\",\"\",'DATA COLLECTION'!C226)","v":""},{"$f":"IF('DATA COLLECTION'!E226=\"\",\"\",'DATA COLLECTION'!E226)","v":""},{"$f":"IF('DATA COLLECTION'!G226=\"\",\"\",'DATA COLLECTION'!G226)","v":""},{"$f":"IF('DATA COLLECTION'!I226=\"\",\"\",'DATA COLLECTION'!I226)","v":""},{"$f":"IF('DATA COLLECTION'!K226=\"\",\"\",'DATA COLLECTION'!K226)","v":""},{"$f":"IF('DATA COLLECTION'!M226=\"\",\"\",'DATA COLLECTION'!M226)","v":""},{"$f":"IF('DATA COLLECTION'!O226=\"\",\"\",'DATA COLLECTION'!O226)","v":""}]
["Objective 7",{"$f":"IF('BUILD ASSESSMENT'!E238=\"\",\"\",'BUILD ASSESSMENT'!E238)","v":""},{"$f":"IF('BUILD ASSESSMENT'!P238=\"\",\"\",'BUILD ASSESSMENT'!P238)","v":""},{"$f":"D79+4","v":238},null,{"$f":"IF('DATA COLLECTION'!B108=\"\",\"\",'DATA COLLECTION'!B108)","v":""},{"$f":"IF('DATA COLLECTION'!D108=\"\",\"\",'DATA COLLECTION'!D108)","v":""},{"$f":"IF('DATA COLLECTION'!J108=\"\",\"\",'DATA COLLECTION'!J108)","v":""},{"$f":"IF('DATA COLLECTION'!M108=\"\",\"\",'DATA COLLECTION'!M108)","v":""},{"$f":"IF('DATA COLLECTION'!O108=\"\",\"\",'DATA COLLECTION'!O108)","v":""},null,{"$f":"IF('DATA COLLECTION'!C227=\"\",\"\",'DATA COLLECTION'!C227)","v":""},{"$f":"IF('DATA COLLECTION'!E227=\"\",\"\",'DATA COLLECTION'!E227)","v":""},{"$f":"IF('DATA COLLECTION'!G227=\"\",\"\",'DATA COLLECTION'!G227)","v":""},{"$f":"IF('DATA COLLECTION'!I227=\"\",\"\",'DATA COLLECTION'!I227)","v":""},{"$f":"IF('DATA COLLECTION'!K227=\"\",\"\",'DATA COLLECTION'!K227)","v":""},{"$f":"IF('DATA COLLECTION'!M227=\"\",\"\",'DATA COLLECTION'!M227)","v":""},{"$f":"IF('DATA COLLECTION'!O227=\"\",\"\",'DATA COLLECTION'!O227)","v":""}]
[7.1,{"$f":"IF('BUILD ASSESSMENT'!G241=\"\",\"\",'BUILD ASSESSMENT'!G241)","v":""},{"$f":"IF('BUILD ASSESSMENT'!P241=\"\",\"\",'BUILD ASSESSMENT'!P241)","v":""},{"$f":"D80+3","v":241},null,{"$f":"IF('DATA COLLECTION'!B109=\"\",\"\",'DATA COLLECTION'!B109)","v":""},{"$f":"IF('DATA COLLECTION'!D109=\"\",\"\",'DATA COLLECTION'!D109)","v":""},{"$f":"IF('DATA COLLECTION'!J109=\"\",\"\",'DATA COLLECTION'!J109)","v":""},{"$f":"IF('DATA COLLECTION'!M109=\"\",\"\",'DATA COLLECTION'!M109)","v":""},{"$f":"IF('DATA COLLECTION'!O109=\"\",\"\",'DATA COLLECTION'!O109)","v":""},null,{"$f":"IF('DATA COLLECTION'!C228=\"\",\"\",'DATA COLLECTION'!C228)","v":""},{"$f":"IF('DATA COLLECTION'!E228=\"\",\"\",'DATA COLLECTION'!E228)","v":""},{"$f":"IF('DATA COLLECTION'!G228=\"\",\"\",'DATA COLLECTION'!G228)","v":""},{"$f":"IF('DATA COLLECTION'!I228=\"\",\"\",'DATA COLLECTION'!I228)","v":""},{"$f":"IF('DATA COLLECTION'!K228=\"\",\"\",'DATA COLLECTION'!K228)","v":""},{"$f":"IF('DATA COLLECTION'!M228=\"\",\"\",'DATA COLLECTION'!M228)","v":""},{"$f":"IF('DATA COLLECTION'!O228=\"\",\"\",'DATA COLLECTION'!O228)","v":""}]
[7.2,{"$f":"IF('BUILD ASSESSMENT'!G244=\"\",\"\",'BUILD ASSESSMENT'!G244)","v":""},{"$f":"IF('BUILD ASSESSMENT'!P244=\"\",\"\",'BUILD ASSESSMENT'!P244)","v":""},244,null,{"$f":"IF('DATA COLLECTION'!B110=\"\",\"\",'DATA COLLECTION'!B110)","v":""},{"$f":"IF('DATA COLLECTION'!D110=\"\",\"\",'DATA COLLECTION'!D110)","v":""},{"$f":"IF('DATA COLLECTION'!J110=\"\",\"\",'DATA COLLECTION'!J110)","v":""},{"$f":"IF('DATA COLLECTION'!M110=\"\",\"\",'DATA COLLECTION'!M110)","v":""},{"$f":"IF('DATA COLLECTION'!O110=\"\",\"\",'DATA COLLECTION'!O110)","v":""},null,{"$f":"IF('DATA COLLECTION'!C229=\"\",\"\",'DATA COLLECTION'!C229)","v":""},{"$f":"IF('DATA COLLECTION'!E229=\"\",\"\",'DATA COLLECTION'!E229)","v":""},{"$f":"IF('DATA COLLECTION'!G229=\"\",\"\",'DATA COLLECTION'!G229)","v":""},{"$f":"IF('DATA COLLECTION'!I229=\"\",\"\",'DATA COLLECTION'!I229)","v":""},{"$f":"IF('DATA COLLECTION'!K229=\"\",\"\",'DATA COLLECTION'!K229)","v":""},{"$f":"IF('DATA COLLECTION'!M229=\"\",\"\",'DATA COLLECTION'!M229)","v":""},{"$f":"IF('DATA COLLECTION'!O229=\"\",\"\",'DATA COLLECTION'!O229)","v":""}]
[7.3,{"$f":"IF('BUILD ASSESSMENT'!G247=\"\",\"\",'BUILD ASSESSMENT'!G247)","v":""},{"$f":"IF('BUILD ASSESSMENT'!P247=\"\",\"\",'BUILD ASSESSMENT'!P247)","v":""},247,null,{"$f":"IF('DATA COLLECTION'!B111=\"\",\"\",'DATA COLLECTION'!B111)","v":""},{"$f":"IF('DATA COLLECTION'!D111=\"\",\"\",'DATA COLLECTION'!D111)","v":""},{"$f":"IF('DATA COLLECTION'!J111=\"\",\"\",'DATA COLLECTION'!J111)","v":""},{"$f":"IF('DATA COLLECTION'!M111=\"\",\"\",'DATA COLLECTION'!M111)","v":""},{"$f":"IF('DATA COLLECTION'!O111=\"\",\"\",'DATA COLLECTION'!O111)","v":""},null,{"$f":"IF('DATA COLLECTION'!C230=\"\",\"\",'DATA COLLECTION'!C230)","v":""},{"$f":"IF('DATA COLLECTION'!E230=\"\",\"\",'DATA COLLECTION'!E230)","v":""},{"$f":"IF('DATA COLLECTION'!G230=\"\",\"\",'DATA COLLECTION'!G230)","v":""},{"$f":"IF('DATA COLLECTION'!I230=\"\",\"\",'DATA COLLECTION'!I230)","v":""},{"$f":"IF('DATA COLLECTION'!K230=\"\",\"\",'DATA COLLECTION'!K230)","v":""},{"$f":"IF('DATA COLLECTION'!M230=\"\",\"\",'DATA COLLECTION'!M230)","v":""},{"$f":"IF('DATA COLLECTION'!O230=\"\",\"\",'DATA COLLECTION'!O230)","v":""}]
[7.4,{"$f":"IF('BUILD ASSESSMENT'!G250=\"\",\"\",'BUILD ASSESSMENT'!G250)","v":""},{"$f":"IF('BUILD ASSESSMENT'!P250=\"\",\"\",'BUILD ASSESSMENT'!P250)","v":""},250,null,{"$f":"IF('DATA COLLECTION'!B112=\"\",\"\",'DATA COLLECTION'!B112)","v":""},{"$f":"IF('DATA COLLECTION'!D112=\"\",\"\",'DATA COLLECTION'!D112)","v":""},{"$f":"IF('DATA COLLECTION'!J112=\"\",\"\",'DATA COLLECTION'!J112)","v":""},{"$f":"IF('DATA COLLECTION'!M112=\"\",\"\",'DATA COLLECTION'!M112)","v":""},{"$f":"IF('DATA COLLECTION'!O112=\"\",\"\",'DATA COLLECTION'!O112)","v":""},null,{"$f":"IF('DATA COLLECTION'!C231=\"\",\"\",'DATA COLLECTION'!C231)","v":""},{"$f":"IF('DATA COLLECTION'!E231=\"\",\"\",'DATA COLLECTION'!E231)","v":""},{"$f":"IF('DATA COLLECTION'!G231=\"\",\"\",'DATA COLLECTION'!G231)","v":""},{"$f":"IF('DATA COLLECTION'!I231=\"\",\"\",'DATA COLLECTION'!I231)","v":""},{"$f":"IF('DATA COLLECTION'!K231=\"\",\"\",'DATA COLLECTION'!K231)","v":""},{"$f":"IF('DATA COLLECTION'!M231=\"\",\"\",'DATA COLLECTION'!M231)","v":""},{"$f":"IF('DATA COLLECTION'!O231=\"\",\"\",'DATA COLLECTION'!O231)","v":""}]
[7.5,{"$f":"IF('BUILD ASSESSMENT'!G253=\"\",\"\",'BUILD ASSESSMENT'!G253)","v":""},{"$f":"IF('BUILD ASSESSMENT'!P253=\"\",\"\",'BUILD ASSESSMENT'!P253)","v":""},253,null,{"$f":"IF('DATA COLLECTION'!B113=\"\",\"\",'DATA COLLECTION'!B113)","v":""},{"$f":"IF('DATA COLLECTION'!D113=\"\",\"\",'DATA COLLECTION'!D113)","v":""},{"$f":"IF('DATA COLLECTION'!J113=\"\",\"\",'DATA COLLECTION'!J113)","v":""},{"$f":"IF('DATA COLLECTION'!M113=\"\",\"\",'DATA COLLECTION'!M113)","v":""},{"$f":"IF('DATA COLLECTION'!O113=\"\",\"\",'DATA COLLECTION'!O113)","v":""},null,{"$f":"IF('DATA COLLECTION'!C232=\"\",\"\",'DATA COLLECTION'!C232)","v":""},{"$f":"IF('DATA COLLECTION'!E232=\"\",\"\",'DATA COLLECTION'!E232)","v":""},{"$f":"IF('DATA COLLECTION'!G232=\"\",\"\",'DATA COLLECTION'!G232)","v":""},{"$f":"IF('DATA COLLECTION'!I232=\"\",\"\",'DATA COLLECTION'!I232)","v":""},{"$f":"IF('DATA COLLECTION'!K232=\"\",\"\",'DATA COLLECTION'!K232)","v":""},{"$f":"IF('DATA COLLECTION'!M232=\"\",\"\",'DATA COLLECTION'!M232)","v":""},{"$f":"IF('DATA COLLECTION'!O232=\"\",\"\",'DATA COLLECTION'!O232)","v":""}]
["Objective 8",{"$f":"IF('BUILD ASSESSMENT'!E257=\"\",\"\",'BUILD ASSESSMENT'!E257)","v":""},{"$f":"IF('BUILD ASSESSMENT'!P257=\"\",\"\",'BUILD ASSESSMENT'!P257)","v":""},{"$f":"D85+4","v":257},null,{"$f":"IF('DATA COLLECTION'!B114=\"\",\"\",'DATA COLLECTION'!B114)","v":""},{"$f":"IF('DATA COLLECTION'!D114=\"\",\"\",'DATA COLLECTION'!D114)","v":""},{"$f":"IF('DATA COLLECTION'!J114=\"\",\"\",'DATA COLLECTION'!J114)","v":""},{"$f":"IF('DATA COLLECTION'!M114=\"\",\"\",'DATA COLLECTION'!M114)","v":""},{"$f":"IF('DATA COLLECTION'!O114=\"\",\"\",'DATA COLLECTION'!O114)","v":""},null,{"$f":"IF('DATA COLLECTION'!C233=\"\",\"\",'DATA COLLECTION'!C233)","v":""},{"$f":"IF('DATA COLLECTION'!E233=\"\",\"\",'DATA COLLECTION'!E233)","v":""},{"$f":"IF('DATA COLLECTION'!G233=\"\",\"\",'DATA COLLECTION'!G233)","v":""},{"$f":"IF('DATA COLLECTION'!I233=\"\",\"\",'DATA COLLECTION'!I233)","v":""},{"$f":"IF('DATA COLLECTION'!K233=\"\",\"\",'DATA COLLECTION'!K233)","v":""},{"$f":"IF('DATA COLLECTION'!M233=\"\",\"\",'DATA COLLECTION'!M233)","v":""},{"$f":"IF('DATA COLLECTION'!O233=\"\",\"\",'DATA COLLECTION'!O233)","v":""}]
[8.1,{"$f":"IF('BUILD ASSESSMENT'!G260=\"\",\"\",'BUILD ASSESSMENT'!G260)","v":""},{"$f":"IF('BUILD ASSESSMENT'!P260=\"\",\"\",'BUILD ASSESSMENT'!P260)","v":""},{"$f":"D86+3","v":260},null,{"$f":"IF('DATA COLLECTION'!B115=\"\",\"\",'DATA COLLECTION'!B115)","v":""},{"$f":"IF('DATA COLLECTION'!D115=\"\",\"\",'DATA COLLECTION'!D115)","v":""},{"$f":"IF('DATA COLLECTION'!J115=\"\",\"\",'DATA COLLECTION'!J115)","v":""},{"$f":"IF('DATA COLLECTION'!M115=\"\",\"\",'DATA COLLECTION'!M115)","v":""},{"$f":"IF('DATA COLLECTION'!O115=\"\",\"\",'DATA COLLECTION'!O115)","v":""},null,{"$f":"IF('DATA COLLECTION'!C234=\"\",\"\",'DATA COLLECTION'!C234)","v":""},{"$f":"IF('DATA COLLECTION'!E234=\"\",\"\",'DATA COLLECTION'!E234)","v":""},{"$f":"IF('DATA COLLECTION'!G234=\"\",\"\",'DATA COLLECTION'!G234)","v":""},{"$f":"IF('DATA COLLECTION'!I234=\"\",\"\",'DATA COLLECTION'!I234)","v":""},{"$f":"IF('DATA COLLECTION'!K234=\"\",\"\",'DATA COLLECTION'!K234)","v":""},{"$f":"IF('DATA COLLECTION'!M234=\"\",\"\",'DATA COLLECTION'!M234)","v":""},{"$f":"IF('DATA COLLECTION'!O234=\"\",\"\",'DATA COLLECTION'!O234)","v":""}]
[8.1999999999999993,{"$f":"IF('BUILD ASSESSMENT'!G263=\"\",\"\",'BUILD ASSESSMENT'!G263)","v":""},{"$f":"IF('BUILD ASSESSMENT'!P263=\"\",\"\",'BUILD ASSESSMENT'!P263)","v":""},263,null,{"$f":"IF('DATA COLLECTION'!B116=\"\",\"\",'DATA COLLECTION'!B116)","v":""},{"$f":"IF('DATA COLLECTION'!D116=\"\",\"\",'DATA COLLECTION'!D116)","v":""},{"$f":"IF('DATA COLLECTION'!J116=\"\",\"\",'DATA COLLECTION'!J116)","v":""},{"$f":"IF('DATA COLLECTION'!M116=\"\",\"\",'DATA COLLECTION'!M116)","v":""},{"$f":"IF('DATA COLLECTION'!O116=\"\",\"\",'DATA COLLECTION'!O116)","v":""},null,{"$f":"IF('DATA COLLECTION'!C235=\"\",\"\",'DATA COLLECTION'!C235)","v":""},{"$f":"IF('DATA COLLECTION'!E235=\"\",\"\",'DATA COLLECTION'!E235)","v":""},{"$f":"IF('DATA COLLECTION'!G235=\"\",\"\",'DATA COLLECTION'!G235)","v":""},{"$f":"IF('DATA COLLECTION'!I235=\"\",\"\",'DATA COLLECTION'!I235)","v":""},{"$f":"IF('DATA COLLECTION'!K235=\"\",\"\",'DATA COLLECTION'!K235)","v":""},{"$f":"IF('DATA COLLECTION'!M235=\"\",\"\",'DATA COLLECTION'!M235)","v":""},{"$f":"IF('DATA COLLECTION'!O235=\"\",\"\",'DATA COLLECTION'!O235)","v":""}]
[8.3000000000000007,{"$f":"IF('BUILD ASSESSMENT'!G266=\"\",\"\",'BUILD ASSESSMENT'!G266)","v":""},{"$f":"IF('BUILD ASSESSMENT'!P266=\"\",\"\",'BUILD ASSESSMENT'!P266)","v":""},266,null,{"$f":"IF('DATA COLLECTION'!B117=\"\",\"\",'DATA COLLECTION'!B117)","v":""},{"$f":"IF('DATA COLLECTION'!D117=\"\",\"\",'DATA COLLECTION'!D117)","v":""},{"$f":"IF('DATA COLLECTION'!J117=\"\",\"\",'DATA COLLECTION'!J117)","v":""},{"$f":"IF('DATA COLLECTION'!M117=\"\",\"\",'DATA COLLECTION'!M117)","v":""},{"$f":"IF('DATA COLLECTION'!O117=\"\",\"\",'DATA COLLECTION'!O117)","v":""},null,{"$f":"IF('DATA COLLECTION'!C236=\"\",\"\",'DATA COLLECTION'!C236)","v":""},{"$f":"IF('DATA COLLECTION'!E236=\"\",\"\",'DATA COLLECTION'!E236)","v":""},{"$f":"IF('DATA COLLECTION'!G236=\"\",\"\",'DATA COLLECTION'!G236)","v":""},{"$f":"IF('DATA COLLECTION'!I236=\"\",\"\",'DATA COLLECTION'!I236)","v":""},{"$f":"IF('DATA COLLECTION'!K236=\"\",\"\",'DATA COLLECTION'!K236)","v":""},{"$f":"IF('DATA COLLECTION'!M236=\"\",\"\",'DATA COLLECTION'!M236)","v":""},{"$f":"IF('DATA COLLECTION'!O236=\"\",\"\",'DATA COLLECTION'!O236)","v":""}]
[8.4,{"$f":"IF('BUILD ASSESSMENT'!G269=\"\",\"\",'BUILD ASSESSMENT'!G269)","v":""},{"$f":"IF('BUILD ASSESSMENT'!P269=\"\",\"\",'BUILD ASSESSMENT'!P269)","v":""},269,null,{"$f":"IF('DATA COLLECTION'!B118=\"\",\"\",'DATA COLLECTION'!B118)","v":""},{"$f":"IF('DATA COLLECTION'!D118=\"\",\"\",'DATA COLLECTION'!D118)","v":""},{"$f":"IF('DATA COLLECTION'!J118=\"\",\"\",'DATA COLLECTION'!J118)","v":""},{"$f":"IF('DATA COLLECTION'!M118=\"\",\"\",'DATA COLLECTION'!M118)","v":""},{"$f":"IF('DATA COLLECTION'!O118=\"\",\"\",'DATA COLLECTION'!O118)","v":""},null,{"$f":"IF('DATA COLLECTION'!C237=\"\",\"\",'DATA COLLECTION'!C237)","v":""},{"$f":"IF('DATA COLLECTION'!E237=\"\",\"\",'DATA COLLECTION'!E237)","v":""},{"$f":"IF('DATA COLLECTION'!G237=\"\",\"\",'DATA COLLECTION'!G237)","v":""},{"$f":"IF('DATA COLLECTION'!I237=\"\",\"\",'DATA COLLECTION'!I237)","v":""},{"$f":"IF('DATA COLLECTION'!K237=\"\",\"\",'DATA COLLECTION'!K237)","v":""},{"$f":"IF('DATA COLLECTION'!M237=\"\",\"\",'DATA COLLECTION'!M237)","v":""},{"$f":"IF('DATA COLLECTION'!O237=\"\",\"\",'DATA COLLECTION'!O237)","v":""}]
[8.5,{"$f":"IF('BUILD ASSESSMENT'!G272=\"\",\"\",'BUILD ASSESSMENT'!G272)","v":""},{"$f":"IF('BUILD ASSESSMENT'!P272=\"\",\"\",'BUILD ASSESSMENT'!P272)","v":""},272,null,{"$f":"IF('DATA COLLECTION'!B119=\"\",\"\",'DATA COLLECTION'!B119)","v":""},{"$f":"IF('DATA COLLECTION'!D119=\"\",\"\",'DATA COLLECTION'!D119)","v":""},{"$f":"IF('DATA COLLECTION'!J119=\"\",\"\",'DATA COLLECTION'!J119)","v":""},{"$f":"IF('DATA COLLECTION'!M119=\"\",\"\",'DATA COLLECTION'!M119)","v":""},{"$f":"IF('DATA COLLECTION'!O119=\"\",\"\",'DATA COLLECTION'!O119)","v":""},null,{"$f":"IF('DATA COLLECTION'!C238=\"\",\"\",'DATA COLLECTION'!C238)","v":""},{"$f":"IF('DATA COLLECTION'!E238=\"\",\"\",'DATA COLLECTION'!E238)","v":""},{"$f":"IF('DATA COLLECTION'!G238=\"\",\"\",'DATA COLLECTION'!G238)","v":""},{"$f":"IF('DATA COLLECTION'!I238=\"\",\"\",'DATA COLLECTION'!I238)","v":""},{"$f":"IF('DATA COLLECTION'!K238=\"\",\"\",'DATA COLLECTION'!K238)","v":""},{"$f":"IF('DATA COLLECTION'!M238=\"\",\"\",'DATA COLLECTION'!M238)","v":""},{"$f":"IF('DATA COLLECTION'!O238=\"\",\"\",'DATA COLLECTION'!O238)","v":""}]
["Objective 9",{"$f":"IF('BUILD ASSESSMENT'!E276=\"\",\"\",'BUILD ASSESSMENT'!E276)","v":""},{"$f":"IF('BUILD ASSESSMENT'!P276=\"\",\"\",'BUILD ASSESSMENT'!P276)","v":""},{"$f":"D91+4","v":276},null,{"$f":"IF('DATA COLLECTION'!B120=\"\",\"\",'DATA COLLECTION'!B120)","v":""},{"$f":"IF('DATA COLLECTION'!D120=\"\",\"\",'DATA COLLECTION'!D120)","v":""},{"$f":"IF('DATA COLLECTION'!J120=\"\",\"\",'DATA COLLECTION'!J120)","v":""},{"$f":"IF('DATA COLLECTION'!M120=\"\",\"\",'DATA COLLECTION'!M120)","v":""},{"$f":"IF('DATA COLLECTION'!O120=\"\",\"\",'DATA COLLECTION'!O120)","v":""},null,{"$f":"IF('DATA COLLECTION'!C239=\"\",\"\",'DATA COLLECTION'!C239)","v":""},{"$f":"IF('DATA COLLECTION'!E239=\"\",\"\",'DATA COLLECTION'!E239)","v":""},{"$f":"IF('DATA COLLECTION'!G239=\"\",\"\",'DATA COLLECTION'!G239)","v":""},{"$f":"IF('DATA COLLECTION'!I239=\"\",\"\",'DATA COLLECTION'!I239)","v":""},{"$f":"IF('DATA COLLECTION'!K239=\"\",\"\",'DATA COLLECTION'!K239)","v":""},{"$f":"IF('DATA COLLECTION'!M239=\"\",\"\",'DATA COLLECTION'!M239)","v":""},{"$f":"IF('DATA COLLECTION'!O239=\"\",\"\",'DATA COLLECTION'!O239)","v":""}]
[9.1,{"$f":"IF('BUILD ASSESSMENT'!G279=\"\",\"\",'BUILD ASSESSMENT'!G279)","v":""},{"$f":"IF('BUILD ASSESSMENT'!P279=\"\",\"\",'BUILD ASSESSMENT'!P279)","v":""},{"$f":"D92+3","v":279},null,{"$f":"IF('DATA COLLECTION'!B121=\"\",\"\",'DATA COLLECTION'!B121)","v":""},{"$f":"IF('DATA COLLECTION'!D121=\"\",\"\",'DATA COLLECTION'!D121)","v":""},{"$f":"IF('DATA COLLECTION'!J121=\"\",\"\",'DATA COLLECTION'!J121)","v":""},{"$f":"IF('DATA COLLECTION'!M121=\"\",\"\",'DATA COLLECTION'!M121)","v":""},{"$f":"IF('DATA COLLECTION'!O121=\"\",\"\",'DATA COLLECTION'!O121)","v":""},null,{"$f":"IF('DATA COLLECTION'!C240=\"\",\"\",'DATA COLLECTION'!C240)","v":""},{"$f":"IF('DATA COLLECTION'!E240=\"\",\"\",'DATA COLLECTION'!E240)","v":""},{"$f":"IF('DATA COLLECTION'!G240=\"\",\"\",'DATA COLLECTION'!G240)","v":""},{"$f":"IF('DATA COLLECTION'!I240=\"\",\"\",'DATA COLLECTION'!I240)","v":""},{"$f":"IF('DATA COLLECTION'!K240=\"\",\"\",'DATA COLLECTION'!K240)","v":""},{"$f":"IF('DATA COLLECTION'!M240=\"\",\"\",'DATA COLLECTION'!M240)","v":""},{"$f":"IF('DATA COLLECTION'!O240=\"\",\"\",'DATA COLLECTION'!O240)","v":""}]
[9.1999999999999993,{"$f":"IF('BUILD ASSESSMENT'!G282=\"\",\"\",'BUILD ASSESSMENT'!G282)","v":""},{"$f":"IF('BUILD ASSESSMENT'!P282=\"\",\"\",'BUILD ASSESSMENT'!P282)","v":""},282,null,{"$f":"IF('DATA COLLECTION'!B122=\"\",\"\",'DATA COLLECTION'!B122)","v":""},{"$f":"IF('DATA COLLECTION'!D122=\"\",\"\",'DATA COLLECTION'!D122)","v":""},{"$f":"IF('DATA COLLECTION'!J122=\"\",\"\",'DATA COLLECTION'!J122)","v":""},{"$f":"IF('DATA COLLECTION'!M122=\"\",\"\",'DATA COLLECTION'!M122)","v":""},{"$f":"IF('DATA COLLECTION'!O122=\"\",\"\",'DATA COLLECTION'!O122)","v":""},null,{"$f":"IF('DATA COLLECTION'!C241=\"\",\"\",'DATA COLLECTION'!C241)","v":""},{"$f":"IF('DATA COLLECTION'!E241=\"\",\"\",'DATA COLLECTION'!E241)","v":""},{"$f":"IF('DATA COLLECTION'!G241=\"\",\"\",'DATA COLLECTION'!G241)","v":""},{"$f":"IF('DATA COLLECTION'!I241=\"\",\"\",'DATA COLLECTION'!I241)","v":""},{"$f":"IF('DATA COLLECTION'!K241=\"\",\"\",'DATA COLLECTION'!K241)","v":""},{"$f":"IF('DATA COLLECTION'!M241=\"\",\"\",'DATA COLLECTION'!M241)","v":""},{"$f":"IF('DATA COLLECTION'!O241=\"\",\"\",'DATA COLLECTION'!O241)","v":""}]
[9.3000000000000007,{"$f":"IF('BUILD ASSESSMENT'!G285=\"\",\"\",'BUILD ASSESSMENT'!G285)","v":""},{"$f":"IF('BUILD ASSESSMENT'!P285=\"\",\"\",'BUILD ASSESSMENT'!P285)","v":""},285,null,{"$f":"IF('DATA COLLECTION'!B123=\"\",\"\",'DATA COLLECTION'!B123)","v":""},{"$f":"IF('DATA COLLECTION'!D123=\"\",\"\",'DATA COLLECTION'!D123)","v":""},{"$f":"IF('DATA COLLECTION'!J123=\"\",\"\",'DATA COLLECTION'!J123)","v":""},{"$f":"IF('DATA COLLECTION'!M123=\"\",\"\",'DATA COLLECTION'!M123)","v":""},{"$f":"IF('DATA COLLECTION'!O123=\"\",\"\",'DATA COLLECTION'!O123)","v":""},null,{"$f":"IF('DATA COLLECTION'!C242=\"\",\"\",'DATA COLLECTION'!C242)","v":""},{"$f":"IF('DATA COLLECTION'!E242=\"\",\"\",'DATA COLLECTION'!E242)","v":""},{"$f":"IF('DATA COLLECTION'!G242=\"\",\"\",'DATA COLLECTION'!G242)","v":""},{"$f":"IF('DATA COLLECTION'!I242=\"\",\"\",'DATA COLLECTION'!I242)","v":""},{"$f":"IF('DATA COLLECTION'!K242=\"\",\"\",'DATA COLLECTION'!K242)","v":""},{"$f":"IF('DATA COLLECTION'!M242=\"\",\"\",'DATA COLLECTION'!M242)","v":""},{"$f":"IF('DATA COLLECTION'!O242=\"\",\"\",'DATA COLLECTION'!O242)","v":""}]
[9.4,{"$f":"IF('BUILD ASSESSMENT'!G288=\"\",\"\",'BUILD ASSESSMENT'!G288)","v":""},{"$f":"IF('BUILD ASSESSMENT'!P288=\"\",\"\",'BUILD ASSESSMENT'!P288)","v":""},288,null,{"$f":"IF('DATA COLLECTION'!B124=\"\",\"\",'DATA COLLECTION'!B124)","v":""},{"$f":"IF('DATA COLLECTION'!D124=\"\",\"\",'DATA COLLECTION'!D124)","v":""},{"$f":"IF('DATA COLLECTION'!J124=\"\",\"\",'DATA COLLECTION'!J124)","v":""},{"$f":"IF('DATA COLLECTION'!M124=\"\",\"\",'DATA COLLECTION'!M124)","v":""},{"$f":"IF('DATA COLLECTION'!O124=\"\",\"\",'DATA COLLECTION'!O124)","v":""},null,{"$f":"IF('DATA COLLECTION'!C243=\"\",\"\",'DATA COLLECTION'!C243)","v":""},{"$f":"IF('DATA COLLECTION'!E243=\"\",\"\",'DATA COLLECTION'!E243)","v":""},{"$f":"IF('DATA COLLECTION'!G243=\"\",\"\",'DATA COLLECTION'!G243)","v":""},{"$f":"IF('DATA COLLECTION'!I243=\"\",\"\",'DATA COLLECTION'!I243)","v":""},{"$f":"IF('DATA COLLECTION'!K243=\"\",\"\",'DATA COLLECTION'!K243)","v":""},{"$f":"IF('DATA COLLECTION'!M243=\"\",\"\",'DATA COLLECTION'!M243)","v":""},{"$f":"IF('DATA COLLECTION'!O243=\"\",\"\",'DATA COLLECTION'!O243)","v":""}]
[9.5,{"$f":"IF('BUILD ASSESSMENT'!G291=\"\",\"\",'BUILD ASSESSMENT'!G291)","v":""},{"$f":"IF('BUILD ASSESSMENT'!P291=\"\",\"\",'BUILD ASSESSMENT'!P291)","v":""},291,null,{"$f":"IF('DATA COLLECTION'!B125=\"\",\"\",'DATA COLLECTION'!B125)","v":""},{"$f":"IF('DATA COLLECTION'!D125=\"\",\"\",'DATA COLLECTION'!D125)","v":""},{"$f":"IF('DATA COLLECTION'!J125=\"\",\"\",'DATA COLLECTION'!J125)","v":""},{"$f":"IF('DATA COLLECTION'!M125=\"\",\"\",'DATA COLLECTION'!M125)","v":""},{"$f":"IF('DATA COLLECTION'!O125=\"\",\"\",'DATA COLLECTION'!O125)","v":""},null,{"$f":"IF('DATA COLLECTION'!C244=\"\",\"\",'DATA COLLECTION'!C244)","v":""},{"$f":"IF('DATA COLLECTION'!E244=\"\",\"\",'DATA COLLECTION'!E244)","v":""},{"$f":"IF('DATA COLLECTION'!G244=\"\",\"\",'DATA COLLECTION'!G244)","v":""},{"$f":"IF('DATA COLLECTION'!I244=\"\",\"\",'DATA COLLECTION'!I244)","v":""},{"$f":"IF('DATA COLLECTION'!K244=\"\",\"\",'DATA COLLECTION'!K244)","v":""},{"$f":"IF('DATA COLLECTION'!M244=\"\",\"\",'DATA COLLECTION'!M244)","v":""},{"$f":"IF('DATA COLLECTION'!O244=\"\",\"\",'DATA COLLECTION'!O244)","v":""}]
["Objective 10",{"$f":"IF('BUILD ASSESSMENT'!E295=\"\",\"\",'BUILD ASSESSMENT'!E295)","v":""},{"$f":"IF('BUILD ASSESSMENT'!P295=\"\",\"\",'BUILD ASSESSMENT'!P295)","v":""},{"$f":"D97+4","v":295},null,{"$f":"IF('DATA COLLECTION'!B126=\"\",\"\",'DATA COLLECTION'!B126)","v":""},{"$f":"IF('DATA COLLECTION'!D126=\"\",\"\",'DATA COLLECTION'!D126)","v":""},{"$f":"IF('DATA COLLECTION'!J126=\"\",\"\",'DATA COLLECTION'!J126)","v":""},{"$f":"IF('DATA COLLECTION'!M126=\"\",\"\",'DATA COLLECTION'!M126)","v":""},{"$f":"IF('DATA COLLECTION'!O126=\"\",\"\",'DATA COLLECTION'!O126)","v":""},null,{"$f":"IF('DATA COLLECTION'!C245=\"\",\"\",'DATA COLLECTION'!C245)","v":""},{"$f":"IF('DATA COLLECTION'!E245=\"\",\"\",'DATA COLLECTION'!E245)","v":""},{"$f":"IF('DATA COLLECTION'!G245=\"\",\"\",'DATA COLLECTION'!G245)","v":""},{"$f":"IF('DATA COLLECTION'!I245=\"\",\"\",'DATA COLLECTION'!I245)","v":""},{"$f":"IF('DATA COLLECTION'!K245=\"\",\"\",'DATA COLLECTION'!K245)","v":""},{"$f":"IF('DATA COLLECTION'!M245=\"\",\"\",'DATA COLLECTION'!M245)","v":""},{"$f":"IF('DATA COLLECTION'!O245=\"\",\"\",'DATA COLLECTION'!O245)","v":""}]
[10.1,{"$f":"IF('BUILD ASSESSMENT'!G298=\"\",\"\",'BUILD ASSESSMENT'!G298)","v":""},{"$f":"IF('BUILD ASSESSMENT'!P298=\"\",\"\",'BUILD ASSESSMENT'!P298)","v":""},{"$f":"D98+3","v":298},null,{"$f":"IF('DATA COLLECTION'!B127=\"\",\"\",'DATA COLLECTION'!B127)","v":""},{"$f":"IF('DATA COLLECTION'!D127=\"\",\"\",'DATA COLLECTION'!D127)","v":""},{"$f":"IF('DATA COLLECTION'!J127=\"\",\"\",'DATA COLLECTION'!J127)","v":""},{"$f":"IF('DATA COLLECTION'!M127=\"\",\"\",'DATA COLLECTION'!M127)","v":""},{"$f":"IF('DATA COLLECTION'!O127=\"\",\"\",'DATA COLLECTION'!O127)","v":""},null,{"$f":"IF('DATA COLLECTION'!C246=\"\",\"\",'DATA COLLECTION'!C246)","v":""},{"$f":"IF('DATA COLLECTION'!E246=\"\",\"\",'DATA COLLECTION'!E246)","v":""},{"$f":"IF('DATA COLLECTION'!G246=\"\",\"\",'DATA COLLECTION'!G246)","v":""},{"$f":"IF('DATA COLLECTION'!I246=\"\",\"\",'DATA COLLECTION'!I246)","v":""},{"$f":"IF('DATA COLLECTION'!K246=\"\",\"\",'DATA COLLECTION'!K246)","v":""},{"$f":"IF('DATA COLLECTION'!M246=\"\",\"\",'DATA COLLECTION'!M246)","v":""},{"$f":"IF('DATA COLLECTION'!O246=\"\",\"\",'DATA COLLECTION'!O246)","v":""}]
[10.199999999999999,{"$f":"IF('BUILD ASSESSMENT'!G301=\"\",\"\",'BUILD ASSESSMENT'!G301)","v":""},{"$f":"IF('BUILD ASSESSMENT'!P301=\"\",\"\",'BUILD ASSESSMENT'!P301)","v":""},301,null,{"$f":"IF('DATA COLLECTION'!B128=\"\",\"\",'DATA COLLECTION'!B128)","v":""},{"$f":"IF('DATA COLLECTION'!D128=\"\",\"\",'DATA COLLECTION'!D128)","v":""},{"$f":"IF('DATA COLLECTION'!J128=\"\",\"\",'DATA COLLECTION'!J128)","v":""},{"$f":"IF('DATA COLLECTION'!M128=\"\",\"\",'DATA COLLECTION'!M128)","v":""},{"$f":"IF('DATA COLLECTION'!O128=\"\",\"\",'DATA COLLECTION'!O128)","v":""},null,{"$f":"IF('DATA COLLECTION'!C247=\"\",\"\",'DATA COLLECTION'!C247)","v":""},{"$f":"IF('DATA COLLECTION'!E247=\"\",\"\",'DATA COLLECTION'!E247)","v":""},{"$f":"IF('DATA COLLECTION'!G247=\"\",\"\",'DATA COLLECTION'!G247)","v":""},{"$f":"IF('DATA COLLECTION'!I247=\"\",\"\",'DATA COLLECTION'!I247)","v":""},{"$f":"IF('DATA COLLECTION'!K247=\"\",\"\",'DATA COLLECTION'!K247)","v":""},{"$f":"IF('DATA COLLECTION'!M247=\"\",\"\",'DATA COLLECTION'!M247)","v":""},{"$f":"IF('DATA COLLECTION'!O247=\"\",\"\",'DATA COLLECTION'!O247)","v":""}]
[10.3,{"$f":"IF('BUILD ASSESSMENT'!G304=\"\",\"\",'BUILD ASSESSMENT'!G304)","v":""},{"$f":"IF('BUILD ASSESSMENT'!P304=\"\",\"\",'BUILD ASSESSMENT'!P304)","v":""},304,null,{"$f":"IF('DATA COLLECTION'!B129=\"\",\"\",'DATA COLLECTION'!B129)","v":""},{"$f":"IF('DATA COLLECTION'!D129=\"\",\"\",'DATA COLLECTION'!D129)","v":""},{"$f":"IF('DATA COLLECTION'!J129=\"\",\"\",'DATA COLLECTION'!J129)","v":""},{"$f":"IF('DATA COLLECTION'!M129=\"\",\"\",'DATA COLLECTION'!M129)","v":""},{"$f":"IF('DATA COLLECTION'!O129=\"\",\"\",'DATA COLLECTION'!O129)","v":""},null,{"$f":"IF('DATA COLLECTION'!C248=\"\",\"\",'DATA COLLECTION'!C248)","v":""},{"$f":"IF('DATA COLLECTION'!E248=\"\",\"\",'DATA COLLECTION'!E248)","v":""},{"$f":"IF('DATA COLLECTION'!G248=\"\",\"\",'DATA COLLECTION'!G248)","v":""},{"$f":"IF('DATA COLLECTION'!I248=\"\",\"\",'DATA COLLECTION'!I248)","v":""},{"$f":"IF('DATA COLLECTION'!K248=\"\",\"\",'DATA COLLECTION'!K248)","v":""},{"$f":"IF('DATA COLLECTION'!M248=\"\",\"\",'DATA COLLECTION'!M248)","v":""},{"$f":"IF('DATA COLLECTION'!O248=\"\",\"\",'DATA COLLECTION'!O248)","v":""}]
[10.4,{"$f":"IF('BUILD ASSESSMENT'!G307=\"\",\"\",'BUILD ASSESSMENT'!G307)","v":""},{"$f":"IF('BUILD ASSESSMENT'!P307=\"\",\"\",'BUILD ASSESSMENT'!P307)","v":""},307,null,{"$f":"IF('DATA COLLECTION'!B130=\"\",\"\",'DATA COLLECTION'!B130)","v":""},{"$f":"IF('DATA COLLECTION'!D130=\"\",\"\",'DATA COLLECTION'!D130)","v":""},{"$f":"IF('DATA COLLECTION'!J130=\"\",\"\",'DATA COLLECTION'!J130)","v":""},{"$f":"IF('DATA COLLECTION'!M130=\"\",\"\",'DATA COLLECTION'!M130)","v":""},{"$f":"IF('DATA COLLECTION'!O130=\"\",\"\",'DATA COLLECTION'!O130)","v":""},null,{"$f":"IF('DATA COLLECTION'!C249=\"\",\"\",'DATA COLLECTION'!C249)","v":""},{"$f":"IF('DATA COLLECTION'!E249=\"\",\"\",'DATA COLLECTION'!E249)","v":""},{"$f":"IF('DATA COLLECTION'!G249=\"\",\"\",'DATA COLLECTION'!G249)","v":""},{"$f":"IF('DATA COLLECTION'!I249=\"\",\"\",'DATA COLLECTION'!I249)","v":""},{"$f":"IF('DATA COLLECTION'!K249=\"\",\"\",'DATA COLLECTION'!K249)","v":""},{"$f":"IF('DATA COLLECTION'!M249=\"\",\"\",'DATA COLLECTION'!M249)","v":""},{"$f":"IF('DATA COLLECTION'!O249=\"\",\"\",'DATA COLLECTION'!O249)","v":""}]
[10.5,{"$f":"IF('BUILD ASSESSMENT'!G310=\"\",\"\",'BUILD ASSESSMENT'!G310)","v":""},{"$f":"IF('BUILD ASSESSMENT'!P310=\"\",\"\",'BUILD ASSESSMENT'!P310)","v":""},310,null,{"$f":"IF('DATA COLLECTION'!B131=\"\",\"\",'DATA COLLECTION'!B131)","v":""},{"$f":"IF('DATA COLLECTION'!D131=\"\",\"\",'DATA COLLECTION'!D131)","v":""},{"$f":"IF('DATA COLLECTION'!J131=\"\",\"\",'DATA COLLECTION'!J131)","v":""},{"$f":"IF('DATA COLLECTION'!M131=\"\",\"\",'DATA COLLECTION'!M131)","v":""},{"$f":"IF('DATA COLLECTION'!O131=\"\",\"\",'DATA COLLECTION'!O131)","v":""},null,{"$f":"IF('DATA COLLECTION'!C250=\"\",\"\",'DATA COLLECTION'!C250)","v":""},{"$f":"IF('DATA COLLECTION'!E250=\"\",\"\",'DATA COLLECTION'!E250)","v":""},{"$f":"IF('DATA COLLECTION'!G250=\"\",\"\",'DATA COLLECTION'!G250)","v":""},{"$f":"IF('DATA COLLECTION'!I250=\"\",\"\",'DATA COLLECTION'!I250)","v":""},{"$f":"IF('DATA COLLECTION'!K250=\"\",\"\",'DATA COLLECTION'!K250)","v":""},{"$f":"IF('DATA COLLECTION'!M250=\"\",\"\",'DATA COLLECTION'!M250)","v":""},{"$f":"IF('DATA COLLECTION'!O250=\"\",\"\",'DATA COLLECTION'!O250)","v":""}]
["Objective 11",{"$f":"IF('BUILD ASSESSMENT'!E314=\"\",\"\",'BUILD ASSESSMENT'!E314)","v":""},{"$f":"IF('BUILD ASSESSMENT'!P314=\"\",\"\",'BUILD ASSESSMENT'!P314)","v":""},{"$f":"D103+4","v":314},null,{"$f":"IF('DATA COLLECTION'!B132=\"\",\"\",'DATA COLLECTION'!B132)","v":""},{"$f":"IF('DATA COLLECTION'!D132=\"\",\"\",'DATA COLLECTION'!D132)","v":""},{"$f":"IF('DATA COLLECTION'!J132=\"\",\"\",'DATA COLLECTION'!J132)","v":""},{"$f":"IF('DATA COLLECTION'!M132=\"\",\"\",'DATA COLLECTION'!M132)","v":""},{"$f":"IF('DATA COLLECTION'!O132=\"\",\"\",'DATA COLLECTION'!O132)","v":""},null,{"$f":"IF('DATA COLLECTION'!C251=\"\",\"\",'DATA COLLECTION'!C251)","v":""},{"$f":"IF('DATA COLLECTION'!E251=\"\",\"\",'DATA COLLECTION'!E251)","v":""},{"$f":"IF('DATA COLLECTION'!G251=\"\",\"\",'DATA COLLECTION'!G251)","v":""},{"$f":"IF('DATA COLLECTION'!I251=\"\",\"\",'DATA COLLECTION'!I251)","v":""},{"$f":"IF('DATA COLLECTION'!K251=\"\",\"\",'DATA COLLECTION'!K251)","v":""},{"$f":"IF('DATA COLLECTION'!M251=\"\",\"\",'DATA COLLECTION'!M251)","v":""},{"$f":"IF('DATA COLLECTION'!O251=\"\",\"\",'DATA COLLECTION'!O251)","v":""}]
[11.1,{"$f":"IF('BUILD ASSESSMENT'!G317=\"\",\"\",'BUILD ASSESSMENT'!G317)","v":""},{"$f":"IF('BUILD ASSESSMENT'!P317=\"\",\"\",'BUILD ASSESSMENT'!P317)","v":""},{"$f":"D104+3","v":317},null,{"$f":"IF('DATA COLLECTION'!B133=\"\",\"\",'DATA COLLECTION'!B133)","v":""},{"$f":"IF('DATA COLLECTION'!D133=\"\",\"\",'DATA COLLECTION'!D133)","v":""},{"$f":"IF('DATA COLLECTION'!J133=\"\",\"\",'DATA COLLECTION'!J133)","v":""},{"$f":"IF('DATA COLLECTION'!M133=\"\",\"\",'DATA COLLECTION'!M133)","v":""},{"$f":"IF('DATA COLLECTION'!O133=\"\",\"\",'DATA COLLECTION'!O133)","v":""},null,{"$f":"IF('DATA COLLECTION'!C252=\"\",\"\",'DATA COLLECTION'!C252)","v":""},{"$f":"IF('DATA COLLECTION'!E252=\"\",\"\",'DATA COLLECTION'!E252)","v":""},{"$f":"IF('DATA COLLECTION'!G252=\"\",\"\",'DATA COLLECTION'!G252)","v":""},{"$f":"IF('DATA COLLECTION'!I252=\"\",\"\",'DATA COLLECTION'!I252)","v":""},{"$f":"IF('DATA COLLECTION'!K252=\"\",\"\",'DATA COLLECTION'!K252)","v":""},{"$f":"IF('DATA COLLECTION'!M252=\"\",\"\",'DATA COLLECTION'!M252)","v":""},{"$f":"IF('DATA COLLECTION'!O252=\"\",\"\",'DATA COLLECTION'!O252)","v":""}]
[11.2,{"$f":"IF('BUILD ASSESSMENT'!G320=\"\",\"\",'BUILD ASSESSMENT'!G320)","v":""},{"$f":"IF('BUILD ASSESSMENT'!P320=\"\",\"\",'BUILD ASSESSMENT'!P320)","v":""},320,null,{"$f":"IF('DATA COLLECTION'!B134=\"\",\"\",'DATA COLLECTION'!B134)","v":""},{"$f":"IF('DATA COLLECTION'!D134=\"\",\"\",'DATA COLLECTION'!D134)","v":""},{"$f":"IF('DATA COLLECTION'!J134=\"\",\"\",'DATA COLLECTION'!J134)","v":""},{"$f":"IF('DATA COLLECTION'!M134=\"\",\"\",'DATA COLLECTION'!M134)","v":""},{"$f":"IF('DATA COLLECTION'!O134=\"\",\"\",'DATA COLLECTION'!O134)","v":""},null,{"$f":"IF('DATA COLLECTION'!C253=\"\",\"\",'DATA COLLECTION'!C253)","v":""},{"$f":"IF('DATA COLLECTION'!E253=\"\",\"\",'DATA COLLECTION'!E253)","v":""},{"$f":"IF('DATA COLLECTION'!G253=\"\",\"\",'DATA COLLECTION'!G253)","v":""},{"$f":"IF('DATA COLLECTION'!I253=\"\",\"\",'DATA COLLECTION'!I253)","v":""},{"$f":"IF('DATA COLLECTION'!K253=\"\",\"\",'DATA COLLECTION'!K253)","v":""},{"$f":"IF('DATA COLLECTION'!M253=\"\",\"\",'DATA COLLECTION'!M253)","v":""},{"$f":"IF('DATA COLLECTION'!O253=\"\",\"\",'DATA COLLECTION'!O253)","v":""}]
[11.3,{"$f":"IF('BUILD ASSESSMENT'!G323=\"\",\"\",'BUILD ASSESSMENT'!G323)","v":""},{"$f":"IF('BUILD ASSESSMENT'!P323=\"\",\"\",'BUILD ASSESSMENT'!P323)","v":""},323,null,{"$f":"IF('DATA COLLECTION'!B135=\"\",\"\",'DATA COLLECTION'!B135)","v":""},{"$f":"IF('DATA COLLECTION'!D135=\"\",\"\",'DATA COLLECTION'!D135)","v":""},{"$f":"IF('DATA COLLECTION'!J135=\"\",\"\",'DATA COLLECTION'!J135)","v":""},{"$f":"IF('DATA COLLECTION'!M135=\"\",\"\",'DATA COLLECTION'!M135)","v":""},{"$f":"IF('DATA COLLECTION'!O135=\"\",\"\",'DATA COLLECTION'!O135)","v":""},null,{"$f":"IF('DATA COLLECTION'!C254=\"\",\"\",'DATA COLLECTION'!C254)","v":""},{"$f":"IF('DATA COLLECTION'!E254=\"\",\"\",'DATA COLLECTION'!E254)","v":""},{"$f":"IF('DATA COLLECTION'!G254=\"\",\"\",'DATA COLLECTION'!G254)","v":""},{"$f":"IF('DATA COLLECTION'!I254=\"\",\"\",'DATA COLLECTION'!I254)","v":""},{"$f":"IF('DATA COLLECTION'!K254=\"\",\"\",'DATA COLLECTION'!K254)","v":""},{"$f":"IF('DATA COLLECTION'!M254=\"\",\"\",'DATA COLLECTION'!M254)","v":""},{"$f":"IF('DATA COLLECTION'!O254=\"\",\"\",'DATA COLLECTION'!O254)","v":""}]
[11.4,{"$f":"IF('BUILD ASSESSMENT'!G326=\"\",\"\",'BUILD ASSESSMENT'!G326)","v":""},{"$f":"IF('BUILD ASSESSMENT'!P326=\"\",\"\",'BUILD ASSESSMENT'!P326)","v":""},326,null,{"$f":"IF('DATA COLLECTION'!B136=\"\",\"\",'DATA COLLECTION'!B136)","v":""},{"$f":"IF('DATA COLLECTION'!D136=\"\",\"\",'DATA COLLECTION'!D136)","v":""},{"$f":"IF('DATA COLLECTION'!J136=\"\",\"\",'DATA COLLECTION'!J136)","v":""},{"$f":"IF('DATA COLLECTION'!M136=\"\",\"\",'DATA COLLECTION'!M136)","v":""},{"$f":"IF('DATA COLLECTION'!O136=\"\",\"\",'DATA COLLECTION'!O136)","v":""},null,{"$f":"IF('DATA COLLECTION'!C255=\"\",\"\",'DATA COLLECTION'!C255)","v":""},{"$f":"IF('DATA COLLECTION'!E255=\"\",\"\",'DATA COLLECTION'!E255)","v":""},{"$f":"IF('DATA COLLECTION'!G255=\"\",\"\",'DATA COLLECTION'!G255)","v":""},{"$f":"IF('DATA COLLECTION'!I255=\"\",\"\",'DATA COLLECTION'!I255)","v":""},{"$f":"IF('DATA COLLECTION'!K255=\"\",\"\",'DATA COLLECTION'!K255)","v":""},{"$f":"IF('DATA COLLECTION'!M255=\"\",\"\",'DATA COLLECTION'!M255)","v":""},{"$f":"IF('DATA COLLECTION'!O255=\"\",\"\",'DATA COLLECTION'!O255)","v":""}]
[11.5,{"$f":"IF('BUILD ASSESSMENT'!G329=\"\",\"\",'BUILD ASSESSMENT'!G329)","v":""},{"$f":"IF('BUILD ASSESSMENT'!P329=\"\",\"\",'BUILD ASSESSMENT'!P329)","v":""},329,null,{"$f":"IF('DATA COLLECTION'!B137=\"\",\"\",'DATA COLLECTION'!B137)","v":""},{"$f":"IF('DATA COLLECTION'!D137=\"\",\"\",'DATA COLLECTION'!D137)","v":""},{"$f":"IF('DATA COLLECTION'!J137=\"\",\"\",'DATA COLLECTION'!J137)","v":""},{"$f":"IF('DATA COLLECTION'!M137=\"\",\"\",'DATA COLLECTION'!M137)","v":""},{"$f":"IF('DATA COLLECTION'!O137=\"\",\"\",'DATA COLLECTION'!O137)","v":""},null,{"$f":"IF('DATA COLLECTION'!C256=\"\",\"\",'DATA COLLECTION'!C256)","v":""},{"$f":"IF('DATA COLLECTION'!E256=\"\",\"\",'DATA COLLECTION'!E256)","v":""},{"$f":"IF('DATA COLLECTION'!G256=\"\",\"\",'DATA COLLECTION'!G256)","v":""},{"$f":"IF('DATA COLLECTION'!I256=\"\",\"\",'DATA COLLECTION'!I256)","v":""},{"$f":"IF('DATA COLLECTION'!K256=\"\",\"\",'DATA COLLECTION'!K256)","v":""},{"$f":"IF('DATA COLLECTION'!M256=\"\",\"\",'DATA COLLECTION'!M256)","v":""},{"$f":"IF('DATA COLLECTION'!O256=\"\",\"\",'DATA COLLECTION'!O256)","v":""}]
["Objective 12",{"$f":"IF('BUILD ASSESSMENT'!E333=\"\",\"\",'BUILD ASSESSMENT'!E333)","v":""},{"$f":"IF('BUILD ASSESSMENT'!P333=\"\",\"\",'BUILD ASSESSMENT'!P333)","v":""},{"$f":"D109+4","v":333},null,{"$f":"IF('DATA COLLECTION'!B138=\"\",\"\",'DATA COLLECTION'!B138)","v":""},{"$f":"IF('DATA COLLECTION'!D138=\"\",\"\",'DATA COLLECTION'!D138)","v":""},{"$f":"IF('DATA COLLECTION'!J138=\"\",\"\",'DATA COLLECTION'!J138)","v":""},{"$f":"IF('DATA COLLECTION'!M138=\"\",\"\",'DATA COLLECTION'!M138)","v":""},{"$f":"IF('DATA COLLECTION'!O138=\"\",\"\",'DATA COLLECTION'!O138)","v":""},null,{"$f":"IF('DATA COLLECTION'!C257=\"\",\"\",'DATA COLLECTION'!C257)","v":""},{"$f":"IF('DATA COLLECTION'!E257=\"\",\"\",'DATA COLLECTION'!E257)","v":""},{"$f":"IF('DATA COLLECTION'!G257=\"\",\"\",'DATA COLLECTION'!G257)","v":""},{"$f":"IF('DATA COLLECTION'!I257=\"\",\"\",'DATA COLLECTION'!I257)","v":""},{"$f":"IF('DATA COLLECTION'!K257=\"\",\"\",'DATA COLLECTION'!K257)","v":""},{"$f":"IF('DATA COLLECTION'!M257=\"\",\"\",'DATA COLLECTION'!M257)","v":""},{"$f":"IF('DATA COLLECTION'!O257=\"\",\"\",'DATA COLLECTION'!O257)","v":""}]
[2.1,{"$f":"IF('BUILD ASSESSMENT'!G336=\"\",\"\",'BUILD ASSESSMENT'!G336)","v":""},{"$f":"IF('BUILD ASSESSMENT'!P336=\"\",\"\",'BUILD ASSESSMENT'!P336)","v":""},{"$f":"D110+3","v":336},null,{"$f":"IF('DATA COLLECTION'!B139=\"\",\"\",'DATA COLLECTION'!B139)","v":""},{"$f":"IF('DATA COLLECTION'!D139=\"\",\"\",'DATA COLLECTION'!D139)","v":""},{"$f":"IF('DATA COLLECTION'!J139=\"\",\"\",'DATA COLLECTION'!J139)","v":""},{"$f":"IF('DATA COLLECTION'!M139=\"\",\"\",'DATA COLLECTION'!M139)","v":""},{"$f":"IF('DATA COLLECTION'!O139=\"\",\"\",'DATA COLLECTION'!O139)","v":""},null,{"$f":"IF('DATA COLLECTION'!C258=\"\",\"\",'DATA COLLECTION'!C258)","v":""},{"$f":"IF('DATA COLLECTION'!E258=\"\",\"\",'DATA COLLECTION'!E258)","v":""},{"$f":"IF('DATA COLLECTION'!G258=\"\",\"\",'DATA COLLECTION'!G258)","v":""},{"$f":"IF('DATA COLLECTION'!I258=\"\",\"\",'DATA COLLECTION'!I258)","v":""},{"$f":"IF('DATA COLLECTION'!K258=\"\",\"\",'DATA COLLECTION'!K258)","v":""},{"$f":"IF('DATA COLLECTION'!M258=\"\",\"\",'DATA COLLECTION'!M258)","v":""},{"$f":"IF('DATA COLLECTION'!O258=\"\",\"\",'DATA COLLECTION'!O258)","v":""}]
[12.2,{"$f":"IF('BUILD ASSESSMENT'!G339=\"\",\"\",'BUILD ASSESSMENT'!G339)","v":""},{"$f":"IF('BUILD ASSESSMENT'!P339=\"\",\"\",'BUILD ASSESSMENT'!P339)","v":""},{"$f":"D111+3","v":339},null,{"$f":"IF('DATA COLLECTION'!B140=\"\",\"\",'DATA COLLECTION'!B140)","v":""},{"$f":"IF('DATA COLLECTION'!D140=\"\",\"\",'DATA COLLECTION'!D140)","v":""},{"$f":"IF('DATA COLLECTION'!J140=\"\",\"\",'DATA COLLECTION'!J140)","v":""},{"$f":"IF('DATA COLLECTION'!M140=\"\",\"\",'DATA COLLECTION'!M140)","v":""},{"$f":"IF('DATA COLLECTION'!O140=\"\",\"\",'DATA COLLECTION'!O140)","v":""},null,{"$f":"IF('DATA COLLECTION'!C259=\"\",\"\",'DATA COLLECTION'!C259)","v":""},{"$f":"IF('DATA COLLECTION'!E259=\"\",\"\",'DATA COLLECTION'!E259)","v":""},{"$f":"IF('DATA COLLECTION'!G259=\"\",\"\",'DATA COLLECTION'!G259)","v":""},{"$f":"IF('DATA COLLECTION'!I259=\"\",\"\",'DATA COLLECTION'!I259)","v":""},{"$f":"IF('DATA COLLECTION'!K259=\"\",\"\",'DATA COLLECTION'!K259)","v":""},{"$f":"IF('DATA COLLECTION'!M259=\"\",\"\",'DATA COLLECTION'!M259)","v":""},{"$f":"IF('DATA COLLECTION'!O259=\"\",\"\",'DATA COLLECTION'!O259)","v":""}]
[12.3,{"$f":"IF('BUILD ASSESSMENT'!G342=\"\",\"\",'BUILD ASSESSMENT'!G342)","v":""},{"$f":"IF('BUILD ASSESSMENT'!P342=\"\",\"\",'BUILD ASSESSMENT'!P342)","v":""},342,null,{"$f":"IF('DATA COLLECTION'!B141=\"\",\"\",'DATA COLLECTION'!B141)","v":""},{"$f":"IF('DATA COLLECTION'!D141=\"\",\"\",'DATA COLLECTION'!D141)","v":""},{"$f":"IF('DATA COLLECTION'!J141=\"\",\"\",'DATA COLLECTION'!J141)","v":""},{"$f":"IF('DATA COLLECTION'!M141=\"\",\"\",'DATA COLLECTION'!M141)","v":""},{"$f":"IF('DATA COLLECTION'!O141=\"\",\"\",'DATA COLLECTION'!O141)","v":""},null,{"$f":"IF('DATA COLLECTION'!C260=\"\",\"\",'DATA COLLECTION'!C260)","v":""},{"$f":"IF('DATA COLLECTION'!E260=\"\",\"\",'DATA COLLECTION'!E260)","v":""},{"$f":"IF('DATA COLLECTION'!G260=\"\",\"\",'DATA COLLECTION'!G260)","v":""},{"$f":"IF('DATA COLLECTION'!I260=\"\",\"\",'DATA COLLECTION'!I260)","v":""},{"$f":"IF('DATA COLLECTION'!K260=\"\",\"\",'DATA COLLECTION'!K260)","v":""},{"$f":"IF('DATA COLLECTION'!M260=\"\",\"\",'DATA COLLECTION'!M260)","v":""},{"$f":"IF('DATA COLLECTION'!O260=\"\",\"\",'DATA COLLECTION'!O260)","v":""}]
[12.4,{"$f":"IF('BUILD ASSESSMENT'!G345=\"\",\"\",'BUILD ASSESSMENT'!G345)","v":""},{"$f":"IF('BUILD ASSESSMENT'!P345=\"\",\"\",'BUILD ASSESSMENT'!P345)","v":""},345]
[12.5,{"$f":"IF('BUILD ASSESSMENT'!G348=\"\",\"\",'BUILD ASSESSMENT'!G348)","v":""},{"$f":"IF('BUILD ASSESSMENT'!P348=\"\",\"\",'BUILD ASSESSMENT'!P348)","v":""},348,null,"Number of Questions",{"$f":"'CENTRAL ANALYSIS'!C24","v":0}]
["Objective 13",{"$f":"IF('BUILD ASSESSMENT'!E352=\"\",\"\",'BUILD ASSESSMENT'!E352)","v":""},{"$f":"IF('BUILD ASSESSMENT'!P352=\"\",\"\",'BUILD ASSESSMENT'!P352)","v":""},{"$f":"D115+4","v":352},null,"Number of Positions",{"$f":"'CENTRAL ANALYSIS'!C32","v":0}]
[13.1,{"$f":"IF('BUILD ASSESSMENT'!G355=\"\",\"\",'BUILD ASSESSMENT'!G355)","v":""},{"$f":"IF('BUILD ASSESSMENT'!P355=\"\",\"\",'BUILD ASSESSMENT'!P355)","v":""},{"$f":"D116+3","v":355}]
[13.2,{"$f":"IF('BUILD ASSESSMENT'!G358=\"\",\"\",'BUILD ASSESSMENT'!G358)","v":""},{"$f":"IF('BUILD ASSESSMENT'!P358=\"\",\"\",'BUILD ASSESSMENT'!P358)","v":""},{"$f":"D117+3","v":358}]
[13.3,{"$f":"IF('BUILD ASSESSMENT'!G361=\"\",\"\",'BUILD ASSESSMENT'!G361)","v":""},{"$f":"IF('BUILD ASSESSMENT'!P361=\"\",\"\",'BUILD ASSESSMENT'!P361)","v":""},361]
[13.4,{"$f":"IF('BUILD ASSESSMENT'!G364=\"\",\"\",'BUILD ASSESSMENT'!G364)","v":""},{"$f":"IF('BUILD ASSESSMENT'!P364=\"\",\"\",'BUILD ASSESSMENT'!P364)","v":""},364]
[13.5,{"$f":"IF('BUILD ASSESSMENT'!G367=\"\",\"\",'BUILD ASSESSMENT'!G367)","v":""},{"$f":"IF('BUILD ASSESSMENT'!P367=\"\",\"\",'BUILD ASSESSMENT'!P367)","v":""},367]
["Objective 14",{"$f":"IF('BUILD ASSESSMENT'!E371=\"\",\"\",'BUILD ASSESSMENT'!E371)","v":""},{"$f":"IF('BUILD ASSESSMENT'!P371=\"\",\"\",'BUILD ASSESSMENT'!P371)","v":""},{"$f":"D121+4","v":371}]
[14.1,{"$f":"IF('BUILD ASSESSMENT'!G374=\"\",\"\",'BUILD ASSESSMENT'!G374)","v":""},{"$f":"IF('BUILD ASSESSMENT'!P374=\"\",\"\",'BUILD ASSESSMENT'!P374)","v":""},{"$f":"D122+3","v":374}]
[14.2,{"$f":"IF('BUILD ASSESSMENT'!G377=\"\",\"\",'BUILD ASSESSMENT'!G377)","v":""},{"$f":"IF('BUILD ASSESSMENT'!P377=\"\",\"\",'BUILD ASSESSMENT'!P377)","v":""},{"$f":"D123+3","v":377}]
[14.3,{"$f":"IF('BUILD ASSESSMENT'!G380=\"\",\"\",'BUILD ASSESSMENT'!G380)","v":""},{"$f":"IF('BUILD ASSESSMENT'!P380=\"\",\"\",'BUILD ASSESSMENT'!P380)","v":""},380]
[14.4,{"$f":"IF('BUILD ASSESSMENT'!G383=\"\",\"\",'BUILD ASSESSMENT'!G383)","v":""},{"$f":"IF('BUILD ASSESSMENT'!P383=\"\",\"\",'BUILD ASSESSMENT'!P383)","v":""},383]
[14.5,{"$f":"IF('BUILD ASSESSMENT'!G386=\"\",\"\",'BUILD ASSESSMENT'!G386)","v":""},{"$f":"IF('BUILD ASSESSMENT'!P386=\"\",\"\",'BUILD ASSESSMENT'!P386)","v":""},386]
["Objective 15",{"$f":"IF('BUILD ASSESSMENT'!E390=\"\",\"\",'BUILD ASSESSMENT'!E390)","v":""},{"$f":"IF('BUILD ASSESSMENT'!P390=\"\",\"\",'BUILD ASSESSMENT'!P390)","v":""},{"$f":"D127+4","v":390}]
[15.1,{"$f":"IF('BUILD ASSESSMENT'!G393=\"\",\"\",'BUILD ASSESSMENT'!G393)","v":""},{"$f":"IF('BUILD ASSESSMENT'!P393=\"\",\"\",'BUILD ASSESSMENT'!P393)","v":""},{"$f":"D128+3","v":393}]
[15.2,{"$f":"IF('BUILD ASSESSMENT'!G396=\"\",\"\",'BUILD ASSESSMENT'!G396)","v":""},{"$f":"IF('BUILD ASSESSMENT'!P396=\"\",\"\",'BUILD ASSESSMENT'!P396)","v":""},{"$f":"D129+3","v":396}]
[15.3,{"$f":"IF('BUILD ASSESSMENT'!G399=\"\",\"\",'BUILD ASSESSMENT'!G399)","v":""},{"$f":"IF('BUILD ASSESSMENT'!P399=\"\",\"\",'BUILD ASSESSMENT'!P399)","v":""},399]
[15.4,{"$f":"IF('BUILD ASSESSMENT'!G402=\"\",\"\",'BUILD ASSESSMENT'!G402)","v":""},{"$f":"IF('BUILD ASSESSMENT'!P402=\"\",\"\",'BUILD ASSESSMENT'!P402)","v":""},402]
[15.5,{"$f":"IF('BUILD ASSESSMENT'!G405=\"\",\"\",'BUILD ASSESSMENT'!G405)","v":""},{"$f":"IF('BUILD ASSESSMENT'!P405=\"\",\"\",'BUILD ASSESSMENT'!P405)","v":""},405]
["What is the degree potential social or demographic shifts could impact recruitment, retention, or development of this position?",{"$f":"IF('BUILD ASSESSMENT'!P442=\"\",\"\",'BUILD ASSESSMENT'!P442)","v":""}]
["What is the degree potential new technology or innovations could impact recruitment, retention, or development of this position?",{"$f":"IF('BUILD ASSESSMENT'!P443=\"\",\"\",'BUILD ASSESSMENT'!P443)","v":""}]
["What is the degree potential economic shifts could impact recruitment, retention, or development of this position?",{"$f":"IF('BUILD ASSESSMENT'!P444=\"\",\"\",'BUILD ASSESSMENT'!P444)","v":""}]
["What is the degree potential political or regulatory shifts could impact recruitment, retention, or development of this position?",{"$f":"IF('BUILD ASSESSMENT'!P445=\"\",\"\",'BUILD ASSESSMENT'!P445)","v":""}]
["What is the degree this position performs specialized responsibilities? ",{"$f":"IF('BUILD ASSESSMENT'!P454=\"\",\"\",'BUILD ASSESSMENT'!P454)","v":""}]
["Additional Question 1",{"$f":"IF('BUILD ASSESSMENT'!C468=\"\",\"\",'BUILD ASSESSMENT'!C468)","v":""},{"$f":"IF('BUILD ASSESSMENT'!O468=\"\",\"\",'BUILD ASSESSMENT'!O468)","v":""}]
["Additional Question 2",{"$f":"IF('BUILD ASSESSMENT'!C469=\"\",\"\",'BUILD ASSESSMENT'!C469)","v":""},{"$f":"IF('BUILD ASSESSMENT'!O469=\"\",\"\",'BUILD ASSESSMENT'!O469)","v":""}]
["Additional Question 3",{"$f":"IF('BUILD ASSESSMENT'!C470=\"\",\"\",'BUILD ASSESSMENT'!C470)","v":""},{"$f":"IF('BUILD ASSESSMENT'!O470=\"\",\"\",'BUILD ASSESSMENT'!O470)","v":""}]
["Additional Question 4",{"$f":"IF('BUILD ASSESSMENT'!C471=\"\",\"\",'BUILD ASSESSMENT'!C471)","v":""},{"$f":"IF('BUILD ASSESSMENT'!O471=\"\",\"\",'BUILD ASSESSMENT'!O471)","v":""}]
["Additional Question 5",{"$f":"IF('BUILD ASSESSMENT'!C472=\"\",\"\",'BUILD ASSESSMENT'!C472)","v":""},{"$f":"IF('BUILD ASSESSMENT'!O472=\"\",\"\",'BUILD ASSESSMENT'!O472)","v":""}]
["Additional Question 6",{"$f":"IF('BUILD ASSESSMENT'!C473=\"\",\"\",'BUILD ASSESSMENT'!C473)","v":""},{"$f":"IF('BUILD ASSESSMENT'!O473=\"\",\"\",'BUILD ASSESSMENT'!O473)","v":""}]
["Additional Question 7",{"$f":"IF('BUILD ASSESSMENT'!C474=\"\",\"\",'BUILD ASSESSMENT'!C474)","v":""},{"$f":"IF('BUILD ASSESSMENT'!O474=\"\",\"\",'BUILD ASSESSMENT'!O474)","v":""}]
["Additional Question 8",{"$f":"IF('BUILD ASSESSMENT'!C475=\"\",\"\",'BUILD ASSESSMENT'!C475)","v":""},{"$f":"IF('BUILD ASSESSMENT'!O475=\"\",\"\",'BUILD ASSESSMENT'!O475)","v":""}]
["Additional Question 9",{"$f":"IF('BUILD ASSESSMENT'!C476=\"\",\"\",'BUILD ASSESSMENT'!C476)","v":""},{"$f":"IF('BUILD ASSESSMENT'!O476=\"\",\"\",'BUILD ASSESSMENT'!O476)","v":""}]
["Additional Question 10",{"$f":"IF('BUILD ASSESSMENT'!C477=\"\",\"\",'BUILD ASSESSMENT'!C477)","v":""},{"$f":"IF('BUILD ASSESSMENT'!O477=\"\",\"\",'BUILD ASSESSMENT'!O477)","v":""}]
["Additional Data Label 1",{"$f":"IF('BUILD ASSESSMENT'!E$495=\"\",\"\",'BUILD ASSESSMENT'!E$495)","v":""}]
["Additional Data Label 2",{"$f":"IF('BUILD ASSESSMENT'!G$495=\"\",\"\",'BUILD ASSESSMENT'!G$495)","v":""}]
["Additional Data Label 3",{"$f":"IF('BUILD ASSESSMENT'!I$495=\"\",\"\",'BUILD ASSESSMENT'!I$495)","v":""}]
["Additional Data Label 4",{"$f":"IF('BUILD ASSESSMENT'!K$495=\"\",\"\",'BUILD ASSESSMENT'!K$495)","v":""}]
["Additional Data Label 5",{"$f":"IF('BUILD ASSESSMENT'!M$495=\"\",\"\",'BUILD ASSESSMENT'!M$495)","v":""}]
["Additional Data Label 6",{"$f":"IF('BUILD ASSESSMENT'!O$495=\"\",\"\",'BUILD ASSESSMENT'!O$495)","v":""}]
["Additional Steps or Closing Remarks",{"$f":"IF('BUILD ASSESSMENT'!C503=\"\",\"\",'BUILD ASSESSMENT'!C503)","v":""}]
["Overall Threshold",{"$f":"IF('BUILD ASSESSMENT'!P551=\"\",\"\",'BUILD ASSESSMENT'!P551)","v":""}]
["Vacancy Risk Threshold",{"$f":"IF('BUILD ASSESSMENT'!K561=\"\",\"\",'BUILD ASSESSMENT'!K561)","v":""},{"$f":"IF('BUILD ASSESSMENT'!N561=\"\",\"\",'BUILD ASSESSMENT'!N561)","v":""}]
["Recruitment Threshold",{"$f":"IF('BUILD ASSESSMENT'!K562=\"\",\"\",'BUILD ASSESSMENT'!K562)","v":""},{"$f":"IF('BUILD ASSESSMENT'!N562=\"\",\"\",'BUILD ASSESSMENT'!N562)","v":""}]
["Knowledge Management Threshold",{"$f":"IF('BUILD ASSESSMENT'!K563=\"\",\"\",'BUILD ASSESSMENT'!K563)","v":""},{"$f":"IF('BUILD ASSESSMENT'!N563=\"\",\"\",'BUILD ASSESSMENT'!N563)","v":""}]
["Development Threshold",{"$f":"IF('BUILD ASSESSMENT'!K564=\"\",\"\",'BUILD ASSESSMENT'!K564)","v":""},{"$f":"IF('BUILD ASSESSMENT'!N564=\"\",\"\",'BUILD ASSESSMENT'!N564)","v":""}]
["Operational Impact Threshold",{"$f":"IF('BUILD ASSESSMENT'!K565=\"\",\"\",'BUILD ASSESSMENT'!K565)","v":""},{"$f":"IF('BUILD ASSESSMENT'!N565=\"\",\"\",'BUILD ASSESSMENT'!N565)","v":""}]
["Strategic Impact Threshold",{"$f":"IF('BUILD ASSESSMENT'!K566=\"\",\"\",'BUILD ASSESSMENT'!K566)","v":""},{"$f":"IF('BUILD ASSESSMENT'!N566=\"\",\"\",'BUILD ASSESSMENT'!N566)","v":""}]
["Environment Threshold",{"$f":"IF('BUILD ASSESSMENT'!K567=\"\",\"\",'BUILD ASSESSMENT'!K567)","v":""},{"$f":"IF('BUILD ASSESSMENT'!N567=\"\",\"\",'BUILD ASSESSMENT'!N567)","v":""}]
["Position Elements Threshold",{"$f":"IF('BUILD ASSESSMENT'!K568=\"\",\"\",'BUILD ASSESSMENT'!K568)","v":""},{"$f":"IF('BUILD ASSESSMENT'!N568=\"\",\"\",'BUILD ASSESSMENT'!N568)","v":""}]
["Additional Questions Threshold",{"$f":"IF('BUILD ASSESSMENT'!K569=\"\",\"\",'BUILD ASSESSMENT'!K569)","v":""},{"$f":"IF('BUILD ASSESSMENT'!N569=\"\",\"\",'BUILD ASSESSMENT'!N569)","v":""}]
["Include Result in Assessment",{"$f":"IF('BUILD ASSESSMENT'!P578=\"\",\"\",'BUILD ASSESSMENT'!P578)","v":""}]
["Data Collection Process",{"$f":"IF('DATA COLLECTION'!N22=\"\",\"\",'DATA COLLECTION'!N22)","v":""}]